{"text_format":"3","workbook":"xlsx","n_sheets":10,"sheets":["КАЛЬКУЛЯТОР","СЕРТИФИКАТ","1.1. СИ (МФ,СПбФ)","1.2. СИ (регионы)","КАЛЬКУЛЯТОР 1","КАЛЬКУЛЯТОР 1.1","КАЛЬКУЛЯТОР 2","КАЛЬКУЛЯТОР 2.1","ИПОТЕКА С ГП ДЛЯ СЕМЕЙ","РПС"],"not_rendered":{"images":1,"macros":1,"defined_names":194,"comments":3},"read":"whole","date_system":"1900"}

{"sheet":"КАЛЬКУЛЯТОР","index":0,"n_rows":46,"n_cols":13,"rows_kept":46,"merged":[[0,0,2,3],[3,0,3,1],[3,2,3,3],[4,0,4,1],[4,2,4,3],[4,7,5,7],[4,8,4,10],[5,0,5,1],[5,2,5,3],[6,0,6,1],[6,2,6,3],[7,0,7,1],[7,2,7,3],[7,7,7,10],[8,0,8,1],[8,2,8,3],[8,7,8,10],[9,0,9,1],[9,2,9,3],[9,7,9,10],[10,0,10,1],[10,2,10,3],[10,7,10,10],[11,0,11,1],[11,2,11,3],[12,0,12,1],[12,2,12,3],[13,0,13,3],[14,0,14,1],[14,2,14,3],[15,0,15,1],[15,2,15,3],[16,0,16,1],[16,2,16,3],[17,0,17,1],[17,2,17,3],[18,0,18,1],[18,2,18,3],[18,5,20,5],[19,0,19,1],[19,2,19,3],[20,0,20,1],[20,2,20,3],[21,0,21,1],[21,2,21,3],[22,0,22,1],[22,2,22,3],[23,0,23,1],[23,2,23,3],[24,0,24,1],[24,2,24,3],[25,0,25,1],[25,2,25,3],[26,0,26,1],[26,2,26,3],[27,0,27,1],[27,2,27,3],[28,0,28,1],[28,2,28,3],[29,0,29,1],[29,2,29,3],[30,0,30,1],[30,2,30,3],[31,0,31,1],[31,2,31,3],[32,0,32,1],[32,2,32,3],[33,0,39,3]]}
["КАЛЬКУЛЯТОР СУБСИДИРОВАНИЯ:"]
[]
[{"$nulls":7},"Рыночная процентная ставка, % годовых",{"$f":"РПС!$B$4","v":{"v":0.1551,"d":"15.51%"}},{"$f":"I3*80.01%","v":{"v":0.12409550999999999,"d":"12.410%"}}]
["Программа кредитования:",{"$nulls":3},"► ЗАПОЛНИТЬ ПОЛЕ",null,null,"Ключевая ставка ЦБ с 28.10.2024, % годовых",{"v":0.21,"d":"21.00%"}]
["Регион приобретения объекта недвижимости, РФ:",{"$nulls":3},"► ЗАПОЛНИТЬ ПОЛЕ",null,null,"ВИДЫ КРЕДИТОВ","БАЗОВАЯ %% ПРИ МАКС. ПВ:"]
["Первоначальный взнос, % от стоимости недвижимости",{"$nulls":3},"► ЗАПОЛНИТЬ ПОЛЕ",{"$nulls":3},{"v":0.2,"d":"20%"},{"v":0.5,"d":"50%"},"от 50% "]
["в руб.",null,{"$f":"C8*C6","v":0},{"$nulls":4},"«Ипотека с ГП для семей»","-",{"$f":"'ИПОТЕКА С ГП ДЛЯ СЕМЕЙ'!$B$15","v":{"v":0.06,"d":"6.00%"}},{"$f":"J7","v":{"v":0.06,"d":"6.00%"}}]
["Первоначальная стоимость недвижимости, руб.",{"$nulls":3},"► ЗАПОЛНИТЬ ПОЛЕ",{"$f":"IF(OR(AND(C5=A46,C9>('1.2. СИ (регионы)'!A5-'1.2. СИ (регионы)'!C1)),AND(C5=A45,C9>('1.1. СИ (МФ,СПбФ)'!A5-'1.1. СИ (МФ,СПбФ)'!C1)),C8=\"\"),\"\",\"ИЗМЕНИТЕ ПВ ИЛИ СТОИМОСТЬ ОБЪЕКТА!\")","v":""},null,"Объект приобретения:",{"$nulls":3},"Возмещение:","Надбавка:"]
["Сумма кредита (основной долг), руб.:",null,{"$f":"C8*(100%-$C$6)","v":0},{"$nulls":4},"Все цели:",{"$nulls":3},{"$f":"'ИПОТЕКА С ГП ДЛЯ СЕМЕЙ'!$C$11","v":{"v":0.16999999999999998,"d":"17.00%"}},{"$f":"'ИПОТЕКА С ГП ДЛЯ СЕМЕЙ'!$B$11","v":{"v":0.02,"d":"2.00%"}}]
["В рамках программы гос. поддержки",null,{"$f":"IF($C$5=$A$45,12000000,IF($C$5=$A$46,6000000,\"\"))","v":""},{"$nulls":9},{"$f":"I3-L9","v":{"v":-0.014899999999999997,"d":"-1.49%"}}]
["В рамках стандартной ипотеки",null,{"$f":"$C$9-$C$10","v":{"$error":"#VALUE!"}}]
["Срок кредита, в мес.:",{"$nulls":3},"► ЗАПОЛНИТЬ ПОЛЕ"]
["Размер комбо-ставки, % годовых:",null,{"$f":"IF(AND($C$5=$A$45,$C$9>'1.1. СИ (МФ,СПбФ)'!$A$5-'1.1. СИ (МФ,СПбФ)'!$C$1),INDEX('1.1. СИ (МФ,СПбФ)'!$D$5:$D$19,ROUNDUP($C$11/'1.1. СИ (МФ,СПбФ)'!$C$1,0),1),IF(AND($C$5=$A$46,$C$9>'1.2. СИ (регионы)'!$A$5-'1.2. СИ (регионы)'!$C$1),INDEX('1.2. СИ (регионы)'!$D$5:$D$12,ROUNDUP($C$11/'1.2. СИ (регионы)'!$C$1,0),1),\"\"))","v":""}]
["Надбавки / скидки к размеру комбо-ставки, % годовых:"]
["Есть передача в залог Банка объекта недвижимости",null,"Да"]
["Есть статус зарплатного клиента",{"$nulls":3},"► ЗАПОЛНИТЬ ПОЛЕ"]
["ИТОГО размер процентной ставки по комбо-ипотеке, % годовых:",null,{"$f":"IF($C$16=$A$41,$C$13-'ИПОТЕКА С ГП ДЛЯ СЕМЕЙ'!$E$7,$C$13)","v":""}]
["Размер ежемесячного платежа, руб./мес.",null,{"$f":"'КАЛЬКУЛЯТОР 1'!$D$11","v":""}]
["Условия субсидирования процентной ставки:",{"$nulls":3},"► ЗАПОЛНИТЬ ПОЛЕ",{"$f":"IF(AND(OR(COUNT($C$20)>=1,COUNT($C$21)>=1),$E$30=\"► ПСК НИЖЕ МИН. РПС\"),\"ИЗМЕНИТЕ ПАРАМЕТРЫ КРЕДИТА!\",\"\")","v":{"$error":"#NUM!"}}]
["Срок льготного периода, мес.:",{"$nulls":3},"► ЗАПОЛНИТЬ ПОЛЕ"]
["Льготная процентная ставка, % годовых:",{"$nulls":3},"► ЗАПОЛНИТЬ ПОЛЕ"]
["Размер ежемесячного платежа в льготный период, руб.:",null,{"$f":"IF($C$19=$A$43,'КАЛЬКУЛЯТОР 2'!$D$12-'КАЛЬКУЛЯТОР 2'!$E$12,IF($C$19=$A$44,INDEX('КАЛЬКУЛЯТОР 2'!$D$12:$D$371,'КАЛЬКУЛЯТОР 2'!$E$3,1)))","v":false}]
["Размер ежемесячного платежа вне льготного периода, руб.:",null,{"$f":"IF($C$19=$A$43,'КАЛЬКУЛЯТОР 2'!$D$12-'КАЛЬКУЛЯТОР 2'!$E$12,IF($C$19=$A$44,INDEX('КАЛЬКУЛЯТОР 2'!$D$12:$D$371,('КАЛЬКУЛЯТОР 2'!$E$3+1),1)-INDEX('КАЛЬКУЛЯТОР 2'!$E$12:$E$371,('КАЛЬКУЛЯТОР 2'!$E$3+1),1)))","v":false}]
["Процентная ставка вне льготного периода, % годовых:",null,{"$f":"$C$17","v":""}]
["Прогноз ЦБ по инфляции на 2024 год, % годовых",null,{"v":0.09,"d":"9.0%"}]
["Размер субсидии в пользу Банка, % от суммы кредита:",null,{"$f":"IF(ROUNDUP((('КАЛЬКУЛЯТОР 1.1'!$M$8-'КАЛЬКУЛЯТОР 2.1'!$M$9)*(1+($C$25/12))^0)/$C$9,3)<0,0,ROUNDUP(ABS(('КАЛЬКУЛЯТОР 1.1'!$M$8-'КАЛЬКУЛЯТОР 2.1'!$M$9)*(1+($C$25/12))^0)/$C$9,3))","v":{"$error":"#VALUE!"}}]
["В руб.",null,{"$f":"$C$26*$C$9","v":{"$error":"#VALUE!"}}]
["Размер дисконта при субсидировании от базовой процентной ставки, п.п.:",null,{"$f":"IF(C26=0%,0%,$C$17-$C$21)","v":{"$error":"#VALUE!"}}]
["Итого финансовый результат Банка по кредиту (по факт. сроку), руб.",null,{"$f":"($C$9*$C$26)+'КАЛЬКУЛЯТОР 2.1'!$M$9+'КАЛЬКУЛЯТОР 2.1'!$E$7*('КАЛЬКУЛЯТОР 2.1'!$E$2/12)","v":{"$error":"#VALUE!"}}]
["Эффективная процентная ставка, % годовых",null,{"$f":"IRR('КАЛЬКУЛЯТОР 2'!$D$11:$D$371)*12","v":{"$error":"#NUM!"}},null,{"$f":"IF($C$31>=20%,\"► ПСК НИЖЕ МИН. РПС\",\"\")","v":{"$error":"#NUM!"}}]
[null,null,{"$f":"1-($C$30/IF($M$10>0,$M$10,ABS($M$10)))","v":{"$error":"#NUM!"}},null,{"$f":"IF(AND($C$30<$I$3,$C$31>=20%),\"► ДОП. РЕЗЕРВ\",\"► БЕЗ ДОП. РЕЗЕРВА\")","v":{"$error":"#NUM!"}}]
["Размер субсидии в пользу Банка с учетом дохода от субсидии, % от суммы кредита:",null,{"$f":"IF(ROUNDUP((('КАЛЬКУЛЯТОР 1.1'!$M$8-'КАЛЬКУЛЯТОР 2.1'!$M$9)*(1+($C$25/12))^0)/$C$9,3)<0,0,ROUNDUP((('КАЛЬКУЛЯТОР 1.1'!$M$8-'КАЛЬКУЛЯТОР 2.1'!$M$9-IF($C$19=$A$44,'КАЛЬКУЛЯТОР 2.1'!E7*C20/12))*(1+($C$25/12))^0)/$C$9,3))","v":{"$error":"#VALUE!"}}]
["В руб.",null,{"$f":"$C$9*$C$32","v":{"$error":"#VALUE!"}}]
["ПРИМЕЧАНИЯ:\nМинимальный первоначальный взнос в рамках программы субсидирования с государственной поддержкой − от 20% и более.\nМинимальный срок кредитования в рамках программы субсидирования с государственной поддержкой − от 10 до 30 лет (вкл.).\nФорма расчетов по договору купли-продажи (обязательно): покрытый безотзывный аккредитив.\n\n!!! Расчет размера субсидии возможен при условии верного заполнения всех соответствующих полей.\n!!! В случае изменения условий базового кредитования в рамках указанных программ АО БАНК «СНГБ» (далее − Банк) направляет застройщику обновленный калькулятор. Итоговые условия кредитования устанавливаются в рамках рассмотрения Банком заявки Клиента. "]
[]
[]
[]
[]
[]
[]
["Да"]
["Нет"]
["Весь срок кредитования"]
["Частичное субсидирование"]
["Москва, СПб, МО или ЛО"]
["Другие регионы РФ"]

{"sheet":"СЕРТИФИКАТ","index":1,"n_rows":26,"n_cols":6,"rows_kept":26,"merged":[[4,1,4,8],[5,1,5,8],[7,1,7,4],[7,5,7,7],[9,1,9,4],[9,5,9,7],[11,1,11,4],[11,5,11,7],[13,1,13,4],[13,5,13,7],[15,1,15,4],[15,5,15,7],[17,1,18,4],[17,5,17,7],[19,1,19,4],[19,5,19,7],[21,1,21,4],[21,5,21,7],[23,1,24,4],[23,5,23,7],[24,5,24,6],[25,5,25,6]]}
[]
[]
[]
[]
[null,"Сертификат"]
[null,"на предоставление дисконта к процентной ставке"]
[]
[null,"ФИО клиента:",{"$nulls":3},"XXX"]
[]
[null,"Застройщик (юр. лицо):",{"$nulls":3},"XXX"]
[]
[null,"Наименование программы:",{"$nulls":3},{"$f":"КАЛЬКУЛЯТОР!$C$4","v":0}]
[]
[null,"Первоначальный взнос:",{"$nulls":3},{"$f":"КАЛЬКУЛЯТОР!$C$7","v":0}]
[]
[null,"Размер дисконта к процентной ставке:",{"$nulls":3},{"$f":"КАЛЬКУЛЯТОР!$C$28","v":{"$error":"#VALUE!"}}]
[]
[null,"Срок действия дисконта:\n(в месяцах)",{"$nulls":3},{"$f":"IF(КАЛЬКУЛЯТОР!$C$19=\"Частичное субсидирование\",КАЛЬКУЛЯТОР!$C$20,КАЛЬКУЛЯТОР!$C$12)","v":0}]
[]
[null,"Размер субсидии от застройщика:",{"$nulls":3},{"$f":"КАЛЬКУЛЯТОР!$C$27","v":{"$error":"#VALUE!"}}]
[]
[null,"Дата выдачи сертификата:",{"$nulls":3},{"$f":"TODAY()","v":"2024-10-28"}]
[]
[null,"Представитель Застройщика:\n(должность, ФИО)",{"$nulls":3},"XXX"]
[]
[{"$nulls":5},"(подпись представителя Застройщика, печать)"]

{"sheet":"1.1. СИ (МФ,СПбФ)","index":2,"n_rows":19,"n_cols":10,"rows_kept":19,"hidden":true,"merged":[[1,0,1,2],[1,3,1,5],[1,6,3,6]]}
[null,null,{"v":1000000,"d":"1,000,000"}]
["Сумма кредита, в руб.",null,null,"Размер процентной ставки, % годовых",null,null,"ИТОГО БАНКУ"]
["Всего","Лимит ГП","Лимит св. ГП","Ср. взв.","Льготная","Стандартная"]
[{"$f":"$B$4+C4","v":{"v":12000000,"d":"12,000,000"}},{"v":12000000,"d":"12,000,000"},0,{"$f":"SUMPRODUCT(B4:C4,E4:F4)/A4","v":{"v":0.06,"d":"6.00%"}},{"v":0.06,"d":"6.00%"},"–",null,{"$f":"SUMPRODUCT(B4:C4,E4:F4)/A4","v":{"v":0.06,"d":"6.000%"}},"Разн.","Проверка"]
[{"$f":"$B$4+C5","v":{"v":16000000,"d":"16,000,000"}},{"$f":"$B$4","v":{"v":12000000,"d":"12,000,000"}},{"$f":"C6-$C$1","v":{"v":4000000,"d":"4,000,000"}},{"v":0.11,"d":"11.00%"},{"$f":"$E$4","v":{"v":0.06,"d":"6.00%"}},{"v":0.26,"d":"26.00%"},{"$f":"(B5*'ИПОТЕКА С ГП ДЛЯ СЕМЕЙ'!$D$11+C5*F5)/A5","v":{"v":0.2375,"d":"23.750%"}},{"v":0.11,"d":"11.000%"},{"$f":"D5-$D$4","v":{"v":0.05,"d":"5.000%"}},{"$f":"D5=H5","v":true}]
[{"$f":"$B$4+C6","v":{"v":17000000,"d":"17,000,000"}},{"$f":"$B$4","v":{"v":12000000,"d":"12,000,000"}},{"$f":"C7-$C$1","v":{"v":5000000,"d":"5,000,000"}},{"v":0.1188235294117647,"d":"11.88%"},{"v":0.06,"d":"6.00%"},{"v":0.26,"d":"26.00%"},{"$f":"(B6*'ИПОТЕКА С ГП ДЛЯ СЕМЕЙ'!$D$11+C6*F6)/A6","v":{"v":0.2388235294117647,"d":"23.882%"}},{"v":0.1188235294117647,"d":"11.882%"},{"v":0.058823529411764705,"d":"5.882%"},true]
[{"v":18000000,"d":"18,000,000"},{"v":12000000,"d":"12,000,000"},{"v":6000000,"d":"6,000,000"},{"v":0.12666666666666668,"d":"12.67%"},{"v":0.06,"d":"6.00%"},{"v":0.26,"d":"26.00%"},{"$f":"(B7*'ИПОТЕКА С ГП ДЛЯ СЕМЕЙ'!$D$11+C7*F7)/A7","v":{"v":0.24,"d":"24.000%"}},{"v":0.12666666666666668,"d":"12.667%"},{"v":0.06666666666666668,"d":"6.667%"},true]
[{"v":19000000,"d":"19,000,000"},{"v":12000000,"d":"12,000,000"},{"v":7000000,"d":"7,000,000"},{"v":0.1336842105263158,"d":"13.37%"},{"v":0.06,"d":"6.00%"},{"v":0.26,"d":"26.00%"},{"$f":"(B8*'ИПОТЕКА С ГП ДЛЯ СЕМЕЙ'!$D$11+C8*F8)/A8","v":{"v":0.24105263157894738,"d":"24.105%"}},{"v":0.1336842105263158,"d":"13.368%"},{"v":0.0736842105263158,"d":"7.368%"},true]
[{"v":20000000,"d":"20,000,000"},{"v":12000000,"d":"12,000,000"},{"v":8000000,"d":"8,000,000"},{"v":0.14,"d":"14.00%"},{"v":0.06,"d":"6.00%"},{"v":0.26,"d":"26.00%"},{"$f":"(B9*'ИПОТЕКА С ГП ДЛЯ СЕМЕЙ'!$D$11+C9*F9)/A9","v":{"v":0.242,"d":"24.200%"}},{"v":0.14,"d":"14.000%"},{"v":0.08000000000000002,"d":"8.000%"},true]
[{"v":21000000,"d":"21,000,000"},{"v":12000000,"d":"12,000,000"},{"v":9000000,"d":"9,000,000"},{"v":0.1457142857142857,"d":"14.57%"},{"v":0.06,"d":"6.00%"},{"v":0.26,"d":"26.00%"},{"$f":"(B10*'ИПОТЕКА С ГП ДЛЯ СЕМЕЙ'!$D$11+C10*F10)/A10","v":{"v":0.24285714285714285,"d":"24.286%"}},{"v":0.1457142857142857,"d":"14.571%"},{"v":0.08571428571428572,"d":"8.571%"},true]
[{"v":22000000,"d":"22,000,000"},{"v":12000000,"d":"12,000,000"},{"v":10000000,"d":"10,000,000"},{"v":0.1509090909090909,"d":"15.09%"},{"v":0.06,"d":"6.00%"},{"v":0.26,"d":"26.00%"},{"$f":"(B11*'ИПОТЕКА С ГП ДЛЯ СЕМЕЙ'!$D$11+C11*F11)/A11","v":{"v":0.24363636363636362,"d":"24.364%"}},{"v":0.1509090909090909,"d":"15.091%"},{"v":0.09090909090909091,"d":"9.091%"},true]
[{"v":23000000,"d":"23,000,000"},{"v":12000000,"d":"12,000,000"},{"v":11000000,"d":"11,000,000"},{"v":0.15565217391304348,"d":"15.57%"},{"v":0.06,"d":"6.00%"},{"v":0.26,"d":"26.00%"},{"$f":"(B12*'ИПОТЕКА С ГП ДЛЯ СЕМЕЙ'!$D$11+C12*F12)/A12","v":{"v":0.24434782608695652,"d":"24.435%"}},{"v":0.15565217391304348,"d":"15.565%"},{"v":0.09565217391304348,"d":"9.565%"},true]
[{"v":24000000,"d":"24,000,000"},{"v":12000000,"d":"12,000,000"},{"v":12000000,"d":"12,000,000"},{"v":0.16,"d":"16.00%"},{"v":0.06,"d":"6.00%"},{"v":0.26,"d":"26.00%"},{"$f":"(B13*'ИПОТЕКА С ГП ДЛЯ СЕМЕЙ'!$D$11+C13*F13)/A13","v":{"v":0.245,"d":"24.500%"}},{"v":0.16,"d":"16.000%"},{"v":0.1,"d":"10.000%"},true]
[{"v":25000000,"d":"25,000,000"},{"v":12000000,"d":"12,000,000"},{"v":13000000,"d":"13,000,000"},{"v":0.164,"d":"16.40%"},{"v":0.06,"d":"6.00%"},{"v":0.26,"d":"26.00%"},{"$f":"(B14*'ИПОТЕКА С ГП ДЛЯ СЕМЕЙ'!$D$11+C14*F14)/A14","v":{"v":0.2456,"d":"24.560%"}},{"v":0.164,"d":"16.400%"},{"v":0.10400000000000001,"d":"10.400%"},true]
[{"v":26000000,"d":"26,000,000"},{"v":12000000,"d":"12,000,000"},{"v":14000000,"d":"14,000,000"},{"v":0.1676923076923077,"d":"16.77%"},{"v":0.06,"d":"6.00%"},{"v":0.26,"d":"26.00%"},{"$f":"(B15*'ИПОТЕКА С ГП ДЛЯ СЕМЕЙ'!$D$11+C15*F15)/A15","v":{"v":0.24615384615384617,"d":"24.615%"}},{"v":0.1676923076923077,"d":"16.769%"},{"v":0.1076923076923077,"d":"10.769%"},true]
[{"v":27000000,"d":"27,000,000"},{"v":12000000,"d":"12,000,000"},{"v":15000000,"d":"15,000,000"},{"v":0.1711111111111111,"d":"17.11%"},{"v":0.06,"d":"6.00%"},{"v":0.26,"d":"26.00%"},{"$f":"(B16*'ИПОТЕКА С ГП ДЛЯ СЕМЕЙ'!$D$11+C16*F16)/A16","v":{"v":0.24666666666666667,"d":"24.667%"}},{"v":0.1711111111111111,"d":"17.111%"},{"v":0.1111111111111111,"d":"11.111%"},true]
[{"v":28000000,"d":"28,000,000"},{"v":12000000,"d":"12,000,000"},{"v":16000000,"d":"16,000,000"},{"v":0.1742857142857143,"d":"17.43%"},{"v":0.06,"d":"6.00%"},{"v":0.26,"d":"26.00%"},{"$f":"(B17*'ИПОТЕКА С ГП ДЛЯ СЕМЕЙ'!$D$11+C17*F17)/A17","v":{"v":0.24714285714285714,"d":"24.714%"}},{"v":0.1742857142857143,"d":"17.429%"},{"v":0.1142857142857143,"d":"11.429%"},true]
[{"v":29000000,"d":"29,000,000"},{"v":12000000,"d":"12,000,000"},{"$f":"C19-$C$1","v":{"v":17000000,"d":"17,000,000"}},{"v":0.17724137931034484,"d":"17.72%"},{"v":0.06,"d":"6.00%"},{"v":0.26,"d":"26.00%"},{"$f":"(B18*'ИПОТЕКА С ГП ДЛЯ СЕМЕЙ'!$D$11+C18*F18)/A18","v":{"v":0.24758620689655172,"d":"24.759%"}},{"v":0.17724137931034484,"d":"17.724%"},{"v":0.11724137931034484,"d":"11.724%"},true]
[{"v":30000000,"d":"30,000,000"},{"v":12000000,"d":"12,000,000"},{"$f":"A19-B19","v":{"v":18000000,"d":"18,000,000"}},{"v":0.18,"d":"18.00%"},{"v":0.06,"d":"6.00%"},{"v":0.26,"d":"26.00%"},{"$f":"(B19*'ИПОТЕКА С ГП ДЛЯ СЕМЕЙ'!$D$11+C19*F19)/A19","v":{"v":0.248,"d":"24.800%"}},{"v":0.18,"d":"18.000%"},{"v":0.12,"d":"12.000%"},true]

{"sheet":"1.2. СИ (регионы)","index":3,"n_rows":12,"n_cols":10,"rows_kept":12,"hidden":true,"merged":[[1,0,1,2],[1,3,1,5],[1,6,3,6]]}
[null,null,{"v":1000000,"d":"1,000,000"}]
["Сумма кредита, в руб.",null,null,"Размер процентной ставки, % годовых",null,null,"ИТОГО БАНКУ"]
["Всего","Лимит ГП","Лимит св. ГП","Ср. взв.","Льготная","Стандартная"]
[{"v":6000000,"d":"6,000,000"},{"$f":"A4","v":{"v":6000000,"d":"6,000,000"}},0,{"$f":"SUMPRODUCT(B4:C4,E4:F4)/A4","v":{"v":0.06,"d":"6.00%"}},{"v":0.06,"d":"6.00%"},"–",null,{"$f":"SUMPRODUCT(B4:C4,E4:F4)/A4","v":{"v":0.06,"d":"6.000%"}},"Разн.","Проверка"]
[{"$f":"$B$4+C5","v":{"v":8000000,"d":"8,000,000"}},{"$f":"$B$4","v":{"v":6000000,"d":"6,000,000"}},{"$f":"C6-$C$1","v":{"v":2000000,"d":"2,000,000"}},{"v":0.11,"d":"11.00%"},{"$f":"$E$4","v":{"v":0.06,"d":"6.00%"}},{"v":0.26,"d":"26.00%"},{"$f":"(B5*'ИПОТЕКА С ГП ДЛЯ СЕМЕЙ'!$D$11+C5*F5)/A5","v":{"v":0.2375,"d":"23.750%"}},{"v":0.11,"d":"11.000%"},{"$f":"H5-$H$4","v":{"v":0.05,"d":"5.000%"}},{"$f":"D5=H5","v":true}]
[{"$f":"$B$4+C6","v":{"v":9000000,"d":"9,000,000"}},{"v":6000000,"d":"6,000,000"},{"$f":"C7-$C$1","v":{"v":3000000,"d":"3,000,000"}},{"v":0.12666666666666668,"d":"12.67%"},{"v":0.06,"d":"6.00%"},{"v":0.26,"d":"26.00%"},{"$f":"(B6*'ИПОТЕКА С ГП ДЛЯ СЕМЕЙ'!$D$11+C6*F6)/A6","v":{"v":0.24,"d":"24.000%"}},{"v":0.12666666666666668,"d":"12.667%"},{"v":0.06666666666666668,"d":"6.667%"},true]
[{"v":10000000,"d":"10,000,000"},{"v":6000000,"d":"6,000,000"},{"v":4000000,"d":"4,000,000"},{"v":0.14,"d":"14.00%"},{"v":0.06,"d":"6.00%"},{"v":0.26,"d":"26.00%"},{"$f":"(B7*'ИПОТЕКА С ГП ДЛЯ СЕМЕЙ'!$D$11+C7*F7)/A7","v":{"v":0.242,"d":"24.200%"}},{"v":0.14,"d":"14.000%"},{"v":0.08000000000000002,"d":"8.000%"},true]
[{"v":11000000,"d":"11,000,000"},{"v":6000000,"d":"6,000,000"},{"v":5000000,"d":"5,000,000"},{"v":0.1509090909090909,"d":"15.09%"},{"v":0.06,"d":"6.00%"},{"v":0.26,"d":"26.00%"},{"$f":"(B8*'ИПОТЕКА С ГП ДЛЯ СЕМЕЙ'!$D$11+C8*F8)/A8","v":{"v":0.24363636363636362,"d":"24.364%"}},{"v":0.1509090909090909,"d":"15.091%"},{"v":0.09090909090909091,"d":"9.091%"},true]
[{"v":12000000,"d":"12,000,000"},{"v":6000000,"d":"6,000,000"},{"v":6000000,"d":"6,000,000"},{"v":0.16,"d":"16.00%"},{"v":0.06,"d":"6.00%"},{"v":0.26,"d":"26.00%"},{"$f":"(B9*'ИПОТЕКА С ГП ДЛЯ СЕМЕЙ'!$D$11+C9*F9)/A9","v":{"v":0.245,"d":"24.500%"}},{"v":0.16,"d":"16.000%"},{"v":0.1,"d":"10.000%"},true]
[{"v":13000000,"d":"13,000,000"},{"v":6000000,"d":"6,000,000"},{"v":7000000,"d":"7,000,000"},{"v":0.1676923076923077,"d":"16.77%"},{"v":0.06,"d":"6.00%"},{"v":0.26,"d":"26.00%"},{"$f":"(B10*'ИПОТЕКА С ГП ДЛЯ СЕМЕЙ'!$D$11+C10*F10)/A10","v":{"v":0.24615384615384617,"d":"24.615%"}},{"v":0.1676923076923077,"d":"16.769%"},{"v":0.1076923076923077,"d":"10.769%"},true]
[{"v":14000000,"d":"14,000,000"},{"$f":"$B$4","v":{"v":6000000,"d":"6,000,000"}},{"$f":"C12-$C$1","v":{"v":8000000,"d":"8,000,000"}},{"v":0.1742857142857143,"d":"17.43%"},{"v":0.06,"d":"6.00%"},{"v":0.26,"d":"26.00%"},{"$f":"(B11*'ИПОТЕКА С ГП ДЛЯ СЕМЕЙ'!$D$11+C11*F11)/A11","v":{"v":0.24714285714285714,"d":"24.714%"}},{"v":0.1742857142857143,"d":"17.429%"},{"v":0.1142857142857143,"d":"11.429%"},true]
[{"v":15000000,"d":"15,000,000"},{"$f":"$B$4","v":{"v":6000000,"d":"6,000,000"}},{"$f":"A12-B12","v":{"v":9000000,"d":"9,000,000"}},{"v":0.18,"d":"18.00%"},{"v":0.06,"d":"6.00%"},{"v":0.26,"d":"26.00%"},{"$f":"(B12*'ИПОТЕКА С ГП ДЛЯ СЕМЕЙ'!$D$11+C12*F12)/A12","v":{"v":0.248,"d":"24.800%"}},{"v":0.18,"d":"18.000%"},{"v":0.12,"d":"12.000%"},true]

{"sheet":"КАЛЬКУЛЯТОР 1","index":4,"n_rows":369,"n_cols":16,"rows_kept":369,"hidden":true,"merged":[[0,0,0,3],[1,0,1,3],[4,0,4,3],[5,9,5,14]]}
[{"$f":"КАЛЬКУЛЯТОР!A9","v":"Сумма кредита (основной долг), руб.:"},{"$nulls":3},{"$f":"КАЛЬКУЛЯТОР!$C$9","v":0},null,null,"1. КОМИССИЯ ЗА ОТКР. АККРЕДИТИВА",null,null,{"v":7000,"d":"7,000.00 ₽"},{"$nulls":3},"Стоимость платных пассивов за 9 мес. 2024",{"v":0.10736234203618072,"d":"10.7%"}]
["Срок кредита по договору, в мес.:",{"$nulls":3},{"$f":"КАЛЬКУЛЯТОР!$C$12","v":0},null,null,"2. КОМИССИЯ ЗА ЭРС",null,null,{"v":8300,"d":"8,300.00 ₽"}]
["Срок льготного периода, в мес.:",{"$nulls":3},0,null,null,"3. ПЛАТА ЗА ОЦЕНКУ НЕДВ.ИМУЩЕСТВА",null,null,{"v":3000,"d":"3,000.00 ₽"}]
[{"$f":"КАЛЬКУЛЯТОР!$A$17","v":"ИТОГО размер процентной ставки по комбо-ипотеке, % годовых:"},{"$nulls":3},{"$f":"КАЛЬКУЛЯТОР!$C$17","v":""},null,null,"4. СТРАХОВАНИЕ ЖИЗНИ",null,null,{"v":0.006,"d":"0.60%"}]
["Инфляция IP, % годовых",{"$nulls":3},{"$f":"КАЛЬКУЛЯТОР!$C$25","v":{"v":0.09,"d":"9.00%"}},null,null,"5. СТРАХОВАНИЕ ИМУЩЕСТВА",null,null,{"v":1E-3,"d":"0.10%"}]
[{"$nulls":9},"С УЧЕТОМ ВЛИЯНИЯ ИНФЛЯЦИИ"]
["ИТОГО:",null,null,{"$f":"SUMIF(A10:A369,\"<=\"&E2,D10:D369)","v":{"v":0,"d":"0.00"}},{"$f":"SUMIF(A10:A369,\"<=\"&E2,E10:E369)","v":{"v":0,"d":"0.00"}},{"$f":"SUMIF($A$10:$A$369,\"<=\"&$E$2,F10:F369)","v":{"v":0,"d":"0.00"}},{"$f":"SUMIF($A$10:$A$369,\"<=\"&$E$2,G10:G369)","v":{"v":0,"d":"0.00"}},{"$f":"SUMIF(A10:A369,\"<=\"&E2,H10:H369)","v":{"v":0,"d":"0.00"}},null,{"$f":"SUMIF(A10:A369,\"<=\"&E2,J10:J369)","v":{"v":0,"d":"0.00"}},{"$f":"SUMIF(A10:A369,\"<=\"&E2,K10:K369)","v":{"v":0,"d":"0.00"}},{"$f":"SUMIF($A$10:$A$369,\"<=\"&$E$2,L10:L369)","v":{"v":0,"d":"0.00"}},{"$f":"SUMIF($A$10:$A$369,\"<=\"&$E$2,M10:M369)","v":{"v":0,"d":"0.00"}},{"$f":"SUMIF(A10:A369,\"<=\"&E2,N10:N369)","v":{"v":0,"d":"0.00"}}]
["Месяцы \nплатежа","Период \nплатежа","Процентная \nставка","Ежемесячный платеж","Доп. платежи","Процентные \nплатежи","ЧПД Банка","Основной \nдолг","Остаток ссудной задолженности","Ежемесячный платеж","Доп. платежи","Процентные \nплатежи","ЧПД Банка","Основной \nдолг","Остаток ссудной задолженности"]
[0,null,null,{"$f":"-КАЛЬКУЛЯТОР!C9","v":{"v":0,"d":"0.00"}},{"$nulls":4},{"$f":"$E$1","v":{"v":0,"d":"0.00"}},{"$f":"-КАЛЬКУЛЯТОР!C9","v":{"v":0,"d":"0.00"}},{"$nulls":4},{"$f":"I9","v":{"v":0,"d":"0.00"}}]
[1,1,{"$f":"IF(A10<=$E$2,$E$4,\"\")","v":""},{"$f":"IF(A10<=$E$2,-PMT(C10/12,IF(C10=КАЛЬКУЛЯТОР!$C$21,$E$2,$E$2-$E$3),IF(C10=КАЛЬКУЛЯТОР!$C$21,$I$9,$I$9-SUMIF($A$10:$A$369,\"<=\"&$E$3,$H$10:$H$369)),0,0)+E10,\"\")","v":""},{"$f":"K1+K2+K3+((I9+SUM(F10:F21))*($K$4+$K$5))","v":{"v":18300,"d":"18,300.00"}},{"$f":"IFERROR(-IPMT(C10/12,B10,IF(C10=КАЛЬКУЛЯТОР!$C$21,$E$2,$E$2-$E$3),IF(C10=КАЛЬКУЛЯТОР!$C$21,$I$9,$I$9-SUMIF($A$10:$A$369,\"<=\"&$E$3,$H$10:$H$369)),0,0),\"\")","v":""},{"$f":"IFERROR(-IPMT((C10-$P$1)/12,B10,IF(C10=КАЛЬКУЛЯТОР!$C$21,$E$2,$E$2-$E$3),IF(C10=КАЛЬКУЛЯТОР!$C$21,$I$9,$I$9-SUMIF($A$10:$A$369,\"<=\"&$E$3,$H$10:$H$369)),0,0),\"\")","v":""},{"$f":"IFERROR((-PPMT(C10/12,B10,IF(C10=КАЛЬКУЛЯТОР!$C$21,$E$2,$E$2-$E$3),IF(C10=КАЛЬКУЛЯТОР!$C$21,$I$9,$I$9-SUMIF($A$10:$A$369,\"<=\"&$E$3,$H$10:$H$369)),0,0)),\"\")","v":""},{"$f":"IFERROR(I9-H10,\"\")","v":""},{"$f":"PV($E$5/12,A10-1,0,-D10)","v":{"$error":"#VALUE!"}},{"$f":"PV($E$5/12,A10-1,0,-E10)","v":{"v":18300,"d":"18,300.00"}},{"$f":"PV($E$5/12,A10-1,0,-F10)","v":{"$error":"#VALUE!"}},{"$f":"PV($E$5/12,A10-1,0,-G10)","v":{"$error":"#VALUE!"}},{"$f":"PV($E$5/12,A10-1,0,-H10)","v":{"$error":"#VALUE!"}},{"$f":"O9-N10","v":{"$error":"#VALUE!"}},{"$f":"AND(A10<=$E$3)","v":false}]
[2,{"$f":"IF(P11=$P$10,B10+1,A11-$E$3)","v":2},{"$f":"IF(A11<=$E$2,$E$4,\"\")","v":""},{"$f":"IF(A11<=$E$2,-PMT(C11/12,IF(C11=КАЛЬКУЛЯТОР!$C$21,$E$2,$E$2-$E$3),IF(C11=КАЛЬКУЛЯТОР!$C$21,$I$9,$I$9-SUMIF($A$10:$A$369,\"<=\"&$E$3,$H$10:$H$369)),0,0),\"\")","v":""},null,{"$f":"IFERROR(-IPMT(C11/12,B11,IF(C11=КАЛЬКУЛЯТОР!$C$21,$E$2,$E$2-$E$3),IF(C11=КАЛЬКУЛЯТОР!$C$21,$I$9,$I$9-SUMIF($A$10:$A$369,\"<=\"&$E$3,$H$10:$H$369)),0,0),\"\")","v":""},{"$f":"IFERROR(-IPMT((C11-$P$1)/12,B11,IF(C11=КАЛЬКУЛЯТОР!$C$21,$E$2,$E$2-$E$3),IF(C11=КАЛЬКУЛЯТОР!$C$21,$I$9,$I$9-SUMIF($A$10:$A$369,\"<=\"&$E$3,$H$10:$H$369)),0,0),\"\")","v":""},{"$f":"IFERROR((-PPMT(C11/12,B11,IF(C11=КАЛЬКУЛЯТОР!$C$21,$E$2,$E$2-$E$3),IF(C11=КАЛЬКУЛЯТОР!$C$21,$I$9,$I$9-SUMIF($A$10:$A$369,\"<=\"&$E$3,$H$10:$H$369)),0,0)),\"\")","v":""},"",{"$f":"PV($E$5/12,A11-1,0,-D11)","v":{"$error":"#VALUE!"}},null,{"$f":"PV($E$5/12,A11-1,0,-F11)","v":{"$error":"#VALUE!"}},{"$f":"PV($E$5/12,A11-1,0,-G11)","v":{"$error":"#VALUE!"}},{"$error":"#VALUE!"},{"$error":"#VALUE!"},{"$f":"AND(A11<=$E$3)","v":false}]
[3,3,"",{"$f":"IF(A12<=$E$2,-PMT(C12/12,IF(C12=КАЛЬКУЛЯТОР!$C$21,$E$2,$E$2-$E$3),IF(C12=КАЛЬКУЛЯТОР!$C$21,$I$9,$I$9-SUMIF($A$10:$A$369,\"<=\"&$E$3,$H$10:$H$369)),0,0),\"\")","v":""},null,{"$f":"IFERROR(-IPMT(C12/12,B12,IF(C12=КАЛЬКУЛЯТОР!$C$21,$E$2,$E$2-$E$3),IF(C12=КАЛЬКУЛЯТОР!$C$21,$I$9,$I$9-SUMIF($A$10:$A$369,\"<=\"&$E$3,$H$10:$H$369)),0,0),\"\")","v":""},{"$f":"IFERROR(-IPMT((C12-$P$1)/12,B12,IF(C12=КАЛЬКУЛЯТОР!$C$21,$E$2,$E$2-$E$3),IF(C12=КАЛЬКУЛЯТОР!$C$21,$I$9,$I$9-SUMIF($A$10:$A$369,\"<=\"&$E$3,$H$10:$H$369)),0,0),\"\")","v":""},{"$f":"IFERROR((-PPMT(C12/12,B12,IF(C12=КАЛЬКУЛЯТОР!$C$21,$E$2,$E$2-$E$3),IF(C12=КАЛЬКУЛЯТОР!$C$21,$I$9,$I$9-SUMIF($A$10:$A$369,\"<=\"&$E$3,$H$10:$H$369)),0,0)),\"\")","v":""},"",{"$error":"#VALUE!"},null,{"$error":"#VALUE!"},{"$error":"#VALUE!"},{"$error":"#VALUE!"},{"$error":"#VALUE!"},false]
[4,4,"",{"$f":"IF(A13<=$E$2,-PMT(C13/12,IF(C13=КАЛЬКУЛЯТОР!$C$21,$E$2,$E$2-$E$3),IF(C13=КАЛЬКУЛЯТОР!$C$21,$I$9,$I$9-SUMIF($A$10:$A$369,\"<=\"&$E$3,$H$10:$H$369)),0,0),\"\")","v":""},null,{"$f":"IFERROR(-IPMT(C13/12,B13,IF(C13=КАЛЬКУЛЯТОР!$C$21,$E$2,$E$2-$E$3),IF(C13=КАЛЬКУЛЯТОР!$C$21,$I$9,$I$9-SUMIF($A$10:$A$369,\"<=\"&$E$3,$H$10:$H$369)),0,0),\"\")","v":""},{"$f":"IFERROR(-IPMT((C13-$P$1)/12,B13,IF(C13=КАЛЬКУЛЯТОР!$C$21,$E$2,$E$2-$E$3),IF(C13=КАЛЬКУЛЯТОР!$C$21,$I$9,$I$9-SUMIF($A$10:$A$369,\"<=\"&$E$3,$H$10:$H$369)),0,0),\"\")","v":""},{"$f":"IFERROR((-PPMT(C13/12,B13,IF(C13=КАЛЬКУЛЯТОР!$C$21,$E$2,$E$2-$E$3),IF(C13=КАЛЬКУЛЯТОР!$C$21,$I$9,$I$9-SUMIF($A$10:$A$369,\"<=\"&$E$3,$H$10:$H$369)),0,0)),\"\")","v":""},"",{"$error":"#VALUE!"},null,{"$error":"#VALUE!"},{"$error":"#VALUE!"},{"$error":"#VALUE!"},{"$error":"#VALUE!"},false]
[5,5,"",{"$f":"IF(A14<=$E$2,-PMT(C14/12,IF(C14=КАЛЬКУЛЯТОР!$C$21,$E$2,$E$2-$E$3),IF(C14=КАЛЬКУЛЯТОР!$C$21,$I$9,$I$9-SUMIF($A$10:$A$369,\"<=\"&$E$3,$H$10:$H$369)),0,0),\"\")","v":""},null,{"$f":"IFERROR(-IPMT(C14/12,B14,IF(C14=КАЛЬКУЛЯТОР!$C$21,$E$2,$E$2-$E$3),IF(C14=КАЛЬКУЛЯТОР!$C$21,$I$9,$I$9-SUMIF($A$10:$A$369,\"<=\"&$E$3,$H$10:$H$369)),0,0),\"\")","v":""},{"$f":"IFERROR(-IPMT((C14-$P$1)/12,B14,IF(C14=КАЛЬКУЛЯТОР!$C$21,$E$2,$E$2-$E$3),IF(C14=КАЛЬКУЛЯТОР!$C$21,$I$9,$I$9-SUMIF($A$10:$A$369,\"<=\"&$E$3,$H$10:$H$369)),0,0),\"\")","v":""},{"$f":"IFERROR((-PPMT(C14/12,B14,IF(C14=КАЛЬКУЛЯТОР!$C$21,$E$2,$E$2-$E$3),IF(C14=КАЛЬКУЛЯТОР!$C$21,$I$9,$I$9-SUMIF($A$10:$A$369,\"<=\"&$E$3,$H$10:$H$369)),0,0)),\"\")","v":""},"",{"$error":"#VALUE!"},null,{"$error":"#VALUE!"},{"$error":"#VALUE!"},{"$error":"#VALUE!"},{"$error":"#VALUE!"},false]
[6,6,"",{"$f":"IF(A15<=$E$2,-PMT(C15/12,IF(C15=КАЛЬКУЛЯТОР!$C$21,$E$2,$E$2-$E$3),IF(C15=КАЛЬКУЛЯТОР!$C$21,$I$9,$I$9-SUMIF($A$10:$A$369,\"<=\"&$E$3,$H$10:$H$369)),0,0),\"\")","v":""},null,{"$f":"IFERROR(-IPMT(C15/12,B15,IF(C15=КАЛЬКУЛЯТОР!$C$21,$E$2,$E$2-$E$3),IF(C15=КАЛЬКУЛЯТОР!$C$21,$I$9,$I$9-SUMIF($A$10:$A$369,\"<=\"&$E$3,$H$10:$H$369)),0,0),\"\")","v":""},{"$f":"IFERROR(-IPMT((C15-$P$1)/12,B15,IF(C15=КАЛЬКУЛЯТОР!$C$21,$E$2,$E$2-$E$3),IF(C15=КАЛЬКУЛЯТОР!$C$21,$I$9,$I$9-SUMIF($A$10:$A$369,\"<=\"&$E$3,$H$10:$H$369)),0,0),\"\")","v":""},{"$f":"IFERROR((-PPMT(C15/12,B15,IF(C15=КАЛЬКУЛЯТОР!$C$21,$E$2,$E$2-$E$3),IF(C15=КАЛЬКУЛЯТОР!$C$21,$I$9,$I$9-SUMIF($A$10:$A$369,\"<=\"&$E$3,$H$10:$H$369)),0,0)),\"\")","v":""},"",{"$error":"#VALUE!"},null,{"$error":"#VALUE!"},{"$error":"#VALUE!"},{"$error":"#VALUE!"},{"$error":"#VALUE!"},false]
[7,7,"",{"$f":"IF(A16<=$E$2,-PMT(C16/12,IF(C16=КАЛЬКУЛЯТОР!$C$21,$E$2,$E$2-$E$3),IF(C16=КАЛЬКУЛЯТОР!$C$21,$I$9,$I$9-SUMIF($A$10:$A$369,\"<=\"&$E$3,$H$10:$H$369)),0,0),\"\")","v":""},null,{"$f":"IFERROR(-IPMT(C16/12,B16,IF(C16=КАЛЬКУЛЯТОР!$C$21,$E$2,$E$2-$E$3),IF(C16=КАЛЬКУЛЯТОР!$C$21,$I$9,$I$9-SUMIF($A$10:$A$369,\"<=\"&$E$3,$H$10:$H$369)),0,0),\"\")","v":""},{"$f":"IFERROR(-IPMT((C16-$P$1)/12,B16,IF(C16=КАЛЬКУЛЯТОР!$C$21,$E$2,$E$2-$E$3),IF(C16=КАЛЬКУЛЯТОР!$C$21,$I$9,$I$9-SUMIF($A$10:$A$369,\"<=\"&$E$3,$H$10:$H$369)),0,0),\"\")","v":""},{"$f":"IFERROR((-PPMT(C16/12,B16,IF(C16=КАЛЬКУЛЯТОР!$C$21,$E$2,$E$2-$E$3),IF(C16=КАЛЬКУЛЯТОР!$C$21,$I$9,$I$9-SUMIF($A$10:$A$369,\"<=\"&$E$3,$H$10:$H$369)),0,0)),\"\")","v":""},"",{"$error":"#VALUE!"},null,{"$error":"#VALUE!"},{"$error":"#VALUE!"},{"$error":"#VALUE!"},{"$error":"#VALUE!"},false]
[8,8,"",{"$f":"IF(A17<=$E$2,-PMT(C17/12,IF(C17=КАЛЬКУЛЯТОР!$C$21,$E$2,$E$2-$E$3),IF(C17=КАЛЬКУЛЯТОР!$C$21,$I$9,$I$9-SUMIF($A$10:$A$369,\"<=\"&$E$3,$H$10:$H$369)),0,0),\"\")","v":""},null,{"$f":"IFERROR(-IPMT(C17/12,B17,IF(C17=КАЛЬКУЛЯТОР!$C$21,$E$2,$E$2-$E$3),IF(C17=КАЛЬКУЛЯТОР!$C$21,$I$9,$I$9-SUMIF($A$10:$A$369,\"<=\"&$E$3,$H$10:$H$369)),0,0),\"\")","v":""},{"$f":"IFERROR(-IPMT((C17-$P$1)/12,B17,IF(C17=КАЛЬКУЛЯТОР!$C$21,$E$2,$E$2-$E$3),IF(C17=КАЛЬКУЛЯТОР!$C$21,$I$9,$I$9-SUMIF($A$10:$A$369,\"<=\"&$E$3,$H$10:$H$369)),0,0),\"\")","v":""},{"$f":"IFERROR((-PPMT(C17/12,B17,IF(C17=КАЛЬКУЛЯТОР!$C$21,$E$2,$E$2-$E$3),IF(C17=КАЛЬКУЛЯТОР!$C$21,$I$9,$I$9-SUMIF($A$10:$A$369,\"<=\"&$E$3,$H$10:$H$369)),0,0)),\"\")","v":""},"",{"$error":"#VALUE!"},null,{"$error":"#VALUE!"},{"$error":"#VALUE!"},{"$error":"#VALUE!"},{"$error":"#VALUE!"},false]
[9,9,"",{"$f":"IF(A18<=$E$2,-PMT(C18/12,IF(C18=КАЛЬКУЛЯТОР!$C$21,$E$2,$E$2-$E$3),IF(C18=КАЛЬКУЛЯТОР!$C$21,$I$9,$I$9-SUMIF($A$10:$A$369,\"<=\"&$E$3,$H$10:$H$369)),0,0),\"\")","v":""},null,{"$f":"IFERROR(-IPMT(C18/12,B18,IF(C18=КАЛЬКУЛЯТОР!$C$21,$E$2,$E$2-$E$3),IF(C18=КАЛЬКУЛЯТОР!$C$21,$I$9,$I$9-SUMIF($A$10:$A$369,\"<=\"&$E$3,$H$10:$H$369)),0,0),\"\")","v":""},{"$f":"IFERROR(-IPMT((C18-$P$1)/12,B18,IF(C18=КАЛЬКУЛЯТОР!$C$21,$E$2,$E$2-$E$3),IF(C18=КАЛЬКУЛЯТОР!$C$21,$I$9,$I$9-SUMIF($A$10:$A$369,\"<=\"&$E$3,$H$10:$H$369)),0,0),\"\")","v":""},{"$f":"IFERROR((-PPMT(C18/12,B18,IF(C18=КАЛЬКУЛЯТОР!$C$21,$E$2,$E$2-$E$3),IF(C18=КАЛЬКУЛЯТОР!$C$21,$I$9,$I$9-SUMIF($A$10:$A$369,\"<=\"&$E$3,$H$10:$H$369)),0,0)),\"\")","v":""},"",{"$error":"#VALUE!"},null,{"$error":"#VALUE!"},{"$error":"#VALUE!"},{"$error":"#VALUE!"},{"$error":"#VALUE!"},false]
[10,10,"",{"$f":"IF(A19<=$E$2,-PMT(C19/12,IF(C19=КАЛЬКУЛЯТОР!$C$21,$E$2,$E$2-$E$3),IF(C19=КАЛЬКУЛЯТОР!$C$21,$I$9,$I$9-SUMIF($A$10:$A$369,\"<=\"&$E$3,$H$10:$H$369)),0,0),\"\")","v":""},null,{"$f":"IFERROR(-IPMT(C19/12,B19,IF(C19=КАЛЬКУЛЯТОР!$C$21,$E$2,$E$2-$E$3),IF(C19=КАЛЬКУЛЯТОР!$C$21,$I$9,$I$9-SUMIF($A$10:$A$369,\"<=\"&$E$3,$H$10:$H$369)),0,0),\"\")","v":""},{"$f":"IFERROR(-IPMT((C19-$P$1)/12,B19,IF(C19=КАЛЬКУЛЯТОР!$C$21,$E$2,$E$2-$E$3),IF(C19=КАЛЬКУЛЯТОР!$C$21,$I$9,$I$9-SUMIF($A$10:$A$369,\"<=\"&$E$3,$H$10:$H$369)),0,0),\"\")","v":""},{"$f":"IFERROR((-PPMT(C19/12,B19,IF(C19=КАЛЬКУЛЯТОР!$C$21,$E$2,$E$2-$E$3),IF(C19=КАЛЬКУЛЯТОР!$C$21,$I$9,$I$9-SUMIF($A$10:$A$369,\"<=\"&$E$3,$H$10:$H$369)),0,0)),\"\")","v":""},"",{"$error":"#VALUE!"},null,{"$error":"#VALUE!"},{"$error":"#VALUE!"},{"$error":"#VALUE!"},{"$error":"#VALUE!"},false]
[11,11,"",{"$f":"IF(A20<=$E$2,-PMT(C20/12,IF(C20=КАЛЬКУЛЯТОР!$C$21,$E$2,$E$2-$E$3),IF(C20=КАЛЬКУЛЯТОР!$C$21,$I$9,$I$9-SUMIF($A$10:$A$369,\"<=\"&$E$3,$H$10:$H$369)),0,0),\"\")","v":""},null,{"$f":"IFERROR(-IPMT(C20/12,B20,IF(C20=КАЛЬКУЛЯТОР!$C$21,$E$2,$E$2-$E$3),IF(C20=КАЛЬКУЛЯТОР!$C$21,$I$9,$I$9-SUMIF($A$10:$A$369,\"<=\"&$E$3,$H$10:$H$369)),0,0),\"\")","v":""},{"$f":"IFERROR(-IPMT((C20-$P$1)/12,B20,IF(C20=КАЛЬКУЛЯТОР!$C$21,$E$2,$E$2-$E$3),IF(C20=КАЛЬКУЛЯТОР!$C$21,$I$9,$I$9-SUMIF($A$10:$A$369,\"<=\"&$E$3,$H$10:$H$369)),0,0),\"\")","v":""},{"$f":"IFERROR((-PPMT(C20/12,B20,IF(C20=КАЛЬКУЛЯТОР!$C$21,$E$2,$E$2-$E$3),IF(C20=КАЛЬКУЛЯТОР!$C$21,$I$9,$I$9-SUMIF($A$10:$A$369,\"<=\"&$E$3,$H$10:$H$369)),0,0)),\"\")","v":""},"",{"$error":"#VALUE!"},null,{"$error":"#VALUE!"},{"$error":"#VALUE!"},{"$error":"#VALUE!"},{"$error":"#VALUE!"},false]
[12,12,"",{"$f":"IF(A21<=$E$2,-PMT(C21/12,IF(C21=КАЛЬКУЛЯТОР!$C$21,$E$2,$E$2-$E$3),IF(C21=КАЛЬКУЛЯТОР!$C$21,$I$9,$I$9-SUMIF($A$10:$A$369,\"<=\"&$E$3,$H$10:$H$369)),0,0),\"\")","v":""},null,{"$f":"IFERROR(-IPMT(C21/12,B21,IF(C21=КАЛЬКУЛЯТОР!$C$21,$E$2,$E$2-$E$3),IF(C21=КАЛЬКУЛЯТОР!$C$21,$I$9,$I$9-SUMIF($A$10:$A$369,\"<=\"&$E$3,$H$10:$H$369)),0,0),\"\")","v":""},{"$f":"IFERROR(-IPMT((C21-$P$1)/12,B21,IF(C21=КАЛЬКУЛЯТОР!$C$21,$E$2,$E$2-$E$3),IF(C21=КАЛЬКУЛЯТОР!$C$21,$I$9,$I$9-SUMIF($A$10:$A$369,\"<=\"&$E$3,$H$10:$H$369)),0,0),\"\")","v":""},{"$f":"IFERROR((-PPMT(C21/12,B21,IF(C21=КАЛЬКУЛЯТОР!$C$21,$E$2,$E$2-$E$3),IF(C21=КАЛЬКУЛЯТОР!$C$21,$I$9,$I$9-SUMIF($A$10:$A$369,\"<=\"&$E$3,$H$10:$H$369)),0,0)),\"\")","v":""},"",{"$error":"#VALUE!"},null,{"$error":"#VALUE!"},{"$error":"#VALUE!"},{"$error":"#VALUE!"},{"$error":"#VALUE!"},false]
[13,13,"",{"$f":"IF(A22<=$E$2,-PMT(C22/12,IF(C22=КАЛЬКУЛЯТОР!$C$21,$E$2,$E$2-$E$3),IF(C22=КАЛЬКУЛЯТОР!$C$21,$I$9,$I$9-SUMIF($A$10:$A$369,\"<=\"&$E$3,$H$10:$H$369)),0,0)+E22,\"\")","v":""},{"$f":"IF($E$2>$A21,(I21+SUM(F22:F33))*($K$4+$K$5),0)","v":{"v":0,"d":"0.00"}},{"$f":"IFERROR(-IPMT(C22/12,B22,IF(C22=КАЛЬКУЛЯТОР!$C$21,$E$2,$E$2-$E$3),IF(C22=КАЛЬКУЛЯТОР!$C$21,$I$9,$I$9-SUMIF($A$10:$A$369,\"<=\"&$E$3,$H$10:$H$369)),0,0),\"\")","v":""},{"$f":"IFERROR(-IPMT((C22-$P$1)/12,B22,IF(C22=КАЛЬКУЛЯТОР!$C$21,$E$2,$E$2-$E$3),IF(C22=КАЛЬКУЛЯТОР!$C$21,$I$9,$I$9-SUMIF($A$10:$A$369,\"<=\"&$E$3,$H$10:$H$369)),0,0),\"\")","v":""},{"$f":"IFERROR((-PPMT(C22/12,B22,IF(C22=КАЛЬКУЛЯТОР!$C$21,$E$2,$E$2-$E$3),IF(C22=КАЛЬКУЛЯТОР!$C$21,$I$9,$I$9-SUMIF($A$10:$A$369,\"<=\"&$E$3,$H$10:$H$369)),0,0)),\"\")","v":""},"",{"$error":"#VALUE!"},{"$f":"PV($E$5/12,A22-1,0,-E22)","v":{"v":0,"d":"0.00"}},{"$f":"PV($E$5/12,A22-1,0,-F22)","v":{"$error":"#VALUE!"}},{"$error":"#VALUE!"},{"$error":"#VALUE!"},{"$error":"#VALUE!"},false]
[14,14,"",{"$f":"IF(A23<=$E$2,-PMT(C23/12,IF(C23=КАЛЬКУЛЯТОР!$C$21,$E$2,$E$2-$E$3),IF(C23=КАЛЬКУЛЯТОР!$C$21,$I$9,$I$9-SUMIF($A$10:$A$369,\"<=\"&$E$3,$H$10:$H$369)),0,0),\"\")","v":""},null,{"$f":"IFERROR(-IPMT(C23/12,B23,IF(C23=КАЛЬКУЛЯТОР!$C$21,$E$2,$E$2-$E$3),IF(C23=КАЛЬКУЛЯТОР!$C$21,$I$9,$I$9-SUMIF($A$10:$A$369,\"<=\"&$E$3,$H$10:$H$369)),0,0),\"\")","v":""},{"$f":"IFERROR(-IPMT((C23-$P$1)/12,B23,IF(C23=КАЛЬКУЛЯТОР!$C$21,$E$2,$E$2-$E$3),IF(C23=КАЛЬКУЛЯТОР!$C$21,$I$9,$I$9-SUMIF($A$10:$A$369,\"<=\"&$E$3,$H$10:$H$369)),0,0),\"\")","v":""},{"$f":"IFERROR((-PPMT(C23/12,B23,IF(C23=КАЛЬКУЛЯТОР!$C$21,$E$2,$E$2-$E$3),IF(C23=КАЛЬКУЛЯТОР!$C$21,$I$9,$I$9-SUMIF($A$10:$A$369,\"<=\"&$E$3,$H$10:$H$369)),0,0)),\"\")","v":""},"",{"$error":"#VALUE!"},null,{"$error":"#VALUE!"},{"$error":"#VALUE!"},{"$error":"#VALUE!"},{"$error":"#VALUE!"},false]
[15,15,"",{"$f":"IF(A24<=$E$2,-PMT(C24/12,IF(C24=КАЛЬКУЛЯТОР!$C$21,$E$2,$E$2-$E$3),IF(C24=КАЛЬКУЛЯТОР!$C$21,$I$9,$I$9-SUMIF($A$10:$A$369,\"<=\"&$E$3,$H$10:$H$369)),0,0),\"\")","v":""},null,{"$f":"IFERROR(-IPMT(C24/12,B24,IF(C24=КАЛЬКУЛЯТОР!$C$21,$E$2,$E$2-$E$3),IF(C24=КАЛЬКУЛЯТОР!$C$21,$I$9,$I$9-SUMIF($A$10:$A$369,\"<=\"&$E$3,$H$10:$H$369)),0,0),\"\")","v":""},{"$f":"IFERROR(-IPMT((C24-$P$1)/12,B24,IF(C24=КАЛЬКУЛЯТОР!$C$21,$E$2,$E$2-$E$3),IF(C24=КАЛЬКУЛЯТОР!$C$21,$I$9,$I$9-SUMIF($A$10:$A$369,\"<=\"&$E$3,$H$10:$H$369)),0,0),\"\")","v":""},{"$f":"IFERROR((-PPMT(C24/12,B24,IF(C24=КАЛЬКУЛЯТОР!$C$21,$E$2,$E$2-$E$3),IF(C24=КАЛЬКУЛЯТОР!$C$21,$I$9,$I$9-SUMIF($A$10:$A$369,\"<=\"&$E$3,$H$10:$H$369)),0,0)),\"\")","v":""},"",{"$error":"#VALUE!"},null,{"$error":"#VALUE!"},{"$error":"#VALUE!"},{"$error":"#VALUE!"},{"$error":"#VALUE!"},false]
[16,16,"",{"$f":"IF(A25<=$E$2,-PMT(C25/12,IF(C25=КАЛЬКУЛЯТОР!$C$21,$E$2,$E$2-$E$3),IF(C25=КАЛЬКУЛЯТОР!$C$21,$I$9,$I$9-SUMIF($A$10:$A$369,\"<=\"&$E$3,$H$10:$H$369)),0,0),\"\")","v":""},null,{"$f":"IFERROR(-IPMT(C25/12,B25,IF(C25=КАЛЬКУЛЯТОР!$C$21,$E$2,$E$2-$E$3),IF(C25=КАЛЬКУЛЯТОР!$C$21,$I$9,$I$9-SUMIF($A$10:$A$369,\"<=\"&$E$3,$H$10:$H$369)),0,0),\"\")","v":""},{"$f":"IFERROR(-IPMT((C25-$P$1)/12,B25,IF(C25=КАЛЬКУЛЯТОР!$C$21,$E$2,$E$2-$E$3),IF(C25=КАЛЬКУЛЯТОР!$C$21,$I$9,$I$9-SUMIF($A$10:$A$369,\"<=\"&$E$3,$H$10:$H$369)),0,0),\"\")","v":""},{"$f":"IFERROR((-PPMT(C25/12,B25,IF(C25=КАЛЬКУЛЯТОР!$C$21,$E$2,$E$2-$E$3),IF(C25=КАЛЬКУЛЯТОР!$C$21,$I$9,$I$9-SUMIF($A$10:$A$369,\"<=\"&$E$3,$H$10:$H$369)),0,0)),\"\")","v":""},"",{"$error":"#VALUE!"},null,{"$error":"#VALUE!"},{"$error":"#VALUE!"},{"$error":"#VALUE!"},{"$error":"#VALUE!"},false]
[17,17,"",{"$f":"IF(A26<=$E$2,-PMT(C26/12,IF(C26=КАЛЬКУЛЯТОР!$C$21,$E$2,$E$2-$E$3),IF(C26=КАЛЬКУЛЯТОР!$C$21,$I$9,$I$9-SUMIF($A$10:$A$369,\"<=\"&$E$3,$H$10:$H$369)),0,0),\"\")","v":""},null,{"$f":"IFERROR(-IPMT(C26/12,B26,IF(C26=КАЛЬКУЛЯТОР!$C$21,$E$2,$E$2-$E$3),IF(C26=КАЛЬКУЛЯТОР!$C$21,$I$9,$I$9-SUMIF($A$10:$A$369,\"<=\"&$E$3,$H$10:$H$369)),0,0),\"\")","v":""},{"$f":"IFERROR(-IPMT((C26-$P$1)/12,B26,IF(C26=КАЛЬКУЛЯТОР!$C$21,$E$2,$E$2-$E$3),IF(C26=КАЛЬКУЛЯТОР!$C$21,$I$9,$I$9-SUMIF($A$10:$A$369,\"<=\"&$E$3,$H$10:$H$369)),0,0),\"\")","v":""},{"$f":"IFERROR((-PPMT(C26/12,B26,IF(C26=КАЛЬКУЛЯТОР!$C$21,$E$2,$E$2-$E$3),IF(C26=КАЛЬКУЛЯТОР!$C$21,$I$9,$I$9-SUMIF($A$10:$A$369,\"<=\"&$E$3,$H$10:$H$369)),0,0)),\"\")","v":""},"",{"$error":"#VALUE!"},null,{"$error":"#VALUE!"},{"$error":"#VALUE!"},{"$error":"#VALUE!"},{"$error":"#VALUE!"},false]
[18,18,"",{"$f":"IF(A27<=$E$2,-PMT(C27/12,IF(C27=КАЛЬКУЛЯТОР!$C$21,$E$2,$E$2-$E$3),IF(C27=КАЛЬКУЛЯТОР!$C$21,$I$9,$I$9-SUMIF($A$10:$A$369,\"<=\"&$E$3,$H$10:$H$369)),0,0),\"\")","v":""},null,{"$f":"IFERROR(-IPMT(C27/12,B27,IF(C27=КАЛЬКУЛЯТОР!$C$21,$E$2,$E$2-$E$3),IF(C27=КАЛЬКУЛЯТОР!$C$21,$I$9,$I$9-SUMIF($A$10:$A$369,\"<=\"&$E$3,$H$10:$H$369)),0,0),\"\")","v":""},{"$f":"IFERROR(-IPMT((C27-$P$1)/12,B27,IF(C27=КАЛЬКУЛЯТОР!$C$21,$E$2,$E$2-$E$3),IF(C27=КАЛЬКУЛЯТОР!$C$21,$I$9,$I$9-SUMIF($A$10:$A$369,\"<=\"&$E$3,$H$10:$H$369)),0,0),\"\")","v":""},{"$f":"IFERROR((-PPMT(C27/12,B27,IF(C27=КАЛЬКУЛЯТОР!$C$21,$E$2,$E$2-$E$3),IF(C27=КАЛЬКУЛЯТОР!$C$21,$I$9,$I$9-SUMIF($A$10:$A$369,\"<=\"&$E$3,$H$10:$H$369)),0,0)),\"\")","v":""},"",{"$error":"#VALUE!"},null,{"$error":"#VALUE!"},{"$error":"#VALUE!"},{"$error":"#VALUE!"},{"$error":"#VALUE!"},false]
[19,19,"",{"$f":"IF(A28<=$E$2,-PMT(C28/12,IF(C28=КАЛЬКУЛЯТОР!$C$21,$E$2,$E$2-$E$3),IF(C28=КАЛЬКУЛЯТОР!$C$21,$I$9,$I$9-SUMIF($A$10:$A$369,\"<=\"&$E$3,$H$10:$H$369)),0,0),\"\")","v":""},null,{"$f":"IFERROR(-IPMT(C28/12,B28,IF(C28=КАЛЬКУЛЯТОР!$C$21,$E$2,$E$2-$E$3),IF(C28=КАЛЬКУЛЯТОР!$C$21,$I$9,$I$9-SUMIF($A$10:$A$369,\"<=\"&$E$3,$H$10:$H$369)),0,0),\"\")","v":""},{"$f":"IFERROR(-IPMT((C28-$P$1)/12,B28,IF(C28=КАЛЬКУЛЯТОР!$C$21,$E$2,$E$2-$E$3),IF(C28=КАЛЬКУЛЯТОР!$C$21,$I$9,$I$9-SUMIF($A$10:$A$369,\"<=\"&$E$3,$H$10:$H$369)),0,0),\"\")","v":""},{"$f":"IFERROR((-PPMT(C28/12,B28,IF(C28=КАЛЬКУЛЯТОР!$C$21,$E$2,$E$2-$E$3),IF(C28=КАЛЬКУЛЯТОР!$C$21,$I$9,$I$9-SUMIF($A$10:$A$369,\"<=\"&$E$3,$H$10:$H$369)),0,0)),\"\")","v":""},"",{"$error":"#VALUE!"},null,{"$error":"#VALUE!"},{"$error":"#VALUE!"},{"$error":"#VALUE!"},{"$error":"#VALUE!"},false]
[20,20,"",{"$f":"IF(A29<=$E$2,-PMT(C29/12,IF(C29=КАЛЬКУЛЯТОР!$C$21,$E$2,$E$2-$E$3),IF(C29=КАЛЬКУЛЯТОР!$C$21,$I$9,$I$9-SUMIF($A$10:$A$369,\"<=\"&$E$3,$H$10:$H$369)),0,0),\"\")","v":""},null,{"$f":"IFERROR(-IPMT(C29/12,B29,IF(C29=КАЛЬКУЛЯТОР!$C$21,$E$2,$E$2-$E$3),IF(C29=КАЛЬКУЛЯТОР!$C$21,$I$9,$I$9-SUMIF($A$10:$A$369,\"<=\"&$E$3,$H$10:$H$369)),0,0),\"\")","v":""},{"$f":"IFERROR(-IPMT((C29-$P$1)/12,B29,IF(C29=КАЛЬКУЛЯТОР!$C$21,$E$2,$E$2-$E$3),IF(C29=КАЛЬКУЛЯТОР!$C$21,$I$9,$I$9-SUMIF($A$10:$A$369,\"<=\"&$E$3,$H$10:$H$369)),0,0),\"\")","v":""},{"$f":"IFERROR((-PPMT(C29/12,B29,IF(C29=КАЛЬКУЛЯТОР!$C$21,$E$2,$E$2-$E$3),IF(C29=КАЛЬКУЛЯТОР!$C$21,$I$9,$I$9-SUMIF($A$10:$A$369,\"<=\"&$E$3,$H$10:$H$369)),0,0)),\"\")","v":""},"",{"$error":"#VALUE!"},null,{"$error":"#VALUE!"},{"$error":"#VALUE!"},{"$error":"#VALUE!"},{"$error":"#VALUE!"},false]
[21,21,"",{"$f":"IF(A30<=$E$2,-PMT(C30/12,IF(C30=КАЛЬКУЛЯТОР!$C$21,$E$2,$E$2-$E$3),IF(C30=КАЛЬКУЛЯТОР!$C$21,$I$9,$I$9-SUMIF($A$10:$A$369,\"<=\"&$E$3,$H$10:$H$369)),0,0),\"\")","v":""},null,{"$f":"IFERROR(-IPMT(C30/12,B30,IF(C30=КАЛЬКУЛЯТОР!$C$21,$E$2,$E$2-$E$3),IF(C30=КАЛЬКУЛЯТОР!$C$21,$I$9,$I$9-SUMIF($A$10:$A$369,\"<=\"&$E$3,$H$10:$H$369)),0,0),\"\")","v":""},{"$f":"IFERROR(-IPMT((C30-$P$1)/12,B30,IF(C30=КАЛЬКУЛЯТОР!$C$21,$E$2,$E$2-$E$3),IF(C30=КАЛЬКУЛЯТОР!$C$21,$I$9,$I$9-SUMIF($A$10:$A$369,\"<=\"&$E$3,$H$10:$H$369)),0,0),\"\")","v":""},{"$f":"IFERROR((-PPMT(C30/12,B30,IF(C30=КАЛЬКУЛЯТОР!$C$21,$E$2,$E$2-$E$3),IF(C30=КАЛЬКУЛЯТОР!$C$21,$I$9,$I$9-SUMIF($A$10:$A$369,\"<=\"&$E$3,$H$10:$H$369)),0,0)),\"\")","v":""},"",{"$error":"#VALUE!"},null,{"$error":"#VALUE!"},{"$error":"#VALUE!"},{"$error":"#VALUE!"},{"$error":"#VALUE!"},false]
[22,22,"",{"$f":"IF(A31<=$E$2,-PMT(C31/12,IF(C31=КАЛЬКУЛЯТОР!$C$21,$E$2,$E$2-$E$3),IF(C31=КАЛЬКУЛЯТОР!$C$21,$I$9,$I$9-SUMIF($A$10:$A$369,\"<=\"&$E$3,$H$10:$H$369)),0,0),\"\")","v":""},null,{"$f":"IFERROR(-IPMT(C31/12,B31,IF(C31=КАЛЬКУЛЯТОР!$C$21,$E$2,$E$2-$E$3),IF(C31=КАЛЬКУЛЯТОР!$C$21,$I$9,$I$9-SUMIF($A$10:$A$369,\"<=\"&$E$3,$H$10:$H$369)),0,0),\"\")","v":""},{"$f":"IFERROR(-IPMT((C31-$P$1)/12,B31,IF(C31=КАЛЬКУЛЯТОР!$C$21,$E$2,$E$2-$E$3),IF(C31=КАЛЬКУЛЯТОР!$C$21,$I$9,$I$9-SUMIF($A$10:$A$369,\"<=\"&$E$3,$H$10:$H$369)),0,0),\"\")","v":""},{"$f":"IFERROR((-PPMT(C31/12,B31,IF(C31=КАЛЬКУЛЯТОР!$C$21,$E$2,$E$2-$E$3),IF(C31=КАЛЬКУЛЯТОР!$C$21,$I$9,$I$9-SUMIF($A$10:$A$369,\"<=\"&$E$3,$H$10:$H$369)),0,0)),\"\")","v":""},"",{"$error":"#VALUE!"},null,{"$error":"#VALUE!"},{"$error":"#VALUE!"},{"$error":"#VALUE!"},{"$error":"#VALUE!"},false]
[23,23,"",{"$f":"IF(A32<=$E$2,-PMT(C32/12,IF(C32=КАЛЬКУЛЯТОР!$C$21,$E$2,$E$2-$E$3),IF(C32=КАЛЬКУЛЯТОР!$C$21,$I$9,$I$9-SUMIF($A$10:$A$369,\"<=\"&$E$3,$H$10:$H$369)),0,0),\"\")","v":""},null,{"$f":"IFERROR(-IPMT(C32/12,B32,IF(C32=КАЛЬКУЛЯТОР!$C$21,$E$2,$E$2-$E$3),IF(C32=КАЛЬКУЛЯТОР!$C$21,$I$9,$I$9-SUMIF($A$10:$A$369,\"<=\"&$E$3,$H$10:$H$369)),0,0),\"\")","v":""},{"$f":"IFERROR(-IPMT((C32-$P$1)/12,B32,IF(C32=КАЛЬКУЛЯТОР!$C$21,$E$2,$E$2-$E$3),IF(C32=КАЛЬКУЛЯТОР!$C$21,$I$9,$I$9-SUMIF($A$10:$A$369,\"<=\"&$E$3,$H$10:$H$369)),0,0),\"\")","v":""},{"$f":"IFERROR((-PPMT(C32/12,B32,IF(C32=КАЛЬКУЛЯТОР!$C$21,$E$2,$E$2-$E$3),IF(C32=КАЛЬКУЛЯТОР!$C$21,$I$9,$I$9-SUMIF($A$10:$A$369,\"<=\"&$E$3,$H$10:$H$369)),0,0)),\"\")","v":""},"",{"$error":"#VALUE!"},null,{"$error":"#VALUE!"},{"$error":"#VALUE!"},{"$error":"#VALUE!"},{"$error":"#VALUE!"},false]
[24,24,"",{"$f":"IF(A33<=$E$2,-PMT(C33/12,IF(C33=КАЛЬКУЛЯТОР!$C$21,$E$2,$E$2-$E$3),IF(C33=КАЛЬКУЛЯТОР!$C$21,$I$9,$I$9-SUMIF($A$10:$A$369,\"<=\"&$E$3,$H$10:$H$369)),0,0),\"\")","v":""},null,{"$f":"IFERROR(-IPMT(C33/12,B33,IF(C33=КАЛЬКУЛЯТОР!$C$21,$E$2,$E$2-$E$3),IF(C33=КАЛЬКУЛЯТОР!$C$21,$I$9,$I$9-SUMIF($A$10:$A$369,\"<=\"&$E$3,$H$10:$H$369)),0,0),\"\")","v":""},{"$f":"IFERROR(-IPMT((C33-$P$1)/12,B33,IF(C33=КАЛЬКУЛЯТОР!$C$21,$E$2,$E$2-$E$3),IF(C33=КАЛЬКУЛЯТОР!$C$21,$I$9,$I$9-SUMIF($A$10:$A$369,\"<=\"&$E$3,$H$10:$H$369)),0,0),\"\")","v":""},{"$f":"IFERROR((-PPMT(C33/12,B33,IF(C33=КАЛЬКУЛЯТОР!$C$21,$E$2,$E$2-$E$3),IF(C33=КАЛЬКУЛЯТОР!$C$21,$I$9,$I$9-SUMIF($A$10:$A$369,\"<=\"&$E$3,$H$10:$H$369)),0,0)),\"\")","v":""},"",{"$error":"#VALUE!"},null,{"$error":"#VALUE!"},{"$error":"#VALUE!"},{"$error":"#VALUE!"},{"$error":"#VALUE!"},false]
[25,25,"",{"$f":"IF(A34<=$E$2,-PMT(C34/12,IF(C34=КАЛЬКУЛЯТОР!$C$21,$E$2,$E$2-$E$3),IF(C34=КАЛЬКУЛЯТОР!$C$21,$I$9,$I$9-SUMIF($A$10:$A$369,\"<=\"&$E$3,$H$10:$H$369)),0,0)+E34,\"\")","v":""},{"$f":"IF($E$2>$A33,(I33+SUM(F34:F45))*($K$4+$K$5),0)","v":{"v":0,"d":"0.00"}},{"$f":"IFERROR(-IPMT(C34/12,B34,IF(C34=КАЛЬКУЛЯТОР!$C$21,$E$2,$E$2-$E$3),IF(C34=КАЛЬКУЛЯТОР!$C$21,$I$9,$I$9-SUMIF($A$10:$A$369,\"<=\"&$E$3,$H$10:$H$369)),0,0),\"\")","v":""},{"$f":"IFERROR(-IPMT((C34-$P$1)/12,B34,IF(C34=КАЛЬКУЛЯТОР!$C$21,$E$2,$E$2-$E$3),IF(C34=КАЛЬКУЛЯТОР!$C$21,$I$9,$I$9-SUMIF($A$10:$A$369,\"<=\"&$E$3,$H$10:$H$369)),0,0),\"\")","v":""},{"$f":"IFERROR((-PPMT(C34/12,B34,IF(C34=КАЛЬКУЛЯТОР!$C$21,$E$2,$E$2-$E$3),IF(C34=КАЛЬКУЛЯТОР!$C$21,$I$9,$I$9-SUMIF($A$10:$A$369,\"<=\"&$E$3,$H$10:$H$369)),0,0)),\"\")","v":""},"",{"$error":"#VALUE!"},{"$f":"PV($E$5/12,A34-1,0,-E34)","v":{"v":0,"d":"0.00"}},{"$error":"#VALUE!"},{"$error":"#VALUE!"},{"$error":"#VALUE!"},{"$error":"#VALUE!"},false]
[26,26,"",{"$f":"IF(A35<=$E$2,-PMT(C35/12,IF(C35=КАЛЬКУЛЯТОР!$C$21,$E$2,$E$2-$E$3),IF(C35=КАЛЬКУЛЯТОР!$C$21,$I$9,$I$9-SUMIF($A$10:$A$369,\"<=\"&$E$3,$H$10:$H$369)),0,0),\"\")","v":""},null,{"$f":"IFERROR(-IPMT(C35/12,B35,IF(C35=КАЛЬКУЛЯТОР!$C$21,$E$2,$E$2-$E$3),IF(C35=КАЛЬКУЛЯТОР!$C$21,$I$9,$I$9-SUMIF($A$10:$A$369,\"<=\"&$E$3,$H$10:$H$369)),0,0),\"\")","v":""},{"$f":"IFERROR(-IPMT((C35-$P$1)/12,B35,IF(C35=КАЛЬКУЛЯТОР!$C$21,$E$2,$E$2-$E$3),IF(C35=КАЛЬКУЛЯТОР!$C$21,$I$9,$I$9-SUMIF($A$10:$A$369,\"<=\"&$E$3,$H$10:$H$369)),0,0),\"\")","v":""},{"$f":"IFERROR((-PPMT(C35/12,B35,IF(C35=КАЛЬКУЛЯТОР!$C$21,$E$2,$E$2-$E$3),IF(C35=КАЛЬКУЛЯТОР!$C$21,$I$9,$I$9-SUMIF($A$10:$A$369,\"<=\"&$E$3,$H$10:$H$369)),0,0)),\"\")","v":""},"",{"$error":"#VALUE!"},null,{"$error":"#VALUE!"},{"$error":"#VALUE!"},{"$error":"#VALUE!"},{"$error":"#VALUE!"},false]
[27,27,"",{"$f":"IF(A36<=$E$2,-PMT(C36/12,IF(C36=КАЛЬКУЛЯТОР!$C$21,$E$2,$E$2-$E$3),IF(C36=КАЛЬКУЛЯТОР!$C$21,$I$9,$I$9-SUMIF($A$10:$A$369,\"<=\"&$E$3,$H$10:$H$369)),0,0),\"\")","v":""},null,{"$f":"IFERROR(-IPMT(C36/12,B36,IF(C36=КАЛЬКУЛЯТОР!$C$21,$E$2,$E$2-$E$3),IF(C36=КАЛЬКУЛЯТОР!$C$21,$I$9,$I$9-SUMIF($A$10:$A$369,\"<=\"&$E$3,$H$10:$H$369)),0,0),\"\")","v":""},{"$f":"IFERROR(-IPMT((C36-$P$1)/12,B36,IF(C36=КАЛЬКУЛЯТОР!$C$21,$E$2,$E$2-$E$3),IF(C36=КАЛЬКУЛЯТОР!$C$21,$I$9,$I$9-SUMIF($A$10:$A$369,\"<=\"&$E$3,$H$10:$H$369)),0,0),\"\")","v":""},{"$f":"IFERROR((-PPMT(C36/12,B36,IF(C36=КАЛЬКУЛЯТОР!$C$21,$E$2,$E$2-$E$3),IF(C36=КАЛЬКУЛЯТОР!$C$21,$I$9,$I$9-SUMIF($A$10:$A$369,\"<=\"&$E$3,$H$10:$H$369)),0,0)),\"\")","v":""},"",{"$error":"#VALUE!"},null,{"$error":"#VALUE!"},{"$error":"#VALUE!"},{"$error":"#VALUE!"},{"$error":"#VALUE!"},false]
[28,28,"",{"$f":"IF(A37<=$E$2,-PMT(C37/12,IF(C37=КАЛЬКУЛЯТОР!$C$21,$E$2,$E$2-$E$3),IF(C37=КАЛЬКУЛЯТОР!$C$21,$I$9,$I$9-SUMIF($A$10:$A$369,\"<=\"&$E$3,$H$10:$H$369)),0,0),\"\")","v":""},null,{"$f":"IFERROR(-IPMT(C37/12,B37,IF(C37=КАЛЬКУЛЯТОР!$C$21,$E$2,$E$2-$E$3),IF(C37=КАЛЬКУЛЯТОР!$C$21,$I$9,$I$9-SUMIF($A$10:$A$369,\"<=\"&$E$3,$H$10:$H$369)),0,0),\"\")","v":""},{"$f":"IFERROR(-IPMT((C37-$P$1)/12,B37,IF(C37=КАЛЬКУЛЯТОР!$C$21,$E$2,$E$2-$E$3),IF(C37=КАЛЬКУЛЯТОР!$C$21,$I$9,$I$9-SUMIF($A$10:$A$369,\"<=\"&$E$3,$H$10:$H$369)),0,0),\"\")","v":""},{"$f":"IFERROR((-PPMT(C37/12,B37,IF(C37=КАЛЬКУЛЯТОР!$C$21,$E$2,$E$2-$E$3),IF(C37=КАЛЬКУЛЯТОР!$C$21,$I$9,$I$9-SUMIF($A$10:$A$369,\"<=\"&$E$3,$H$10:$H$369)),0,0)),\"\")","v":""},"",{"$error":"#VALUE!"},null,{"$error":"#VALUE!"},{"$error":"#VALUE!"},{"$error":"#VALUE!"},{"$error":"#VALUE!"},false]
[29,29,"",{"$f":"IF(A38<=$E$2,-PMT(C38/12,IF(C38=КАЛЬКУЛЯТОР!$C$21,$E$2,$E$2-$E$3),IF(C38=КАЛЬКУЛЯТОР!$C$21,$I$9,$I$9-SUMIF($A$10:$A$369,\"<=\"&$E$3,$H$10:$H$369)),0,0),\"\")","v":""},null,{"$f":"IFERROR(-IPMT(C38/12,B38,IF(C38=КАЛЬКУЛЯТОР!$C$21,$E$2,$E$2-$E$3),IF(C38=КАЛЬКУЛЯТОР!$C$21,$I$9,$I$9-SUMIF($A$10:$A$369,\"<=\"&$E$3,$H$10:$H$369)),0,0),\"\")","v":""},{"$f":"IFERROR(-IPMT((C38-$P$1)/12,B38,IF(C38=КАЛЬКУЛЯТОР!$C$21,$E$2,$E$2-$E$3),IF(C38=КАЛЬКУЛЯТОР!$C$21,$I$9,$I$9-SUMIF($A$10:$A$369,\"<=\"&$E$3,$H$10:$H$369)),0,0),\"\")","v":""},{"$f":"IFERROR((-PPMT(C38/12,B38,IF(C38=КАЛЬКУЛЯТОР!$C$21,$E$2,$E$2-$E$3),IF(C38=КАЛЬКУЛЯТОР!$C$21,$I$9,$I$9-SUMIF($A$10:$A$369,\"<=\"&$E$3,$H$10:$H$369)),0,0)),\"\")","v":""},"",{"$error":"#VALUE!"},null,{"$error":"#VALUE!"},{"$error":"#VALUE!"},{"$error":"#VALUE!"},{"$error":"#VALUE!"},false]
[30,30,"",{"$f":"IF(A39<=$E$2,-PMT(C39/12,IF(C39=КАЛЬКУЛЯТОР!$C$21,$E$2,$E$2-$E$3),IF(C39=КАЛЬКУЛЯТОР!$C$21,$I$9,$I$9-SUMIF($A$10:$A$369,\"<=\"&$E$3,$H$10:$H$369)),0,0),\"\")","v":""},null,{"$f":"IFERROR(-IPMT(C39/12,B39,IF(C39=КАЛЬКУЛЯТОР!$C$21,$E$2,$E$2-$E$3),IF(C39=КАЛЬКУЛЯТОР!$C$21,$I$9,$I$9-SUMIF($A$10:$A$369,\"<=\"&$E$3,$H$10:$H$369)),0,0),\"\")","v":""},{"$f":"IFERROR(-IPMT((C39-$P$1)/12,B39,IF(C39=КАЛЬКУЛЯТОР!$C$21,$E$2,$E$2-$E$3),IF(C39=КАЛЬКУЛЯТОР!$C$21,$I$9,$I$9-SUMIF($A$10:$A$369,\"<=\"&$E$3,$H$10:$H$369)),0,0),\"\")","v":""},{"$f":"IFERROR((-PPMT(C39/12,B39,IF(C39=КАЛЬКУЛЯТОР!$C$21,$E$2,$E$2-$E$3),IF(C39=КАЛЬКУЛЯТОР!$C$21,$I$9,$I$9-SUMIF($A$10:$A$369,\"<=\"&$E$3,$H$10:$H$369)),0,0)),\"\")","v":""},"",{"$error":"#VALUE!"},null,{"$error":"#VALUE!"},{"$error":"#VALUE!"},{"$error":"#VALUE!"},{"$error":"#VALUE!"},false]
[31,31,"",{"$f":"IF(A40<=$E$2,-PMT(C40/12,IF(C40=КАЛЬКУЛЯТОР!$C$21,$E$2,$E$2-$E$3),IF(C40=КАЛЬКУЛЯТОР!$C$21,$I$9,$I$9-SUMIF($A$10:$A$369,\"<=\"&$E$3,$H$10:$H$369)),0,0),\"\")","v":""},null,{"$f":"IFERROR(-IPMT(C40/12,B40,IF(C40=КАЛЬКУЛЯТОР!$C$21,$E$2,$E$2-$E$3),IF(C40=КАЛЬКУЛЯТОР!$C$21,$I$9,$I$9-SUMIF($A$10:$A$369,\"<=\"&$E$3,$H$10:$H$369)),0,0),\"\")","v":""},{"$f":"IFERROR(-IPMT((C40-$P$1)/12,B40,IF(C40=КАЛЬКУЛЯТОР!$C$21,$E$2,$E$2-$E$3),IF(C40=КАЛЬКУЛЯТОР!$C$21,$I$9,$I$9-SUMIF($A$10:$A$369,\"<=\"&$E$3,$H$10:$H$369)),0,0),\"\")","v":""},{"$f":"IFERROR((-PPMT(C40/12,B40,IF(C40=КАЛЬКУЛЯТОР!$C$21,$E$2,$E$2-$E$3),IF(C40=КАЛЬКУЛЯТОР!$C$21,$I$9,$I$9-SUMIF($A$10:$A$369,\"<=\"&$E$3,$H$10:$H$369)),0,0)),\"\")","v":""},"",{"$error":"#VALUE!"},null,{"$error":"#VALUE!"},{"$error":"#VALUE!"},{"$error":"#VALUE!"},{"$error":"#VALUE!"},false]
[32,32,"",{"$f":"IF(A41<=$E$2,-PMT(C41/12,IF(C41=КАЛЬКУЛЯТОР!$C$21,$E$2,$E$2-$E$3),IF(C41=КАЛЬКУЛЯТОР!$C$21,$I$9,$I$9-SUMIF($A$10:$A$369,\"<=\"&$E$3,$H$10:$H$369)),0,0),\"\")","v":""},null,{"$f":"IFERROR(-IPMT(C41/12,B41,IF(C41=КАЛЬКУЛЯТОР!$C$21,$E$2,$E$2-$E$3),IF(C41=КАЛЬКУЛЯТОР!$C$21,$I$9,$I$9-SUMIF($A$10:$A$369,\"<=\"&$E$3,$H$10:$H$369)),0,0),\"\")","v":""},{"$f":"IFERROR(-IPMT((C41-$P$1)/12,B41,IF(C41=КАЛЬКУЛЯТОР!$C$21,$E$2,$E$2-$E$3),IF(C41=КАЛЬКУЛЯТОР!$C$21,$I$9,$I$9-SUMIF($A$10:$A$369,\"<=\"&$E$3,$H$10:$H$369)),0,0),\"\")","v":""},{"$f":"IFERROR((-PPMT(C41/12,B41,IF(C41=КАЛЬКУЛЯТОР!$C$21,$E$2,$E$2-$E$3),IF(C41=КАЛЬКУЛЯТОР!$C$21,$I$9,$I$9-SUMIF($A$10:$A$369,\"<=\"&$E$3,$H$10:$H$369)),0,0)),\"\")","v":""},"",{"$error":"#VALUE!"},null,{"$error":"#VALUE!"},{"$error":"#VALUE!"},{"$error":"#VALUE!"},{"$error":"#VALUE!"},false]
[33,33,"",{"$f":"IF(A42<=$E$2,-PMT(C42/12,IF(C42=КАЛЬКУЛЯТОР!$C$21,$E$2,$E$2-$E$3),IF(C42=КАЛЬКУЛЯТОР!$C$21,$I$9,$I$9-SUMIF($A$10:$A$369,\"<=\"&$E$3,$H$10:$H$369)),0,0),\"\")","v":""},null,{"$f":"IFERROR(-IPMT(C42/12,B42,IF(C42=КАЛЬКУЛЯТОР!$C$21,$E$2,$E$2-$E$3),IF(C42=КАЛЬКУЛЯТОР!$C$21,$I$9,$I$9-SUMIF($A$10:$A$369,\"<=\"&$E$3,$H$10:$H$369)),0,0),\"\")","v":""},{"$f":"IFERROR(-IPMT((C42-$P$1)/12,B42,IF(C42=КАЛЬКУЛЯТОР!$C$21,$E$2,$E$2-$E$3),IF(C42=КАЛЬКУЛЯТОР!$C$21,$I$9,$I$9-SUMIF($A$10:$A$369,\"<=\"&$E$3,$H$10:$H$369)),0,0),\"\")","v":""},{"$f":"IFERROR((-PPMT(C42/12,B42,IF(C42=КАЛЬКУЛЯТОР!$C$21,$E$2,$E$2-$E$3),IF(C42=КАЛЬКУЛЯТОР!$C$21,$I$9,$I$9-SUMIF($A$10:$A$369,\"<=\"&$E$3,$H$10:$H$369)),0,0)),\"\")","v":""},"",{"$error":"#VALUE!"},null,{"$error":"#VALUE!"},{"$error":"#VALUE!"},{"$error":"#VALUE!"},{"$error":"#VALUE!"},false]
[34,34,"",{"$f":"IF(A43<=$E$2,-PMT(C43/12,IF(C43=КАЛЬКУЛЯТОР!$C$21,$E$2,$E$2-$E$3),IF(C43=КАЛЬКУЛЯТОР!$C$21,$I$9,$I$9-SUMIF($A$10:$A$369,\"<=\"&$E$3,$H$10:$H$369)),0,0),\"\")","v":""},null,{"$f":"IFERROR(-IPMT(C43/12,B43,IF(C43=КАЛЬКУЛЯТОР!$C$21,$E$2,$E$2-$E$3),IF(C43=КАЛЬКУЛЯТОР!$C$21,$I$9,$I$9-SUMIF($A$10:$A$369,\"<=\"&$E$3,$H$10:$H$369)),0,0),\"\")","v":""},{"$f":"IFERROR(-IPMT((C43-$P$1)/12,B43,IF(C43=КАЛЬКУЛЯТОР!$C$21,$E$2,$E$2-$E$3),IF(C43=КАЛЬКУЛЯТОР!$C$21,$I$9,$I$9-SUMIF($A$10:$A$369,\"<=\"&$E$3,$H$10:$H$369)),0,0),\"\")","v":""},{"$f":"IFERROR((-PPMT(C43/12,B43,IF(C43=КАЛЬКУЛЯТОР!$C$21,$E$2,$E$2-$E$3),IF(C43=КАЛЬКУЛЯТОР!$C$21,$I$9,$I$9-SUMIF($A$10:$A$369,\"<=\"&$E$3,$H$10:$H$369)),0,0)),\"\")","v":""},"",{"$error":"#VALUE!"},null,{"$error":"#VALUE!"},{"$error":"#VALUE!"},{"$error":"#VALUE!"},{"$error":"#VALUE!"},false]
[35,35,"",{"$f":"IF(A44<=$E$2,-PMT(C44/12,IF(C44=КАЛЬКУЛЯТОР!$C$21,$E$2,$E$2-$E$3),IF(C44=КАЛЬКУЛЯТОР!$C$21,$I$9,$I$9-SUMIF($A$10:$A$369,\"<=\"&$E$3,$H$10:$H$369)),0,0),\"\")","v":""},null,{"$f":"IFERROR(-IPMT(C44/12,B44,IF(C44=КАЛЬКУЛЯТОР!$C$21,$E$2,$E$2-$E$3),IF(C44=КАЛЬКУЛЯТОР!$C$21,$I$9,$I$9-SUMIF($A$10:$A$369,\"<=\"&$E$3,$H$10:$H$369)),0,0),\"\")","v":""},{"$f":"IFERROR(-IPMT((C44-$P$1)/12,B44,IF(C44=КАЛЬКУЛЯТОР!$C$21,$E$2,$E$2-$E$3),IF(C44=КАЛЬКУЛЯТОР!$C$21,$I$9,$I$9-SUMIF($A$10:$A$369,\"<=\"&$E$3,$H$10:$H$369)),0,0),\"\")","v":""},{"$f":"IFERROR((-PPMT(C44/12,B44,IF(C44=КАЛЬКУЛЯТОР!$C$21,$E$2,$E$2-$E$3),IF(C44=КАЛЬКУЛЯТОР!$C$21,$I$9,$I$9-SUMIF($A$10:$A$369,\"<=\"&$E$3,$H$10:$H$369)),0,0)),\"\")","v":""},"",{"$error":"#VALUE!"},null,{"$error":"#VALUE!"},{"$error":"#VALUE!"},{"$error":"#VALUE!"},{"$error":"#VALUE!"},false]
[36,36,"",{"$f":"IF(A45<=$E$2,-PMT(C45/12,IF(C45=КАЛЬКУЛЯТОР!$C$21,$E$2,$E$2-$E$3),IF(C45=КАЛЬКУЛЯТОР!$C$21,$I$9,$I$9-SUMIF($A$10:$A$369,\"<=\"&$E$3,$H$10:$H$369)),0,0),\"\")","v":""},null,{"$f":"IFERROR(-IPMT(C45/12,B45,IF(C45=КАЛЬКУЛЯТОР!$C$21,$E$2,$E$2-$E$3),IF(C45=КАЛЬКУЛЯТОР!$C$21,$I$9,$I$9-SUMIF($A$10:$A$369,\"<=\"&$E$3,$H$10:$H$369)),0,0),\"\")","v":""},{"$f":"IFERROR(-IPMT((C45-$P$1)/12,B45,IF(C45=КАЛЬКУЛЯТОР!$C$21,$E$2,$E$2-$E$3),IF(C45=КАЛЬКУЛЯТОР!$C$21,$I$9,$I$9-SUMIF($A$10:$A$369,\"<=\"&$E$3,$H$10:$H$369)),0,0),\"\")","v":""},{"$f":"IFERROR((-PPMT(C45/12,B45,IF(C45=КАЛЬКУЛЯТОР!$C$21,$E$2,$E$2-$E$3),IF(C45=КАЛЬКУЛЯТОР!$C$21,$I$9,$I$9-SUMIF($A$10:$A$369,\"<=\"&$E$3,$H$10:$H$369)),0,0)),\"\")","v":""},"",{"$error":"#VALUE!"},null,{"$error":"#VALUE!"},{"$error":"#VALUE!"},{"$error":"#VALUE!"},{"$error":"#VALUE!"},false]
[37,37,"",{"$f":"IF(A46<=$E$2,-PMT(C46/12,IF(C46=КАЛЬКУЛЯТОР!$C$21,$E$2,$E$2-$E$3),IF(C46=КАЛЬКУЛЯТОР!$C$21,$I$9,$I$9-SUMIF($A$10:$A$369,\"<=\"&$E$3,$H$10:$H$369)),0,0)+E46,\"\")","v":""},{"$f":"IF($E$2>$A45,(I45+SUM(F46:F57))*($K$4+$K$5),0)","v":{"v":0,"d":"0.00"}},{"$f":"IFERROR(-IPMT(C46/12,B46,IF(C46=КАЛЬКУЛЯТОР!$C$21,$E$2,$E$2-$E$3),IF(C46=КАЛЬКУЛЯТОР!$C$21,$I$9,$I$9-SUMIF($A$10:$A$369,\"<=\"&$E$3,$H$10:$H$369)),0,0),\"\")","v":""},{"$f":"IFERROR(-IPMT((C46-$P$1)/12,B46,IF(C46=КАЛЬКУЛЯТОР!$C$21,$E$2,$E$2-$E$3),IF(C46=КАЛЬКУЛЯТОР!$C$21,$I$9,$I$9-SUMIF($A$10:$A$369,\"<=\"&$E$3,$H$10:$H$369)),0,0),\"\")","v":""},{"$f":"IFERROR((-PPMT(C46/12,B46,IF(C46=КАЛЬКУЛЯТОР!$C$21,$E$2,$E$2-$E$3),IF(C46=КАЛЬКУЛЯТОР!$C$21,$I$9,$I$9-SUMIF($A$10:$A$369,\"<=\"&$E$3,$H$10:$H$369)),0,0)),\"\")","v":""},"",{"$error":"#VALUE!"},{"$f":"PV($E$5/12,A46-1,0,-E46)","v":{"v":0,"d":"0.00"}},{"$error":"#VALUE!"},{"$error":"#VALUE!"},{"$error":"#VALUE!"},{"$error":"#VALUE!"},false]
[38,38,"",{"$f":"IF(A47<=$E$2,-PMT(C47/12,IF(C47=КАЛЬКУЛЯТОР!$C$21,$E$2,$E$2-$E$3),IF(C47=КАЛЬКУЛЯТОР!$C$21,$I$9,$I$9-SUMIF($A$10:$A$369,\"<=\"&$E$3,$H$10:$H$369)),0,0),\"\")","v":""},null,{"$f":"IFERROR(-IPMT(C47/12,B47,IF(C47=КАЛЬКУЛЯТОР!$C$21,$E$2,$E$2-$E$3),IF(C47=КАЛЬКУЛЯТОР!$C$21,$I$9,$I$9-SUMIF($A$10:$A$369,\"<=\"&$E$3,$H$10:$H$369)),0,0),\"\")","v":""},{"$f":"IFERROR(-IPMT((C47-$P$1)/12,B47,IF(C47=КАЛЬКУЛЯТОР!$C$21,$E$2,$E$2-$E$3),IF(C47=КАЛЬКУЛЯТОР!$C$21,$I$9,$I$9-SUMIF($A$10:$A$369,\"<=\"&$E$3,$H$10:$H$369)),0,0),\"\")","v":""},{"$f":"IFERROR((-PPMT(C47/12,B47,IF(C47=КАЛЬКУЛЯТОР!$C$21,$E$2,$E$2-$E$3),IF(C47=КАЛЬКУЛЯТОР!$C$21,$I$9,$I$9-SUMIF($A$10:$A$369,\"<=\"&$E$3,$H$10:$H$369)),0,0)),\"\")","v":""},"",{"$error":"#VALUE!"},null,{"$error":"#VALUE!"},{"$error":"#VALUE!"},{"$error":"#VALUE!"},{"$error":"#VALUE!"},false]
[39,39,"",{"$f":"IF(A48<=$E$2,-PMT(C48/12,IF(C48=КАЛЬКУЛЯТОР!$C$21,$E$2,$E$2-$E$3),IF(C48=КАЛЬКУЛЯТОР!$C$21,$I$9,$I$9-SUMIF($A$10:$A$369,\"<=\"&$E$3,$H$10:$H$369)),0,0),\"\")","v":""},null,{"$f":"IFERROR(-IPMT(C48/12,B48,IF(C48=КАЛЬКУЛЯТОР!$C$21,$E$2,$E$2-$E$3),IF(C48=КАЛЬКУЛЯТОР!$C$21,$I$9,$I$9-SUMIF($A$10:$A$369,\"<=\"&$E$3,$H$10:$H$369)),0,0),\"\")","v":""},{"$f":"IFERROR(-IPMT((C48-$P$1)/12,B48,IF(C48=КАЛЬКУЛЯТОР!$C$21,$E$2,$E$2-$E$3),IF(C48=КАЛЬКУЛЯТОР!$C$21,$I$9,$I$9-SUMIF($A$10:$A$369,\"<=\"&$E$3,$H$10:$H$369)),0,0),\"\")","v":""},{"$f":"IFERROR((-PPMT(C48/12,B48,IF(C48=КАЛЬКУЛЯТОР!$C$21,$E$2,$E$2-$E$3),IF(C48=КАЛЬКУЛЯТОР!$C$21,$I$9,$I$9-SUMIF($A$10:$A$369,\"<=\"&$E$3,$H$10:$H$369)),0,0)),\"\")","v":""},"",{"$error":"#VALUE!"},null,{"$error":"#VALUE!"},{"$error":"#VALUE!"},{"$error":"#VALUE!"},{"$error":"#VALUE!"},false]
[40,40,"",{"$f":"IF(A49<=$E$2,-PMT(C49/12,IF(C49=КАЛЬКУЛЯТОР!$C$21,$E$2,$E$2-$E$3),IF(C49=КАЛЬКУЛЯТОР!$C$21,$I$9,$I$9-SUMIF($A$10:$A$369,\"<=\"&$E$3,$H$10:$H$369)),0,0),\"\")","v":""},null,{"$f":"IFERROR(-IPMT(C49/12,B49,IF(C49=КАЛЬКУЛЯТОР!$C$21,$E$2,$E$2-$E$3),IF(C49=КАЛЬКУЛЯТОР!$C$21,$I$9,$I$9-SUMIF($A$10:$A$369,\"<=\"&$E$3,$H$10:$H$369)),0,0),\"\")","v":""},{"$f":"IFERROR(-IPMT((C49-$P$1)/12,B49,IF(C49=КАЛЬКУЛЯТОР!$C$21,$E$2,$E$2-$E$3),IF(C49=КАЛЬКУЛЯТОР!$C$21,$I$9,$I$9-SUMIF($A$10:$A$369,\"<=\"&$E$3,$H$10:$H$369)),0,0),\"\")","v":""},{"$f":"IFERROR((-PPMT(C49/12,B49,IF(C49=КАЛЬКУЛЯТОР!$C$21,$E$2,$E$2-$E$3),IF(C49=КАЛЬКУЛЯТОР!$C$21,$I$9,$I$9-SUMIF($A$10:$A$369,\"<=\"&$E$3,$H$10:$H$369)),0,0)),\"\")","v":""},"",{"$error":"#VALUE!"},null,{"$error":"#VALUE!"},{"$error":"#VALUE!"},{"$error":"#VALUE!"},{"$error":"#VALUE!"},false]
[41,41,"",{"$f":"IF(A50<=$E$2,-PMT(C50/12,IF(C50=КАЛЬКУЛЯТОР!$C$21,$E$2,$E$2-$E$3),IF(C50=КАЛЬКУЛЯТОР!$C$21,$I$9,$I$9-SUMIF($A$10:$A$369,\"<=\"&$E$3,$H$10:$H$369)),0,0),\"\")","v":""},null,{"$f":"IFERROR(-IPMT(C50/12,B50,IF(C50=КАЛЬКУЛЯТОР!$C$21,$E$2,$E$2-$E$3),IF(C50=КАЛЬКУЛЯТОР!$C$21,$I$9,$I$9-SUMIF($A$10:$A$369,\"<=\"&$E$3,$H$10:$H$369)),0,0),\"\")","v":""},{"$f":"IFERROR(-IPMT((C50-$P$1)/12,B50,IF(C50=КАЛЬКУЛЯТОР!$C$21,$E$2,$E$2-$E$3),IF(C50=КАЛЬКУЛЯТОР!$C$21,$I$9,$I$9-SUMIF($A$10:$A$369,\"<=\"&$E$3,$H$10:$H$369)),0,0),\"\")","v":""},{"$f":"IFERROR((-PPMT(C50/12,B50,IF(C50=КАЛЬКУЛЯТОР!$C$21,$E$2,$E$2-$E$3),IF(C50=КАЛЬКУЛЯТОР!$C$21,$I$9,$I$9-SUMIF($A$10:$A$369,\"<=\"&$E$3,$H$10:$H$369)),0,0)),\"\")","v":""},"",{"$error":"#VALUE!"},null,{"$error":"#VALUE!"},{"$error":"#VALUE!"},{"$error":"#VALUE!"},{"$error":"#VALUE!"},false]
[42,42,"",{"$f":"IF(A51<=$E$2,-PMT(C51/12,IF(C51=КАЛЬКУЛЯТОР!$C$21,$E$2,$E$2-$E$3),IF(C51=КАЛЬКУЛЯТОР!$C$21,$I$9,$I$9-SUMIF($A$10:$A$369,\"<=\"&$E$3,$H$10:$H$369)),0,0),\"\")","v":""},null,{"$f":"IFERROR(-IPMT(C51/12,B51,IF(C51=КАЛЬКУЛЯТОР!$C$21,$E$2,$E$2-$E$3),IF(C51=КАЛЬКУЛЯТОР!$C$21,$I$9,$I$9-SUMIF($A$10:$A$369,\"<=\"&$E$3,$H$10:$H$369)),0,0),\"\")","v":""},{"$f":"IFERROR(-IPMT((C51-$P$1)/12,B51,IF(C51=КАЛЬКУЛЯТОР!$C$21,$E$2,$E$2-$E$3),IF(C51=КАЛЬКУЛЯТОР!$C$21,$I$9,$I$9-SUMIF($A$10:$A$369,\"<=\"&$E$3,$H$10:$H$369)),0,0),\"\")","v":""},{"$f":"IFERROR((-PPMT(C51/12,B51,IF(C51=КАЛЬКУЛЯТОР!$C$21,$E$2,$E$2-$E$3),IF(C51=КАЛЬКУЛЯТОР!$C$21,$I$9,$I$9-SUMIF($A$10:$A$369,\"<=\"&$E$3,$H$10:$H$369)),0,0)),\"\")","v":""},"",{"$error":"#VALUE!"},null,{"$error":"#VALUE!"},{"$error":"#VALUE!"},{"$error":"#VALUE!"},{"$error":"#VALUE!"},false]
[43,43,"",{"$f":"IF(A52<=$E$2,-PMT(C52/12,IF(C52=КАЛЬКУЛЯТОР!$C$21,$E$2,$E$2-$E$3),IF(C52=КАЛЬКУЛЯТОР!$C$21,$I$9,$I$9-SUMIF($A$10:$A$369,\"<=\"&$E$3,$H$10:$H$369)),0,0),\"\")","v":""},null,{"$f":"IFERROR(-IPMT(C52/12,B52,IF(C52=КАЛЬКУЛЯТОР!$C$21,$E$2,$E$2-$E$3),IF(C52=КАЛЬКУЛЯТОР!$C$21,$I$9,$I$9-SUMIF($A$10:$A$369,\"<=\"&$E$3,$H$10:$H$369)),0,0),\"\")","v":""},{"$f":"IFERROR(-IPMT((C52-$P$1)/12,B52,IF(C52=КАЛЬКУЛЯТОР!$C$21,$E$2,$E$2-$E$3),IF(C52=КАЛЬКУЛЯТОР!$C$21,$I$9,$I$9-SUMIF($A$10:$A$369,\"<=\"&$E$3,$H$10:$H$369)),0,0),\"\")","v":""},{"$f":"IFERROR((-PPMT(C52/12,B52,IF(C52=КАЛЬКУЛЯТОР!$C$21,$E$2,$E$2-$E$3),IF(C52=КАЛЬКУЛЯТОР!$C$21,$I$9,$I$9-SUMIF($A$10:$A$369,\"<=\"&$E$3,$H$10:$H$369)),0,0)),\"\")","v":""},"",{"$error":"#VALUE!"},null,{"$error":"#VALUE!"},{"$error":"#VALUE!"},{"$error":"#VALUE!"},{"$error":"#VALUE!"},false]
[44,44,"",{"$f":"IF(A53<=$E$2,-PMT(C53/12,IF(C53=КАЛЬКУЛЯТОР!$C$21,$E$2,$E$2-$E$3),IF(C53=КАЛЬКУЛЯТОР!$C$21,$I$9,$I$9-SUMIF($A$10:$A$369,\"<=\"&$E$3,$H$10:$H$369)),0,0),\"\")","v":""},null,{"$f":"IFERROR(-IPMT(C53/12,B53,IF(C53=КАЛЬКУЛЯТОР!$C$21,$E$2,$E$2-$E$3),IF(C53=КАЛЬКУЛЯТОР!$C$21,$I$9,$I$9-SUMIF($A$10:$A$369,\"<=\"&$E$3,$H$10:$H$369)),0,0),\"\")","v":""},{"$f":"IFERROR(-IPMT((C53-$P$1)/12,B53,IF(C53=КАЛЬКУЛЯТОР!$C$21,$E$2,$E$2-$E$3),IF(C53=КАЛЬКУЛЯТОР!$C$21,$I$9,$I$9-SUMIF($A$10:$A$369,\"<=\"&$E$3,$H$10:$H$369)),0,0),\"\")","v":""},{"$f":"IFERROR((-PPMT(C53/12,B53,IF(C53=КАЛЬКУЛЯТОР!$C$21,$E$2,$E$2-$E$3),IF(C53=КАЛЬКУЛЯТОР!$C$21,$I$9,$I$9-SUMIF($A$10:$A$369,\"<=\"&$E$3,$H$10:$H$369)),0,0)),\"\")","v":""},"",{"$error":"#VALUE!"},null,{"$error":"#VALUE!"},{"$error":"#VALUE!"},{"$error":"#VALUE!"},{"$error":"#VALUE!"},false]
[45,45,"",{"$f":"IF(A54<=$E$2,-PMT(C54/12,IF(C54=КАЛЬКУЛЯТОР!$C$21,$E$2,$E$2-$E$3),IF(C54=КАЛЬКУЛЯТОР!$C$21,$I$9,$I$9-SUMIF($A$10:$A$369,\"<=\"&$E$3,$H$10:$H$369)),0,0),\"\")","v":""},null,{"$f":"IFERROR(-IPMT(C54/12,B54,IF(C54=КАЛЬКУЛЯТОР!$C$21,$E$2,$E$2-$E$3),IF(C54=КАЛЬКУЛЯТОР!$C$21,$I$9,$I$9-SUMIF($A$10:$A$369,\"<=\"&$E$3,$H$10:$H$369)),0,0),\"\")","v":""},{"$f":"IFERROR(-IPMT((C54-$P$1)/12,B54,IF(C54=КАЛЬКУЛЯТОР!$C$21,$E$2,$E$2-$E$3),IF(C54=КАЛЬКУЛЯТОР!$C$21,$I$9,$I$9-SUMIF($A$10:$A$369,\"<=\"&$E$3,$H$10:$H$369)),0,0),\"\")","v":""},{"$f":"IFERROR((-PPMT(C54/12,B54,IF(C54=КАЛЬКУЛЯТОР!$C$21,$E$2,$E$2-$E$3),IF(C54=КАЛЬКУЛЯТОР!$C$21,$I$9,$I$9-SUMIF($A$10:$A$369,\"<=\"&$E$3,$H$10:$H$369)),0,0)),\"\")","v":""},"",{"$error":"#VALUE!"},null,{"$error":"#VALUE!"},{"$error":"#VALUE!"},{"$error":"#VALUE!"},{"$error":"#VALUE!"},false]
[46,46,"",{"$f":"IF(A55<=$E$2,-PMT(C55/12,IF(C55=КАЛЬКУЛЯТОР!$C$21,$E$2,$E$2-$E$3),IF(C55=КАЛЬКУЛЯТОР!$C$21,$I$9,$I$9-SUMIF($A$10:$A$369,\"<=\"&$E$3,$H$10:$H$369)),0,0),\"\")","v":""},null,{"$f":"IFERROR(-IPMT(C55/12,B55,IF(C55=КАЛЬКУЛЯТОР!$C$21,$E$2,$E$2-$E$3),IF(C55=КАЛЬКУЛЯТОР!$C$21,$I$9,$I$9-SUMIF($A$10:$A$369,\"<=\"&$E$3,$H$10:$H$369)),0,0),\"\")","v":""},{"$f":"IFERROR(-IPMT((C55-$P$1)/12,B55,IF(C55=КАЛЬКУЛЯТОР!$C$21,$E$2,$E$2-$E$3),IF(C55=КАЛЬКУЛЯТОР!$C$21,$I$9,$I$9-SUMIF($A$10:$A$369,\"<=\"&$E$3,$H$10:$H$369)),0,0),\"\")","v":""},{"$f":"IFERROR((-PPMT(C55/12,B55,IF(C55=КАЛЬКУЛЯТОР!$C$21,$E$2,$E$2-$E$3),IF(C55=КАЛЬКУЛЯТОР!$C$21,$I$9,$I$9-SUMIF($A$10:$A$369,\"<=\"&$E$3,$H$10:$H$369)),0,0)),\"\")","v":""},"",{"$error":"#VALUE!"},null,{"$error":"#VALUE!"},{"$error":"#VALUE!"},{"$error":"#VALUE!"},{"$error":"#VALUE!"},false]
[47,47,"",{"$f":"IF(A56<=$E$2,-PMT(C56/12,IF(C56=КАЛЬКУЛЯТОР!$C$21,$E$2,$E$2-$E$3),IF(C56=КАЛЬКУЛЯТОР!$C$21,$I$9,$I$9-SUMIF($A$10:$A$369,\"<=\"&$E$3,$H$10:$H$369)),0,0),\"\")","v":""},null,{"$f":"IFERROR(-IPMT(C56/12,B56,IF(C56=КАЛЬКУЛЯТОР!$C$21,$E$2,$E$2-$E$3),IF(C56=КАЛЬКУЛЯТОР!$C$21,$I$9,$I$9-SUMIF($A$10:$A$369,\"<=\"&$E$3,$H$10:$H$369)),0,0),\"\")","v":""},{"$f":"IFERROR(-IPMT((C56-$P$1)/12,B56,IF(C56=КАЛЬКУЛЯТОР!$C$21,$E$2,$E$2-$E$3),IF(C56=КАЛЬКУЛЯТОР!$C$21,$I$9,$I$9-SUMIF($A$10:$A$369,\"<=\"&$E$3,$H$10:$H$369)),0,0),\"\")","v":""},{"$f":"IFERROR((-PPMT(C56/12,B56,IF(C56=КАЛЬКУЛЯТОР!$C$21,$E$2,$E$2-$E$3),IF(C56=КАЛЬКУЛЯТОР!$C$21,$I$9,$I$9-SUMIF($A$10:$A$369,\"<=\"&$E$3,$H$10:$H$369)),0,0)),\"\")","v":""},"",{"$error":"#VALUE!"},null,{"$error":"#VALUE!"},{"$error":"#VALUE!"},{"$error":"#VALUE!"},{"$error":"#VALUE!"},false]
[48,48,"",{"$f":"IF(A57<=$E$2,-PMT(C57/12,IF(C57=КАЛЬКУЛЯТОР!$C$21,$E$2,$E$2-$E$3),IF(C57=КАЛЬКУЛЯТОР!$C$21,$I$9,$I$9-SUMIF($A$10:$A$369,\"<=\"&$E$3,$H$10:$H$369)),0,0),\"\")","v":""},null,{"$f":"IFERROR(-IPMT(C57/12,B57,IF(C57=КАЛЬКУЛЯТОР!$C$21,$E$2,$E$2-$E$3),IF(C57=КАЛЬКУЛЯТОР!$C$21,$I$9,$I$9-SUMIF($A$10:$A$369,\"<=\"&$E$3,$H$10:$H$369)),0,0),\"\")","v":""},{"$f":"IFERROR(-IPMT((C57-$P$1)/12,B57,IF(C57=КАЛЬКУЛЯТОР!$C$21,$E$2,$E$2-$E$3),IF(C57=КАЛЬКУЛЯТОР!$C$21,$I$9,$I$9-SUMIF($A$10:$A$369,\"<=\"&$E$3,$H$10:$H$369)),0,0),\"\")","v":""},{"$f":"IFERROR((-PPMT(C57/12,B57,IF(C57=КАЛЬКУЛЯТОР!$C$21,$E$2,$E$2-$E$3),IF(C57=КАЛЬКУЛЯТОР!$C$21,$I$9,$I$9-SUMIF($A$10:$A$369,\"<=\"&$E$3,$H$10:$H$369)),0,0)),\"\")","v":""},"",{"$error":"#VALUE!"},null,{"$error":"#VALUE!"},{"$error":"#VALUE!"},{"$error":"#VALUE!"},{"$error":"#VALUE!"},false]
[49,49,"",{"$f":"IF(A58<=$E$2,-PMT(C58/12,IF(C58=КАЛЬКУЛЯТОР!$C$21,$E$2,$E$2-$E$3),IF(C58=КАЛЬКУЛЯТОР!$C$21,$I$9,$I$9-SUMIF($A$10:$A$369,\"<=\"&$E$3,$H$10:$H$369)),0,0)+E58,\"\")","v":""},{"$f":"IF($E$2>$A57,(I57+SUM(F58:F69))*($K$4+$K$5),0)","v":{"v":0,"d":"0.00"}},{"$f":"IFERROR(-IPMT(C58/12,B58,IF(C58=КАЛЬКУЛЯТОР!$C$21,$E$2,$E$2-$E$3),IF(C58=КАЛЬКУЛЯТОР!$C$21,$I$9,$I$9-SUMIF($A$10:$A$369,\"<=\"&$E$3,$H$10:$H$369)),0,0),\"\")","v":""},{"$f":"IFERROR(-IPMT((C58-$P$1)/12,B58,IF(C58=КАЛЬКУЛЯТОР!$C$21,$E$2,$E$2-$E$3),IF(C58=КАЛЬКУЛЯТОР!$C$21,$I$9,$I$9-SUMIF($A$10:$A$369,\"<=\"&$E$3,$H$10:$H$369)),0,0),\"\")","v":""},{"$f":"IFERROR((-PPMT(C58/12,B58,IF(C58=КАЛЬКУЛЯТОР!$C$21,$E$2,$E$2-$E$3),IF(C58=КАЛЬКУЛЯТОР!$C$21,$I$9,$I$9-SUMIF($A$10:$A$369,\"<=\"&$E$3,$H$10:$H$369)),0,0)),\"\")","v":""},"",{"$error":"#VALUE!"},{"$f":"PV($E$5/12,A58-1,0,-E58)","v":{"v":0,"d":"0.00"}},{"$error":"#VALUE!"},{"$error":"#VALUE!"},{"$error":"#VALUE!"},{"$error":"#VALUE!"},false]
[50,50,"",{"$f":"IF(A59<=$E$2,-PMT(C59/12,IF(C59=КАЛЬКУЛЯТОР!$C$21,$E$2,$E$2-$E$3),IF(C59=КАЛЬКУЛЯТОР!$C$21,$I$9,$I$9-SUMIF($A$10:$A$369,\"<=\"&$E$3,$H$10:$H$369)),0,0),\"\")","v":""},null,{"$f":"IFERROR(-IPMT(C59/12,B59,IF(C59=КАЛЬКУЛЯТОР!$C$21,$E$2,$E$2-$E$3),IF(C59=КАЛЬКУЛЯТОР!$C$21,$I$9,$I$9-SUMIF($A$10:$A$369,\"<=\"&$E$3,$H$10:$H$369)),0,0),\"\")","v":""},{"$f":"IFERROR(-IPMT((C59-$P$1)/12,B59,IF(C59=КАЛЬКУЛЯТОР!$C$21,$E$2,$E$2-$E$3),IF(C59=КАЛЬКУЛЯТОР!$C$21,$I$9,$I$9-SUMIF($A$10:$A$369,\"<=\"&$E$3,$H$10:$H$369)),0,0),\"\")","v":""},{"$f":"IFERROR((-PPMT(C59/12,B59,IF(C59=КАЛЬКУЛЯТОР!$C$21,$E$2,$E$2-$E$3),IF(C59=КАЛЬКУЛЯТОР!$C$21,$I$9,$I$9-SUMIF($A$10:$A$369,\"<=\"&$E$3,$H$10:$H$369)),0,0)),\"\")","v":""},"",{"$error":"#VALUE!"},null,{"$error":"#VALUE!"},{"$error":"#VALUE!"},{"$error":"#VALUE!"},{"$error":"#VALUE!"},false]
[51,51,"",{"$f":"IF(A60<=$E$2,-PMT(C60/12,IF(C60=КАЛЬКУЛЯТОР!$C$21,$E$2,$E$2-$E$3),IF(C60=КАЛЬКУЛЯТОР!$C$21,$I$9,$I$9-SUMIF($A$10:$A$369,\"<=\"&$E$3,$H$10:$H$369)),0,0),\"\")","v":""},null,{"$f":"IFERROR(-IPMT(C60/12,B60,IF(C60=КАЛЬКУЛЯТОР!$C$21,$E$2,$E$2-$E$3),IF(C60=КАЛЬКУЛЯТОР!$C$21,$I$9,$I$9-SUMIF($A$10:$A$369,\"<=\"&$E$3,$H$10:$H$369)),0,0),\"\")","v":""},{"$f":"IFERROR(-IPMT((C60-$P$1)/12,B60,IF(C60=КАЛЬКУЛЯТОР!$C$21,$E$2,$E$2-$E$3),IF(C60=КАЛЬКУЛЯТОР!$C$21,$I$9,$I$9-SUMIF($A$10:$A$369,\"<=\"&$E$3,$H$10:$H$369)),0,0),\"\")","v":""},{"$f":"IFERROR((-PPMT(C60/12,B60,IF(C60=КАЛЬКУЛЯТОР!$C$21,$E$2,$E$2-$E$3),IF(C60=КАЛЬКУЛЯТОР!$C$21,$I$9,$I$9-SUMIF($A$10:$A$369,\"<=\"&$E$3,$H$10:$H$369)),0,0)),\"\")","v":""},"",{"$error":"#VALUE!"},null,{"$error":"#VALUE!"},{"$error":"#VALUE!"},{"$error":"#VALUE!"},{"$error":"#VALUE!"},false]
[52,52,"",{"$f":"IF(A61<=$E$2,-PMT(C61/12,IF(C61=КАЛЬКУЛЯТОР!$C$21,$E$2,$E$2-$E$3),IF(C61=КАЛЬКУЛЯТОР!$C$21,$I$9,$I$9-SUMIF($A$10:$A$369,\"<=\"&$E$3,$H$10:$H$369)),0,0),\"\")","v":""},null,{"$f":"IFERROR(-IPMT(C61/12,B61,IF(C61=КАЛЬКУЛЯТОР!$C$21,$E$2,$E$2-$E$3),IF(C61=КАЛЬКУЛЯТОР!$C$21,$I$9,$I$9-SUMIF($A$10:$A$369,\"<=\"&$E$3,$H$10:$H$369)),0,0),\"\")","v":""},{"$f":"IFERROR(-IPMT((C61-$P$1)/12,B61,IF(C61=КАЛЬКУЛЯТОР!$C$21,$E$2,$E$2-$E$3),IF(C61=КАЛЬКУЛЯТОР!$C$21,$I$9,$I$9-SUMIF($A$10:$A$369,\"<=\"&$E$3,$H$10:$H$369)),0,0),\"\")","v":""},{"$f":"IFERROR((-PPMT(C61/12,B61,IF(C61=КАЛЬКУЛЯТОР!$C$21,$E$2,$E$2-$E$3),IF(C61=КАЛЬКУЛЯТОР!$C$21,$I$9,$I$9-SUMIF($A$10:$A$369,\"<=\"&$E$3,$H$10:$H$369)),0,0)),\"\")","v":""},"",{"$error":"#VALUE!"},null,{"$error":"#VALUE!"},{"$error":"#VALUE!"},{"$error":"#VALUE!"},{"$error":"#VALUE!"},false]
[53,53,"",{"$f":"IF(A62<=$E$2,-PMT(C62/12,IF(C62=КАЛЬКУЛЯТОР!$C$21,$E$2,$E$2-$E$3),IF(C62=КАЛЬКУЛЯТОР!$C$21,$I$9,$I$9-SUMIF($A$10:$A$369,\"<=\"&$E$3,$H$10:$H$369)),0,0),\"\")","v":""},null,{"$f":"IFERROR(-IPMT(C62/12,B62,IF(C62=КАЛЬКУЛЯТОР!$C$21,$E$2,$E$2-$E$3),IF(C62=КАЛЬКУЛЯТОР!$C$21,$I$9,$I$9-SUMIF($A$10:$A$369,\"<=\"&$E$3,$H$10:$H$369)),0,0),\"\")","v":""},{"$f":"IFERROR(-IPMT((C62-$P$1)/12,B62,IF(C62=КАЛЬКУЛЯТОР!$C$21,$E$2,$E$2-$E$3),IF(C62=КАЛЬКУЛЯТОР!$C$21,$I$9,$I$9-SUMIF($A$10:$A$369,\"<=\"&$E$3,$H$10:$H$369)),0,0),\"\")","v":""},{"$f":"IFERROR((-PPMT(C62/12,B62,IF(C62=КАЛЬКУЛЯТОР!$C$21,$E$2,$E$2-$E$3),IF(C62=КАЛЬКУЛЯТОР!$C$21,$I$9,$I$9-SUMIF($A$10:$A$369,\"<=\"&$E$3,$H$10:$H$369)),0,0)),\"\")","v":""},"",{"$error":"#VALUE!"},null,{"$error":"#VALUE!"},{"$error":"#VALUE!"},{"$error":"#VALUE!"},{"$error":"#VALUE!"},false]
[54,54,"",{"$f":"IF(A63<=$E$2,-PMT(C63/12,IF(C63=КАЛЬКУЛЯТОР!$C$21,$E$2,$E$2-$E$3),IF(C63=КАЛЬКУЛЯТОР!$C$21,$I$9,$I$9-SUMIF($A$10:$A$369,\"<=\"&$E$3,$H$10:$H$369)),0,0),\"\")","v":""},null,{"$f":"IFERROR(-IPMT(C63/12,B63,IF(C63=КАЛЬКУЛЯТОР!$C$21,$E$2,$E$2-$E$3),IF(C63=КАЛЬКУЛЯТОР!$C$21,$I$9,$I$9-SUMIF($A$10:$A$369,\"<=\"&$E$3,$H$10:$H$369)),0,0),\"\")","v":""},{"$f":"IFERROR(-IPMT((C63-$P$1)/12,B63,IF(C63=КАЛЬКУЛЯТОР!$C$21,$E$2,$E$2-$E$3),IF(C63=КАЛЬКУЛЯТОР!$C$21,$I$9,$I$9-SUMIF($A$10:$A$369,\"<=\"&$E$3,$H$10:$H$369)),0,0),\"\")","v":""},{"$f":"IFERROR((-PPMT(C63/12,B63,IF(C63=КАЛЬКУЛЯТОР!$C$21,$E$2,$E$2-$E$3),IF(C63=КАЛЬКУЛЯТОР!$C$21,$I$9,$I$9-SUMIF($A$10:$A$369,\"<=\"&$E$3,$H$10:$H$369)),0,0)),\"\")","v":""},"",{"$error":"#VALUE!"},null,{"$error":"#VALUE!"},{"$error":"#VALUE!"},{"$error":"#VALUE!"},{"$error":"#VALUE!"},false]
[55,55,"",{"$f":"IF(A64<=$E$2,-PMT(C64/12,IF(C64=КАЛЬКУЛЯТОР!$C$21,$E$2,$E$2-$E$3),IF(C64=КАЛЬКУЛЯТОР!$C$21,$I$9,$I$9-SUMIF($A$10:$A$369,\"<=\"&$E$3,$H$10:$H$369)),0,0),\"\")","v":""},null,{"$f":"IFERROR(-IPMT(C64/12,B64,IF(C64=КАЛЬКУЛЯТОР!$C$21,$E$2,$E$2-$E$3),IF(C64=КАЛЬКУЛЯТОР!$C$21,$I$9,$I$9-SUMIF($A$10:$A$369,\"<=\"&$E$3,$H$10:$H$369)),0,0),\"\")","v":""},{"$f":"IFERROR(-IPMT((C64-$P$1)/12,B64,IF(C64=КАЛЬКУЛЯТОР!$C$21,$E$2,$E$2-$E$3),IF(C64=КАЛЬКУЛЯТОР!$C$21,$I$9,$I$9-SUMIF($A$10:$A$369,\"<=\"&$E$3,$H$10:$H$369)),0,0),\"\")","v":""},{"$f":"IFERROR((-PPMT(C64/12,B64,IF(C64=КАЛЬКУЛЯТОР!$C$21,$E$2,$E$2-$E$3),IF(C64=КАЛЬКУЛЯТОР!$C$21,$I$9,$I$9-SUMIF($A$10:$A$369,\"<=\"&$E$3,$H$10:$H$369)),0,0)),\"\")","v":""},"",{"$error":"#VALUE!"},null,{"$error":"#VALUE!"},{"$error":"#VALUE!"},{"$error":"#VALUE!"},{"$error":"#VALUE!"},false]
[56,56,"",{"$f":"IF(A65<=$E$2,-PMT(C65/12,IF(C65=КАЛЬКУЛЯТОР!$C$21,$E$2,$E$2-$E$3),IF(C65=КАЛЬКУЛЯТОР!$C$21,$I$9,$I$9-SUMIF($A$10:$A$369,\"<=\"&$E$3,$H$10:$H$369)),0,0),\"\")","v":""},null,{"$f":"IFERROR(-IPMT(C65/12,B65,IF(C65=КАЛЬКУЛЯТОР!$C$21,$E$2,$E$2-$E$3),IF(C65=КАЛЬКУЛЯТОР!$C$21,$I$9,$I$9-SUMIF($A$10:$A$369,\"<=\"&$E$3,$H$10:$H$369)),0,0),\"\")","v":""},{"$f":"IFERROR(-IPMT((C65-$P$1)/12,B65,IF(C65=КАЛЬКУЛЯТОР!$C$21,$E$2,$E$2-$E$3),IF(C65=КАЛЬКУЛЯТОР!$C$21,$I$9,$I$9-SUMIF($A$10:$A$369,\"<=\"&$E$3,$H$10:$H$369)),0,0),\"\")","v":""},{"$f":"IFERROR((-PPMT(C65/12,B65,IF(C65=КАЛЬКУЛЯТОР!$C$21,$E$2,$E$2-$E$3),IF(C65=КАЛЬКУЛЯТОР!$C$21,$I$9,$I$9-SUMIF($A$10:$A$369,\"<=\"&$E$3,$H$10:$H$369)),0,0)),\"\")","v":""},"",{"$error":"#VALUE!"},null,{"$error":"#VALUE!"},{"$error":"#VALUE!"},{"$error":"#VALUE!"},{"$error":"#VALUE!"},false]
[57,57,"",{"$f":"IF(A66<=$E$2,-PMT(C66/12,IF(C66=КАЛЬКУЛЯТОР!$C$21,$E$2,$E$2-$E$3),IF(C66=КАЛЬКУЛЯТОР!$C$21,$I$9,$I$9-SUMIF($A$10:$A$369,\"<=\"&$E$3,$H$10:$H$369)),0,0),\"\")","v":""},null,{"$f":"IFERROR(-IPMT(C66/12,B66,IF(C66=КАЛЬКУЛЯТОР!$C$21,$E$2,$E$2-$E$3),IF(C66=КАЛЬКУЛЯТОР!$C$21,$I$9,$I$9-SUMIF($A$10:$A$369,\"<=\"&$E$3,$H$10:$H$369)),0,0),\"\")","v":""},{"$f":"IFERROR(-IPMT((C66-$P$1)/12,B66,IF(C66=КАЛЬКУЛЯТОР!$C$21,$E$2,$E$2-$E$3),IF(C66=КАЛЬКУЛЯТОР!$C$21,$I$9,$I$9-SUMIF($A$10:$A$369,\"<=\"&$E$3,$H$10:$H$369)),0,0),\"\")","v":""},{"$f":"IFERROR((-PPMT(C66/12,B66,IF(C66=КАЛЬКУЛЯТОР!$C$21,$E$2,$E$2-$E$3),IF(C66=КАЛЬКУЛЯТОР!$C$21,$I$9,$I$9-SUMIF($A$10:$A$369,\"<=\"&$E$3,$H$10:$H$369)),0,0)),\"\")","v":""},"",{"$error":"#VALUE!"},null,{"$error":"#VALUE!"},{"$error":"#VALUE!"},{"$error":"#VALUE!"},{"$error":"#VALUE!"},false]
[58,58,"",{"$f":"IF(A67<=$E$2,-PMT(C67/12,IF(C67=КАЛЬКУЛЯТОР!$C$21,$E$2,$E$2-$E$3),IF(C67=КАЛЬКУЛЯТОР!$C$21,$I$9,$I$9-SUMIF($A$10:$A$369,\"<=\"&$E$3,$H$10:$H$369)),0,0),\"\")","v":""},null,{"$f":"IFERROR(-IPMT(C67/12,B67,IF(C67=КАЛЬКУЛЯТОР!$C$21,$E$2,$E$2-$E$3),IF(C67=КАЛЬКУЛЯТОР!$C$21,$I$9,$I$9-SUMIF($A$10:$A$369,\"<=\"&$E$3,$H$10:$H$369)),0,0),\"\")","v":""},{"$f":"IFERROR(-IPMT((C67-$P$1)/12,B67,IF(C67=КАЛЬКУЛЯТОР!$C$21,$E$2,$E$2-$E$3),IF(C67=КАЛЬКУЛЯТОР!$C$21,$I$9,$I$9-SUMIF($A$10:$A$369,\"<=\"&$E$3,$H$10:$H$369)),0,0),\"\")","v":""},{"$f":"IFERROR((-PPMT(C67/12,B67,IF(C67=КАЛЬКУЛЯТОР!$C$21,$E$2,$E$2-$E$3),IF(C67=КАЛЬКУЛЯТОР!$C$21,$I$9,$I$9-SUMIF($A$10:$A$369,\"<=\"&$E$3,$H$10:$H$369)),0,0)),\"\")","v":""},"",{"$error":"#VALUE!"},null,{"$error":"#VALUE!"},{"$error":"#VALUE!"},{"$error":"#VALUE!"},{"$error":"#VALUE!"},false]
[59,59,"",{"$f":"IF(A68<=$E$2,-PMT(C68/12,IF(C68=КАЛЬКУЛЯТОР!$C$21,$E$2,$E$2-$E$3),IF(C68=КАЛЬКУЛЯТОР!$C$21,$I$9,$I$9-SUMIF($A$10:$A$369,\"<=\"&$E$3,$H$10:$H$369)),0,0),\"\")","v":""},null,{"$f":"IFERROR(-IPMT(C68/12,B68,IF(C68=КАЛЬКУЛЯТОР!$C$21,$E$2,$E$2-$E$3),IF(C68=КАЛЬКУЛЯТОР!$C$21,$I$9,$I$9-SUMIF($A$10:$A$369,\"<=\"&$E$3,$H$10:$H$369)),0,0),\"\")","v":""},{"$f":"IFERROR(-IPMT((C68-$P$1)/12,B68,IF(C68=КАЛЬКУЛЯТОР!$C$21,$E$2,$E$2-$E$3),IF(C68=КАЛЬКУЛЯТОР!$C$21,$I$9,$I$9-SUMIF($A$10:$A$369,\"<=\"&$E$3,$H$10:$H$369)),0,0),\"\")","v":""},{"$f":"IFERROR((-PPMT(C68/12,B68,IF(C68=КАЛЬКУЛЯТОР!$C$21,$E$2,$E$2-$E$3),IF(C68=КАЛЬКУЛЯТОР!$C$21,$I$9,$I$9-SUMIF($A$10:$A$369,\"<=\"&$E$3,$H$10:$H$369)),0,0)),\"\")","v":""},"",{"$error":"#VALUE!"},null,{"$error":"#VALUE!"},{"$error":"#VALUE!"},{"$error":"#VALUE!"},{"$error":"#VALUE!"},false]
[60,60,"",{"$f":"IF(A69<=$E$2,-PMT(C69/12,IF(C69=КАЛЬКУЛЯТОР!$C$21,$E$2,$E$2-$E$3),IF(C69=КАЛЬКУЛЯТОР!$C$21,$I$9,$I$9-SUMIF($A$10:$A$369,\"<=\"&$E$3,$H$10:$H$369)),0,0),\"\")","v":""},null,{"$f":"IFERROR(-IPMT(C69/12,B69,IF(C69=КАЛЬКУЛЯТОР!$C$21,$E$2,$E$2-$E$3),IF(C69=КАЛЬКУЛЯТОР!$C$21,$I$9,$I$9-SUMIF($A$10:$A$369,\"<=\"&$E$3,$H$10:$H$369)),0,0),\"\")","v":""},{"$f":"IFERROR(-IPMT((C69-$P$1)/12,B69,IF(C69=КАЛЬКУЛЯТОР!$C$21,$E$2,$E$2-$E$3),IF(C69=КАЛЬКУЛЯТОР!$C$21,$I$9,$I$9-SUMIF($A$10:$A$369,\"<=\"&$E$3,$H$10:$H$369)),0,0),\"\")","v":""},{"$f":"IFERROR((-PPMT(C69/12,B69,IF(C69=КАЛЬКУЛЯТОР!$C$21,$E$2,$E$2-$E$3),IF(C69=КАЛЬКУЛЯТОР!$C$21,$I$9,$I$9-SUMIF($A$10:$A$369,\"<=\"&$E$3,$H$10:$H$369)),0,0)),\"\")","v":""},"",{"$error":"#VALUE!"},null,{"$error":"#VALUE!"},{"$error":"#VALUE!"},{"$error":"#VALUE!"},{"$error":"#VALUE!"},false]
[61,61,"",{"$f":"IF(A70<=$E$2,-PMT(C70/12,IF(C70=КАЛЬКУЛЯТОР!$C$21,$E$2,$E$2-$E$3),IF(C70=КАЛЬКУЛЯТОР!$C$21,$I$9,$I$9-SUMIF($A$10:$A$369,\"<=\"&$E$3,$H$10:$H$369)),0,0)+E70,\"\")","v":""},{"$f":"IF($E$2>$A69,(I69+SUM(F70:F81))*($K$4+$K$5),0)","v":{"v":0,"d":"0.00"}},{"$f":"IFERROR(-IPMT(C70/12,B70,IF(C70=КАЛЬКУЛЯТОР!$C$21,$E$2,$E$2-$E$3),IF(C70=КАЛЬКУЛЯТОР!$C$21,$I$9,$I$9-SUMIF($A$10:$A$369,\"<=\"&$E$3,$H$10:$H$369)),0,0),\"\")","v":""},{"$f":"IFERROR(-IPMT((C70-$P$1)/12,B70,IF(C70=КАЛЬКУЛЯТОР!$C$21,$E$2,$E$2-$E$3),IF(C70=КАЛЬКУЛЯТОР!$C$21,$I$9,$I$9-SUMIF($A$10:$A$369,\"<=\"&$E$3,$H$10:$H$369)),0,0),\"\")","v":""},{"$f":"IFERROR((-PPMT(C70/12,B70,IF(C70=КАЛЬКУЛЯТОР!$C$21,$E$2,$E$2-$E$3),IF(C70=КАЛЬКУЛЯТОР!$C$21,$I$9,$I$9-SUMIF($A$10:$A$369,\"<=\"&$E$3,$H$10:$H$369)),0,0)),\"\")","v":""},"",{"$error":"#VALUE!"},{"$f":"PV($E$5/12,A70-1,0,-E70)","v":{"v":0,"d":"0.00"}},{"$error":"#VALUE!"},{"$error":"#VALUE!"},{"$error":"#VALUE!"},{"$error":"#VALUE!"},false]
[62,62,"",{"$f":"IF(A71<=$E$2,-PMT(C71/12,IF(C71=КАЛЬКУЛЯТОР!$C$21,$E$2,$E$2-$E$3),IF(C71=КАЛЬКУЛЯТОР!$C$21,$I$9,$I$9-SUMIF($A$10:$A$369,\"<=\"&$E$3,$H$10:$H$369)),0,0),\"\")","v":""},null,{"$f":"IFERROR(-IPMT(C71/12,B71,IF(C71=КАЛЬКУЛЯТОР!$C$21,$E$2,$E$2-$E$3),IF(C71=КАЛЬКУЛЯТОР!$C$21,$I$9,$I$9-SUMIF($A$10:$A$369,\"<=\"&$E$3,$H$10:$H$369)),0,0),\"\")","v":""},{"$f":"IFERROR(-IPMT((C71-$P$1)/12,B71,IF(C71=КАЛЬКУЛЯТОР!$C$21,$E$2,$E$2-$E$3),IF(C71=КАЛЬКУЛЯТОР!$C$21,$I$9,$I$9-SUMIF($A$10:$A$369,\"<=\"&$E$3,$H$10:$H$369)),0,0),\"\")","v":""},{"$f":"IFERROR((-PPMT(C71/12,B71,IF(C71=КАЛЬКУЛЯТОР!$C$21,$E$2,$E$2-$E$3),IF(C71=КАЛЬКУЛЯТОР!$C$21,$I$9,$I$9-SUMIF($A$10:$A$369,\"<=\"&$E$3,$H$10:$H$369)),0,0)),\"\")","v":""},"",{"$error":"#VALUE!"},null,{"$error":"#VALUE!"},{"$error":"#VALUE!"},{"$error":"#VALUE!"},{"$error":"#VALUE!"},false]
[63,63,"",{"$f":"IF(A72<=$E$2,-PMT(C72/12,IF(C72=КАЛЬКУЛЯТОР!$C$21,$E$2,$E$2-$E$3),IF(C72=КАЛЬКУЛЯТОР!$C$21,$I$9,$I$9-SUMIF($A$10:$A$369,\"<=\"&$E$3,$H$10:$H$369)),0,0),\"\")","v":""},null,{"$f":"IFERROR(-IPMT(C72/12,B72,IF(C72=КАЛЬКУЛЯТОР!$C$21,$E$2,$E$2-$E$3),IF(C72=КАЛЬКУЛЯТОР!$C$21,$I$9,$I$9-SUMIF($A$10:$A$369,\"<=\"&$E$3,$H$10:$H$369)),0,0),\"\")","v":""},{"$f":"IFERROR(-IPMT((C72-$P$1)/12,B72,IF(C72=КАЛЬКУЛЯТОР!$C$21,$E$2,$E$2-$E$3),IF(C72=КАЛЬКУЛЯТОР!$C$21,$I$9,$I$9-SUMIF($A$10:$A$369,\"<=\"&$E$3,$H$10:$H$369)),0,0),\"\")","v":""},{"$f":"IFERROR((-PPMT(C72/12,B72,IF(C72=КАЛЬКУЛЯТОР!$C$21,$E$2,$E$2-$E$3),IF(C72=КАЛЬКУЛЯТОР!$C$21,$I$9,$I$9-SUMIF($A$10:$A$369,\"<=\"&$E$3,$H$10:$H$369)),0,0)),\"\")","v":""},"",{"$error":"#VALUE!"},null,{"$error":"#VALUE!"},{"$error":"#VALUE!"},{"$error":"#VALUE!"},{"$error":"#VALUE!"},false]
[64,64,"",{"$f":"IF(A73<=$E$2,-PMT(C73/12,IF(C73=КАЛЬКУЛЯТОР!$C$21,$E$2,$E$2-$E$3),IF(C73=КАЛЬКУЛЯТОР!$C$21,$I$9,$I$9-SUMIF($A$10:$A$369,\"<=\"&$E$3,$H$10:$H$369)),0,0),\"\")","v":""},null,{"$f":"IFERROR(-IPMT(C73/12,B73,IF(C73=КАЛЬКУЛЯТОР!$C$21,$E$2,$E$2-$E$3),IF(C73=КАЛЬКУЛЯТОР!$C$21,$I$9,$I$9-SUMIF($A$10:$A$369,\"<=\"&$E$3,$H$10:$H$369)),0,0),\"\")","v":""},{"$f":"IFERROR(-IPMT((C73-$P$1)/12,B73,IF(C73=КАЛЬКУЛЯТОР!$C$21,$E$2,$E$2-$E$3),IF(C73=КАЛЬКУЛЯТОР!$C$21,$I$9,$I$9-SUMIF($A$10:$A$369,\"<=\"&$E$3,$H$10:$H$369)),0,0),\"\")","v":""},{"$f":"IFERROR((-PPMT(C73/12,B73,IF(C73=КАЛЬКУЛЯТОР!$C$21,$E$2,$E$2-$E$3),IF(C73=КАЛЬКУЛЯТОР!$C$21,$I$9,$I$9-SUMIF($A$10:$A$369,\"<=\"&$E$3,$H$10:$H$369)),0,0)),\"\")","v":""},"",{"$error":"#VALUE!"},null,{"$error":"#VALUE!"},{"$error":"#VALUE!"},{"$error":"#VALUE!"},{"$error":"#VALUE!"},false]
[65,65,"",{"$f":"IF(A74<=$E$2,-PMT(C74/12,IF(C74=КАЛЬКУЛЯТОР!$C$21,$E$2,$E$2-$E$3),IF(C74=КАЛЬКУЛЯТОР!$C$21,$I$9,$I$9-SUMIF($A$10:$A$369,\"<=\"&$E$3,$H$10:$H$369)),0,0),\"\")","v":""},null,{"$f":"IFERROR(-IPMT(C74/12,B74,IF(C74=КАЛЬКУЛЯТОР!$C$21,$E$2,$E$2-$E$3),IF(C74=КАЛЬКУЛЯТОР!$C$21,$I$9,$I$9-SUMIF($A$10:$A$369,\"<=\"&$E$3,$H$10:$H$369)),0,0),\"\")","v":""},{"$f":"IFERROR(-IPMT((C74-$P$1)/12,B74,IF(C74=КАЛЬКУЛЯТОР!$C$21,$E$2,$E$2-$E$3),IF(C74=КАЛЬКУЛЯТОР!$C$21,$I$9,$I$9-SUMIF($A$10:$A$369,\"<=\"&$E$3,$H$10:$H$369)),0,0),\"\")","v":""},{"$f":"IFERROR((-PPMT(C74/12,B74,IF(C74=КАЛЬКУЛЯТОР!$C$21,$E$2,$E$2-$E$3),IF(C74=КАЛЬКУЛЯТОР!$C$21,$I$9,$I$9-SUMIF($A$10:$A$369,\"<=\"&$E$3,$H$10:$H$369)),0,0)),\"\")","v":""},{"$f":"IFERROR(I73-H74,\"\")","v":""},{"$f":"PV($E$5/12,A74-1,0,-D74)","v":{"$error":"#VALUE!"}},null,{"$f":"PV($E$5/12,A74-1,0,-F74)","v":{"$error":"#VALUE!"}},{"$f":"PV($E$5/12,A74-1,0,-G74)","v":{"$error":"#VALUE!"}},{"$f":"PV($E$5/12,A74-1,0,-H74)","v":{"$error":"#VALUE!"}},{"$f":"O73-N74","v":{"$error":"#VALUE!"}},{"$f":"AND(A74<=$E$3)","v":false}]
[66,{"$f":"IF(P75=$P$10,B74+1,A75-$E$3)","v":66},{"$f":"IF(A75<=$E$2,$E$4,\"\")","v":""},{"$f":"IF(A75<=$E$2,-PMT(C75/12,IF(C75=КАЛЬКУЛЯТОР!$C$21,$E$2,$E$2-$E$3),IF(C75=КАЛЬКУЛЯТОР!$C$21,$I$9,$I$9-SUMIF($A$10:$A$369,\"<=\"&$E$3,$H$10:$H$369)),0,0),\"\")","v":""},null,{"$f":"IFERROR(-IPMT(C75/12,B75,IF(C75=КАЛЬКУЛЯТОР!$C$21,$E$2,$E$2-$E$3),IF(C75=КАЛЬКУЛЯТОР!$C$21,$I$9,$I$9-SUMIF($A$10:$A$369,\"<=\"&$E$3,$H$10:$H$369)),0,0),\"\")","v":""},{"$f":"IFERROR(-IPMT((C75-$P$1)/12,B75,IF(C75=КАЛЬКУЛЯТОР!$C$21,$E$2,$E$2-$E$3),IF(C75=КАЛЬКУЛЯТОР!$C$21,$I$9,$I$9-SUMIF($A$10:$A$369,\"<=\"&$E$3,$H$10:$H$369)),0,0),\"\")","v":""},{"$f":"IFERROR((-PPMT(C75/12,B75,IF(C75=КАЛЬКУЛЯТОР!$C$21,$E$2,$E$2-$E$3),IF(C75=КАЛЬКУЛЯТОР!$C$21,$I$9,$I$9-SUMIF($A$10:$A$369,\"<=\"&$E$3,$H$10:$H$369)),0,0)),\"\")","v":""},"",{"$error":"#VALUE!"},null,{"$error":"#VALUE!"},{"$error":"#VALUE!"},{"$error":"#VALUE!"},{"$error":"#VALUE!"},false]
[67,67,"",{"$f":"IF(A76<=$E$2,-PMT(C76/12,IF(C76=КАЛЬКУЛЯТОР!$C$21,$E$2,$E$2-$E$3),IF(C76=КАЛЬКУЛЯТОР!$C$21,$I$9,$I$9-SUMIF($A$10:$A$369,\"<=\"&$E$3,$H$10:$H$369)),0,0),\"\")","v":""},null,{"$f":"IFERROR(-IPMT(C76/12,B76,IF(C76=КАЛЬКУЛЯТОР!$C$21,$E$2,$E$2-$E$3),IF(C76=КАЛЬКУЛЯТОР!$C$21,$I$9,$I$9-SUMIF($A$10:$A$369,\"<=\"&$E$3,$H$10:$H$369)),0,0),\"\")","v":""},{"$f":"IFERROR(-IPMT((C76-$P$1)/12,B76,IF(C76=КАЛЬКУЛЯТОР!$C$21,$E$2,$E$2-$E$3),IF(C76=КАЛЬКУЛЯТОР!$C$21,$I$9,$I$9-SUMIF($A$10:$A$369,\"<=\"&$E$3,$H$10:$H$369)),0,0),\"\")","v":""},{"$f":"IFERROR((-PPMT(C76/12,B76,IF(C76=КАЛЬКУЛЯТОР!$C$21,$E$2,$E$2-$E$3),IF(C76=КАЛЬКУЛЯТОР!$C$21,$I$9,$I$9-SUMIF($A$10:$A$369,\"<=\"&$E$3,$H$10:$H$369)),0,0)),\"\")","v":""},"",{"$error":"#VALUE!"},null,{"$error":"#VALUE!"},{"$error":"#VALUE!"},{"$error":"#VALUE!"},{"$error":"#VALUE!"},false]
[68,68,"",{"$f":"IF(A77<=$E$2,-PMT(C77/12,IF(C77=КАЛЬКУЛЯТОР!$C$21,$E$2,$E$2-$E$3),IF(C77=КАЛЬКУЛЯТОР!$C$21,$I$9,$I$9-SUMIF($A$10:$A$369,\"<=\"&$E$3,$H$10:$H$369)),0,0),\"\")","v":""},null,{"$f":"IFERROR(-IPMT(C77/12,B77,IF(C77=КАЛЬКУЛЯТОР!$C$21,$E$2,$E$2-$E$3),IF(C77=КАЛЬКУЛЯТОР!$C$21,$I$9,$I$9-SUMIF($A$10:$A$369,\"<=\"&$E$3,$H$10:$H$369)),0,0),\"\")","v":""},{"$f":"IFERROR(-IPMT((C77-$P$1)/12,B77,IF(C77=КАЛЬКУЛЯТОР!$C$21,$E$2,$E$2-$E$3),IF(C77=КАЛЬКУЛЯТОР!$C$21,$I$9,$I$9-SUMIF($A$10:$A$369,\"<=\"&$E$3,$H$10:$H$369)),0,0),\"\")","v":""},{"$f":"IFERROR((-PPMT(C77/12,B77,IF(C77=КАЛЬКУЛЯТОР!$C$21,$E$2,$E$2-$E$3),IF(C77=КАЛЬКУЛЯТОР!$C$21,$I$9,$I$9-SUMIF($A$10:$A$369,\"<=\"&$E$3,$H$10:$H$369)),0,0)),\"\")","v":""},"",{"$error":"#VALUE!"},null,{"$error":"#VALUE!"},{"$error":"#VALUE!"},{"$error":"#VALUE!"},{"$error":"#VALUE!"},false]
[69,69,"",{"$f":"IF(A78<=$E$2,-PMT(C78/12,IF(C78=КАЛЬКУЛЯТОР!$C$21,$E$2,$E$2-$E$3),IF(C78=КАЛЬКУЛЯТОР!$C$21,$I$9,$I$9-SUMIF($A$10:$A$369,\"<=\"&$E$3,$H$10:$H$369)),0,0),\"\")","v":""},null,{"$f":"IFERROR(-IPMT(C78/12,B78,IF(C78=КАЛЬКУЛЯТОР!$C$21,$E$2,$E$2-$E$3),IF(C78=КАЛЬКУЛЯТОР!$C$21,$I$9,$I$9-SUMIF($A$10:$A$369,\"<=\"&$E$3,$H$10:$H$369)),0,0),\"\")","v":""},{"$f":"IFERROR(-IPMT((C78-$P$1)/12,B78,IF(C78=КАЛЬКУЛЯТОР!$C$21,$E$2,$E$2-$E$3),IF(C78=КАЛЬКУЛЯТОР!$C$21,$I$9,$I$9-SUMIF($A$10:$A$369,\"<=\"&$E$3,$H$10:$H$369)),0,0),\"\")","v":""},{"$f":"IFERROR((-PPMT(C78/12,B78,IF(C78=КАЛЬКУЛЯТОР!$C$21,$E$2,$E$2-$E$3),IF(C78=КАЛЬКУЛЯТОР!$C$21,$I$9,$I$9-SUMIF($A$10:$A$369,\"<=\"&$E$3,$H$10:$H$369)),0,0)),\"\")","v":""},"",{"$error":"#VALUE!"},null,{"$error":"#VALUE!"},{"$error":"#VALUE!"},{"$error":"#VALUE!"},{"$error":"#VALUE!"},false]
[70,70,"",{"$f":"IF(A79<=$E$2,-PMT(C79/12,IF(C79=КАЛЬКУЛЯТОР!$C$21,$E$2,$E$2-$E$3),IF(C79=КАЛЬКУЛЯТОР!$C$21,$I$9,$I$9-SUMIF($A$10:$A$369,\"<=\"&$E$3,$H$10:$H$369)),0,0),\"\")","v":""},null,{"$f":"IFERROR(-IPMT(C79/12,B79,IF(C79=КАЛЬКУЛЯТОР!$C$21,$E$2,$E$2-$E$3),IF(C79=КАЛЬКУЛЯТОР!$C$21,$I$9,$I$9-SUMIF($A$10:$A$369,\"<=\"&$E$3,$H$10:$H$369)),0,0),\"\")","v":""},{"$f":"IFERROR(-IPMT((C79-$P$1)/12,B79,IF(C79=КАЛЬКУЛЯТОР!$C$21,$E$2,$E$2-$E$3),IF(C79=КАЛЬКУЛЯТОР!$C$21,$I$9,$I$9-SUMIF($A$10:$A$369,\"<=\"&$E$3,$H$10:$H$369)),0,0),\"\")","v":""},{"$f":"IFERROR((-PPMT(C79/12,B79,IF(C79=КАЛЬКУЛЯТОР!$C$21,$E$2,$E$2-$E$3),IF(C79=КАЛЬКУЛЯТОР!$C$21,$I$9,$I$9-SUMIF($A$10:$A$369,\"<=\"&$E$3,$H$10:$H$369)),0,0)),\"\")","v":""},"",{"$error":"#VALUE!"},null,{"$error":"#VALUE!"},{"$error":"#VALUE!"},{"$error":"#VALUE!"},{"$error":"#VALUE!"},false]
[71,71,"",{"$f":"IF(A80<=$E$2,-PMT(C80/12,IF(C80=КАЛЬКУЛЯТОР!$C$21,$E$2,$E$2-$E$3),IF(C80=КАЛЬКУЛЯТОР!$C$21,$I$9,$I$9-SUMIF($A$10:$A$369,\"<=\"&$E$3,$H$10:$H$369)),0,0),\"\")","v":""},null,{"$f":"IFERROR(-IPMT(C80/12,B80,IF(C80=КАЛЬКУЛЯТОР!$C$21,$E$2,$E$2-$E$3),IF(C80=КАЛЬКУЛЯТОР!$C$21,$I$9,$I$9-SUMIF($A$10:$A$369,\"<=\"&$E$3,$H$10:$H$369)),0,0),\"\")","v":""},{"$f":"IFERROR(-IPMT((C80-$P$1)/12,B80,IF(C80=КАЛЬКУЛЯТОР!$C$21,$E$2,$E$2-$E$3),IF(C80=КАЛЬКУЛЯТОР!$C$21,$I$9,$I$9-SUMIF($A$10:$A$369,\"<=\"&$E$3,$H$10:$H$369)),0,0),\"\")","v":""},{"$f":"IFERROR((-PPMT(C80/12,B80,IF(C80=КАЛЬКУЛЯТОР!$C$21,$E$2,$E$2-$E$3),IF(C80=КАЛЬКУЛЯТОР!$C$21,$I$9,$I$9-SUMIF($A$10:$A$369,\"<=\"&$E$3,$H$10:$H$369)),0,0)),\"\")","v":""},"",{"$error":"#VALUE!"},null,{"$error":"#VALUE!"},{"$error":"#VALUE!"},{"$error":"#VALUE!"},{"$error":"#VALUE!"},false]
[72,72,"",{"$f":"IF(A81<=$E$2,-PMT(C81/12,IF(C81=КАЛЬКУЛЯТОР!$C$21,$E$2,$E$2-$E$3),IF(C81=КАЛЬКУЛЯТОР!$C$21,$I$9,$I$9-SUMIF($A$10:$A$369,\"<=\"&$E$3,$H$10:$H$369)),0,0),\"\")","v":""},null,{"$f":"IFERROR(-IPMT(C81/12,B81,IF(C81=КАЛЬКУЛЯТОР!$C$21,$E$2,$E$2-$E$3),IF(C81=КАЛЬКУЛЯТОР!$C$21,$I$9,$I$9-SUMIF($A$10:$A$369,\"<=\"&$E$3,$H$10:$H$369)),0,0),\"\")","v":""},{"$f":"IFERROR(-IPMT((C81-$P$1)/12,B81,IF(C81=КАЛЬКУЛЯТОР!$C$21,$E$2,$E$2-$E$3),IF(C81=КАЛЬКУЛЯТОР!$C$21,$I$9,$I$9-SUMIF($A$10:$A$369,\"<=\"&$E$3,$H$10:$H$369)),0,0),\"\")","v":""},{"$f":"IFERROR((-PPMT(C81/12,B81,IF(C81=КАЛЬКУЛЯТОР!$C$21,$E$2,$E$2-$E$3),IF(C81=КАЛЬКУЛЯТОР!$C$21,$I$9,$I$9-SUMIF($A$10:$A$369,\"<=\"&$E$3,$H$10:$H$369)),0,0)),\"\")","v":""},"",{"$error":"#VALUE!"},null,{"$error":"#VALUE!"},{"$error":"#VALUE!"},{"$error":"#VALUE!"},{"$error":"#VALUE!"},false]
[73,73,"",{"$f":"IF(A82<=$E$2,-PMT(C82/12,IF(C82=КАЛЬКУЛЯТОР!$C$21,$E$2,$E$2-$E$3),IF(C82=КАЛЬКУЛЯТОР!$C$21,$I$9,$I$9-SUMIF($A$10:$A$369,\"<=\"&$E$3,$H$10:$H$369)),0,0)+E82,\"\")","v":""},{"$f":"IF($E$2>$A81,(I81+SUM(F82:F93))*($K$4+$K$5),0)","v":{"v":0,"d":"0.00"}},{"$f":"IFERROR(-IPMT(C82/12,B82,IF(C82=КАЛЬКУЛЯТОР!$C$21,$E$2,$E$2-$E$3),IF(C82=КАЛЬКУЛЯТОР!$C$21,$I$9,$I$9-SUMIF($A$10:$A$369,\"<=\"&$E$3,$H$10:$H$369)),0,0),\"\")","v":""},{"$f":"IFERROR(-IPMT((C82-$P$1)/12,B82,IF(C82=КАЛЬКУЛЯТОР!$C$21,$E$2,$E$2-$E$3),IF(C82=КАЛЬКУЛЯТОР!$C$21,$I$9,$I$9-SUMIF($A$10:$A$369,\"<=\"&$E$3,$H$10:$H$369)),0,0),\"\")","v":""},{"$f":"IFERROR((-PPMT(C82/12,B82,IF(C82=КАЛЬКУЛЯТОР!$C$21,$E$2,$E$2-$E$3),IF(C82=КАЛЬКУЛЯТОР!$C$21,$I$9,$I$9-SUMIF($A$10:$A$369,\"<=\"&$E$3,$H$10:$H$369)),0,0)),\"\")","v":""},"",{"$error":"#VALUE!"},{"$f":"PV($E$5/12,A82-1,0,-E82)","v":{"v":0,"d":"0.00"}},{"$error":"#VALUE!"},{"$error":"#VALUE!"},{"$error":"#VALUE!"},{"$error":"#VALUE!"},false]
[74,74,"",{"$f":"IF(A83<=$E$2,-PMT(C83/12,IF(C83=КАЛЬКУЛЯТОР!$C$21,$E$2,$E$2-$E$3),IF(C83=КАЛЬКУЛЯТОР!$C$21,$I$9,$I$9-SUMIF($A$10:$A$369,\"<=\"&$E$3,$H$10:$H$369)),0,0),\"\")","v":""},null,{"$f":"IFERROR(-IPMT(C83/12,B83,IF(C83=КАЛЬКУЛЯТОР!$C$21,$E$2,$E$2-$E$3),IF(C83=КАЛЬКУЛЯТОР!$C$21,$I$9,$I$9-SUMIF($A$10:$A$369,\"<=\"&$E$3,$H$10:$H$369)),0,0),\"\")","v":""},{"$f":"IFERROR(-IPMT((C83-$P$1)/12,B83,IF(C83=КАЛЬКУЛЯТОР!$C$21,$E$2,$E$2-$E$3),IF(C83=КАЛЬКУЛЯТОР!$C$21,$I$9,$I$9-SUMIF($A$10:$A$369,\"<=\"&$E$3,$H$10:$H$369)),0,0),\"\")","v":""},{"$f":"IFERROR((-PPMT(C83/12,B83,IF(C83=КАЛЬКУЛЯТОР!$C$21,$E$2,$E$2-$E$3),IF(C83=КАЛЬКУЛЯТОР!$C$21,$I$9,$I$9-SUMIF($A$10:$A$369,\"<=\"&$E$3,$H$10:$H$369)),0,0)),\"\")","v":""},"",{"$error":"#VALUE!"},null,{"$error":"#VALUE!"},{"$error":"#VALUE!"},{"$error":"#VALUE!"},{"$error":"#VALUE!"},false]
[75,75,"",{"$f":"IF(A84<=$E$2,-PMT(C84/12,IF(C84=КАЛЬКУЛЯТОР!$C$21,$E$2,$E$2-$E$3),IF(C84=КАЛЬКУЛЯТОР!$C$21,$I$9,$I$9-SUMIF($A$10:$A$369,\"<=\"&$E$3,$H$10:$H$369)),0,0),\"\")","v":""},null,{"$f":"IFERROR(-IPMT(C84/12,B84,IF(C84=КАЛЬКУЛЯТОР!$C$21,$E$2,$E$2-$E$3),IF(C84=КАЛЬКУЛЯТОР!$C$21,$I$9,$I$9-SUMIF($A$10:$A$369,\"<=\"&$E$3,$H$10:$H$369)),0,0),\"\")","v":""},{"$f":"IFERROR(-IPMT((C84-$P$1)/12,B84,IF(C84=КАЛЬКУЛЯТОР!$C$21,$E$2,$E$2-$E$3),IF(C84=КАЛЬКУЛЯТОР!$C$21,$I$9,$I$9-SUMIF($A$10:$A$369,\"<=\"&$E$3,$H$10:$H$369)),0,0),\"\")","v":""},{"$f":"IFERROR((-PPMT(C84/12,B84,IF(C84=КАЛЬКУЛЯТОР!$C$21,$E$2,$E$2-$E$3),IF(C84=КАЛЬКУЛЯТОР!$C$21,$I$9,$I$9-SUMIF($A$10:$A$369,\"<=\"&$E$3,$H$10:$H$369)),0,0)),\"\")","v":""},"",{"$error":"#VALUE!"},null,{"$error":"#VALUE!"},{"$error":"#VALUE!"},{"$error":"#VALUE!"},{"$error":"#VALUE!"},false]
[76,76,"",{"$f":"IF(A85<=$E$2,-PMT(C85/12,IF(C85=КАЛЬКУЛЯТОР!$C$21,$E$2,$E$2-$E$3),IF(C85=КАЛЬКУЛЯТОР!$C$21,$I$9,$I$9-SUMIF($A$10:$A$369,\"<=\"&$E$3,$H$10:$H$369)),0,0),\"\")","v":""},null,{"$f":"IFERROR(-IPMT(C85/12,B85,IF(C85=КАЛЬКУЛЯТОР!$C$21,$E$2,$E$2-$E$3),IF(C85=КАЛЬКУЛЯТОР!$C$21,$I$9,$I$9-SUMIF($A$10:$A$369,\"<=\"&$E$3,$H$10:$H$369)),0,0),\"\")","v":""},{"$f":"IFERROR(-IPMT((C85-$P$1)/12,B85,IF(C85=КАЛЬКУЛЯТОР!$C$21,$E$2,$E$2-$E$3),IF(C85=КАЛЬКУЛЯТОР!$C$21,$I$9,$I$9-SUMIF($A$10:$A$369,\"<=\"&$E$3,$H$10:$H$369)),0,0),\"\")","v":""},{"$f":"IFERROR((-PPMT(C85/12,B85,IF(C85=КАЛЬКУЛЯТОР!$C$21,$E$2,$E$2-$E$3),IF(C85=КАЛЬКУЛЯТОР!$C$21,$I$9,$I$9-SUMIF($A$10:$A$369,\"<=\"&$E$3,$H$10:$H$369)),0,0)),\"\")","v":""},"",{"$error":"#VALUE!"},null,{"$error":"#VALUE!"},{"$error":"#VALUE!"},{"$error":"#VALUE!"},{"$error":"#VALUE!"},false]
[77,77,"",{"$f":"IF(A86<=$E$2,-PMT(C86/12,IF(C86=КАЛЬКУЛЯТОР!$C$21,$E$2,$E$2-$E$3),IF(C86=КАЛЬКУЛЯТОР!$C$21,$I$9,$I$9-SUMIF($A$10:$A$369,\"<=\"&$E$3,$H$10:$H$369)),0,0),\"\")","v":""},null,{"$f":"IFERROR(-IPMT(C86/12,B86,IF(C86=КАЛЬКУЛЯТОР!$C$21,$E$2,$E$2-$E$3),IF(C86=КАЛЬКУЛЯТОР!$C$21,$I$9,$I$9-SUMIF($A$10:$A$369,\"<=\"&$E$3,$H$10:$H$369)),0,0),\"\")","v":""},{"$f":"IFERROR(-IPMT((C86-$P$1)/12,B86,IF(C86=КАЛЬКУЛЯТОР!$C$21,$E$2,$E$2-$E$3),IF(C86=КАЛЬКУЛЯТОР!$C$21,$I$9,$I$9-SUMIF($A$10:$A$369,\"<=\"&$E$3,$H$10:$H$369)),0,0),\"\")","v":""},{"$f":"IFERROR((-PPMT(C86/12,B86,IF(C86=КАЛЬКУЛЯТОР!$C$21,$E$2,$E$2-$E$3),IF(C86=КАЛЬКУЛЯТОР!$C$21,$I$9,$I$9-SUMIF($A$10:$A$369,\"<=\"&$E$3,$H$10:$H$369)),0,0)),\"\")","v":""},"",{"$error":"#VALUE!"},null,{"$error":"#VALUE!"},{"$error":"#VALUE!"},{"$error":"#VALUE!"},{"$error":"#VALUE!"},false]
[78,78,"",{"$f":"IF(A87<=$E$2,-PMT(C87/12,IF(C87=КАЛЬКУЛЯТОР!$C$21,$E$2,$E$2-$E$3),IF(C87=КАЛЬКУЛЯТОР!$C$21,$I$9,$I$9-SUMIF($A$10:$A$369,\"<=\"&$E$3,$H$10:$H$369)),0,0),\"\")","v":""},null,{"$f":"IFERROR(-IPMT(C87/12,B87,IF(C87=КАЛЬКУЛЯТОР!$C$21,$E$2,$E$2-$E$3),IF(C87=КАЛЬКУЛЯТОР!$C$21,$I$9,$I$9-SUMIF($A$10:$A$369,\"<=\"&$E$3,$H$10:$H$369)),0,0),\"\")","v":""},{"$f":"IFERROR(-IPMT((C87-$P$1)/12,B87,IF(C87=КАЛЬКУЛЯТОР!$C$21,$E$2,$E$2-$E$3),IF(C87=КАЛЬКУЛЯТОР!$C$21,$I$9,$I$9-SUMIF($A$10:$A$369,\"<=\"&$E$3,$H$10:$H$369)),0,0),\"\")","v":""},{"$f":"IFERROR((-PPMT(C87/12,B87,IF(C87=КАЛЬКУЛЯТОР!$C$21,$E$2,$E$2-$E$3),IF(C87=КАЛЬКУЛЯТОР!$C$21,$I$9,$I$9-SUMIF($A$10:$A$369,\"<=\"&$E$3,$H$10:$H$369)),0,0)),\"\")","v":""},"",{"$error":"#VALUE!"},null,{"$error":"#VALUE!"},{"$error":"#VALUE!"},{"$error":"#VALUE!"},{"$error":"#VALUE!"},false]
[79,79,"",{"$f":"IF(A88<=$E$2,-PMT(C88/12,IF(C88=КАЛЬКУЛЯТОР!$C$21,$E$2,$E$2-$E$3),IF(C88=КАЛЬКУЛЯТОР!$C$21,$I$9,$I$9-SUMIF($A$10:$A$369,\"<=\"&$E$3,$H$10:$H$369)),0,0),\"\")","v":""},null,{"$f":"IFERROR(-IPMT(C88/12,B88,IF(C88=КАЛЬКУЛЯТОР!$C$21,$E$2,$E$2-$E$3),IF(C88=КАЛЬКУЛЯТОР!$C$21,$I$9,$I$9-SUMIF($A$10:$A$369,\"<=\"&$E$3,$H$10:$H$369)),0,0),\"\")","v":""},{"$f":"IFERROR(-IPMT((C88-$P$1)/12,B88,IF(C88=КАЛЬКУЛЯТОР!$C$21,$E$2,$E$2-$E$3),IF(C88=КАЛЬКУЛЯТОР!$C$21,$I$9,$I$9-SUMIF($A$10:$A$369,\"<=\"&$E$3,$H$10:$H$369)),0,0),\"\")","v":""},{"$f":"IFERROR((-PPMT(C88/12,B88,IF(C88=КАЛЬКУЛЯТОР!$C$21,$E$2,$E$2-$E$3),IF(C88=КАЛЬКУЛЯТОР!$C$21,$I$9,$I$9-SUMIF($A$10:$A$369,\"<=\"&$E$3,$H$10:$H$369)),0,0)),\"\")","v":""},"",{"$error":"#VALUE!"},null,{"$error":"#VALUE!"},{"$error":"#VALUE!"},{"$error":"#VALUE!"},{"$error":"#VALUE!"},false]
[80,80,"",{"$f":"IF(A89<=$E$2,-PMT(C89/12,IF(C89=КАЛЬКУЛЯТОР!$C$21,$E$2,$E$2-$E$3),IF(C89=КАЛЬКУЛЯТОР!$C$21,$I$9,$I$9-SUMIF($A$10:$A$369,\"<=\"&$E$3,$H$10:$H$369)),0,0),\"\")","v":""},null,{"$f":"IFERROR(-IPMT(C89/12,B89,IF(C89=КАЛЬКУЛЯТОР!$C$21,$E$2,$E$2-$E$3),IF(C89=КАЛЬКУЛЯТОР!$C$21,$I$9,$I$9-SUMIF($A$10:$A$369,\"<=\"&$E$3,$H$10:$H$369)),0,0),\"\")","v":""},{"$f":"IFERROR(-IPMT((C89-$P$1)/12,B89,IF(C89=КАЛЬКУЛЯТОР!$C$21,$E$2,$E$2-$E$3),IF(C89=КАЛЬКУЛЯТОР!$C$21,$I$9,$I$9-SUMIF($A$10:$A$369,\"<=\"&$E$3,$H$10:$H$369)),0,0),\"\")","v":""},{"$f":"IFERROR((-PPMT(C89/12,B89,IF(C89=КАЛЬКУЛЯТОР!$C$21,$E$2,$E$2-$E$3),IF(C89=КАЛЬКУЛЯТОР!$C$21,$I$9,$I$9-SUMIF($A$10:$A$369,\"<=\"&$E$3,$H$10:$H$369)),0,0)),\"\")","v":""},"",{"$error":"#VALUE!"},null,{"$error":"#VALUE!"},{"$error":"#VALUE!"},{"$error":"#VALUE!"},{"$error":"#VALUE!"},false]
[81,81,"",{"$f":"IF(A90<=$E$2,-PMT(C90/12,IF(C90=КАЛЬКУЛЯТОР!$C$21,$E$2,$E$2-$E$3),IF(C90=КАЛЬКУЛЯТОР!$C$21,$I$9,$I$9-SUMIF($A$10:$A$369,\"<=\"&$E$3,$H$10:$H$369)),0,0),\"\")","v":""},null,{"$f":"IFERROR(-IPMT(C90/12,B90,IF(C90=КАЛЬКУЛЯТОР!$C$21,$E$2,$E$2-$E$3),IF(C90=КАЛЬКУЛЯТОР!$C$21,$I$9,$I$9-SUMIF($A$10:$A$369,\"<=\"&$E$3,$H$10:$H$369)),0,0),\"\")","v":""},{"$f":"IFERROR(-IPMT((C90-$P$1)/12,B90,IF(C90=КАЛЬКУЛЯТОР!$C$21,$E$2,$E$2-$E$3),IF(C90=КАЛЬКУЛЯТОР!$C$21,$I$9,$I$9-SUMIF($A$10:$A$369,\"<=\"&$E$3,$H$10:$H$369)),0,0),\"\")","v":""},{"$f":"IFERROR((-PPMT(C90/12,B90,IF(C90=КАЛЬКУЛЯТОР!$C$21,$E$2,$E$2-$E$3),IF(C90=КАЛЬКУЛЯТОР!$C$21,$I$9,$I$9-SUMIF($A$10:$A$369,\"<=\"&$E$3,$H$10:$H$369)),0,0)),\"\")","v":""},"",{"$error":"#VALUE!"},null,{"$error":"#VALUE!"},{"$error":"#VALUE!"},{"$error":"#VALUE!"},{"$error":"#VALUE!"},false]
[82,82,"",{"$f":"IF(A91<=$E$2,-PMT(C91/12,IF(C91=КАЛЬКУЛЯТОР!$C$21,$E$2,$E$2-$E$3),IF(C91=КАЛЬКУЛЯТОР!$C$21,$I$9,$I$9-SUMIF($A$10:$A$369,\"<=\"&$E$3,$H$10:$H$369)),0,0),\"\")","v":""},null,{"$f":"IFERROR(-IPMT(C91/12,B91,IF(C91=КАЛЬКУЛЯТОР!$C$21,$E$2,$E$2-$E$3),IF(C91=КАЛЬКУЛЯТОР!$C$21,$I$9,$I$9-SUMIF($A$10:$A$369,\"<=\"&$E$3,$H$10:$H$369)),0,0),\"\")","v":""},{"$f":"IFERROR(-IPMT((C91-$P$1)/12,B91,IF(C91=КАЛЬКУЛЯТОР!$C$21,$E$2,$E$2-$E$3),IF(C91=КАЛЬКУЛЯТОР!$C$21,$I$9,$I$9-SUMIF($A$10:$A$369,\"<=\"&$E$3,$H$10:$H$369)),0,0),\"\")","v":""},{"$f":"IFERROR((-PPMT(C91/12,B91,IF(C91=КАЛЬКУЛЯТОР!$C$21,$E$2,$E$2-$E$3),IF(C91=КАЛЬКУЛЯТОР!$C$21,$I$9,$I$9-SUMIF($A$10:$A$369,\"<=\"&$E$3,$H$10:$H$369)),0,0)),\"\")","v":""},"",{"$error":"#VALUE!"},null,{"$error":"#VALUE!"},{"$error":"#VALUE!"},{"$error":"#VALUE!"},{"$error":"#VALUE!"},false]
[83,83,"",{"$f":"IF(A92<=$E$2,-PMT(C92/12,IF(C92=КАЛЬКУЛЯТОР!$C$21,$E$2,$E$2-$E$3),IF(C92=КАЛЬКУЛЯТОР!$C$21,$I$9,$I$9-SUMIF($A$10:$A$369,\"<=\"&$E$3,$H$10:$H$369)),0,0),\"\")","v":""},null,{"$f":"IFERROR(-IPMT(C92/12,B92,IF(C92=КАЛЬКУЛЯТОР!$C$21,$E$2,$E$2-$E$3),IF(C92=КАЛЬКУЛЯТОР!$C$21,$I$9,$I$9-SUMIF($A$10:$A$369,\"<=\"&$E$3,$H$10:$H$369)),0,0),\"\")","v":""},{"$f":"IFERROR(-IPMT((C92-$P$1)/12,B92,IF(C92=КАЛЬКУЛЯТОР!$C$21,$E$2,$E$2-$E$3),IF(C92=КАЛЬКУЛЯТОР!$C$21,$I$9,$I$9-SUMIF($A$10:$A$369,\"<=\"&$E$3,$H$10:$H$369)),0,0),\"\")","v":""},{"$f":"IFERROR((-PPMT(C92/12,B92,IF(C92=КАЛЬКУЛЯТОР!$C$21,$E$2,$E$2-$E$3),IF(C92=КАЛЬКУЛЯТОР!$C$21,$I$9,$I$9-SUMIF($A$10:$A$369,\"<=\"&$E$3,$H$10:$H$369)),0,0)),\"\")","v":""},"",{"$error":"#VALUE!"},null,{"$error":"#VALUE!"},{"$error":"#VALUE!"},{"$error":"#VALUE!"},{"$error":"#VALUE!"},false]
[84,84,"",{"$f":"IF(A93<=$E$2,-PMT(C93/12,IF(C93=КАЛЬКУЛЯТОР!$C$21,$E$2,$E$2-$E$3),IF(C93=КАЛЬКУЛЯТОР!$C$21,$I$9,$I$9-SUMIF($A$10:$A$369,\"<=\"&$E$3,$H$10:$H$369)),0,0),\"\")","v":""},null,{"$f":"IFERROR(-IPMT(C93/12,B93,IF(C93=КАЛЬКУЛЯТОР!$C$21,$E$2,$E$2-$E$3),IF(C93=КАЛЬКУЛЯТОР!$C$21,$I$9,$I$9-SUMIF($A$10:$A$369,\"<=\"&$E$3,$H$10:$H$369)),0,0),\"\")","v":""},{"$f":"IFERROR(-IPMT((C93-$P$1)/12,B93,IF(C93=КАЛЬКУЛЯТОР!$C$21,$E$2,$E$2-$E$3),IF(C93=КАЛЬКУЛЯТОР!$C$21,$I$9,$I$9-SUMIF($A$10:$A$369,\"<=\"&$E$3,$H$10:$H$369)),0,0),\"\")","v":""},{"$f":"IFERROR((-PPMT(C93/12,B93,IF(C93=КАЛЬКУЛЯТОР!$C$21,$E$2,$E$2-$E$3),IF(C93=КАЛЬКУЛЯТОР!$C$21,$I$9,$I$9-SUMIF($A$10:$A$369,\"<=\"&$E$3,$H$10:$H$369)),0,0)),\"\")","v":""},"",{"$error":"#VALUE!"},null,{"$error":"#VALUE!"},{"$error":"#VALUE!"},{"$error":"#VALUE!"},{"$error":"#VALUE!"},false]
[85,85,"",{"$f":"IF(A94<=$E$2,-PMT(C94/12,IF(C94=КАЛЬКУЛЯТОР!$C$21,$E$2,$E$2-$E$3),IF(C94=КАЛЬКУЛЯТОР!$C$21,$I$9,$I$9-SUMIF($A$10:$A$369,\"<=\"&$E$3,$H$10:$H$369)),0,0)+E94,\"\")","v":""},{"$f":"IF($E$2>$A93,(I93+SUM(F94:F105))*($K$4+$K$5),0)","v":{"v":0,"d":"0.00"}},{"$f":"IFERROR(-IPMT(C94/12,B94,IF(C94=КАЛЬКУЛЯТОР!$C$21,$E$2,$E$2-$E$3),IF(C94=КАЛЬКУЛЯТОР!$C$21,$I$9,$I$9-SUMIF($A$10:$A$369,\"<=\"&$E$3,$H$10:$H$369)),0,0),\"\")","v":""},{"$f":"IFERROR(-IPMT((C94-$P$1)/12,B94,IF(C94=КАЛЬКУЛЯТОР!$C$21,$E$2,$E$2-$E$3),IF(C94=КАЛЬКУЛЯТОР!$C$21,$I$9,$I$9-SUMIF($A$10:$A$369,\"<=\"&$E$3,$H$10:$H$369)),0,0),\"\")","v":""},{"$f":"IFERROR((-PPMT(C94/12,B94,IF(C94=КАЛЬКУЛЯТОР!$C$21,$E$2,$E$2-$E$3),IF(C94=КАЛЬКУЛЯТОР!$C$21,$I$9,$I$9-SUMIF($A$10:$A$369,\"<=\"&$E$3,$H$10:$H$369)),0,0)),\"\")","v":""},"",{"$error":"#VALUE!"},{"$f":"PV($E$5/12,A94-1,0,-E94)","v":{"v":0,"d":"0.00"}},{"$error":"#VALUE!"},{"$error":"#VALUE!"},{"$error":"#VALUE!"},{"$error":"#VALUE!"},false]
[86,86,"",{"$f":"IF(A95<=$E$2,-PMT(C95/12,IF(C95=КАЛЬКУЛЯТОР!$C$21,$E$2,$E$2-$E$3),IF(C95=КАЛЬКУЛЯТОР!$C$21,$I$9,$I$9-SUMIF($A$10:$A$369,\"<=\"&$E$3,$H$10:$H$369)),0,0),\"\")","v":""},null,{"$f":"IFERROR(-IPMT(C95/12,B95,IF(C95=КАЛЬКУЛЯТОР!$C$21,$E$2,$E$2-$E$3),IF(C95=КАЛЬКУЛЯТОР!$C$21,$I$9,$I$9-SUMIF($A$10:$A$369,\"<=\"&$E$3,$H$10:$H$369)),0,0),\"\")","v":""},{"$f":"IFERROR(-IPMT((C95-$P$1)/12,B95,IF(C95=КАЛЬКУЛЯТОР!$C$21,$E$2,$E$2-$E$3),IF(C95=КАЛЬКУЛЯТОР!$C$21,$I$9,$I$9-SUMIF($A$10:$A$369,\"<=\"&$E$3,$H$10:$H$369)),0,0),\"\")","v":""},{"$f":"IFERROR((-PPMT(C95/12,B95,IF(C95=КАЛЬКУЛЯТОР!$C$21,$E$2,$E$2-$E$3),IF(C95=КАЛЬКУЛЯТОР!$C$21,$I$9,$I$9-SUMIF($A$10:$A$369,\"<=\"&$E$3,$H$10:$H$369)),0,0)),\"\")","v":""},"",{"$error":"#VALUE!"},null,{"$error":"#VALUE!"},{"$error":"#VALUE!"},{"$error":"#VALUE!"},{"$error":"#VALUE!"},false]
[87,87,"",{"$f":"IF(A96<=$E$2,-PMT(C96/12,IF(C96=КАЛЬКУЛЯТОР!$C$21,$E$2,$E$2-$E$3),IF(C96=КАЛЬКУЛЯТОР!$C$21,$I$9,$I$9-SUMIF($A$10:$A$369,\"<=\"&$E$3,$H$10:$H$369)),0,0),\"\")","v":""},null,{"$f":"IFERROR(-IPMT(C96/12,B96,IF(C96=КАЛЬКУЛЯТОР!$C$21,$E$2,$E$2-$E$3),IF(C96=КАЛЬКУЛЯТОР!$C$21,$I$9,$I$9-SUMIF($A$10:$A$369,\"<=\"&$E$3,$H$10:$H$369)),0,0),\"\")","v":""},{"$f":"IFERROR(-IPMT((C96-$P$1)/12,B96,IF(C96=КАЛЬКУЛЯТОР!$C$21,$E$2,$E$2-$E$3),IF(C96=КАЛЬКУЛЯТОР!$C$21,$I$9,$I$9-SUMIF($A$10:$A$369,\"<=\"&$E$3,$H$10:$H$369)),0,0),\"\")","v":""},{"$f":"IFERROR((-PPMT(C96/12,B96,IF(C96=КАЛЬКУЛЯТОР!$C$21,$E$2,$E$2-$E$3),IF(C96=КАЛЬКУЛЯТОР!$C$21,$I$9,$I$9-SUMIF($A$10:$A$369,\"<=\"&$E$3,$H$10:$H$369)),0,0)),\"\")","v":""},"",{"$error":"#VALUE!"},null,{"$error":"#VALUE!"},{"$error":"#VALUE!"},{"$error":"#VALUE!"},{"$error":"#VALUE!"},false]
[88,88,"",{"$f":"IF(A97<=$E$2,-PMT(C97/12,IF(C97=КАЛЬКУЛЯТОР!$C$21,$E$2,$E$2-$E$3),IF(C97=КАЛЬКУЛЯТОР!$C$21,$I$9,$I$9-SUMIF($A$10:$A$369,\"<=\"&$E$3,$H$10:$H$369)),0,0),\"\")","v":""},null,{"$f":"IFERROR(-IPMT(C97/12,B97,IF(C97=КАЛЬКУЛЯТОР!$C$21,$E$2,$E$2-$E$3),IF(C97=КАЛЬКУЛЯТОР!$C$21,$I$9,$I$9-SUMIF($A$10:$A$369,\"<=\"&$E$3,$H$10:$H$369)),0,0),\"\")","v":""},{"$f":"IFERROR(-IPMT((C97-$P$1)/12,B97,IF(C97=КАЛЬКУЛЯТОР!$C$21,$E$2,$E$2-$E$3),IF(C97=КАЛЬКУЛЯТОР!$C$21,$I$9,$I$9-SUMIF($A$10:$A$369,\"<=\"&$E$3,$H$10:$H$369)),0,0),\"\")","v":""},{"$f":"IFERROR((-PPMT(C97/12,B97,IF(C97=КАЛЬКУЛЯТОР!$C$21,$E$2,$E$2-$E$3),IF(C97=КАЛЬКУЛЯТОР!$C$21,$I$9,$I$9-SUMIF($A$10:$A$369,\"<=\"&$E$3,$H$10:$H$369)),0,0)),\"\")","v":""},"",{"$error":"#VALUE!"},null,{"$error":"#VALUE!"},{"$error":"#VALUE!"},{"$error":"#VALUE!"},{"$error":"#VALUE!"},false]
[89,89,"",{"$f":"IF(A98<=$E$2,-PMT(C98/12,IF(C98=КАЛЬКУЛЯТОР!$C$21,$E$2,$E$2-$E$3),IF(C98=КАЛЬКУЛЯТОР!$C$21,$I$9,$I$9-SUMIF($A$10:$A$369,\"<=\"&$E$3,$H$10:$H$369)),0,0),\"\")","v":""},null,{"$f":"IFERROR(-IPMT(C98/12,B98,IF(C98=КАЛЬКУЛЯТОР!$C$21,$E$2,$E$2-$E$3),IF(C98=КАЛЬКУЛЯТОР!$C$21,$I$9,$I$9-SUMIF($A$10:$A$369,\"<=\"&$E$3,$H$10:$H$369)),0,0),\"\")","v":""},{"$f":"IFERROR(-IPMT((C98-$P$1)/12,B98,IF(C98=КАЛЬКУЛЯТОР!$C$21,$E$2,$E$2-$E$3),IF(C98=КАЛЬКУЛЯТОР!$C$21,$I$9,$I$9-SUMIF($A$10:$A$369,\"<=\"&$E$3,$H$10:$H$369)),0,0),\"\")","v":""},{"$f":"IFERROR((-PPMT(C98/12,B98,IF(C98=КАЛЬКУЛЯТОР!$C$21,$E$2,$E$2-$E$3),IF(C98=КАЛЬКУЛЯТОР!$C$21,$I$9,$I$9-SUMIF($A$10:$A$369,\"<=\"&$E$3,$H$10:$H$369)),0,0)),\"\")","v":""},"",{"$error":"#VALUE!"},null,{"$error":"#VALUE!"},{"$error":"#VALUE!"},{"$error":"#VALUE!"},{"$error":"#VALUE!"},false]
[90,90,"",{"$f":"IF(A99<=$E$2,-PMT(C99/12,IF(C99=КАЛЬКУЛЯТОР!$C$21,$E$2,$E$2-$E$3),IF(C99=КАЛЬКУЛЯТОР!$C$21,$I$9,$I$9-SUMIF($A$10:$A$369,\"<=\"&$E$3,$H$10:$H$369)),0,0),\"\")","v":""},null,{"$f":"IFERROR(-IPMT(C99/12,B99,IF(C99=КАЛЬКУЛЯТОР!$C$21,$E$2,$E$2-$E$3),IF(C99=КАЛЬКУЛЯТОР!$C$21,$I$9,$I$9-SUMIF($A$10:$A$369,\"<=\"&$E$3,$H$10:$H$369)),0,0),\"\")","v":""},{"$f":"IFERROR(-IPMT((C99-$P$1)/12,B99,IF(C99=КАЛЬКУЛЯТОР!$C$21,$E$2,$E$2-$E$3),IF(C99=КАЛЬКУЛЯТОР!$C$21,$I$9,$I$9-SUMIF($A$10:$A$369,\"<=\"&$E$3,$H$10:$H$369)),0,0),\"\")","v":""},{"$f":"IFERROR((-PPMT(C99/12,B99,IF(C99=КАЛЬКУЛЯТОР!$C$21,$E$2,$E$2-$E$3),IF(C99=КАЛЬКУЛЯТОР!$C$21,$I$9,$I$9-SUMIF($A$10:$A$369,\"<=\"&$E$3,$H$10:$H$369)),0,0)),\"\")","v":""},"",{"$error":"#VALUE!"},null,{"$error":"#VALUE!"},{"$error":"#VALUE!"},{"$error":"#VALUE!"},{"$error":"#VALUE!"},false]
[91,91,"",{"$f":"IF(A100<=$E$2,-PMT(C100/12,IF(C100=КАЛЬКУЛЯТОР!$C$21,$E$2,$E$2-$E$3),IF(C100=КАЛЬКУЛЯТОР!$C$21,$I$9,$I$9-SUMIF($A$10:$A$369,\"<=\"&$E$3,$H$10:$H$369)),0,0),\"\")","v":""},null,{"$f":"IFERROR(-IPMT(C100/12,B100,IF(C100=КАЛЬКУЛЯТОР!$C$21,$E$2,$E$2-$E$3),IF(C100=КАЛЬКУЛЯТОР!$C$21,$I$9,$I$9-SUMIF($A$10:$A$369,\"<=\"&$E$3,$H$10:$H$369)),0,0),\"\")","v":""},{"$f":"IFERROR(-IPMT((C100-$P$1)/12,B100,IF(C100=КАЛЬКУЛЯТОР!$C$21,$E$2,$E$2-$E$3),IF(C100=КАЛЬКУЛЯТОР!$C$21,$I$9,$I$9-SUMIF($A$10:$A$369,\"<=\"&$E$3,$H$10:$H$369)),0,0),\"\")","v":""},{"$f":"IFERROR((-PPMT(C100/12,B100,IF(C100=КАЛЬКУЛЯТОР!$C$21,$E$2,$E$2-$E$3),IF(C100=КАЛЬКУЛЯТОР!$C$21,$I$9,$I$9-SUMIF($A$10:$A$369,\"<=\"&$E$3,$H$10:$H$369)),0,0)),\"\")","v":""},"",{"$error":"#VALUE!"},null,{"$error":"#VALUE!"},{"$error":"#VALUE!"},{"$error":"#VALUE!"},{"$error":"#VALUE!"},false]
[92,92,"",{"$f":"IF(A101<=$E$2,-PMT(C101/12,IF(C101=КАЛЬКУЛЯТОР!$C$21,$E$2,$E$2-$E$3),IF(C101=КАЛЬКУЛЯТОР!$C$21,$I$9,$I$9-SUMIF($A$10:$A$369,\"<=\"&$E$3,$H$10:$H$369)),0,0),\"\")","v":""},null,{"$f":"IFERROR(-IPMT(C101/12,B101,IF(C101=КАЛЬКУЛЯТОР!$C$21,$E$2,$E$2-$E$3),IF(C101=КАЛЬКУЛЯТОР!$C$21,$I$9,$I$9-SUMIF($A$10:$A$369,\"<=\"&$E$3,$H$10:$H$369)),0,0),\"\")","v":""},{"$f":"IFERROR(-IPMT((C101-$P$1)/12,B101,IF(C101=КАЛЬКУЛЯТОР!$C$21,$E$2,$E$2-$E$3),IF(C101=КАЛЬКУЛЯТОР!$C$21,$I$9,$I$9-SUMIF($A$10:$A$369,\"<=\"&$E$3,$H$10:$H$369)),0,0),\"\")","v":""},{"$f":"IFERROR((-PPMT(C101/12,B101,IF(C101=КАЛЬКУЛЯТОР!$C$21,$E$2,$E$2-$E$3),IF(C101=КАЛЬКУЛЯТОР!$C$21,$I$9,$I$9-SUMIF($A$10:$A$369,\"<=\"&$E$3,$H$10:$H$369)),0,0)),\"\")","v":""},"",{"$error":"#VALUE!"},null,{"$error":"#VALUE!"},{"$error":"#VALUE!"},{"$error":"#VALUE!"},{"$error":"#VALUE!"},false]
[93,93,"",{"$f":"IF(A102<=$E$2,-PMT(C102/12,IF(C102=КАЛЬКУЛЯТОР!$C$21,$E$2,$E$2-$E$3),IF(C102=КАЛЬКУЛЯТОР!$C$21,$I$9,$I$9-SUMIF($A$10:$A$369,\"<=\"&$E$3,$H$10:$H$369)),0,0),\"\")","v":""},null,{"$f":"IFERROR(-IPMT(C102/12,B102,IF(C102=КАЛЬКУЛЯТОР!$C$21,$E$2,$E$2-$E$3),IF(C102=КАЛЬКУЛЯТОР!$C$21,$I$9,$I$9-SUMIF($A$10:$A$369,\"<=\"&$E$3,$H$10:$H$369)),0,0),\"\")","v":""},{"$f":"IFERROR(-IPMT((C102-$P$1)/12,B102,IF(C102=КАЛЬКУЛЯТОР!$C$21,$E$2,$E$2-$E$3),IF(C102=КАЛЬКУЛЯТОР!$C$21,$I$9,$I$9-SUMIF($A$10:$A$369,\"<=\"&$E$3,$H$10:$H$369)),0,0),\"\")","v":""},{"$f":"IFERROR((-PPMT(C102/12,B102,IF(C102=КАЛЬКУЛЯТОР!$C$21,$E$2,$E$2-$E$3),IF(C102=КАЛЬКУЛЯТОР!$C$21,$I$9,$I$9-SUMIF($A$10:$A$369,\"<=\"&$E$3,$H$10:$H$369)),0,0)),\"\")","v":""},"",{"$error":"#VALUE!"},null,{"$error":"#VALUE!"},{"$error":"#VALUE!"},{"$error":"#VALUE!"},{"$error":"#VALUE!"},false]
[94,94,"",{"$f":"IF(A103<=$E$2,-PMT(C103/12,IF(C103=КАЛЬКУЛЯТОР!$C$21,$E$2,$E$2-$E$3),IF(C103=КАЛЬКУЛЯТОР!$C$21,$I$9,$I$9-SUMIF($A$10:$A$369,\"<=\"&$E$3,$H$10:$H$369)),0,0),\"\")","v":""},null,{"$f":"IFERROR(-IPMT(C103/12,B103,IF(C103=КАЛЬКУЛЯТОР!$C$21,$E$2,$E$2-$E$3),IF(C103=КАЛЬКУЛЯТОР!$C$21,$I$9,$I$9-SUMIF($A$10:$A$369,\"<=\"&$E$3,$H$10:$H$369)),0,0),\"\")","v":""},{"$f":"IFERROR(-IPMT((C103-$P$1)/12,B103,IF(C103=КАЛЬКУЛЯТОР!$C$21,$E$2,$E$2-$E$3),IF(C103=КАЛЬКУЛЯТОР!$C$21,$I$9,$I$9-SUMIF($A$10:$A$369,\"<=\"&$E$3,$H$10:$H$369)),0,0),\"\")","v":""},{"$f":"IFERROR((-PPMT(C103/12,B103,IF(C103=КАЛЬКУЛЯТОР!$C$21,$E$2,$E$2-$E$3),IF(C103=КАЛЬКУЛЯТОР!$C$21,$I$9,$I$9-SUMIF($A$10:$A$369,\"<=\"&$E$3,$H$10:$H$369)),0,0)),\"\")","v":""},"",{"$error":"#VALUE!"},null,{"$error":"#VALUE!"},{"$error":"#VALUE!"},{"$error":"#VALUE!"},{"$error":"#VALUE!"},false]
[95,95,"",{"$f":"IF(A104<=$E$2,-PMT(C104/12,IF(C104=КАЛЬКУЛЯТОР!$C$21,$E$2,$E$2-$E$3),IF(C104=КАЛЬКУЛЯТОР!$C$21,$I$9,$I$9-SUMIF($A$10:$A$369,\"<=\"&$E$3,$H$10:$H$369)),0,0),\"\")","v":""},null,{"$f":"IFERROR(-IPMT(C104/12,B104,IF(C104=КАЛЬКУЛЯТОР!$C$21,$E$2,$E$2-$E$3),IF(C104=КАЛЬКУЛЯТОР!$C$21,$I$9,$I$9-SUMIF($A$10:$A$369,\"<=\"&$E$3,$H$10:$H$369)),0,0),\"\")","v":""},{"$f":"IFERROR(-IPMT((C104-$P$1)/12,B104,IF(C104=КАЛЬКУЛЯТОР!$C$21,$E$2,$E$2-$E$3),IF(C104=КАЛЬКУЛЯТОР!$C$21,$I$9,$I$9-SUMIF($A$10:$A$369,\"<=\"&$E$3,$H$10:$H$369)),0,0),\"\")","v":""},{"$f":"IFERROR((-PPMT(C104/12,B104,IF(C104=КАЛЬКУЛЯТОР!$C$21,$E$2,$E$2-$E$3),IF(C104=КАЛЬКУЛЯТОР!$C$21,$I$9,$I$9-SUMIF($A$10:$A$369,\"<=\"&$E$3,$H$10:$H$369)),0,0)),\"\")","v":""},"",{"$error":"#VALUE!"},null,{"$error":"#VALUE!"},{"$error":"#VALUE!"},{"$error":"#VALUE!"},{"$error":"#VALUE!"},false]
[96,96,"",{"$f":"IF(A105<=$E$2,-PMT(C105/12,IF(C105=КАЛЬКУЛЯТОР!$C$21,$E$2,$E$2-$E$3),IF(C105=КАЛЬКУЛЯТОР!$C$21,$I$9,$I$9-SUMIF($A$10:$A$369,\"<=\"&$E$3,$H$10:$H$369)),0,0),\"\")","v":""},null,{"$f":"IFERROR(-IPMT(C105/12,B105,IF(C105=КАЛЬКУЛЯТОР!$C$21,$E$2,$E$2-$E$3),IF(C105=КАЛЬКУЛЯТОР!$C$21,$I$9,$I$9-SUMIF($A$10:$A$369,\"<=\"&$E$3,$H$10:$H$369)),0,0),\"\")","v":""},{"$f":"IFERROR(-IPMT((C105-$P$1)/12,B105,IF(C105=КАЛЬКУЛЯТОР!$C$21,$E$2,$E$2-$E$3),IF(C105=КАЛЬКУЛЯТОР!$C$21,$I$9,$I$9-SUMIF($A$10:$A$369,\"<=\"&$E$3,$H$10:$H$369)),0,0),\"\")","v":""},{"$f":"IFERROR((-PPMT(C105/12,B105,IF(C105=КАЛЬКУЛЯТОР!$C$21,$E$2,$E$2-$E$3),IF(C105=КАЛЬКУЛЯТОР!$C$21,$I$9,$I$9-SUMIF($A$10:$A$369,\"<=\"&$E$3,$H$10:$H$369)),0,0)),\"\")","v":""},"",{"$error":"#VALUE!"},null,{"$error":"#VALUE!"},{"$error":"#VALUE!"},{"$error":"#VALUE!"},{"$error":"#VALUE!"},false]
[97,97,"",{"$f":"IF(A106<=$E$2,-PMT(C106/12,IF(C106=КАЛЬКУЛЯТОР!$C$21,$E$2,$E$2-$E$3),IF(C106=КАЛЬКУЛЯТОР!$C$21,$I$9,$I$9-SUMIF($A$10:$A$369,\"<=\"&$E$3,$H$10:$H$369)),0,0)+E106,\"\")","v":""},{"$f":"IF($E$2>$A105,(I105+SUM(F106:F117))*($K$4+$K$5),0)","v":{"v":0,"d":"0.00"}},{"$f":"IFERROR(-IPMT(C106/12,B106,IF(C106=КАЛЬКУЛЯТОР!$C$21,$E$2,$E$2-$E$3),IF(C106=КАЛЬКУЛЯТОР!$C$21,$I$9,$I$9-SUMIF($A$10:$A$369,\"<=\"&$E$3,$H$10:$H$369)),0,0),\"\")","v":""},{"$f":"IFERROR(-IPMT((C106-$P$1)/12,B106,IF(C106=КАЛЬКУЛЯТОР!$C$21,$E$2,$E$2-$E$3),IF(C106=КАЛЬКУЛЯТОР!$C$21,$I$9,$I$9-SUMIF($A$10:$A$369,\"<=\"&$E$3,$H$10:$H$369)),0,0),\"\")","v":""},{"$f":"IFERROR((-PPMT(C106/12,B106,IF(C106=КАЛЬКУЛЯТОР!$C$21,$E$2,$E$2-$E$3),IF(C106=КАЛЬКУЛЯТОР!$C$21,$I$9,$I$9-SUMIF($A$10:$A$369,\"<=\"&$E$3,$H$10:$H$369)),0,0)),\"\")","v":""},"",{"$error":"#VALUE!"},{"$f":"PV($E$5/12,A106-1,0,-E106)","v":{"v":0,"d":"0.00"}},{"$error":"#VALUE!"},{"$error":"#VALUE!"},{"$error":"#VALUE!"},{"$error":"#VALUE!"},false]
[98,98,"",{"$f":"IF(A107<=$E$2,-PMT(C107/12,IF(C107=КАЛЬКУЛЯТОР!$C$21,$E$2,$E$2-$E$3),IF(C107=КАЛЬКУЛЯТОР!$C$21,$I$9,$I$9-SUMIF($A$10:$A$369,\"<=\"&$E$3,$H$10:$H$369)),0,0),\"\")","v":""},null,{"$f":"IFERROR(-IPMT(C107/12,B107,IF(C107=КАЛЬКУЛЯТОР!$C$21,$E$2,$E$2-$E$3),IF(C107=КАЛЬКУЛЯТОР!$C$21,$I$9,$I$9-SUMIF($A$10:$A$369,\"<=\"&$E$3,$H$10:$H$369)),0,0),\"\")","v":""},{"$f":"IFERROR(-IPMT((C107-$P$1)/12,B107,IF(C107=КАЛЬКУЛЯТОР!$C$21,$E$2,$E$2-$E$3),IF(C107=КАЛЬКУЛЯТОР!$C$21,$I$9,$I$9-SUMIF($A$10:$A$369,\"<=\"&$E$3,$H$10:$H$369)),0,0),\"\")","v":""},{"$f":"IFERROR((-PPMT(C107/12,B107,IF(C107=КАЛЬКУЛЯТОР!$C$21,$E$2,$E$2-$E$3),IF(C107=КАЛЬКУЛЯТОР!$C$21,$I$9,$I$9-SUMIF($A$10:$A$369,\"<=\"&$E$3,$H$10:$H$369)),0,0)),\"\")","v":""},"",{"$error":"#VALUE!"},null,{"$error":"#VALUE!"},{"$error":"#VALUE!"},{"$error":"#VALUE!"},{"$error":"#VALUE!"},false]
[99,99,"",{"$f":"IF(A108<=$E$2,-PMT(C108/12,IF(C108=КАЛЬКУЛЯТОР!$C$21,$E$2,$E$2-$E$3),IF(C108=КАЛЬКУЛЯТОР!$C$21,$I$9,$I$9-SUMIF($A$10:$A$369,\"<=\"&$E$3,$H$10:$H$369)),0,0),\"\")","v":""},null,{"$f":"IFERROR(-IPMT(C108/12,B108,IF(C108=КАЛЬКУЛЯТОР!$C$21,$E$2,$E$2-$E$3),IF(C108=КАЛЬКУЛЯТОР!$C$21,$I$9,$I$9-SUMIF($A$10:$A$369,\"<=\"&$E$3,$H$10:$H$369)),0,0),\"\")","v":""},{"$f":"IFERROR(-IPMT((C108-$P$1)/12,B108,IF(C108=КАЛЬКУЛЯТОР!$C$21,$E$2,$E$2-$E$3),IF(C108=КАЛЬКУЛЯТОР!$C$21,$I$9,$I$9-SUMIF($A$10:$A$369,\"<=\"&$E$3,$H$10:$H$369)),0,0),\"\")","v":""},{"$f":"IFERROR((-PPMT(C108/12,B108,IF(C108=КАЛЬКУЛЯТОР!$C$21,$E$2,$E$2-$E$3),IF(C108=КАЛЬКУЛЯТОР!$C$21,$I$9,$I$9-SUMIF($A$10:$A$369,\"<=\"&$E$3,$H$10:$H$369)),0,0)),\"\")","v":""},"",{"$error":"#VALUE!"},null,{"$error":"#VALUE!"},{"$error":"#VALUE!"},{"$error":"#VALUE!"},{"$error":"#VALUE!"},false]
[100,100,"",{"$f":"IF(A109<=$E$2,-PMT(C109/12,IF(C109=КАЛЬКУЛЯТОР!$C$21,$E$2,$E$2-$E$3),IF(C109=КАЛЬКУЛЯТОР!$C$21,$I$9,$I$9-SUMIF($A$10:$A$369,\"<=\"&$E$3,$H$10:$H$369)),0,0),\"\")","v":""},null,{"$f":"IFERROR(-IPMT(C109/12,B109,IF(C109=КАЛЬКУЛЯТОР!$C$21,$E$2,$E$2-$E$3),IF(C109=КАЛЬКУЛЯТОР!$C$21,$I$9,$I$9-SUMIF($A$10:$A$369,\"<=\"&$E$3,$H$10:$H$369)),0,0),\"\")","v":""},{"$f":"IFERROR(-IPMT((C109-$P$1)/12,B109,IF(C109=КАЛЬКУЛЯТОР!$C$21,$E$2,$E$2-$E$3),IF(C109=КАЛЬКУЛЯТОР!$C$21,$I$9,$I$9-SUMIF($A$10:$A$369,\"<=\"&$E$3,$H$10:$H$369)),0,0),\"\")","v":""},{"$f":"IFERROR((-PPMT(C109/12,B109,IF(C109=КАЛЬКУЛЯТОР!$C$21,$E$2,$E$2-$E$3),IF(C109=КАЛЬКУЛЯТОР!$C$21,$I$9,$I$9-SUMIF($A$10:$A$369,\"<=\"&$E$3,$H$10:$H$369)),0,0)),\"\")","v":""},"",{"$error":"#VALUE!"},null,{"$error":"#VALUE!"},{"$error":"#VALUE!"},{"$error":"#VALUE!"},{"$error":"#VALUE!"},false]
[101,101,"",{"$f":"IF(A110<=$E$2,-PMT(C110/12,IF(C110=КАЛЬКУЛЯТОР!$C$21,$E$2,$E$2-$E$3),IF(C110=КАЛЬКУЛЯТОР!$C$21,$I$9,$I$9-SUMIF($A$10:$A$369,\"<=\"&$E$3,$H$10:$H$369)),0,0),\"\")","v":""},null,{"$f":"IFERROR(-IPMT(C110/12,B110,IF(C110=КАЛЬКУЛЯТОР!$C$21,$E$2,$E$2-$E$3),IF(C110=КАЛЬКУЛЯТОР!$C$21,$I$9,$I$9-SUMIF($A$10:$A$369,\"<=\"&$E$3,$H$10:$H$369)),0,0),\"\")","v":""},{"$f":"IFERROR(-IPMT((C110-$P$1)/12,B110,IF(C110=КАЛЬКУЛЯТОР!$C$21,$E$2,$E$2-$E$3),IF(C110=КАЛЬКУЛЯТОР!$C$21,$I$9,$I$9-SUMIF($A$10:$A$369,\"<=\"&$E$3,$H$10:$H$369)),0,0),\"\")","v":""},{"$f":"IFERROR((-PPMT(C110/12,B110,IF(C110=КАЛЬКУЛЯТОР!$C$21,$E$2,$E$2-$E$3),IF(C110=КАЛЬКУЛЯТОР!$C$21,$I$9,$I$9-SUMIF($A$10:$A$369,\"<=\"&$E$3,$H$10:$H$369)),0,0)),\"\")","v":""},"",{"$error":"#VALUE!"},null,{"$error":"#VALUE!"},{"$error":"#VALUE!"},{"$error":"#VALUE!"},{"$error":"#VALUE!"},false]
[102,102,"",{"$f":"IF(A111<=$E$2,-PMT(C111/12,IF(C111=КАЛЬКУЛЯТОР!$C$21,$E$2,$E$2-$E$3),IF(C111=КАЛЬКУЛЯТОР!$C$21,$I$9,$I$9-SUMIF($A$10:$A$369,\"<=\"&$E$3,$H$10:$H$369)),0,0),\"\")","v":""},null,{"$f":"IFERROR(-IPMT(C111/12,B111,IF(C111=КАЛЬКУЛЯТОР!$C$21,$E$2,$E$2-$E$3),IF(C111=КАЛЬКУЛЯТОР!$C$21,$I$9,$I$9-SUMIF($A$10:$A$369,\"<=\"&$E$3,$H$10:$H$369)),0,0),\"\")","v":""},{"$f":"IFERROR(-IPMT((C111-$P$1)/12,B111,IF(C111=КАЛЬКУЛЯТОР!$C$21,$E$2,$E$2-$E$3),IF(C111=КАЛЬКУЛЯТОР!$C$21,$I$9,$I$9-SUMIF($A$10:$A$369,\"<=\"&$E$3,$H$10:$H$369)),0,0),\"\")","v":""},{"$f":"IFERROR((-PPMT(C111/12,B111,IF(C111=КАЛЬКУЛЯТОР!$C$21,$E$2,$E$2-$E$3),IF(C111=КАЛЬКУЛЯТОР!$C$21,$I$9,$I$9-SUMIF($A$10:$A$369,\"<=\"&$E$3,$H$10:$H$369)),0,0)),\"\")","v":""},"",{"$error":"#VALUE!"},null,{"$error":"#VALUE!"},{"$error":"#VALUE!"},{"$error":"#VALUE!"},{"$error":"#VALUE!"},false]
[103,103,"",{"$f":"IF(A112<=$E$2,-PMT(C112/12,IF(C112=КАЛЬКУЛЯТОР!$C$21,$E$2,$E$2-$E$3),IF(C112=КАЛЬКУЛЯТОР!$C$21,$I$9,$I$9-SUMIF($A$10:$A$369,\"<=\"&$E$3,$H$10:$H$369)),0,0),\"\")","v":""},null,{"$f":"IFERROR(-IPMT(C112/12,B112,IF(C112=КАЛЬКУЛЯТОР!$C$21,$E$2,$E$2-$E$3),IF(C112=КАЛЬКУЛЯТОР!$C$21,$I$9,$I$9-SUMIF($A$10:$A$369,\"<=\"&$E$3,$H$10:$H$369)),0,0),\"\")","v":""},{"$f":"IFERROR(-IPMT((C112-$P$1)/12,B112,IF(C112=КАЛЬКУЛЯТОР!$C$21,$E$2,$E$2-$E$3),IF(C112=КАЛЬКУЛЯТОР!$C$21,$I$9,$I$9-SUMIF($A$10:$A$369,\"<=\"&$E$3,$H$10:$H$369)),0,0),\"\")","v":""},{"$f":"IFERROR((-PPMT(C112/12,B112,IF(C112=КАЛЬКУЛЯТОР!$C$21,$E$2,$E$2-$E$3),IF(C112=КАЛЬКУЛЯТОР!$C$21,$I$9,$I$9-SUMIF($A$10:$A$369,\"<=\"&$E$3,$H$10:$H$369)),0,0)),\"\")","v":""},"",{"$error":"#VALUE!"},null,{"$error":"#VALUE!"},{"$error":"#VALUE!"},{"$error":"#VALUE!"},{"$error":"#VALUE!"},false]
[104,104,"",{"$f":"IF(A113<=$E$2,-PMT(C113/12,IF(C113=КАЛЬКУЛЯТОР!$C$21,$E$2,$E$2-$E$3),IF(C113=КАЛЬКУЛЯТОР!$C$21,$I$9,$I$9-SUMIF($A$10:$A$369,\"<=\"&$E$3,$H$10:$H$369)),0,0),\"\")","v":""},null,{"$f":"IFERROR(-IPMT(C113/12,B113,IF(C113=КАЛЬКУЛЯТОР!$C$21,$E$2,$E$2-$E$3),IF(C113=КАЛЬКУЛЯТОР!$C$21,$I$9,$I$9-SUMIF($A$10:$A$369,\"<=\"&$E$3,$H$10:$H$369)),0,0),\"\")","v":""},{"$f":"IFERROR(-IPMT((C113-$P$1)/12,B113,IF(C113=КАЛЬКУЛЯТОР!$C$21,$E$2,$E$2-$E$3),IF(C113=КАЛЬКУЛЯТОР!$C$21,$I$9,$I$9-SUMIF($A$10:$A$369,\"<=\"&$E$3,$H$10:$H$369)),0,0),\"\")","v":""},{"$f":"IFERROR((-PPMT(C113/12,B113,IF(C113=КАЛЬКУЛЯТОР!$C$21,$E$2,$E$2-$E$3),IF(C113=КАЛЬКУЛЯТОР!$C$21,$I$9,$I$9-SUMIF($A$10:$A$369,\"<=\"&$E$3,$H$10:$H$369)),0,0)),\"\")","v":""},"",{"$error":"#VALUE!"},null,{"$error":"#VALUE!"},{"$error":"#VALUE!"},{"$error":"#VALUE!"},{"$error":"#VALUE!"},false]
[105,105,"",{"$f":"IF(A114<=$E$2,-PMT(C114/12,IF(C114=КАЛЬКУЛЯТОР!$C$21,$E$2,$E$2-$E$3),IF(C114=КАЛЬКУЛЯТОР!$C$21,$I$9,$I$9-SUMIF($A$10:$A$369,\"<=\"&$E$3,$H$10:$H$369)),0,0),\"\")","v":""},null,{"$f":"IFERROR(-IPMT(C114/12,B114,IF(C114=КАЛЬКУЛЯТОР!$C$21,$E$2,$E$2-$E$3),IF(C114=КАЛЬКУЛЯТОР!$C$21,$I$9,$I$9-SUMIF($A$10:$A$369,\"<=\"&$E$3,$H$10:$H$369)),0,0),\"\")","v":""},{"$f":"IFERROR(-IPMT((C114-$P$1)/12,B114,IF(C114=КАЛЬКУЛЯТОР!$C$21,$E$2,$E$2-$E$3),IF(C114=КАЛЬКУЛЯТОР!$C$21,$I$9,$I$9-SUMIF($A$10:$A$369,\"<=\"&$E$3,$H$10:$H$369)),0,0),\"\")","v":""},{"$f":"IFERROR((-PPMT(C114/12,B114,IF(C114=КАЛЬКУЛЯТОР!$C$21,$E$2,$E$2-$E$3),IF(C114=КАЛЬКУЛЯТОР!$C$21,$I$9,$I$9-SUMIF($A$10:$A$369,\"<=\"&$E$3,$H$10:$H$369)),0,0)),\"\")","v":""},"",{"$error":"#VALUE!"},null,{"$error":"#VALUE!"},{"$error":"#VALUE!"},{"$error":"#VALUE!"},{"$error":"#VALUE!"},false]
[106,106,"",{"$f":"IF(A115<=$E$2,-PMT(C115/12,IF(C115=КАЛЬКУЛЯТОР!$C$21,$E$2,$E$2-$E$3),IF(C115=КАЛЬКУЛЯТОР!$C$21,$I$9,$I$9-SUMIF($A$10:$A$369,\"<=\"&$E$3,$H$10:$H$369)),0,0),\"\")","v":""},null,{"$f":"IFERROR(-IPMT(C115/12,B115,IF(C115=КАЛЬКУЛЯТОР!$C$21,$E$2,$E$2-$E$3),IF(C115=КАЛЬКУЛЯТОР!$C$21,$I$9,$I$9-SUMIF($A$10:$A$369,\"<=\"&$E$3,$H$10:$H$369)),0,0),\"\")","v":""},{"$f":"IFERROR(-IPMT((C115-$P$1)/12,B115,IF(C115=КАЛЬКУЛЯТОР!$C$21,$E$2,$E$2-$E$3),IF(C115=КАЛЬКУЛЯТОР!$C$21,$I$9,$I$9-SUMIF($A$10:$A$369,\"<=\"&$E$3,$H$10:$H$369)),0,0),\"\")","v":""},{"$f":"IFERROR((-PPMT(C115/12,B115,IF(C115=КАЛЬКУЛЯТОР!$C$21,$E$2,$E$2-$E$3),IF(C115=КАЛЬКУЛЯТОР!$C$21,$I$9,$I$9-SUMIF($A$10:$A$369,\"<=\"&$E$3,$H$10:$H$369)),0,0)),\"\")","v":""},"",{"$error":"#VALUE!"},null,{"$error":"#VALUE!"},{"$error":"#VALUE!"},{"$error":"#VALUE!"},{"$error":"#VALUE!"},false]
[107,107,"",{"$f":"IF(A116<=$E$2,-PMT(C116/12,IF(C116=КАЛЬКУЛЯТОР!$C$21,$E$2,$E$2-$E$3),IF(C116=КАЛЬКУЛЯТОР!$C$21,$I$9,$I$9-SUMIF($A$10:$A$369,\"<=\"&$E$3,$H$10:$H$369)),0,0),\"\")","v":""},null,{"$f":"IFERROR(-IPMT(C116/12,B116,IF(C116=КАЛЬКУЛЯТОР!$C$21,$E$2,$E$2-$E$3),IF(C116=КАЛЬКУЛЯТОР!$C$21,$I$9,$I$9-SUMIF($A$10:$A$369,\"<=\"&$E$3,$H$10:$H$369)),0,0),\"\")","v":""},{"$f":"IFERROR(-IPMT((C116-$P$1)/12,B116,IF(C116=КАЛЬКУЛЯТОР!$C$21,$E$2,$E$2-$E$3),IF(C116=КАЛЬКУЛЯТОР!$C$21,$I$9,$I$9-SUMIF($A$10:$A$369,\"<=\"&$E$3,$H$10:$H$369)),0,0),\"\")","v":""},{"$f":"IFERROR((-PPMT(C116/12,B116,IF(C116=КАЛЬКУЛЯТОР!$C$21,$E$2,$E$2-$E$3),IF(C116=КАЛЬКУЛЯТОР!$C$21,$I$9,$I$9-SUMIF($A$10:$A$369,\"<=\"&$E$3,$H$10:$H$369)),0,0)),\"\")","v":""},"",{"$error":"#VALUE!"},null,{"$error":"#VALUE!"},{"$error":"#VALUE!"},{"$error":"#VALUE!"},{"$error":"#VALUE!"},false]
[108,108,"",{"$f":"IF(A117<=$E$2,-PMT(C117/12,IF(C117=КАЛЬКУЛЯТОР!$C$21,$E$2,$E$2-$E$3),IF(C117=КАЛЬКУЛЯТОР!$C$21,$I$9,$I$9-SUMIF($A$10:$A$369,\"<=\"&$E$3,$H$10:$H$369)),0,0),\"\")","v":""},null,{"$f":"IFERROR(-IPMT(C117/12,B117,IF(C117=КАЛЬКУЛЯТОР!$C$21,$E$2,$E$2-$E$3),IF(C117=КАЛЬКУЛЯТОР!$C$21,$I$9,$I$9-SUMIF($A$10:$A$369,\"<=\"&$E$3,$H$10:$H$369)),0,0),\"\")","v":""},{"$f":"IFERROR(-IPMT((C117-$P$1)/12,B117,IF(C117=КАЛЬКУЛЯТОР!$C$21,$E$2,$E$2-$E$3),IF(C117=КАЛЬКУЛЯТОР!$C$21,$I$9,$I$9-SUMIF($A$10:$A$369,\"<=\"&$E$3,$H$10:$H$369)),0,0),\"\")","v":""},{"$f":"IFERROR((-PPMT(C117/12,B117,IF(C117=КАЛЬКУЛЯТОР!$C$21,$E$2,$E$2-$E$3),IF(C117=КАЛЬКУЛЯТОР!$C$21,$I$9,$I$9-SUMIF($A$10:$A$369,\"<=\"&$E$3,$H$10:$H$369)),0,0)),\"\")","v":""},"",{"$error":"#VALUE!"},null,{"$error":"#VALUE!"},{"$error":"#VALUE!"},{"$error":"#VALUE!"},{"$error":"#VALUE!"},false]
[109,109,"",{"$f":"IF(A118<=$E$2,-PMT(C118/12,IF(C118=КАЛЬКУЛЯТОР!$C$21,$E$2,$E$2-$E$3),IF(C118=КАЛЬКУЛЯТОР!$C$21,$I$9,$I$9-SUMIF($A$10:$A$369,\"<=\"&$E$3,$H$10:$H$369)),0,0)+E118,\"\")","v":""},{"$f":"IF($E$2>$A117,(I117+SUM(F118:F129))*($K$4+$K$5),0)","v":{"v":0,"d":"0.00"}},{"$f":"IFERROR(-IPMT(C118/12,B118,IF(C118=КАЛЬКУЛЯТОР!$C$21,$E$2,$E$2-$E$3),IF(C118=КАЛЬКУЛЯТОР!$C$21,$I$9,$I$9-SUMIF($A$10:$A$369,\"<=\"&$E$3,$H$10:$H$369)),0,0),\"\")","v":""},{"$f":"IFERROR(-IPMT((C118-$P$1)/12,B118,IF(C118=КАЛЬКУЛЯТОР!$C$21,$E$2,$E$2-$E$3),IF(C118=КАЛЬКУЛЯТОР!$C$21,$I$9,$I$9-SUMIF($A$10:$A$369,\"<=\"&$E$3,$H$10:$H$369)),0,0),\"\")","v":""},{"$f":"IFERROR((-PPMT(C118/12,B118,IF(C118=КАЛЬКУЛЯТОР!$C$21,$E$2,$E$2-$E$3),IF(C118=КАЛЬКУЛЯТОР!$C$21,$I$9,$I$9-SUMIF($A$10:$A$369,\"<=\"&$E$3,$H$10:$H$369)),0,0)),\"\")","v":""},"",{"$error":"#VALUE!"},{"$f":"PV($E$5/12,A118-1,0,-E118)","v":{"v":0,"d":"0.00"}},{"$error":"#VALUE!"},{"$error":"#VALUE!"},{"$error":"#VALUE!"},{"$error":"#VALUE!"},false]
[110,110,"",{"$f":"IF(A119<=$E$2,-PMT(C119/12,IF(C119=КАЛЬКУЛЯТОР!$C$21,$E$2,$E$2-$E$3),IF(C119=КАЛЬКУЛЯТОР!$C$21,$I$9,$I$9-SUMIF($A$10:$A$369,\"<=\"&$E$3,$H$10:$H$369)),0,0),\"\")","v":""},null,{"$f":"IFERROR(-IPMT(C119/12,B119,IF(C119=КАЛЬКУЛЯТОР!$C$21,$E$2,$E$2-$E$3),IF(C119=КАЛЬКУЛЯТОР!$C$21,$I$9,$I$9-SUMIF($A$10:$A$369,\"<=\"&$E$3,$H$10:$H$369)),0,0),\"\")","v":""},{"$f":"IFERROR(-IPMT((C119-$P$1)/12,B119,IF(C119=КАЛЬКУЛЯТОР!$C$21,$E$2,$E$2-$E$3),IF(C119=КАЛЬКУЛЯТОР!$C$21,$I$9,$I$9-SUMIF($A$10:$A$369,\"<=\"&$E$3,$H$10:$H$369)),0,0),\"\")","v":""},{"$f":"IFERROR((-PPMT(C119/12,B119,IF(C119=КАЛЬКУЛЯТОР!$C$21,$E$2,$E$2-$E$3),IF(C119=КАЛЬКУЛЯТОР!$C$21,$I$9,$I$9-SUMIF($A$10:$A$369,\"<=\"&$E$3,$H$10:$H$369)),0,0)),\"\")","v":""},"",{"$error":"#VALUE!"},null,{"$error":"#VALUE!"},{"$error":"#VALUE!"},{"$error":"#VALUE!"},{"$error":"#VALUE!"},false]
[111,111,"",{"$f":"IF(A120<=$E$2,-PMT(C120/12,IF(C120=КАЛЬКУЛЯТОР!$C$21,$E$2,$E$2-$E$3),IF(C120=КАЛЬКУЛЯТОР!$C$21,$I$9,$I$9-SUMIF($A$10:$A$369,\"<=\"&$E$3,$H$10:$H$369)),0,0),\"\")","v":""},null,{"$f":"IFERROR(-IPMT(C120/12,B120,IF(C120=КАЛЬКУЛЯТОР!$C$21,$E$2,$E$2-$E$3),IF(C120=КАЛЬКУЛЯТОР!$C$21,$I$9,$I$9-SUMIF($A$10:$A$369,\"<=\"&$E$3,$H$10:$H$369)),0,0),\"\")","v":""},{"$f":"IFERROR(-IPMT((C120-$P$1)/12,B120,IF(C120=КАЛЬКУЛЯТОР!$C$21,$E$2,$E$2-$E$3),IF(C120=КАЛЬКУЛЯТОР!$C$21,$I$9,$I$9-SUMIF($A$10:$A$369,\"<=\"&$E$3,$H$10:$H$369)),0,0),\"\")","v":""},{"$f":"IFERROR((-PPMT(C120/12,B120,IF(C120=КАЛЬКУЛЯТОР!$C$21,$E$2,$E$2-$E$3),IF(C120=КАЛЬКУЛЯТОР!$C$21,$I$9,$I$9-SUMIF($A$10:$A$369,\"<=\"&$E$3,$H$10:$H$369)),0,0)),\"\")","v":""},"",{"$error":"#VALUE!"},null,{"$error":"#VALUE!"},{"$error":"#VALUE!"},{"$error":"#VALUE!"},{"$error":"#VALUE!"},false]
[112,112,"",{"$f":"IF(A121<=$E$2,-PMT(C121/12,IF(C121=КАЛЬКУЛЯТОР!$C$21,$E$2,$E$2-$E$3),IF(C121=КАЛЬКУЛЯТОР!$C$21,$I$9,$I$9-SUMIF($A$10:$A$369,\"<=\"&$E$3,$H$10:$H$369)),0,0),\"\")","v":""},null,{"$f":"IFERROR(-IPMT(C121/12,B121,IF(C121=КАЛЬКУЛЯТОР!$C$21,$E$2,$E$2-$E$3),IF(C121=КАЛЬКУЛЯТОР!$C$21,$I$9,$I$9-SUMIF($A$10:$A$369,\"<=\"&$E$3,$H$10:$H$369)),0,0),\"\")","v":""},{"$f":"IFERROR(-IPMT((C121-$P$1)/12,B121,IF(C121=КАЛЬКУЛЯТОР!$C$21,$E$2,$E$2-$E$3),IF(C121=КАЛЬКУЛЯТОР!$C$21,$I$9,$I$9-SUMIF($A$10:$A$369,\"<=\"&$E$3,$H$10:$H$369)),0,0),\"\")","v":""},{"$f":"IFERROR((-PPMT(C121/12,B121,IF(C121=КАЛЬКУЛЯТОР!$C$21,$E$2,$E$2-$E$3),IF(C121=КАЛЬКУЛЯТОР!$C$21,$I$9,$I$9-SUMIF($A$10:$A$369,\"<=\"&$E$3,$H$10:$H$369)),0,0)),\"\")","v":""},"",{"$error":"#VALUE!"},null,{"$error":"#VALUE!"},{"$error":"#VALUE!"},{"$error":"#VALUE!"},{"$error":"#VALUE!"},false]
[113,113,"",{"$f":"IF(A122<=$E$2,-PMT(C122/12,IF(C122=КАЛЬКУЛЯТОР!$C$21,$E$2,$E$2-$E$3),IF(C122=КАЛЬКУЛЯТОР!$C$21,$I$9,$I$9-SUMIF($A$10:$A$369,\"<=\"&$E$3,$H$10:$H$369)),0,0),\"\")","v":""},null,{"$f":"IFERROR(-IPMT(C122/12,B122,IF(C122=КАЛЬКУЛЯТОР!$C$21,$E$2,$E$2-$E$3),IF(C122=КАЛЬКУЛЯТОР!$C$21,$I$9,$I$9-SUMIF($A$10:$A$369,\"<=\"&$E$3,$H$10:$H$369)),0,0),\"\")","v":""},{"$f":"IFERROR(-IPMT((C122-$P$1)/12,B122,IF(C122=КАЛЬКУЛЯТОР!$C$21,$E$2,$E$2-$E$3),IF(C122=КАЛЬКУЛЯТОР!$C$21,$I$9,$I$9-SUMIF($A$10:$A$369,\"<=\"&$E$3,$H$10:$H$369)),0,0),\"\")","v":""},{"$f":"IFERROR((-PPMT(C122/12,B122,IF(C122=КАЛЬКУЛЯТОР!$C$21,$E$2,$E$2-$E$3),IF(C122=КАЛЬКУЛЯТОР!$C$21,$I$9,$I$9-SUMIF($A$10:$A$369,\"<=\"&$E$3,$H$10:$H$369)),0,0)),\"\")","v":""},"",{"$error":"#VALUE!"},null,{"$error":"#VALUE!"},{"$error":"#VALUE!"},{"$error":"#VALUE!"},{"$error":"#VALUE!"},false]
[114,114,"",{"$f":"IF(A123<=$E$2,-PMT(C123/12,IF(C123=КАЛЬКУЛЯТОР!$C$21,$E$2,$E$2-$E$3),IF(C123=КАЛЬКУЛЯТОР!$C$21,$I$9,$I$9-SUMIF($A$10:$A$369,\"<=\"&$E$3,$H$10:$H$369)),0,0),\"\")","v":""},null,{"$f":"IFERROR(-IPMT(C123/12,B123,IF(C123=КАЛЬКУЛЯТОР!$C$21,$E$2,$E$2-$E$3),IF(C123=КАЛЬКУЛЯТОР!$C$21,$I$9,$I$9-SUMIF($A$10:$A$369,\"<=\"&$E$3,$H$10:$H$369)),0,0),\"\")","v":""},{"$f":"IFERROR(-IPMT((C123-$P$1)/12,B123,IF(C123=КАЛЬКУЛЯТОР!$C$21,$E$2,$E$2-$E$3),IF(C123=КАЛЬКУЛЯТОР!$C$21,$I$9,$I$9-SUMIF($A$10:$A$369,\"<=\"&$E$3,$H$10:$H$369)),0,0),\"\")","v":""},{"$f":"IFERROR((-PPMT(C123/12,B123,IF(C123=КАЛЬКУЛЯТОР!$C$21,$E$2,$E$2-$E$3),IF(C123=КАЛЬКУЛЯТОР!$C$21,$I$9,$I$9-SUMIF($A$10:$A$369,\"<=\"&$E$3,$H$10:$H$369)),0,0)),\"\")","v":""},"",{"$error":"#VALUE!"},null,{"$error":"#VALUE!"},{"$error":"#VALUE!"},{"$error":"#VALUE!"},{"$error":"#VALUE!"},false]
[115,115,"",{"$f":"IF(A124<=$E$2,-PMT(C124/12,IF(C124=КАЛЬКУЛЯТОР!$C$21,$E$2,$E$2-$E$3),IF(C124=КАЛЬКУЛЯТОР!$C$21,$I$9,$I$9-SUMIF($A$10:$A$369,\"<=\"&$E$3,$H$10:$H$369)),0,0),\"\")","v":""},null,{"$f":"IFERROR(-IPMT(C124/12,B124,IF(C124=КАЛЬКУЛЯТОР!$C$21,$E$2,$E$2-$E$3),IF(C124=КАЛЬКУЛЯТОР!$C$21,$I$9,$I$9-SUMIF($A$10:$A$369,\"<=\"&$E$3,$H$10:$H$369)),0,0),\"\")","v":""},{"$f":"IFERROR(-IPMT((C124-$P$1)/12,B124,IF(C124=КАЛЬКУЛЯТОР!$C$21,$E$2,$E$2-$E$3),IF(C124=КАЛЬКУЛЯТОР!$C$21,$I$9,$I$9-SUMIF($A$10:$A$369,\"<=\"&$E$3,$H$10:$H$369)),0,0),\"\")","v":""},{"$f":"IFERROR((-PPMT(C124/12,B124,IF(C124=КАЛЬКУЛЯТОР!$C$21,$E$2,$E$2-$E$3),IF(C124=КАЛЬКУЛЯТОР!$C$21,$I$9,$I$9-SUMIF($A$10:$A$369,\"<=\"&$E$3,$H$10:$H$369)),0,0)),\"\")","v":""},"",{"$error":"#VALUE!"},null,{"$error":"#VALUE!"},{"$error":"#VALUE!"},{"$error":"#VALUE!"},{"$error":"#VALUE!"},false]
[116,116,"",{"$f":"IF(A125<=$E$2,-PMT(C125/12,IF(C125=КАЛЬКУЛЯТОР!$C$21,$E$2,$E$2-$E$3),IF(C125=КАЛЬКУЛЯТОР!$C$21,$I$9,$I$9-SUMIF($A$10:$A$369,\"<=\"&$E$3,$H$10:$H$369)),0,0),\"\")","v":""},null,{"$f":"IFERROR(-IPMT(C125/12,B125,IF(C125=КАЛЬКУЛЯТОР!$C$21,$E$2,$E$2-$E$3),IF(C125=КАЛЬКУЛЯТОР!$C$21,$I$9,$I$9-SUMIF($A$10:$A$369,\"<=\"&$E$3,$H$10:$H$369)),0,0),\"\")","v":""},{"$f":"IFERROR(-IPMT((C125-$P$1)/12,B125,IF(C125=КАЛЬКУЛЯТОР!$C$21,$E$2,$E$2-$E$3),IF(C125=КАЛЬКУЛЯТОР!$C$21,$I$9,$I$9-SUMIF($A$10:$A$369,\"<=\"&$E$3,$H$10:$H$369)),0,0),\"\")","v":""},{"$f":"IFERROR((-PPMT(C125/12,B125,IF(C125=КАЛЬКУЛЯТОР!$C$21,$E$2,$E$2-$E$3),IF(C125=КАЛЬКУЛЯТОР!$C$21,$I$9,$I$9-SUMIF($A$10:$A$369,\"<=\"&$E$3,$H$10:$H$369)),0,0)),\"\")","v":""},"",{"$error":"#VALUE!"},null,{"$error":"#VALUE!"},{"$error":"#VALUE!"},{"$error":"#VALUE!"},{"$error":"#VALUE!"},false]
[117,117,"",{"$f":"IF(A126<=$E$2,-PMT(C126/12,IF(C126=КАЛЬКУЛЯТОР!$C$21,$E$2,$E$2-$E$3),IF(C126=КАЛЬКУЛЯТОР!$C$21,$I$9,$I$9-SUMIF($A$10:$A$369,\"<=\"&$E$3,$H$10:$H$369)),0,0),\"\")","v":""},null,{"$f":"IFERROR(-IPMT(C126/12,B126,IF(C126=КАЛЬКУЛЯТОР!$C$21,$E$2,$E$2-$E$3),IF(C126=КАЛЬКУЛЯТОР!$C$21,$I$9,$I$9-SUMIF($A$10:$A$369,\"<=\"&$E$3,$H$10:$H$369)),0,0),\"\")","v":""},{"$f":"IFERROR(-IPMT((C126-$P$1)/12,B126,IF(C126=КАЛЬКУЛЯТОР!$C$21,$E$2,$E$2-$E$3),IF(C126=КАЛЬКУЛЯТОР!$C$21,$I$9,$I$9-SUMIF($A$10:$A$369,\"<=\"&$E$3,$H$10:$H$369)),0,0),\"\")","v":""},{"$f":"IFERROR((-PPMT(C126/12,B126,IF(C126=КАЛЬКУЛЯТОР!$C$21,$E$2,$E$2-$E$3),IF(C126=КАЛЬКУЛЯТОР!$C$21,$I$9,$I$9-SUMIF($A$10:$A$369,\"<=\"&$E$3,$H$10:$H$369)),0,0)),\"\")","v":""},"",{"$error":"#VALUE!"},null,{"$error":"#VALUE!"},{"$error":"#VALUE!"},{"$error":"#VALUE!"},{"$error":"#VALUE!"},false]
[118,118,"",{"$f":"IF(A127<=$E$2,-PMT(C127/12,IF(C127=КАЛЬКУЛЯТОР!$C$21,$E$2,$E$2-$E$3),IF(C127=КАЛЬКУЛЯТОР!$C$21,$I$9,$I$9-SUMIF($A$10:$A$369,\"<=\"&$E$3,$H$10:$H$369)),0,0),\"\")","v":""},null,{"$f":"IFERROR(-IPMT(C127/12,B127,IF(C127=КАЛЬКУЛЯТОР!$C$21,$E$2,$E$2-$E$3),IF(C127=КАЛЬКУЛЯТОР!$C$21,$I$9,$I$9-SUMIF($A$10:$A$369,\"<=\"&$E$3,$H$10:$H$369)),0,0),\"\")","v":""},{"$f":"IFERROR(-IPMT((C127-$P$1)/12,B127,IF(C127=КАЛЬКУЛЯТОР!$C$21,$E$2,$E$2-$E$3),IF(C127=КАЛЬКУЛЯТОР!$C$21,$I$9,$I$9-SUMIF($A$10:$A$369,\"<=\"&$E$3,$H$10:$H$369)),0,0),\"\")","v":""},{"$f":"IFERROR((-PPMT(C127/12,B127,IF(C127=КАЛЬКУЛЯТОР!$C$21,$E$2,$E$2-$E$3),IF(C127=КАЛЬКУЛЯТОР!$C$21,$I$9,$I$9-SUMIF($A$10:$A$369,\"<=\"&$E$3,$H$10:$H$369)),0,0)),\"\")","v":""},"",{"$error":"#VALUE!"},null,{"$error":"#VALUE!"},{"$error":"#VALUE!"},{"$error":"#VALUE!"},{"$error":"#VALUE!"},false]
[119,119,"",{"$f":"IF(A128<=$E$2,-PMT(C128/12,IF(C128=КАЛЬКУЛЯТОР!$C$21,$E$2,$E$2-$E$3),IF(C128=КАЛЬКУЛЯТОР!$C$21,$I$9,$I$9-SUMIF($A$10:$A$369,\"<=\"&$E$3,$H$10:$H$369)),0,0),\"\")","v":""},null,{"$f":"IFERROR(-IPMT(C128/12,B128,IF(C128=КАЛЬКУЛЯТОР!$C$21,$E$2,$E$2-$E$3),IF(C128=КАЛЬКУЛЯТОР!$C$21,$I$9,$I$9-SUMIF($A$10:$A$369,\"<=\"&$E$3,$H$10:$H$369)),0,0),\"\")","v":""},{"$f":"IFERROR(-IPMT((C128-$P$1)/12,B128,IF(C128=КАЛЬКУЛЯТОР!$C$21,$E$2,$E$2-$E$3),IF(C128=КАЛЬКУЛЯТОР!$C$21,$I$9,$I$9-SUMIF($A$10:$A$369,\"<=\"&$E$3,$H$10:$H$369)),0,0),\"\")","v":""},{"$f":"IFERROR((-PPMT(C128/12,B128,IF(C128=КАЛЬКУЛЯТОР!$C$21,$E$2,$E$2-$E$3),IF(C128=КАЛЬКУЛЯТОР!$C$21,$I$9,$I$9-SUMIF($A$10:$A$369,\"<=\"&$E$3,$H$10:$H$369)),0,0)),\"\")","v":""},"",{"$error":"#VALUE!"},null,{"$error":"#VALUE!"},{"$error":"#VALUE!"},{"$error":"#VALUE!"},{"$error":"#VALUE!"},false]
[120,120,"",{"$f":"IF(A129<=$E$2,-PMT(C129/12,IF(C129=КАЛЬКУЛЯТОР!$C$21,$E$2,$E$2-$E$3),IF(C129=КАЛЬКУЛЯТОР!$C$21,$I$9,$I$9-SUMIF($A$10:$A$369,\"<=\"&$E$3,$H$10:$H$369)),0,0),\"\")","v":""},null,{"$f":"IFERROR(-IPMT(C129/12,B129,IF(C129=КАЛЬКУЛЯТОР!$C$21,$E$2,$E$2-$E$3),IF(C129=КАЛЬКУЛЯТОР!$C$21,$I$9,$I$9-SUMIF($A$10:$A$369,\"<=\"&$E$3,$H$10:$H$369)),0,0),\"\")","v":""},{"$f":"IFERROR(-IPMT((C129-$P$1)/12,B129,IF(C129=КАЛЬКУЛЯТОР!$C$21,$E$2,$E$2-$E$3),IF(C129=КАЛЬКУЛЯТОР!$C$21,$I$9,$I$9-SUMIF($A$10:$A$369,\"<=\"&$E$3,$H$10:$H$369)),0,0),\"\")","v":""},{"$f":"IFERROR((-PPMT(C129/12,B129,IF(C129=КАЛЬКУЛЯТОР!$C$21,$E$2,$E$2-$E$3),IF(C129=КАЛЬКУЛЯТОР!$C$21,$I$9,$I$9-SUMIF($A$10:$A$369,\"<=\"&$E$3,$H$10:$H$369)),0,0)),\"\")","v":""},"",{"$error":"#VALUE!"},null,{"$error":"#VALUE!"},{"$error":"#VALUE!"},{"$error":"#VALUE!"},{"$error":"#VALUE!"},false]
[121,121,"",{"$f":"IF(A130<=$E$2,-PMT(C130/12,IF(C130=КАЛЬКУЛЯТОР!$C$21,$E$2,$E$2-$E$3),IF(C130=КАЛЬКУЛЯТОР!$C$21,$I$9,$I$9-SUMIF($A$10:$A$369,\"<=\"&$E$3,$H$10:$H$369)),0,0)+E130,\"\")","v":""},{"$f":"IF($E$2>$A129,(I129+SUM(F130:F141))*($K$4+$K$5),0)","v":{"v":0,"d":"0.00"}},{"$f":"IFERROR(-IPMT(C130/12,B130,IF(C130=КАЛЬКУЛЯТОР!$C$21,$E$2,$E$2-$E$3),IF(C130=КАЛЬКУЛЯТОР!$C$21,$I$9,$I$9-SUMIF($A$10:$A$369,\"<=\"&$E$3,$H$10:$H$369)),0,0),\"\")","v":""},{"$f":"IFERROR(-IPMT((C130-$P$1)/12,B130,IF(C130=КАЛЬКУЛЯТОР!$C$21,$E$2,$E$2-$E$3),IF(C130=КАЛЬКУЛЯТОР!$C$21,$I$9,$I$9-SUMIF($A$10:$A$369,\"<=\"&$E$3,$H$10:$H$369)),0,0),\"\")","v":""},{"$f":"IFERROR((-PPMT(C130/12,B130,IF(C130=КАЛЬКУЛЯТОР!$C$21,$E$2,$E$2-$E$3),IF(C130=КАЛЬКУЛЯТОР!$C$21,$I$9,$I$9-SUMIF($A$10:$A$369,\"<=\"&$E$3,$H$10:$H$369)),0,0)),\"\")","v":""},"",{"$error":"#VALUE!"},{"$f":"PV($E$5/12,A130-1,0,-E130)","v":{"v":0,"d":"0.00"}},{"$error":"#VALUE!"},{"$error":"#VALUE!"},{"$error":"#VALUE!"},{"$error":"#VALUE!"},false]
[122,122,"",{"$f":"IF(A131<=$E$2,-PMT(C131/12,IF(C131=КАЛЬКУЛЯТОР!$C$21,$E$2,$E$2-$E$3),IF(C131=КАЛЬКУЛЯТОР!$C$21,$I$9,$I$9-SUMIF($A$10:$A$369,\"<=\"&$E$3,$H$10:$H$369)),0,0),\"\")","v":""},null,{"$f":"IFERROR(-IPMT(C131/12,B131,IF(C131=КАЛЬКУЛЯТОР!$C$21,$E$2,$E$2-$E$3),IF(C131=КАЛЬКУЛЯТОР!$C$21,$I$9,$I$9-SUMIF($A$10:$A$369,\"<=\"&$E$3,$H$10:$H$369)),0,0),\"\")","v":""},{"$f":"IFERROR(-IPMT((C131-$P$1)/12,B131,IF(C131=КАЛЬКУЛЯТОР!$C$21,$E$2,$E$2-$E$3),IF(C131=КАЛЬКУЛЯТОР!$C$21,$I$9,$I$9-SUMIF($A$10:$A$369,\"<=\"&$E$3,$H$10:$H$369)),0,0),\"\")","v":""},{"$f":"IFERROR((-PPMT(C131/12,B131,IF(C131=КАЛЬКУЛЯТОР!$C$21,$E$2,$E$2-$E$3),IF(C131=КАЛЬКУЛЯТОР!$C$21,$I$9,$I$9-SUMIF($A$10:$A$369,\"<=\"&$E$3,$H$10:$H$369)),0,0)),\"\")","v":""},"",{"$error":"#VALUE!"},null,{"$error":"#VALUE!"},{"$error":"#VALUE!"},{"$error":"#VALUE!"},{"$error":"#VALUE!"},false]
[123,123,"",{"$f":"IF(A132<=$E$2,-PMT(C132/12,IF(C132=КАЛЬКУЛЯТОР!$C$21,$E$2,$E$2-$E$3),IF(C132=КАЛЬКУЛЯТОР!$C$21,$I$9,$I$9-SUMIF($A$10:$A$369,\"<=\"&$E$3,$H$10:$H$369)),0,0),\"\")","v":""},null,{"$f":"IFERROR(-IPMT(C132/12,B132,IF(C132=КАЛЬКУЛЯТОР!$C$21,$E$2,$E$2-$E$3),IF(C132=КАЛЬКУЛЯТОР!$C$21,$I$9,$I$9-SUMIF($A$10:$A$369,\"<=\"&$E$3,$H$10:$H$369)),0,0),\"\")","v":""},{"$f":"IFERROR(-IPMT((C132-$P$1)/12,B132,IF(C132=КАЛЬКУЛЯТОР!$C$21,$E$2,$E$2-$E$3),IF(C132=КАЛЬКУЛЯТОР!$C$21,$I$9,$I$9-SUMIF($A$10:$A$369,\"<=\"&$E$3,$H$10:$H$369)),0,0),\"\")","v":""},{"$f":"IFERROR((-PPMT(C132/12,B132,IF(C132=КАЛЬКУЛЯТОР!$C$21,$E$2,$E$2-$E$3),IF(C132=КАЛЬКУЛЯТОР!$C$21,$I$9,$I$9-SUMIF($A$10:$A$369,\"<=\"&$E$3,$H$10:$H$369)),0,0)),\"\")","v":""},"",{"$error":"#VALUE!"},null,{"$error":"#VALUE!"},{"$error":"#VALUE!"},{"$error":"#VALUE!"},{"$error":"#VALUE!"},false]
[124,124,"",{"$f":"IF(A133<=$E$2,-PMT(C133/12,IF(C133=КАЛЬКУЛЯТОР!$C$21,$E$2,$E$2-$E$3),IF(C133=КАЛЬКУЛЯТОР!$C$21,$I$9,$I$9-SUMIF($A$10:$A$369,\"<=\"&$E$3,$H$10:$H$369)),0,0),\"\")","v":""},null,{"$f":"IFERROR(-IPMT(C133/12,B133,IF(C133=КАЛЬКУЛЯТОР!$C$21,$E$2,$E$2-$E$3),IF(C133=КАЛЬКУЛЯТОР!$C$21,$I$9,$I$9-SUMIF($A$10:$A$369,\"<=\"&$E$3,$H$10:$H$369)),0,0),\"\")","v":""},{"$f":"IFERROR(-IPMT((C133-$P$1)/12,B133,IF(C133=КАЛЬКУЛЯТОР!$C$21,$E$2,$E$2-$E$3),IF(C133=КАЛЬКУЛЯТОР!$C$21,$I$9,$I$9-SUMIF($A$10:$A$369,\"<=\"&$E$3,$H$10:$H$369)),0,0),\"\")","v":""},{"$f":"IFERROR((-PPMT(C133/12,B133,IF(C133=КАЛЬКУЛЯТОР!$C$21,$E$2,$E$2-$E$3),IF(C133=КАЛЬКУЛЯТОР!$C$21,$I$9,$I$9-SUMIF($A$10:$A$369,\"<=\"&$E$3,$H$10:$H$369)),0,0)),\"\")","v":""},"",{"$error":"#VALUE!"},null,{"$error":"#VALUE!"},{"$error":"#VALUE!"},{"$error":"#VALUE!"},{"$error":"#VALUE!"},false]
[125,125,"",{"$f":"IF(A134<=$E$2,-PMT(C134/12,IF(C134=КАЛЬКУЛЯТОР!$C$21,$E$2,$E$2-$E$3),IF(C134=КАЛЬКУЛЯТОР!$C$21,$I$9,$I$9-SUMIF($A$10:$A$369,\"<=\"&$E$3,$H$10:$H$369)),0,0),\"\")","v":""},null,{"$f":"IFERROR(-IPMT(C134/12,B134,IF(C134=КАЛЬКУЛЯТОР!$C$21,$E$2,$E$2-$E$3),IF(C134=КАЛЬКУЛЯТОР!$C$21,$I$9,$I$9-SUMIF($A$10:$A$369,\"<=\"&$E$3,$H$10:$H$369)),0,0),\"\")","v":""},{"$f":"IFERROR(-IPMT((C134-$P$1)/12,B134,IF(C134=КАЛЬКУЛЯТОР!$C$21,$E$2,$E$2-$E$3),IF(C134=КАЛЬКУЛЯТОР!$C$21,$I$9,$I$9-SUMIF($A$10:$A$369,\"<=\"&$E$3,$H$10:$H$369)),0,0),\"\")","v":""},{"$f":"IFERROR((-PPMT(C134/12,B134,IF(C134=КАЛЬКУЛЯТОР!$C$21,$E$2,$E$2-$E$3),IF(C134=КАЛЬКУЛЯТОР!$C$21,$I$9,$I$9-SUMIF($A$10:$A$369,\"<=\"&$E$3,$H$10:$H$369)),0,0)),\"\")","v":""},"",{"$error":"#VALUE!"},null,{"$error":"#VALUE!"},{"$error":"#VALUE!"},{"$error":"#VALUE!"},{"$error":"#VALUE!"},false]
[126,126,"",{"$f":"IF(A135<=$E$2,-PMT(C135/12,IF(C135=КАЛЬКУЛЯТОР!$C$21,$E$2,$E$2-$E$3),IF(C135=КАЛЬКУЛЯТОР!$C$21,$I$9,$I$9-SUMIF($A$10:$A$369,\"<=\"&$E$3,$H$10:$H$369)),0,0),\"\")","v":""},null,{"$f":"IFERROR(-IPMT(C135/12,B135,IF(C135=КАЛЬКУЛЯТОР!$C$21,$E$2,$E$2-$E$3),IF(C135=КАЛЬКУЛЯТОР!$C$21,$I$9,$I$9-SUMIF($A$10:$A$369,\"<=\"&$E$3,$H$10:$H$369)),0,0),\"\")","v":""},{"$f":"IFERROR(-IPMT((C135-$P$1)/12,B135,IF(C135=КАЛЬКУЛЯТОР!$C$21,$E$2,$E$2-$E$3),IF(C135=КАЛЬКУЛЯТОР!$C$21,$I$9,$I$9-SUMIF($A$10:$A$369,\"<=\"&$E$3,$H$10:$H$369)),0,0),\"\")","v":""},{"$f":"IFERROR((-PPMT(C135/12,B135,IF(C135=КАЛЬКУЛЯТОР!$C$21,$E$2,$E$2-$E$3),IF(C135=КАЛЬКУЛЯТОР!$C$21,$I$9,$I$9-SUMIF($A$10:$A$369,\"<=\"&$E$3,$H$10:$H$369)),0,0)),\"\")","v":""},"",{"$error":"#VALUE!"},null,{"$error":"#VALUE!"},{"$error":"#VALUE!"},{"$error":"#VALUE!"},{"$error":"#VALUE!"},false]
[127,127,"",{"$f":"IF(A136<=$E$2,-PMT(C136/12,IF(C136=КАЛЬКУЛЯТОР!$C$21,$E$2,$E$2-$E$3),IF(C136=КАЛЬКУЛЯТОР!$C$21,$I$9,$I$9-SUMIF($A$10:$A$369,\"<=\"&$E$3,$H$10:$H$369)),0,0),\"\")","v":""},null,{"$f":"IFERROR(-IPMT(C136/12,B136,IF(C136=КАЛЬКУЛЯТОР!$C$21,$E$2,$E$2-$E$3),IF(C136=КАЛЬКУЛЯТОР!$C$21,$I$9,$I$9-SUMIF($A$10:$A$369,\"<=\"&$E$3,$H$10:$H$369)),0,0),\"\")","v":""},{"$f":"IFERROR(-IPMT((C136-$P$1)/12,B136,IF(C136=КАЛЬКУЛЯТОР!$C$21,$E$2,$E$2-$E$3),IF(C136=КАЛЬКУЛЯТОР!$C$21,$I$9,$I$9-SUMIF($A$10:$A$369,\"<=\"&$E$3,$H$10:$H$369)),0,0),\"\")","v":""},{"$f":"IFERROR((-PPMT(C136/12,B136,IF(C136=КАЛЬКУЛЯТОР!$C$21,$E$2,$E$2-$E$3),IF(C136=КАЛЬКУЛЯТОР!$C$21,$I$9,$I$9-SUMIF($A$10:$A$369,\"<=\"&$E$3,$H$10:$H$369)),0,0)),\"\")","v":""},"",{"$error":"#VALUE!"},null,{"$error":"#VALUE!"},{"$error":"#VALUE!"},{"$error":"#VALUE!"},{"$error":"#VALUE!"},false]
[128,128,"",{"$f":"IF(A137<=$E$2,-PMT(C137/12,IF(C137=КАЛЬКУЛЯТОР!$C$21,$E$2,$E$2-$E$3),IF(C137=КАЛЬКУЛЯТОР!$C$21,$I$9,$I$9-SUMIF($A$10:$A$369,\"<=\"&$E$3,$H$10:$H$369)),0,0),\"\")","v":""},null,{"$f":"IFERROR(-IPMT(C137/12,B137,IF(C137=КАЛЬКУЛЯТОР!$C$21,$E$2,$E$2-$E$3),IF(C137=КАЛЬКУЛЯТОР!$C$21,$I$9,$I$9-SUMIF($A$10:$A$369,\"<=\"&$E$3,$H$10:$H$369)),0,0),\"\")","v":""},{"$f":"IFERROR(-IPMT((C137-$P$1)/12,B137,IF(C137=КАЛЬКУЛЯТОР!$C$21,$E$2,$E$2-$E$3),IF(C137=КАЛЬКУЛЯТОР!$C$21,$I$9,$I$9-SUMIF($A$10:$A$369,\"<=\"&$E$3,$H$10:$H$369)),0,0),\"\")","v":""},{"$f":"IFERROR((-PPMT(C137/12,B137,IF(C137=КАЛЬКУЛЯТОР!$C$21,$E$2,$E$2-$E$3),IF(C137=КАЛЬКУЛЯТОР!$C$21,$I$9,$I$9-SUMIF($A$10:$A$369,\"<=\"&$E$3,$H$10:$H$369)),0,0)),\"\")","v":""},"",{"$error":"#VALUE!"},null,{"$error":"#VALUE!"},{"$error":"#VALUE!"},{"$error":"#VALUE!"},{"$error":"#VALUE!"},false]
[129,129,"",{"$f":"IF(A138<=$E$2,-PMT(C138/12,IF(C138=КАЛЬКУЛЯТОР!$C$21,$E$2,$E$2-$E$3),IF(C138=КАЛЬКУЛЯТОР!$C$21,$I$9,$I$9-SUMIF($A$10:$A$369,\"<=\"&$E$3,$H$10:$H$369)),0,0),\"\")","v":""},null,{"$f":"IFERROR(-IPMT(C138/12,B138,IF(C138=КАЛЬКУЛЯТОР!$C$21,$E$2,$E$2-$E$3),IF(C138=КАЛЬКУЛЯТОР!$C$21,$I$9,$I$9-SUMIF($A$10:$A$369,\"<=\"&$E$3,$H$10:$H$369)),0,0),\"\")","v":""},{"$f":"IFERROR(-IPMT((C138-$P$1)/12,B138,IF(C138=КАЛЬКУЛЯТОР!$C$21,$E$2,$E$2-$E$3),IF(C138=КАЛЬКУЛЯТОР!$C$21,$I$9,$I$9-SUMIF($A$10:$A$369,\"<=\"&$E$3,$H$10:$H$369)),0,0),\"\")","v":""},{"$f":"IFERROR((-PPMT(C138/12,B138,IF(C138=КАЛЬКУЛЯТОР!$C$21,$E$2,$E$2-$E$3),IF(C138=КАЛЬКУЛЯТОР!$C$21,$I$9,$I$9-SUMIF($A$10:$A$369,\"<=\"&$E$3,$H$10:$H$369)),0,0)),\"\")","v":""},{"$f":"IFERROR(I137-H138,\"\")","v":""},{"$f":"PV($E$5/12,A138-1,0,-D138)","v":{"$error":"#VALUE!"}},null,{"$f":"PV($E$5/12,A138-1,0,-F138)","v":{"$error":"#VALUE!"}},{"$f":"PV($E$5/12,A138-1,0,-G138)","v":{"$error":"#VALUE!"}},{"$f":"PV($E$5/12,A138-1,0,-H138)","v":{"$error":"#VALUE!"}},{"$f":"O137-N138","v":{"$error":"#VALUE!"}},{"$f":"AND(A138<=$E$3)","v":false}]
[130,{"$f":"IF(P139=$P$10,B138+1,A139-$E$3)","v":130},{"$f":"IF(A139<=$E$2,$E$4,\"\")","v":""},{"$f":"IF(A139<=$E$2,-PMT(C139/12,IF(C139=КАЛЬКУЛЯТОР!$C$21,$E$2,$E$2-$E$3),IF(C139=КАЛЬКУЛЯТОР!$C$21,$I$9,$I$9-SUMIF($A$10:$A$369,\"<=\"&$E$3,$H$10:$H$369)),0,0),\"\")","v":""},null,{"$f":"IFERROR(-IPMT(C139/12,B139,IF(C139=КАЛЬКУЛЯТОР!$C$21,$E$2,$E$2-$E$3),IF(C139=КАЛЬКУЛЯТОР!$C$21,$I$9,$I$9-SUMIF($A$10:$A$369,\"<=\"&$E$3,$H$10:$H$369)),0,0),\"\")","v":""},{"$f":"IFERROR(-IPMT((C139-$P$1)/12,B139,IF(C139=КАЛЬКУЛЯТОР!$C$21,$E$2,$E$2-$E$3),IF(C139=КАЛЬКУЛЯТОР!$C$21,$I$9,$I$9-SUMIF($A$10:$A$369,\"<=\"&$E$3,$H$10:$H$369)),0,0),\"\")","v":""},{"$f":"IFERROR((-PPMT(C139/12,B139,IF(C139=КАЛЬКУЛЯТОР!$C$21,$E$2,$E$2-$E$3),IF(C139=КАЛЬКУЛЯТОР!$C$21,$I$9,$I$9-SUMIF($A$10:$A$369,\"<=\"&$E$3,$H$10:$H$369)),0,0)),\"\")","v":""},"",{"$error":"#VALUE!"},null,{"$error":"#VALUE!"},{"$error":"#VALUE!"},{"$error":"#VALUE!"},{"$error":"#VALUE!"},false]
[131,131,"",{"$f":"IF(A140<=$E$2,-PMT(C140/12,IF(C140=КАЛЬКУЛЯТОР!$C$21,$E$2,$E$2-$E$3),IF(C140=КАЛЬКУЛЯТОР!$C$21,$I$9,$I$9-SUMIF($A$10:$A$369,\"<=\"&$E$3,$H$10:$H$369)),0,0),\"\")","v":""},null,{"$f":"IFERROR(-IPMT(C140/12,B140,IF(C140=КАЛЬКУЛЯТОР!$C$21,$E$2,$E$2-$E$3),IF(C140=КАЛЬКУЛЯТОР!$C$21,$I$9,$I$9-SUMIF($A$10:$A$369,\"<=\"&$E$3,$H$10:$H$369)),0,0),\"\")","v":""},{"$f":"IFERROR(-IPMT((C140-$P$1)/12,B140,IF(C140=КАЛЬКУЛЯТОР!$C$21,$E$2,$E$2-$E$3),IF(C140=КАЛЬКУЛЯТОР!$C$21,$I$9,$I$9-SUMIF($A$10:$A$369,\"<=\"&$E$3,$H$10:$H$369)),0,0),\"\")","v":""},{"$f":"IFERROR((-PPMT(C140/12,B140,IF(C140=КАЛЬКУЛЯТОР!$C$21,$E$2,$E$2-$E$3),IF(C140=КАЛЬКУЛЯТОР!$C$21,$I$9,$I$9-SUMIF($A$10:$A$369,\"<=\"&$E$3,$H$10:$H$369)),0,0)),\"\")","v":""},"",{"$error":"#VALUE!"},null,{"$error":"#VALUE!"},{"$error":"#VALUE!"},{"$error":"#VALUE!"},{"$error":"#VALUE!"},false]
[132,132,"",{"$f":"IF(A141<=$E$2,-PMT(C141/12,IF(C141=КАЛЬКУЛЯТОР!$C$21,$E$2,$E$2-$E$3),IF(C141=КАЛЬКУЛЯТОР!$C$21,$I$9,$I$9-SUMIF($A$10:$A$369,\"<=\"&$E$3,$H$10:$H$369)),0,0),\"\")","v":""},null,{"$f":"IFERROR(-IPMT(C141/12,B141,IF(C141=КАЛЬКУЛЯТОР!$C$21,$E$2,$E$2-$E$3),IF(C141=КАЛЬКУЛЯТОР!$C$21,$I$9,$I$9-SUMIF($A$10:$A$369,\"<=\"&$E$3,$H$10:$H$369)),0,0),\"\")","v":""},{"$f":"IFERROR(-IPMT((C141-$P$1)/12,B141,IF(C141=КАЛЬКУЛЯТОР!$C$21,$E$2,$E$2-$E$3),IF(C141=КАЛЬКУЛЯТОР!$C$21,$I$9,$I$9-SUMIF($A$10:$A$369,\"<=\"&$E$3,$H$10:$H$369)),0,0),\"\")","v":""},{"$f":"IFERROR((-PPMT(C141/12,B141,IF(C141=КАЛЬКУЛЯТОР!$C$21,$E$2,$E$2-$E$3),IF(C141=КАЛЬКУЛЯТОР!$C$21,$I$9,$I$9-SUMIF($A$10:$A$369,\"<=\"&$E$3,$H$10:$H$369)),0,0)),\"\")","v":""},"",{"$error":"#VALUE!"},null,{"$error":"#VALUE!"},{"$error":"#VALUE!"},{"$error":"#VALUE!"},{"$error":"#VALUE!"},false]
[133,133,"",{"$f":"IF(A142<=$E$2,-PMT(C142/12,IF(C142=КАЛЬКУЛЯТОР!$C$21,$E$2,$E$2-$E$3),IF(C142=КАЛЬКУЛЯТОР!$C$21,$I$9,$I$9-SUMIF($A$10:$A$369,\"<=\"&$E$3,$H$10:$H$369)),0,0)+E142,\"\")","v":""},{"$f":"IF($E$2>$A141,(I141+SUM(F142:F153))*($K$4+$K$5),0)","v":{"v":0,"d":"0.00"}},{"$f":"IFERROR(-IPMT(C142/12,B142,IF(C142=КАЛЬКУЛЯТОР!$C$21,$E$2,$E$2-$E$3),IF(C142=КАЛЬКУЛЯТОР!$C$21,$I$9,$I$9-SUMIF($A$10:$A$369,\"<=\"&$E$3,$H$10:$H$369)),0,0),\"\")","v":""},{"$f":"IFERROR(-IPMT((C142-$P$1)/12,B142,IF(C142=КАЛЬКУЛЯТОР!$C$21,$E$2,$E$2-$E$3),IF(C142=КАЛЬКУЛЯТОР!$C$21,$I$9,$I$9-SUMIF($A$10:$A$369,\"<=\"&$E$3,$H$10:$H$369)),0,0),\"\")","v":""},{"$f":"IFERROR((-PPMT(C142/12,B142,IF(C142=КАЛЬКУЛЯТОР!$C$21,$E$2,$E$2-$E$3),IF(C142=КАЛЬКУЛЯТОР!$C$21,$I$9,$I$9-SUMIF($A$10:$A$369,\"<=\"&$E$3,$H$10:$H$369)),0,0)),\"\")","v":""},"",{"$error":"#VALUE!"},{"$f":"PV($E$5/12,A142-1,0,-E142)","v":{"v":0,"d":"0.00"}},{"$error":"#VALUE!"},{"$error":"#VALUE!"},{"$error":"#VALUE!"},{"$error":"#VALUE!"},false]
[134,134,"",{"$f":"IF(A143<=$E$2,-PMT(C143/12,IF(C143=КАЛЬКУЛЯТОР!$C$21,$E$2,$E$2-$E$3),IF(C143=КАЛЬКУЛЯТОР!$C$21,$I$9,$I$9-SUMIF($A$10:$A$369,\"<=\"&$E$3,$H$10:$H$369)),0,0),\"\")","v":""},null,{"$f":"IFERROR(-IPMT(C143/12,B143,IF(C143=КАЛЬКУЛЯТОР!$C$21,$E$2,$E$2-$E$3),IF(C143=КАЛЬКУЛЯТОР!$C$21,$I$9,$I$9-SUMIF($A$10:$A$369,\"<=\"&$E$3,$H$10:$H$369)),0,0),\"\")","v":""},{"$f":"IFERROR(-IPMT((C143-$P$1)/12,B143,IF(C143=КАЛЬКУЛЯТОР!$C$21,$E$2,$E$2-$E$3),IF(C143=КАЛЬКУЛЯТОР!$C$21,$I$9,$I$9-SUMIF($A$10:$A$369,\"<=\"&$E$3,$H$10:$H$369)),0,0),\"\")","v":""},{"$f":"IFERROR((-PPMT(C143/12,B143,IF(C143=КАЛЬКУЛЯТОР!$C$21,$E$2,$E$2-$E$3),IF(C143=КАЛЬКУЛЯТОР!$C$21,$I$9,$I$9-SUMIF($A$10:$A$369,\"<=\"&$E$3,$H$10:$H$369)),0,0)),\"\")","v":""},"",{"$error":"#VALUE!"},null,{"$error":"#VALUE!"},{"$error":"#VALUE!"},{"$error":"#VALUE!"},{"$error":"#VALUE!"},false]
[135,135,"",{"$f":"IF(A144<=$E$2,-PMT(C144/12,IF(C144=КАЛЬКУЛЯТОР!$C$21,$E$2,$E$2-$E$3),IF(C144=КАЛЬКУЛЯТОР!$C$21,$I$9,$I$9-SUMIF($A$10:$A$369,\"<=\"&$E$3,$H$10:$H$369)),0,0),\"\")","v":""},null,{"$f":"IFERROR(-IPMT(C144/12,B144,IF(C144=КАЛЬКУЛЯТОР!$C$21,$E$2,$E$2-$E$3),IF(C144=КАЛЬКУЛЯТОР!$C$21,$I$9,$I$9-SUMIF($A$10:$A$369,\"<=\"&$E$3,$H$10:$H$369)),0,0),\"\")","v":""},{"$f":"IFERROR(-IPMT((C144-$P$1)/12,B144,IF(C144=КАЛЬКУЛЯТОР!$C$21,$E$2,$E$2-$E$3),IF(C144=КАЛЬКУЛЯТОР!$C$21,$I$9,$I$9-SUMIF($A$10:$A$369,\"<=\"&$E$3,$H$10:$H$369)),0,0),\"\")","v":""},{"$f":"IFERROR((-PPMT(C144/12,B144,IF(C144=КАЛЬКУЛЯТОР!$C$21,$E$2,$E$2-$E$3),IF(C144=КАЛЬКУЛЯТОР!$C$21,$I$9,$I$9-SUMIF($A$10:$A$369,\"<=\"&$E$3,$H$10:$H$369)),0,0)),\"\")","v":""},"",{"$error":"#VALUE!"},null,{"$error":"#VALUE!"},{"$error":"#VALUE!"},{"$error":"#VALUE!"},{"$error":"#VALUE!"},false]
[136,136,"",{"$f":"IF(A145<=$E$2,-PMT(C145/12,IF(C145=КАЛЬКУЛЯТОР!$C$21,$E$2,$E$2-$E$3),IF(C145=КАЛЬКУЛЯТОР!$C$21,$I$9,$I$9-SUMIF($A$10:$A$369,\"<=\"&$E$3,$H$10:$H$369)),0,0),\"\")","v":""},null,{"$f":"IFERROR(-IPMT(C145/12,B145,IF(C145=КАЛЬКУЛЯТОР!$C$21,$E$2,$E$2-$E$3),IF(C145=КАЛЬКУЛЯТОР!$C$21,$I$9,$I$9-SUMIF($A$10:$A$369,\"<=\"&$E$3,$H$10:$H$369)),0,0),\"\")","v":""},{"$f":"IFERROR(-IPMT((C145-$P$1)/12,B145,IF(C145=КАЛЬКУЛЯТОР!$C$21,$E$2,$E$2-$E$3),IF(C145=КАЛЬКУЛЯТОР!$C$21,$I$9,$I$9-SUMIF($A$10:$A$369,\"<=\"&$E$3,$H$10:$H$369)),0,0),\"\")","v":""},{"$f":"IFERROR((-PPMT(C145/12,B145,IF(C145=КАЛЬКУЛЯТОР!$C$21,$E$2,$E$2-$E$3),IF(C145=КАЛЬКУЛЯТОР!$C$21,$I$9,$I$9-SUMIF($A$10:$A$369,\"<=\"&$E$3,$H$10:$H$369)),0,0)),\"\")","v":""},"",{"$error":"#VALUE!"},null,{"$error":"#VALUE!"},{"$error":"#VALUE!"},{"$error":"#VALUE!"},{"$error":"#VALUE!"},false]
[137,137,"",{"$f":"IF(A146<=$E$2,-PMT(C146/12,IF(C146=КАЛЬКУЛЯТОР!$C$21,$E$2,$E$2-$E$3),IF(C146=КАЛЬКУЛЯТОР!$C$21,$I$9,$I$9-SUMIF($A$10:$A$369,\"<=\"&$E$3,$H$10:$H$369)),0,0),\"\")","v":""},null,{"$f":"IFERROR(-IPMT(C146/12,B146,IF(C146=КАЛЬКУЛЯТОР!$C$21,$E$2,$E$2-$E$3),IF(C146=КАЛЬКУЛЯТОР!$C$21,$I$9,$I$9-SUMIF($A$10:$A$369,\"<=\"&$E$3,$H$10:$H$369)),0,0),\"\")","v":""},{"$f":"IFERROR(-IPMT((C146-$P$1)/12,B146,IF(C146=КАЛЬКУЛЯТОР!$C$21,$E$2,$E$2-$E$3),IF(C146=КАЛЬКУЛЯТОР!$C$21,$I$9,$I$9-SUMIF($A$10:$A$369,\"<=\"&$E$3,$H$10:$H$369)),0,0),\"\")","v":""},{"$f":"IFERROR((-PPMT(C146/12,B146,IF(C146=КАЛЬКУЛЯТОР!$C$21,$E$2,$E$2-$E$3),IF(C146=КАЛЬКУЛЯТОР!$C$21,$I$9,$I$9-SUMIF($A$10:$A$369,\"<=\"&$E$3,$H$10:$H$369)),0,0)),\"\")","v":""},"",{"$error":"#VALUE!"},null,{"$error":"#VALUE!"},{"$error":"#VALUE!"},{"$error":"#VALUE!"},{"$error":"#VALUE!"},false]
[138,138,"",{"$f":"IF(A147<=$E$2,-PMT(C147/12,IF(C147=КАЛЬКУЛЯТОР!$C$21,$E$2,$E$2-$E$3),IF(C147=КАЛЬКУЛЯТОР!$C$21,$I$9,$I$9-SUMIF($A$10:$A$369,\"<=\"&$E$3,$H$10:$H$369)),0,0),\"\")","v":""},null,{"$f":"IFERROR(-IPMT(C147/12,B147,IF(C147=КАЛЬКУЛЯТОР!$C$21,$E$2,$E$2-$E$3),IF(C147=КАЛЬКУЛЯТОР!$C$21,$I$9,$I$9-SUMIF($A$10:$A$369,\"<=\"&$E$3,$H$10:$H$369)),0,0),\"\")","v":""},{"$f":"IFERROR(-IPMT((C147-$P$1)/12,B147,IF(C147=КАЛЬКУЛЯТОР!$C$21,$E$2,$E$2-$E$3),IF(C147=КАЛЬКУЛЯТОР!$C$21,$I$9,$I$9-SUMIF($A$10:$A$369,\"<=\"&$E$3,$H$10:$H$369)),0,0),\"\")","v":""},{"$f":"IFERROR((-PPMT(C147/12,B147,IF(C147=КАЛЬКУЛЯТОР!$C$21,$E$2,$E$2-$E$3),IF(C147=КАЛЬКУЛЯТОР!$C$21,$I$9,$I$9-SUMIF($A$10:$A$369,\"<=\"&$E$3,$H$10:$H$369)),0,0)),\"\")","v":""},"",{"$error":"#VALUE!"},null,{"$error":"#VALUE!"},{"$error":"#VALUE!"},{"$error":"#VALUE!"},{"$error":"#VALUE!"},false]
[139,139,"",{"$f":"IF(A148<=$E$2,-PMT(C148/12,IF(C148=КАЛЬКУЛЯТОР!$C$21,$E$2,$E$2-$E$3),IF(C148=КАЛЬКУЛЯТОР!$C$21,$I$9,$I$9-SUMIF($A$10:$A$369,\"<=\"&$E$3,$H$10:$H$369)),0,0),\"\")","v":""},null,{"$f":"IFERROR(-IPMT(C148/12,B148,IF(C148=КАЛЬКУЛЯТОР!$C$21,$E$2,$E$2-$E$3),IF(C148=КАЛЬКУЛЯТОР!$C$21,$I$9,$I$9-SUMIF($A$10:$A$369,\"<=\"&$E$3,$H$10:$H$369)),0,0),\"\")","v":""},{"$f":"IFERROR(-IPMT((C148-$P$1)/12,B148,IF(C148=КАЛЬКУЛЯТОР!$C$21,$E$2,$E$2-$E$3),IF(C148=КАЛЬКУЛЯТОР!$C$21,$I$9,$I$9-SUMIF($A$10:$A$369,\"<=\"&$E$3,$H$10:$H$369)),0,0),\"\")","v":""},{"$f":"IFERROR((-PPMT(C148/12,B148,IF(C148=КАЛЬКУЛЯТОР!$C$21,$E$2,$E$2-$E$3),IF(C148=КАЛЬКУЛЯТОР!$C$21,$I$9,$I$9-SUMIF($A$10:$A$369,\"<=\"&$E$3,$H$10:$H$369)),0,0)),\"\")","v":""},"",{"$error":"#VALUE!"},null,{"$error":"#VALUE!"},{"$error":"#VALUE!"},{"$error":"#VALUE!"},{"$error":"#VALUE!"},false]
[140,140,"",{"$f":"IF(A149<=$E$2,-PMT(C149/12,IF(C149=КАЛЬКУЛЯТОР!$C$21,$E$2,$E$2-$E$3),IF(C149=КАЛЬКУЛЯТОР!$C$21,$I$9,$I$9-SUMIF($A$10:$A$369,\"<=\"&$E$3,$H$10:$H$369)),0,0),\"\")","v":""},null,{"$f":"IFERROR(-IPMT(C149/12,B149,IF(C149=КАЛЬКУЛЯТОР!$C$21,$E$2,$E$2-$E$3),IF(C149=КАЛЬКУЛЯТОР!$C$21,$I$9,$I$9-SUMIF($A$10:$A$369,\"<=\"&$E$3,$H$10:$H$369)),0,0),\"\")","v":""},{"$f":"IFERROR(-IPMT((C149-$P$1)/12,B149,IF(C149=КАЛЬКУЛЯТОР!$C$21,$E$2,$E$2-$E$3),IF(C149=КАЛЬКУЛЯТОР!$C$21,$I$9,$I$9-SUMIF($A$10:$A$369,\"<=\"&$E$3,$H$10:$H$369)),0,0),\"\")","v":""},{"$f":"IFERROR((-PPMT(C149/12,B149,IF(C149=КАЛЬКУЛЯТОР!$C$21,$E$2,$E$2-$E$3),IF(C149=КАЛЬКУЛЯТОР!$C$21,$I$9,$I$9-SUMIF($A$10:$A$369,\"<=\"&$E$3,$H$10:$H$369)),0,0)),\"\")","v":""},"",{"$error":"#VALUE!"},null,{"$error":"#VALUE!"},{"$error":"#VALUE!"},{"$error":"#VALUE!"},{"$error":"#VALUE!"},false]
[141,141,"",{"$f":"IF(A150<=$E$2,-PMT(C150/12,IF(C150=КАЛЬКУЛЯТОР!$C$21,$E$2,$E$2-$E$3),IF(C150=КАЛЬКУЛЯТОР!$C$21,$I$9,$I$9-SUMIF($A$10:$A$369,\"<=\"&$E$3,$H$10:$H$369)),0,0),\"\")","v":""},null,{"$f":"IFERROR(-IPMT(C150/12,B150,IF(C150=КАЛЬКУЛЯТОР!$C$21,$E$2,$E$2-$E$3),IF(C150=КАЛЬКУЛЯТОР!$C$21,$I$9,$I$9-SUMIF($A$10:$A$369,\"<=\"&$E$3,$H$10:$H$369)),0,0),\"\")","v":""},{"$f":"IFERROR(-IPMT((C150-$P$1)/12,B150,IF(C150=КАЛЬКУЛЯТОР!$C$21,$E$2,$E$2-$E$3),IF(C150=КАЛЬКУЛЯТОР!$C$21,$I$9,$I$9-SUMIF($A$10:$A$369,\"<=\"&$E$3,$H$10:$H$369)),0,0),\"\")","v":""},{"$f":"IFERROR((-PPMT(C150/12,B150,IF(C150=КАЛЬКУЛЯТОР!$C$21,$E$2,$E$2-$E$3),IF(C150=КАЛЬКУЛЯТОР!$C$21,$I$9,$I$9-SUMIF($A$10:$A$369,\"<=\"&$E$3,$H$10:$H$369)),0,0)),\"\")","v":""},"",{"$error":"#VALUE!"},null,{"$error":"#VALUE!"},{"$error":"#VALUE!"},{"$error":"#VALUE!"},{"$error":"#VALUE!"},false]
[142,142,"",{"$f":"IF(A151<=$E$2,-PMT(C151/12,IF(C151=КАЛЬКУЛЯТОР!$C$21,$E$2,$E$2-$E$3),IF(C151=КАЛЬКУЛЯТОР!$C$21,$I$9,$I$9-SUMIF($A$10:$A$369,\"<=\"&$E$3,$H$10:$H$369)),0,0),\"\")","v":""},null,{"$f":"IFERROR(-IPMT(C151/12,B151,IF(C151=КАЛЬКУЛЯТОР!$C$21,$E$2,$E$2-$E$3),IF(C151=КАЛЬКУЛЯТОР!$C$21,$I$9,$I$9-SUMIF($A$10:$A$369,\"<=\"&$E$3,$H$10:$H$369)),0,0),\"\")","v":""},{"$f":"IFERROR(-IPMT((C151-$P$1)/12,B151,IF(C151=КАЛЬКУЛЯТОР!$C$21,$E$2,$E$2-$E$3),IF(C151=КАЛЬКУЛЯТОР!$C$21,$I$9,$I$9-SUMIF($A$10:$A$369,\"<=\"&$E$3,$H$10:$H$369)),0,0),\"\")","v":""},{"$f":"IFERROR((-PPMT(C151/12,B151,IF(C151=КАЛЬКУЛЯТОР!$C$21,$E$2,$E$2-$E$3),IF(C151=КАЛЬКУЛЯТОР!$C$21,$I$9,$I$9-SUMIF($A$10:$A$369,\"<=\"&$E$3,$H$10:$H$369)),0,0)),\"\")","v":""},"",{"$error":"#VALUE!"},null,{"$error":"#VALUE!"},{"$error":"#VALUE!"},{"$error":"#VALUE!"},{"$error":"#VALUE!"},false]
[143,143,"",{"$f":"IF(A152<=$E$2,-PMT(C152/12,IF(C152=КАЛЬКУЛЯТОР!$C$21,$E$2,$E$2-$E$3),IF(C152=КАЛЬКУЛЯТОР!$C$21,$I$9,$I$9-SUMIF($A$10:$A$369,\"<=\"&$E$3,$H$10:$H$369)),0,0),\"\")","v":""},null,{"$f":"IFERROR(-IPMT(C152/12,B152,IF(C152=КАЛЬКУЛЯТОР!$C$21,$E$2,$E$2-$E$3),IF(C152=КАЛЬКУЛЯТОР!$C$21,$I$9,$I$9-SUMIF($A$10:$A$369,\"<=\"&$E$3,$H$10:$H$369)),0,0),\"\")","v":""},{"$f":"IFERROR(-IPMT((C152-$P$1)/12,B152,IF(C152=КАЛЬКУЛЯТОР!$C$21,$E$2,$E$2-$E$3),IF(C152=КАЛЬКУЛЯТОР!$C$21,$I$9,$I$9-SUMIF($A$10:$A$369,\"<=\"&$E$3,$H$10:$H$369)),0,0),\"\")","v":""},{"$f":"IFERROR((-PPMT(C152/12,B152,IF(C152=КАЛЬКУЛЯТОР!$C$21,$E$2,$E$2-$E$3),IF(C152=КАЛЬКУЛЯТОР!$C$21,$I$9,$I$9-SUMIF($A$10:$A$369,\"<=\"&$E$3,$H$10:$H$369)),0,0)),\"\")","v":""},"",{"$error":"#VALUE!"},null,{"$error":"#VALUE!"},{"$error":"#VALUE!"},{"$error":"#VALUE!"},{"$error":"#VALUE!"},false]
[144,144,"",{"$f":"IF(A153<=$E$2,-PMT(C153/12,IF(C153=КАЛЬКУЛЯТОР!$C$21,$E$2,$E$2-$E$3),IF(C153=КАЛЬКУЛЯТОР!$C$21,$I$9,$I$9-SUMIF($A$10:$A$369,\"<=\"&$E$3,$H$10:$H$369)),0,0),\"\")","v":""},null,{"$f":"IFERROR(-IPMT(C153/12,B153,IF(C153=КАЛЬКУЛЯТОР!$C$21,$E$2,$E$2-$E$3),IF(C153=КАЛЬКУЛЯТОР!$C$21,$I$9,$I$9-SUMIF($A$10:$A$369,\"<=\"&$E$3,$H$10:$H$369)),0,0),\"\")","v":""},{"$f":"IFERROR(-IPMT((C153-$P$1)/12,B153,IF(C153=КАЛЬКУЛЯТОР!$C$21,$E$2,$E$2-$E$3),IF(C153=КАЛЬКУЛЯТОР!$C$21,$I$9,$I$9-SUMIF($A$10:$A$369,\"<=\"&$E$3,$H$10:$H$369)),0,0),\"\")","v":""},{"$f":"IFERROR((-PPMT(C153/12,B153,IF(C153=КАЛЬКУЛЯТОР!$C$21,$E$2,$E$2-$E$3),IF(C153=КАЛЬКУЛЯТОР!$C$21,$I$9,$I$9-SUMIF($A$10:$A$369,\"<=\"&$E$3,$H$10:$H$369)),0,0)),\"\")","v":""},"",{"$error":"#VALUE!"},null,{"$error":"#VALUE!"},{"$error":"#VALUE!"},{"$error":"#VALUE!"},{"$error":"#VALUE!"},false]
[145,145,"",{"$f":"IF(A154<=$E$2,-PMT(C154/12,IF(C154=КАЛЬКУЛЯТОР!$C$21,$E$2,$E$2-$E$3),IF(C154=КАЛЬКУЛЯТОР!$C$21,$I$9,$I$9-SUMIF($A$10:$A$369,\"<=\"&$E$3,$H$10:$H$369)),0,0)+E154,\"\")","v":""},{"$f":"IF($E$2>$A153,(I153+SUM(F154:F165))*($K$4+$K$5),0)","v":{"v":0,"d":"0.00"}},{"$f":"IFERROR(-IPMT(C154/12,B154,IF(C154=КАЛЬКУЛЯТОР!$C$21,$E$2,$E$2-$E$3),IF(C154=КАЛЬКУЛЯТОР!$C$21,$I$9,$I$9-SUMIF($A$10:$A$369,\"<=\"&$E$3,$H$10:$H$369)),0,0),\"\")","v":""},{"$f":"IFERROR(-IPMT((C154-$P$1)/12,B154,IF(C154=КАЛЬКУЛЯТОР!$C$21,$E$2,$E$2-$E$3),IF(C154=КАЛЬКУЛЯТОР!$C$21,$I$9,$I$9-SUMIF($A$10:$A$369,\"<=\"&$E$3,$H$10:$H$369)),0,0),\"\")","v":""},{"$f":"IFERROR((-PPMT(C154/12,B154,IF(C154=КАЛЬКУЛЯТОР!$C$21,$E$2,$E$2-$E$3),IF(C154=КАЛЬКУЛЯТОР!$C$21,$I$9,$I$9-SUMIF($A$10:$A$369,\"<=\"&$E$3,$H$10:$H$369)),0,0)),\"\")","v":""},"",{"$error":"#VALUE!"},{"$f":"PV($E$5/12,A154-1,0,-E154)","v":{"v":0,"d":"0.00"}},{"$error":"#VALUE!"},{"$error":"#VALUE!"},{"$error":"#VALUE!"},{"$error":"#VALUE!"},false]
[146,146,"",{"$f":"IF(A155<=$E$2,-PMT(C155/12,IF(C155=КАЛЬКУЛЯТОР!$C$21,$E$2,$E$2-$E$3),IF(C155=КАЛЬКУЛЯТОР!$C$21,$I$9,$I$9-SUMIF($A$10:$A$369,\"<=\"&$E$3,$H$10:$H$369)),0,0),\"\")","v":""},null,{"$f":"IFERROR(-IPMT(C155/12,B155,IF(C155=КАЛЬКУЛЯТОР!$C$21,$E$2,$E$2-$E$3),IF(C155=КАЛЬКУЛЯТОР!$C$21,$I$9,$I$9-SUMIF($A$10:$A$369,\"<=\"&$E$3,$H$10:$H$369)),0,0),\"\")","v":""},{"$f":"IFERROR(-IPMT((C155-$P$1)/12,B155,IF(C155=КАЛЬКУЛЯТОР!$C$21,$E$2,$E$2-$E$3),IF(C155=КАЛЬКУЛЯТОР!$C$21,$I$9,$I$9-SUMIF($A$10:$A$369,\"<=\"&$E$3,$H$10:$H$369)),0,0),\"\")","v":""},{"$f":"IFERROR((-PPMT(C155/12,B155,IF(C155=КАЛЬКУЛЯТОР!$C$21,$E$2,$E$2-$E$3),IF(C155=КАЛЬКУЛЯТОР!$C$21,$I$9,$I$9-SUMIF($A$10:$A$369,\"<=\"&$E$3,$H$10:$H$369)),0,0)),\"\")","v":""},"",{"$error":"#VALUE!"},null,{"$error":"#VALUE!"},{"$error":"#VALUE!"},{"$error":"#VALUE!"},{"$error":"#VALUE!"},false]
[147,147,"",{"$f":"IF(A156<=$E$2,-PMT(C156/12,IF(C156=КАЛЬКУЛЯТОР!$C$21,$E$2,$E$2-$E$3),IF(C156=КАЛЬКУЛЯТОР!$C$21,$I$9,$I$9-SUMIF($A$10:$A$369,\"<=\"&$E$3,$H$10:$H$369)),0,0),\"\")","v":""},null,{"$f":"IFERROR(-IPMT(C156/12,B156,IF(C156=КАЛЬКУЛЯТОР!$C$21,$E$2,$E$2-$E$3),IF(C156=КАЛЬКУЛЯТОР!$C$21,$I$9,$I$9-SUMIF($A$10:$A$369,\"<=\"&$E$3,$H$10:$H$369)),0,0),\"\")","v":""},{"$f":"IFERROR(-IPMT((C156-$P$1)/12,B156,IF(C156=КАЛЬКУЛЯТОР!$C$21,$E$2,$E$2-$E$3),IF(C156=КАЛЬКУЛЯТОР!$C$21,$I$9,$I$9-SUMIF($A$10:$A$369,\"<=\"&$E$3,$H$10:$H$369)),0,0),\"\")","v":""},{"$f":"IFERROR((-PPMT(C156/12,B156,IF(C156=КАЛЬКУЛЯТОР!$C$21,$E$2,$E$2-$E$3),IF(C156=КАЛЬКУЛЯТОР!$C$21,$I$9,$I$9-SUMIF($A$10:$A$369,\"<=\"&$E$3,$H$10:$H$369)),0,0)),\"\")","v":""},"",{"$error":"#VALUE!"},null,{"$error":"#VALUE!"},{"$error":"#VALUE!"},{"$error":"#VALUE!"},{"$error":"#VALUE!"},false]
[148,148,"",{"$f":"IF(A157<=$E$2,-PMT(C157/12,IF(C157=КАЛЬКУЛЯТОР!$C$21,$E$2,$E$2-$E$3),IF(C157=КАЛЬКУЛЯТОР!$C$21,$I$9,$I$9-SUMIF($A$10:$A$369,\"<=\"&$E$3,$H$10:$H$369)),0,0),\"\")","v":""},null,{"$f":"IFERROR(-IPMT(C157/12,B157,IF(C157=КАЛЬКУЛЯТОР!$C$21,$E$2,$E$2-$E$3),IF(C157=КАЛЬКУЛЯТОР!$C$21,$I$9,$I$9-SUMIF($A$10:$A$369,\"<=\"&$E$3,$H$10:$H$369)),0,0),\"\")","v":""},{"$f":"IFERROR(-IPMT((C157-$P$1)/12,B157,IF(C157=КАЛЬКУЛЯТОР!$C$21,$E$2,$E$2-$E$3),IF(C157=КАЛЬКУЛЯТОР!$C$21,$I$9,$I$9-SUMIF($A$10:$A$369,\"<=\"&$E$3,$H$10:$H$369)),0,0),\"\")","v":""},{"$f":"IFERROR((-PPMT(C157/12,B157,IF(C157=КАЛЬКУЛЯТОР!$C$21,$E$2,$E$2-$E$3),IF(C157=КАЛЬКУЛЯТОР!$C$21,$I$9,$I$9-SUMIF($A$10:$A$369,\"<=\"&$E$3,$H$10:$H$369)),0,0)),\"\")","v":""},"",{"$error":"#VALUE!"},null,{"$error":"#VALUE!"},{"$error":"#VALUE!"},{"$error":"#VALUE!"},{"$error":"#VALUE!"},false]
[149,149,"",{"$f":"IF(A158<=$E$2,-PMT(C158/12,IF(C158=КАЛЬКУЛЯТОР!$C$21,$E$2,$E$2-$E$3),IF(C158=КАЛЬКУЛЯТОР!$C$21,$I$9,$I$9-SUMIF($A$10:$A$369,\"<=\"&$E$3,$H$10:$H$369)),0,0),\"\")","v":""},null,{"$f":"IFERROR(-IPMT(C158/12,B158,IF(C158=КАЛЬКУЛЯТОР!$C$21,$E$2,$E$2-$E$3),IF(C158=КАЛЬКУЛЯТОР!$C$21,$I$9,$I$9-SUMIF($A$10:$A$369,\"<=\"&$E$3,$H$10:$H$369)),0,0),\"\")","v":""},{"$f":"IFERROR(-IPMT((C158-$P$1)/12,B158,IF(C158=КАЛЬКУЛЯТОР!$C$21,$E$2,$E$2-$E$3),IF(C158=КАЛЬКУЛЯТОР!$C$21,$I$9,$I$9-SUMIF($A$10:$A$369,\"<=\"&$E$3,$H$10:$H$369)),0,0),\"\")","v":""},{"$f":"IFERROR((-PPMT(C158/12,B158,IF(C158=КАЛЬКУЛЯТОР!$C$21,$E$2,$E$2-$E$3),IF(C158=КАЛЬКУЛЯТОР!$C$21,$I$9,$I$9-SUMIF($A$10:$A$369,\"<=\"&$E$3,$H$10:$H$369)),0,0)),\"\")","v":""},"",{"$error":"#VALUE!"},null,{"$error":"#VALUE!"},{"$error":"#VALUE!"},{"$error":"#VALUE!"},{"$error":"#VALUE!"},false]
[150,150,"",{"$f":"IF(A159<=$E$2,-PMT(C159/12,IF(C159=КАЛЬКУЛЯТОР!$C$21,$E$2,$E$2-$E$3),IF(C159=КАЛЬКУЛЯТОР!$C$21,$I$9,$I$9-SUMIF($A$10:$A$369,\"<=\"&$E$3,$H$10:$H$369)),0,0),\"\")","v":""},null,{"$f":"IFERROR(-IPMT(C159/12,B159,IF(C159=КАЛЬКУЛЯТОР!$C$21,$E$2,$E$2-$E$3),IF(C159=КАЛЬКУЛЯТОР!$C$21,$I$9,$I$9-SUMIF($A$10:$A$369,\"<=\"&$E$3,$H$10:$H$369)),0,0),\"\")","v":""},{"$f":"IFERROR(-IPMT((C159-$P$1)/12,B159,IF(C159=КАЛЬКУЛЯТОР!$C$21,$E$2,$E$2-$E$3),IF(C159=КАЛЬКУЛЯТОР!$C$21,$I$9,$I$9-SUMIF($A$10:$A$369,\"<=\"&$E$3,$H$10:$H$369)),0,0),\"\")","v":""},{"$f":"IFERROR((-PPMT(C159/12,B159,IF(C159=КАЛЬКУЛЯТОР!$C$21,$E$2,$E$2-$E$3),IF(C159=КАЛЬКУЛЯТОР!$C$21,$I$9,$I$9-SUMIF($A$10:$A$369,\"<=\"&$E$3,$H$10:$H$369)),0,0)),\"\")","v":""},"",{"$error":"#VALUE!"},null,{"$error":"#VALUE!"},{"$error":"#VALUE!"},{"$error":"#VALUE!"},{"$error":"#VALUE!"},false]
[151,151,"",{"$f":"IF(A160<=$E$2,-PMT(C160/12,IF(C160=КАЛЬКУЛЯТОР!$C$21,$E$2,$E$2-$E$3),IF(C160=КАЛЬКУЛЯТОР!$C$21,$I$9,$I$9-SUMIF($A$10:$A$369,\"<=\"&$E$3,$H$10:$H$369)),0,0),\"\")","v":""},null,{"$f":"IFERROR(-IPMT(C160/12,B160,IF(C160=КАЛЬКУЛЯТОР!$C$21,$E$2,$E$2-$E$3),IF(C160=КАЛЬКУЛЯТОР!$C$21,$I$9,$I$9-SUMIF($A$10:$A$369,\"<=\"&$E$3,$H$10:$H$369)),0,0),\"\")","v":""},{"$f":"IFERROR(-IPMT((C160-$P$1)/12,B160,IF(C160=КАЛЬКУЛЯТОР!$C$21,$E$2,$E$2-$E$3),IF(C160=КАЛЬКУЛЯТОР!$C$21,$I$9,$I$9-SUMIF($A$10:$A$369,\"<=\"&$E$3,$H$10:$H$369)),0,0),\"\")","v":""},{"$f":"IFERROR((-PPMT(C160/12,B160,IF(C160=КАЛЬКУЛЯТОР!$C$21,$E$2,$E$2-$E$3),IF(C160=КАЛЬКУЛЯТОР!$C$21,$I$9,$I$9-SUMIF($A$10:$A$369,\"<=\"&$E$3,$H$10:$H$369)),0,0)),\"\")","v":""},"",{"$error":"#VALUE!"},null,{"$error":"#VALUE!"},{"$error":"#VALUE!"},{"$error":"#VALUE!"},{"$error":"#VALUE!"},false]
[152,152,"",{"$f":"IF(A161<=$E$2,-PMT(C161/12,IF(C161=КАЛЬКУЛЯТОР!$C$21,$E$2,$E$2-$E$3),IF(C161=КАЛЬКУЛЯТОР!$C$21,$I$9,$I$9-SUMIF($A$10:$A$369,\"<=\"&$E$3,$H$10:$H$369)),0,0),\"\")","v":""},null,{"$f":"IFERROR(-IPMT(C161/12,B161,IF(C161=КАЛЬКУЛЯТОР!$C$21,$E$2,$E$2-$E$3),IF(C161=КАЛЬКУЛЯТОР!$C$21,$I$9,$I$9-SUMIF($A$10:$A$369,\"<=\"&$E$3,$H$10:$H$369)),0,0),\"\")","v":""},{"$f":"IFERROR(-IPMT((C161-$P$1)/12,B161,IF(C161=КАЛЬКУЛЯТОР!$C$21,$E$2,$E$2-$E$3),IF(C161=КАЛЬКУЛЯТОР!$C$21,$I$9,$I$9-SUMIF($A$10:$A$369,\"<=\"&$E$3,$H$10:$H$369)),0,0),\"\")","v":""},{"$f":"IFERROR((-PPMT(C161/12,B161,IF(C161=КАЛЬКУЛЯТОР!$C$21,$E$2,$E$2-$E$3),IF(C161=КАЛЬКУЛЯТОР!$C$21,$I$9,$I$9-SUMIF($A$10:$A$369,\"<=\"&$E$3,$H$10:$H$369)),0,0)),\"\")","v":""},"",{"$error":"#VALUE!"},null,{"$error":"#VALUE!"},{"$error":"#VALUE!"},{"$error":"#VALUE!"},{"$error":"#VALUE!"},false]
[153,153,"",{"$f":"IF(A162<=$E$2,-PMT(C162/12,IF(C162=КАЛЬКУЛЯТОР!$C$21,$E$2,$E$2-$E$3),IF(C162=КАЛЬКУЛЯТОР!$C$21,$I$9,$I$9-SUMIF($A$10:$A$369,\"<=\"&$E$3,$H$10:$H$369)),0,0),\"\")","v":""},null,{"$f":"IFERROR(-IPMT(C162/12,B162,IF(C162=КАЛЬКУЛЯТОР!$C$21,$E$2,$E$2-$E$3),IF(C162=КАЛЬКУЛЯТОР!$C$21,$I$9,$I$9-SUMIF($A$10:$A$369,\"<=\"&$E$3,$H$10:$H$369)),0,0),\"\")","v":""},{"$f":"IFERROR(-IPMT((C162-$P$1)/12,B162,IF(C162=КАЛЬКУЛЯТОР!$C$21,$E$2,$E$2-$E$3),IF(C162=КАЛЬКУЛЯТОР!$C$21,$I$9,$I$9-SUMIF($A$10:$A$369,\"<=\"&$E$3,$H$10:$H$369)),0,0),\"\")","v":""},{"$f":"IFERROR((-PPMT(C162/12,B162,IF(C162=КАЛЬКУЛЯТОР!$C$21,$E$2,$E$2-$E$3),IF(C162=КАЛЬКУЛЯТОР!$C$21,$I$9,$I$9-SUMIF($A$10:$A$369,\"<=\"&$E$3,$H$10:$H$369)),0,0)),\"\")","v":""},"",{"$error":"#VALUE!"},null,{"$error":"#VALUE!"},{"$error":"#VALUE!"},{"$error":"#VALUE!"},{"$error":"#VALUE!"},false]
[154,154,"",{"$f":"IF(A163<=$E$2,-PMT(C163/12,IF(C163=КАЛЬКУЛЯТОР!$C$21,$E$2,$E$2-$E$3),IF(C163=КАЛЬКУЛЯТОР!$C$21,$I$9,$I$9-SUMIF($A$10:$A$369,\"<=\"&$E$3,$H$10:$H$369)),0,0),\"\")","v":""},null,{"$f":"IFERROR(-IPMT(C163/12,B163,IF(C163=КАЛЬКУЛЯТОР!$C$21,$E$2,$E$2-$E$3),IF(C163=КАЛЬКУЛЯТОР!$C$21,$I$9,$I$9-SUMIF($A$10:$A$369,\"<=\"&$E$3,$H$10:$H$369)),0,0),\"\")","v":""},{"$f":"IFERROR(-IPMT((C163-$P$1)/12,B163,IF(C163=КАЛЬКУЛЯТОР!$C$21,$E$2,$E$2-$E$3),IF(C163=КАЛЬКУЛЯТОР!$C$21,$I$9,$I$9-SUMIF($A$10:$A$369,\"<=\"&$E$3,$H$10:$H$369)),0,0),\"\")","v":""},{"$f":"IFERROR((-PPMT(C163/12,B163,IF(C163=КАЛЬКУЛЯТОР!$C$21,$E$2,$E$2-$E$3),IF(C163=КАЛЬКУЛЯТОР!$C$21,$I$9,$I$9-SUMIF($A$10:$A$369,\"<=\"&$E$3,$H$10:$H$369)),0,0)),\"\")","v":""},"",{"$error":"#VALUE!"},null,{"$error":"#VALUE!"},{"$error":"#VALUE!"},{"$error":"#VALUE!"},{"$error":"#VALUE!"},false]
[155,155,"",{"$f":"IF(A164<=$E$2,-PMT(C164/12,IF(C164=КАЛЬКУЛЯТОР!$C$21,$E$2,$E$2-$E$3),IF(C164=КАЛЬКУЛЯТОР!$C$21,$I$9,$I$9-SUMIF($A$10:$A$369,\"<=\"&$E$3,$H$10:$H$369)),0,0),\"\")","v":""},null,{"$f":"IFERROR(-IPMT(C164/12,B164,IF(C164=КАЛЬКУЛЯТОР!$C$21,$E$2,$E$2-$E$3),IF(C164=КАЛЬКУЛЯТОР!$C$21,$I$9,$I$9-SUMIF($A$10:$A$369,\"<=\"&$E$3,$H$10:$H$369)),0,0),\"\")","v":""},{"$f":"IFERROR(-IPMT((C164-$P$1)/12,B164,IF(C164=КАЛЬКУЛЯТОР!$C$21,$E$2,$E$2-$E$3),IF(C164=КАЛЬКУЛЯТОР!$C$21,$I$9,$I$9-SUMIF($A$10:$A$369,\"<=\"&$E$3,$H$10:$H$369)),0,0),\"\")","v":""},{"$f":"IFERROR((-PPMT(C164/12,B164,IF(C164=КАЛЬКУЛЯТОР!$C$21,$E$2,$E$2-$E$3),IF(C164=КАЛЬКУЛЯТОР!$C$21,$I$9,$I$9-SUMIF($A$10:$A$369,\"<=\"&$E$3,$H$10:$H$369)),0,0)),\"\")","v":""},"",{"$error":"#VALUE!"},null,{"$error":"#VALUE!"},{"$error":"#VALUE!"},{"$error":"#VALUE!"},{"$error":"#VALUE!"},false]
[156,156,"",{"$f":"IF(A165<=$E$2,-PMT(C165/12,IF(C165=КАЛЬКУЛЯТОР!$C$21,$E$2,$E$2-$E$3),IF(C165=КАЛЬКУЛЯТОР!$C$21,$I$9,$I$9-SUMIF($A$10:$A$369,\"<=\"&$E$3,$H$10:$H$369)),0,0),\"\")","v":""},null,{"$f":"IFERROR(-IPMT(C165/12,B165,IF(C165=КАЛЬКУЛЯТОР!$C$21,$E$2,$E$2-$E$3),IF(C165=КАЛЬКУЛЯТОР!$C$21,$I$9,$I$9-SUMIF($A$10:$A$369,\"<=\"&$E$3,$H$10:$H$369)),0,0),\"\")","v":""},{"$f":"IFERROR(-IPMT((C165-$P$1)/12,B165,IF(C165=КАЛЬКУЛЯТОР!$C$21,$E$2,$E$2-$E$3),IF(C165=КАЛЬКУЛЯТОР!$C$21,$I$9,$I$9-SUMIF($A$10:$A$369,\"<=\"&$E$3,$H$10:$H$369)),0,0),\"\")","v":""},{"$f":"IFERROR((-PPMT(C165/12,B165,IF(C165=КАЛЬКУЛЯТОР!$C$21,$E$2,$E$2-$E$3),IF(C165=КАЛЬКУЛЯТОР!$C$21,$I$9,$I$9-SUMIF($A$10:$A$369,\"<=\"&$E$3,$H$10:$H$369)),0,0)),\"\")","v":""},"",{"$error":"#VALUE!"},null,{"$error":"#VALUE!"},{"$error":"#VALUE!"},{"$error":"#VALUE!"},{"$error":"#VALUE!"},false]
[157,157,"",{"$f":"IF(A166<=$E$2,-PMT(C166/12,IF(C166=КАЛЬКУЛЯТОР!$C$21,$E$2,$E$2-$E$3),IF(C166=КАЛЬКУЛЯТОР!$C$21,$I$9,$I$9-SUMIF($A$10:$A$369,\"<=\"&$E$3,$H$10:$H$369)),0,0)+E166,\"\")","v":""},{"$f":"IF($E$2>$A165,(I165+SUM(F166:F177))*($K$4+$K$5),0)","v":{"v":0,"d":"0.00"}},{"$f":"IFERROR(-IPMT(C166/12,B166,IF(C166=КАЛЬКУЛЯТОР!$C$21,$E$2,$E$2-$E$3),IF(C166=КАЛЬКУЛЯТОР!$C$21,$I$9,$I$9-SUMIF($A$10:$A$369,\"<=\"&$E$3,$H$10:$H$369)),0,0),\"\")","v":""},{"$f":"IFERROR(-IPMT((C166-$P$1)/12,B166,IF(C166=КАЛЬКУЛЯТОР!$C$21,$E$2,$E$2-$E$3),IF(C166=КАЛЬКУЛЯТОР!$C$21,$I$9,$I$9-SUMIF($A$10:$A$369,\"<=\"&$E$3,$H$10:$H$369)),0,0),\"\")","v":""},{"$f":"IFERROR((-PPMT(C166/12,B166,IF(C166=КАЛЬКУЛЯТОР!$C$21,$E$2,$E$2-$E$3),IF(C166=КАЛЬКУЛЯТОР!$C$21,$I$9,$I$9-SUMIF($A$10:$A$369,\"<=\"&$E$3,$H$10:$H$369)),0,0)),\"\")","v":""},"",{"$error":"#VALUE!"},{"$f":"PV($E$5/12,A166-1,0,-E166)","v":{"v":0,"d":"0.00"}},{"$error":"#VALUE!"},{"$error":"#VALUE!"},{"$error":"#VALUE!"},{"$error":"#VALUE!"},false]
[158,158,"",{"$f":"IF(A167<=$E$2,-PMT(C167/12,IF(C167=КАЛЬКУЛЯТОР!$C$21,$E$2,$E$2-$E$3),IF(C167=КАЛЬКУЛЯТОР!$C$21,$I$9,$I$9-SUMIF($A$10:$A$369,\"<=\"&$E$3,$H$10:$H$369)),0,0),\"\")","v":""},null,{"$f":"IFERROR(-IPMT(C167/12,B167,IF(C167=КАЛЬКУЛЯТОР!$C$21,$E$2,$E$2-$E$3),IF(C167=КАЛЬКУЛЯТОР!$C$21,$I$9,$I$9-SUMIF($A$10:$A$369,\"<=\"&$E$3,$H$10:$H$369)),0,0),\"\")","v":""},{"$f":"IFERROR(-IPMT((C167-$P$1)/12,B167,IF(C167=КАЛЬКУЛЯТОР!$C$21,$E$2,$E$2-$E$3),IF(C167=КАЛЬКУЛЯТОР!$C$21,$I$9,$I$9-SUMIF($A$10:$A$369,\"<=\"&$E$3,$H$10:$H$369)),0,0),\"\")","v":""},{"$f":"IFERROR((-PPMT(C167/12,B167,IF(C167=КАЛЬКУЛЯТОР!$C$21,$E$2,$E$2-$E$3),IF(C167=КАЛЬКУЛЯТОР!$C$21,$I$9,$I$9-SUMIF($A$10:$A$369,\"<=\"&$E$3,$H$10:$H$369)),0,0)),\"\")","v":""},"",{"$error":"#VALUE!"},null,{"$error":"#VALUE!"},{"$error":"#VALUE!"},{"$error":"#VALUE!"},{"$error":"#VALUE!"},false]
[159,159,"",{"$f":"IF(A168<=$E$2,-PMT(C168/12,IF(C168=КАЛЬКУЛЯТОР!$C$21,$E$2,$E$2-$E$3),IF(C168=КАЛЬКУЛЯТОР!$C$21,$I$9,$I$9-SUMIF($A$10:$A$369,\"<=\"&$E$3,$H$10:$H$369)),0,0),\"\")","v":""},null,{"$f":"IFERROR(-IPMT(C168/12,B168,IF(C168=КАЛЬКУЛЯТОР!$C$21,$E$2,$E$2-$E$3),IF(C168=КАЛЬКУЛЯТОР!$C$21,$I$9,$I$9-SUMIF($A$10:$A$369,\"<=\"&$E$3,$H$10:$H$369)),0,0),\"\")","v":""},{"$f":"IFERROR(-IPMT((C168-$P$1)/12,B168,IF(C168=КАЛЬКУЛЯТОР!$C$21,$E$2,$E$2-$E$3),IF(C168=КАЛЬКУЛЯТОР!$C$21,$I$9,$I$9-SUMIF($A$10:$A$369,\"<=\"&$E$3,$H$10:$H$369)),0,0),\"\")","v":""},{"$f":"IFERROR((-PPMT(C168/12,B168,IF(C168=КАЛЬКУЛЯТОР!$C$21,$E$2,$E$2-$E$3),IF(C168=КАЛЬКУЛЯТОР!$C$21,$I$9,$I$9-SUMIF($A$10:$A$369,\"<=\"&$E$3,$H$10:$H$369)),0,0)),\"\")","v":""},"",{"$error":"#VALUE!"},null,{"$error":"#VALUE!"},{"$error":"#VALUE!"},{"$error":"#VALUE!"},{"$error":"#VALUE!"},false]
[160,160,"",{"$f":"IF(A169<=$E$2,-PMT(C169/12,IF(C169=КАЛЬКУЛЯТОР!$C$21,$E$2,$E$2-$E$3),IF(C169=КАЛЬКУЛЯТОР!$C$21,$I$9,$I$9-SUMIF($A$10:$A$369,\"<=\"&$E$3,$H$10:$H$369)),0,0),\"\")","v":""},null,{"$f":"IFERROR(-IPMT(C169/12,B169,IF(C169=КАЛЬКУЛЯТОР!$C$21,$E$2,$E$2-$E$3),IF(C169=КАЛЬКУЛЯТОР!$C$21,$I$9,$I$9-SUMIF($A$10:$A$369,\"<=\"&$E$3,$H$10:$H$369)),0,0),\"\")","v":""},{"$f":"IFERROR(-IPMT((C169-$P$1)/12,B169,IF(C169=КАЛЬКУЛЯТОР!$C$21,$E$2,$E$2-$E$3),IF(C169=КАЛЬКУЛЯТОР!$C$21,$I$9,$I$9-SUMIF($A$10:$A$369,\"<=\"&$E$3,$H$10:$H$369)),0,0),\"\")","v":""},{"$f":"IFERROR((-PPMT(C169/12,B169,IF(C169=КАЛЬКУЛЯТОР!$C$21,$E$2,$E$2-$E$3),IF(C169=КАЛЬКУЛЯТОР!$C$21,$I$9,$I$9-SUMIF($A$10:$A$369,\"<=\"&$E$3,$H$10:$H$369)),0,0)),\"\")","v":""},"",{"$error":"#VALUE!"},null,{"$error":"#VALUE!"},{"$error":"#VALUE!"},{"$error":"#VALUE!"},{"$error":"#VALUE!"},false]
[161,161,"",{"$f":"IF(A170<=$E$2,-PMT(C170/12,IF(C170=КАЛЬКУЛЯТОР!$C$21,$E$2,$E$2-$E$3),IF(C170=КАЛЬКУЛЯТОР!$C$21,$I$9,$I$9-SUMIF($A$10:$A$369,\"<=\"&$E$3,$H$10:$H$369)),0,0),\"\")","v":""},null,{"$f":"IFERROR(-IPMT(C170/12,B170,IF(C170=КАЛЬКУЛЯТОР!$C$21,$E$2,$E$2-$E$3),IF(C170=КАЛЬКУЛЯТОР!$C$21,$I$9,$I$9-SUMIF($A$10:$A$369,\"<=\"&$E$3,$H$10:$H$369)),0,0),\"\")","v":""},{"$f":"IFERROR(-IPMT((C170-$P$1)/12,B170,IF(C170=КАЛЬКУЛЯТОР!$C$21,$E$2,$E$2-$E$3),IF(C170=КАЛЬКУЛЯТОР!$C$21,$I$9,$I$9-SUMIF($A$10:$A$369,\"<=\"&$E$3,$H$10:$H$369)),0,0),\"\")","v":""},{"$f":"IFERROR((-PPMT(C170/12,B170,IF(C170=КАЛЬКУЛЯТОР!$C$21,$E$2,$E$2-$E$3),IF(C170=КАЛЬКУЛЯТОР!$C$21,$I$9,$I$9-SUMIF($A$10:$A$369,\"<=\"&$E$3,$H$10:$H$369)),0,0)),\"\")","v":""},"",{"$error":"#VALUE!"},null,{"$error":"#VALUE!"},{"$error":"#VALUE!"},{"$error":"#VALUE!"},{"$error":"#VALUE!"},false]
[162,162,"",{"$f":"IF(A171<=$E$2,-PMT(C171/12,IF(C171=КАЛЬКУЛЯТОР!$C$21,$E$2,$E$2-$E$3),IF(C171=КАЛЬКУЛЯТОР!$C$21,$I$9,$I$9-SUMIF($A$10:$A$369,\"<=\"&$E$3,$H$10:$H$369)),0,0),\"\")","v":""},null,{"$f":"IFERROR(-IPMT(C171/12,B171,IF(C171=КАЛЬКУЛЯТОР!$C$21,$E$2,$E$2-$E$3),IF(C171=КАЛЬКУЛЯТОР!$C$21,$I$9,$I$9-SUMIF($A$10:$A$369,\"<=\"&$E$3,$H$10:$H$369)),0,0),\"\")","v":""},{"$f":"IFERROR(-IPMT((C171-$P$1)/12,B171,IF(C171=КАЛЬКУЛЯТОР!$C$21,$E$2,$E$2-$E$3),IF(C171=КАЛЬКУЛЯТОР!$C$21,$I$9,$I$9-SUMIF($A$10:$A$369,\"<=\"&$E$3,$H$10:$H$369)),0,0),\"\")","v":""},{"$f":"IFERROR((-PPMT(C171/12,B171,IF(C171=КАЛЬКУЛЯТОР!$C$21,$E$2,$E$2-$E$3),IF(C171=КАЛЬКУЛЯТОР!$C$21,$I$9,$I$9-SUMIF($A$10:$A$369,\"<=\"&$E$3,$H$10:$H$369)),0,0)),\"\")","v":""},"",{"$error":"#VALUE!"},null,{"$error":"#VALUE!"},{"$error":"#VALUE!"},{"$error":"#VALUE!"},{"$error":"#VALUE!"},false]
[163,163,"",{"$f":"IF(A172<=$E$2,-PMT(C172/12,IF(C172=КАЛЬКУЛЯТОР!$C$21,$E$2,$E$2-$E$3),IF(C172=КАЛЬКУЛЯТОР!$C$21,$I$9,$I$9-SUMIF($A$10:$A$369,\"<=\"&$E$3,$H$10:$H$369)),0,0),\"\")","v":""},null,{"$f":"IFERROR(-IPMT(C172/12,B172,IF(C172=КАЛЬКУЛЯТОР!$C$21,$E$2,$E$2-$E$3),IF(C172=КАЛЬКУЛЯТОР!$C$21,$I$9,$I$9-SUMIF($A$10:$A$369,\"<=\"&$E$3,$H$10:$H$369)),0,0),\"\")","v":""},{"$f":"IFERROR(-IPMT((C172-$P$1)/12,B172,IF(C172=КАЛЬКУЛЯТОР!$C$21,$E$2,$E$2-$E$3),IF(C172=КАЛЬКУЛЯТОР!$C$21,$I$9,$I$9-SUMIF($A$10:$A$369,\"<=\"&$E$3,$H$10:$H$369)),0,0),\"\")","v":""},{"$f":"IFERROR((-PPMT(C172/12,B172,IF(C172=КАЛЬКУЛЯТОР!$C$21,$E$2,$E$2-$E$3),IF(C172=КАЛЬКУЛЯТОР!$C$21,$I$9,$I$9-SUMIF($A$10:$A$369,\"<=\"&$E$3,$H$10:$H$369)),0,0)),\"\")","v":""},"",{"$error":"#VALUE!"},null,{"$error":"#VALUE!"},{"$error":"#VALUE!"},{"$error":"#VALUE!"},{"$error":"#VALUE!"},false]
[164,164,"",{"$f":"IF(A173<=$E$2,-PMT(C173/12,IF(C173=КАЛЬКУЛЯТОР!$C$21,$E$2,$E$2-$E$3),IF(C173=КАЛЬКУЛЯТОР!$C$21,$I$9,$I$9-SUMIF($A$10:$A$369,\"<=\"&$E$3,$H$10:$H$369)),0,0),\"\")","v":""},null,{"$f":"IFERROR(-IPMT(C173/12,B173,IF(C173=КАЛЬКУЛЯТОР!$C$21,$E$2,$E$2-$E$3),IF(C173=КАЛЬКУЛЯТОР!$C$21,$I$9,$I$9-SUMIF($A$10:$A$369,\"<=\"&$E$3,$H$10:$H$369)),0,0),\"\")","v":""},{"$f":"IFERROR(-IPMT((C173-$P$1)/12,B173,IF(C173=КАЛЬКУЛЯТОР!$C$21,$E$2,$E$2-$E$3),IF(C173=КАЛЬКУЛЯТОР!$C$21,$I$9,$I$9-SUMIF($A$10:$A$369,\"<=\"&$E$3,$H$10:$H$369)),0,0),\"\")","v":""},{"$f":"IFERROR((-PPMT(C173/12,B173,IF(C173=КАЛЬКУЛЯТОР!$C$21,$E$2,$E$2-$E$3),IF(C173=КАЛЬКУЛЯТОР!$C$21,$I$9,$I$9-SUMIF($A$10:$A$369,\"<=\"&$E$3,$H$10:$H$369)),0,0)),\"\")","v":""},"",{"$error":"#VALUE!"},null,{"$error":"#VALUE!"},{"$error":"#VALUE!"},{"$error":"#VALUE!"},{"$error":"#VALUE!"},false]
[165,165,"",{"$f":"IF(A174<=$E$2,-PMT(C174/12,IF(C174=КАЛЬКУЛЯТОР!$C$21,$E$2,$E$2-$E$3),IF(C174=КАЛЬКУЛЯТОР!$C$21,$I$9,$I$9-SUMIF($A$10:$A$369,\"<=\"&$E$3,$H$10:$H$369)),0,0),\"\")","v":""},null,{"$f":"IFERROR(-IPMT(C174/12,B174,IF(C174=КАЛЬКУЛЯТОР!$C$21,$E$2,$E$2-$E$3),IF(C174=КАЛЬКУЛЯТОР!$C$21,$I$9,$I$9-SUMIF($A$10:$A$369,\"<=\"&$E$3,$H$10:$H$369)),0,0),\"\")","v":""},{"$f":"IFERROR(-IPMT((C174-$P$1)/12,B174,IF(C174=КАЛЬКУЛЯТОР!$C$21,$E$2,$E$2-$E$3),IF(C174=КАЛЬКУЛЯТОР!$C$21,$I$9,$I$9-SUMIF($A$10:$A$369,\"<=\"&$E$3,$H$10:$H$369)),0,0),\"\")","v":""},{"$f":"IFERROR((-PPMT(C174/12,B174,IF(C174=КАЛЬКУЛЯТОР!$C$21,$E$2,$E$2-$E$3),IF(C174=КАЛЬКУЛЯТОР!$C$21,$I$9,$I$9-SUMIF($A$10:$A$369,\"<=\"&$E$3,$H$10:$H$369)),0,0)),\"\")","v":""},"",{"$error":"#VALUE!"},null,{"$error":"#VALUE!"},{"$error":"#VALUE!"},{"$error":"#VALUE!"},{"$error":"#VALUE!"},false]
[166,166,"",{"$f":"IF(A175<=$E$2,-PMT(C175/12,IF(C175=КАЛЬКУЛЯТОР!$C$21,$E$2,$E$2-$E$3),IF(C175=КАЛЬКУЛЯТОР!$C$21,$I$9,$I$9-SUMIF($A$10:$A$369,\"<=\"&$E$3,$H$10:$H$369)),0,0),\"\")","v":""},null,{"$f":"IFERROR(-IPMT(C175/12,B175,IF(C175=КАЛЬКУЛЯТОР!$C$21,$E$2,$E$2-$E$3),IF(C175=КАЛЬКУЛЯТОР!$C$21,$I$9,$I$9-SUMIF($A$10:$A$369,\"<=\"&$E$3,$H$10:$H$369)),0,0),\"\")","v":""},{"$f":"IFERROR(-IPMT((C175-$P$1)/12,B175,IF(C175=КАЛЬКУЛЯТОР!$C$21,$E$2,$E$2-$E$3),IF(C175=КАЛЬКУЛЯТОР!$C$21,$I$9,$I$9-SUMIF($A$10:$A$369,\"<=\"&$E$3,$H$10:$H$369)),0,0),\"\")","v":""},{"$f":"IFERROR((-PPMT(C175/12,B175,IF(C175=КАЛЬКУЛЯТОР!$C$21,$E$2,$E$2-$E$3),IF(C175=КАЛЬКУЛЯТОР!$C$21,$I$9,$I$9-SUMIF($A$10:$A$369,\"<=\"&$E$3,$H$10:$H$369)),0,0)),\"\")","v":""},"",{"$error":"#VALUE!"},null,{"$error":"#VALUE!"},{"$error":"#VALUE!"},{"$error":"#VALUE!"},{"$error":"#VALUE!"},false]
[167,167,"",{"$f":"IF(A176<=$E$2,-PMT(C176/12,IF(C176=КАЛЬКУЛЯТОР!$C$21,$E$2,$E$2-$E$3),IF(C176=КАЛЬКУЛЯТОР!$C$21,$I$9,$I$9-SUMIF($A$10:$A$369,\"<=\"&$E$3,$H$10:$H$369)),0,0),\"\")","v":""},null,{"$f":"IFERROR(-IPMT(C176/12,B176,IF(C176=КАЛЬКУЛЯТОР!$C$21,$E$2,$E$2-$E$3),IF(C176=КАЛЬКУЛЯТОР!$C$21,$I$9,$I$9-SUMIF($A$10:$A$369,\"<=\"&$E$3,$H$10:$H$369)),0,0),\"\")","v":""},{"$f":"IFERROR(-IPMT((C176-$P$1)/12,B176,IF(C176=КАЛЬКУЛЯТОР!$C$21,$E$2,$E$2-$E$3),IF(C176=КАЛЬКУЛЯТОР!$C$21,$I$9,$I$9-SUMIF($A$10:$A$369,\"<=\"&$E$3,$H$10:$H$369)),0,0),\"\")","v":""},{"$f":"IFERROR((-PPMT(C176/12,B176,IF(C176=КАЛЬКУЛЯТОР!$C$21,$E$2,$E$2-$E$3),IF(C176=КАЛЬКУЛЯТОР!$C$21,$I$9,$I$9-SUMIF($A$10:$A$369,\"<=\"&$E$3,$H$10:$H$369)),0,0)),\"\")","v":""},"",{"$error":"#VALUE!"},null,{"$error":"#VALUE!"},{"$error":"#VALUE!"},{"$error":"#VALUE!"},{"$error":"#VALUE!"},false]
[168,168,"",{"$f":"IF(A177<=$E$2,-PMT(C177/12,IF(C177=КАЛЬКУЛЯТОР!$C$21,$E$2,$E$2-$E$3),IF(C177=КАЛЬКУЛЯТОР!$C$21,$I$9,$I$9-SUMIF($A$10:$A$369,\"<=\"&$E$3,$H$10:$H$369)),0,0),\"\")","v":""},null,{"$f":"IFERROR(-IPMT(C177/12,B177,IF(C177=КАЛЬКУЛЯТОР!$C$21,$E$2,$E$2-$E$3),IF(C177=КАЛЬКУЛЯТОР!$C$21,$I$9,$I$9-SUMIF($A$10:$A$369,\"<=\"&$E$3,$H$10:$H$369)),0,0),\"\")","v":""},{"$f":"IFERROR(-IPMT((C177-$P$1)/12,B177,IF(C177=КАЛЬКУЛЯТОР!$C$21,$E$2,$E$2-$E$3),IF(C177=КАЛЬКУЛЯТОР!$C$21,$I$9,$I$9-SUMIF($A$10:$A$369,\"<=\"&$E$3,$H$10:$H$369)),0,0),\"\")","v":""},{"$f":"IFERROR((-PPMT(C177/12,B177,IF(C177=КАЛЬКУЛЯТОР!$C$21,$E$2,$E$2-$E$3),IF(C177=КАЛЬКУЛЯТОР!$C$21,$I$9,$I$9-SUMIF($A$10:$A$369,\"<=\"&$E$3,$H$10:$H$369)),0,0)),\"\")","v":""},"",{"$error":"#VALUE!"},null,{"$error":"#VALUE!"},{"$error":"#VALUE!"},{"$error":"#VALUE!"},{"$error":"#VALUE!"},false]
[169,169,"",{"$f":"IF(A178<=$E$2,-PMT(C178/12,IF(C178=КАЛЬКУЛЯТОР!$C$21,$E$2,$E$2-$E$3),IF(C178=КАЛЬКУЛЯТОР!$C$21,$I$9,$I$9-SUMIF($A$10:$A$369,\"<=\"&$E$3,$H$10:$H$369)),0,0)+E178,\"\")","v":""},{"$f":"IF($E$2>$A177,(I177+SUM(F178:F189))*($K$4+$K$5),0)","v":{"v":0,"d":"0.00"}},{"$f":"IFERROR(-IPMT(C178/12,B178,IF(C178=КАЛЬКУЛЯТОР!$C$21,$E$2,$E$2-$E$3),IF(C178=КАЛЬКУЛЯТОР!$C$21,$I$9,$I$9-SUMIF($A$10:$A$369,\"<=\"&$E$3,$H$10:$H$369)),0,0),\"\")","v":""},{"$f":"IFERROR(-IPMT((C178-$P$1)/12,B178,IF(C178=КАЛЬКУЛЯТОР!$C$21,$E$2,$E$2-$E$3),IF(C178=КАЛЬКУЛЯТОР!$C$21,$I$9,$I$9-SUMIF($A$10:$A$369,\"<=\"&$E$3,$H$10:$H$369)),0,0),\"\")","v":""},{"$f":"IFERROR((-PPMT(C178/12,B178,IF(C178=КАЛЬКУЛЯТОР!$C$21,$E$2,$E$2-$E$3),IF(C178=КАЛЬКУЛЯТОР!$C$21,$I$9,$I$9-SUMIF($A$10:$A$369,\"<=\"&$E$3,$H$10:$H$369)),0,0)),\"\")","v":""},"",{"$error":"#VALUE!"},{"$f":"PV($E$5/12,A178-1,0,-E178)","v":{"v":0,"d":"0.00"}},{"$error":"#VALUE!"},{"$error":"#VALUE!"},{"$error":"#VALUE!"},{"$error":"#VALUE!"},false]
[170,170,"",{"$f":"IF(A179<=$E$2,-PMT(C179/12,IF(C179=КАЛЬКУЛЯТОР!$C$21,$E$2,$E$2-$E$3),IF(C179=КАЛЬКУЛЯТОР!$C$21,$I$9,$I$9-SUMIF($A$10:$A$369,\"<=\"&$E$3,$H$10:$H$369)),0,0),\"\")","v":""},null,{"$f":"IFERROR(-IPMT(C179/12,B179,IF(C179=КАЛЬКУЛЯТОР!$C$21,$E$2,$E$2-$E$3),IF(C179=КАЛЬКУЛЯТОР!$C$21,$I$9,$I$9-SUMIF($A$10:$A$369,\"<=\"&$E$3,$H$10:$H$369)),0,0),\"\")","v":""},{"$f":"IFERROR(-IPMT((C179-$P$1)/12,B179,IF(C179=КАЛЬКУЛЯТОР!$C$21,$E$2,$E$2-$E$3),IF(C179=КАЛЬКУЛЯТОР!$C$21,$I$9,$I$9-SUMIF($A$10:$A$369,\"<=\"&$E$3,$H$10:$H$369)),0,0),\"\")","v":""},{"$f":"IFERROR((-PPMT(C179/12,B179,IF(C179=КАЛЬКУЛЯТОР!$C$21,$E$2,$E$2-$E$3),IF(C179=КАЛЬКУЛЯТОР!$C$21,$I$9,$I$9-SUMIF($A$10:$A$369,\"<=\"&$E$3,$H$10:$H$369)),0,0)),\"\")","v":""},"",{"$error":"#VALUE!"},null,{"$error":"#VALUE!"},{"$error":"#VALUE!"},{"$error":"#VALUE!"},{"$error":"#VALUE!"},false]
[171,171,"",{"$f":"IF(A180<=$E$2,-PMT(C180/12,IF(C180=КАЛЬКУЛЯТОР!$C$21,$E$2,$E$2-$E$3),IF(C180=КАЛЬКУЛЯТОР!$C$21,$I$9,$I$9-SUMIF($A$10:$A$369,\"<=\"&$E$3,$H$10:$H$369)),0,0),\"\")","v":""},null,{"$f":"IFERROR(-IPMT(C180/12,B180,IF(C180=КАЛЬКУЛЯТОР!$C$21,$E$2,$E$2-$E$3),IF(C180=КАЛЬКУЛЯТОР!$C$21,$I$9,$I$9-SUMIF($A$10:$A$369,\"<=\"&$E$3,$H$10:$H$369)),0,0),\"\")","v":""},{"$f":"IFERROR(-IPMT((C180-$P$1)/12,B180,IF(C180=КАЛЬКУЛЯТОР!$C$21,$E$2,$E$2-$E$3),IF(C180=КАЛЬКУЛЯТОР!$C$21,$I$9,$I$9-SUMIF($A$10:$A$369,\"<=\"&$E$3,$H$10:$H$369)),0,0),\"\")","v":""},{"$f":"IFERROR((-PPMT(C180/12,B180,IF(C180=КАЛЬКУЛЯТОР!$C$21,$E$2,$E$2-$E$3),IF(C180=КАЛЬКУЛЯТОР!$C$21,$I$9,$I$9-SUMIF($A$10:$A$369,\"<=\"&$E$3,$H$10:$H$369)),0,0)),\"\")","v":""},"",{"$error":"#VALUE!"},null,{"$error":"#VALUE!"},{"$error":"#VALUE!"},{"$error":"#VALUE!"},{"$error":"#VALUE!"},false]
[172,172,"",{"$f":"IF(A181<=$E$2,-PMT(C181/12,IF(C181=КАЛЬКУЛЯТОР!$C$21,$E$2,$E$2-$E$3),IF(C181=КАЛЬКУЛЯТОР!$C$21,$I$9,$I$9-SUMIF($A$10:$A$369,\"<=\"&$E$3,$H$10:$H$369)),0,0),\"\")","v":""},null,{"$f":"IFERROR(-IPMT(C181/12,B181,IF(C181=КАЛЬКУЛЯТОР!$C$21,$E$2,$E$2-$E$3),IF(C181=КАЛЬКУЛЯТОР!$C$21,$I$9,$I$9-SUMIF($A$10:$A$369,\"<=\"&$E$3,$H$10:$H$369)),0,0),\"\")","v":""},{"$f":"IFERROR(-IPMT((C181-$P$1)/12,B181,IF(C181=КАЛЬКУЛЯТОР!$C$21,$E$2,$E$2-$E$3),IF(C181=КАЛЬКУЛЯТОР!$C$21,$I$9,$I$9-SUMIF($A$10:$A$369,\"<=\"&$E$3,$H$10:$H$369)),0,0),\"\")","v":""},{"$f":"IFERROR((-PPMT(C181/12,B181,IF(C181=КАЛЬКУЛЯТОР!$C$21,$E$2,$E$2-$E$3),IF(C181=КАЛЬКУЛЯТОР!$C$21,$I$9,$I$9-SUMIF($A$10:$A$369,\"<=\"&$E$3,$H$10:$H$369)),0,0)),\"\")","v":""},"",{"$error":"#VALUE!"},null,{"$error":"#VALUE!"},{"$error":"#VALUE!"},{"$error":"#VALUE!"},{"$error":"#VALUE!"},false]
[173,173,"",{"$f":"IF(A182<=$E$2,-PMT(C182/12,IF(C182=КАЛЬКУЛЯТОР!$C$21,$E$2,$E$2-$E$3),IF(C182=КАЛЬКУЛЯТОР!$C$21,$I$9,$I$9-SUMIF($A$10:$A$369,\"<=\"&$E$3,$H$10:$H$369)),0,0),\"\")","v":""},null,{"$f":"IFERROR(-IPMT(C182/12,B182,IF(C182=КАЛЬКУЛЯТОР!$C$21,$E$2,$E$2-$E$3),IF(C182=КАЛЬКУЛЯТОР!$C$21,$I$9,$I$9-SUMIF($A$10:$A$369,\"<=\"&$E$3,$H$10:$H$369)),0,0),\"\")","v":""},{"$f":"IFERROR(-IPMT((C182-$P$1)/12,B182,IF(C182=КАЛЬКУЛЯТОР!$C$21,$E$2,$E$2-$E$3),IF(C182=КАЛЬКУЛЯТОР!$C$21,$I$9,$I$9-SUMIF($A$10:$A$369,\"<=\"&$E$3,$H$10:$H$369)),0,0),\"\")","v":""},{"$f":"IFERROR((-PPMT(C182/12,B182,IF(C182=КАЛЬКУЛЯТОР!$C$21,$E$2,$E$2-$E$3),IF(C182=КАЛЬКУЛЯТОР!$C$21,$I$9,$I$9-SUMIF($A$10:$A$369,\"<=\"&$E$3,$H$10:$H$369)),0,0)),\"\")","v":""},"",{"$error":"#VALUE!"},null,{"$error":"#VALUE!"},{"$error":"#VALUE!"},{"$error":"#VALUE!"},{"$error":"#VALUE!"},false]
[174,174,"",{"$f":"IF(A183<=$E$2,-PMT(C183/12,IF(C183=КАЛЬКУЛЯТОР!$C$21,$E$2,$E$2-$E$3),IF(C183=КАЛЬКУЛЯТОР!$C$21,$I$9,$I$9-SUMIF($A$10:$A$369,\"<=\"&$E$3,$H$10:$H$369)),0,0),\"\")","v":""},null,{"$f":"IFERROR(-IPMT(C183/12,B183,IF(C183=КАЛЬКУЛЯТОР!$C$21,$E$2,$E$2-$E$3),IF(C183=КАЛЬКУЛЯТОР!$C$21,$I$9,$I$9-SUMIF($A$10:$A$369,\"<=\"&$E$3,$H$10:$H$369)),0,0),\"\")","v":""},{"$f":"IFERROR(-IPMT((C183-$P$1)/12,B183,IF(C183=КАЛЬКУЛЯТОР!$C$21,$E$2,$E$2-$E$3),IF(C183=КАЛЬКУЛЯТОР!$C$21,$I$9,$I$9-SUMIF($A$10:$A$369,\"<=\"&$E$3,$H$10:$H$369)),0,0),\"\")","v":""},{"$f":"IFERROR((-PPMT(C183/12,B183,IF(C183=КАЛЬКУЛЯТОР!$C$21,$E$2,$E$2-$E$3),IF(C183=КАЛЬКУЛЯТОР!$C$21,$I$9,$I$9-SUMIF($A$10:$A$369,\"<=\"&$E$3,$H$10:$H$369)),0,0)),\"\")","v":""},"",{"$error":"#VALUE!"},null,{"$error":"#VALUE!"},{"$error":"#VALUE!"},{"$error":"#VALUE!"},{"$error":"#VALUE!"},false]
[175,175,"",{"$f":"IF(A184<=$E$2,-PMT(C184/12,IF(C184=КАЛЬКУЛЯТОР!$C$21,$E$2,$E$2-$E$3),IF(C184=КАЛЬКУЛЯТОР!$C$21,$I$9,$I$9-SUMIF($A$10:$A$369,\"<=\"&$E$3,$H$10:$H$369)),0,0),\"\")","v":""},null,{"$f":"IFERROR(-IPMT(C184/12,B184,IF(C184=КАЛЬКУЛЯТОР!$C$21,$E$2,$E$2-$E$3),IF(C184=КАЛЬКУЛЯТОР!$C$21,$I$9,$I$9-SUMIF($A$10:$A$369,\"<=\"&$E$3,$H$10:$H$369)),0,0),\"\")","v":""},{"$f":"IFERROR(-IPMT((C184-$P$1)/12,B184,IF(C184=КАЛЬКУЛЯТОР!$C$21,$E$2,$E$2-$E$3),IF(C184=КАЛЬКУЛЯТОР!$C$21,$I$9,$I$9-SUMIF($A$10:$A$369,\"<=\"&$E$3,$H$10:$H$369)),0,0),\"\")","v":""},{"$f":"IFERROR((-PPMT(C184/12,B184,IF(C184=КАЛЬКУЛЯТОР!$C$21,$E$2,$E$2-$E$3),IF(C184=КАЛЬКУЛЯТОР!$C$21,$I$9,$I$9-SUMIF($A$10:$A$369,\"<=\"&$E$3,$H$10:$H$369)),0,0)),\"\")","v":""},"",{"$error":"#VALUE!"},null,{"$error":"#VALUE!"},{"$error":"#VALUE!"},{"$error":"#VALUE!"},{"$error":"#VALUE!"},false]
[176,176,"",{"$f":"IF(A185<=$E$2,-PMT(C185/12,IF(C185=КАЛЬКУЛЯТОР!$C$21,$E$2,$E$2-$E$3),IF(C185=КАЛЬКУЛЯТОР!$C$21,$I$9,$I$9-SUMIF($A$10:$A$369,\"<=\"&$E$3,$H$10:$H$369)),0,0),\"\")","v":""},null,{"$f":"IFERROR(-IPMT(C185/12,B185,IF(C185=КАЛЬКУЛЯТОР!$C$21,$E$2,$E$2-$E$3),IF(C185=КАЛЬКУЛЯТОР!$C$21,$I$9,$I$9-SUMIF($A$10:$A$369,\"<=\"&$E$3,$H$10:$H$369)),0,0),\"\")","v":""},{"$f":"IFERROR(-IPMT((C185-$P$1)/12,B185,IF(C185=КАЛЬКУЛЯТОР!$C$21,$E$2,$E$2-$E$3),IF(C185=КАЛЬКУЛЯТОР!$C$21,$I$9,$I$9-SUMIF($A$10:$A$369,\"<=\"&$E$3,$H$10:$H$369)),0,0),\"\")","v":""},{"$f":"IFERROR((-PPMT(C185/12,B185,IF(C185=КАЛЬКУЛЯТОР!$C$21,$E$2,$E$2-$E$3),IF(C185=КАЛЬКУЛЯТОР!$C$21,$I$9,$I$9-SUMIF($A$10:$A$369,\"<=\"&$E$3,$H$10:$H$369)),0,0)),\"\")","v":""},"",{"$error":"#VALUE!"},null,{"$error":"#VALUE!"},{"$error":"#VALUE!"},{"$error":"#VALUE!"},{"$error":"#VALUE!"},false]
[177,177,"",{"$f":"IF(A186<=$E$2,-PMT(C186/12,IF(C186=КАЛЬКУЛЯТОР!$C$21,$E$2,$E$2-$E$3),IF(C186=КАЛЬКУЛЯТОР!$C$21,$I$9,$I$9-SUMIF($A$10:$A$369,\"<=\"&$E$3,$H$10:$H$369)),0,0),\"\")","v":""},null,{"$f":"IFERROR(-IPMT(C186/12,B186,IF(C186=КАЛЬКУЛЯТОР!$C$21,$E$2,$E$2-$E$3),IF(C186=КАЛЬКУЛЯТОР!$C$21,$I$9,$I$9-SUMIF($A$10:$A$369,\"<=\"&$E$3,$H$10:$H$369)),0,0),\"\")","v":""},{"$f":"IFERROR(-IPMT((C186-$P$1)/12,B186,IF(C186=КАЛЬКУЛЯТОР!$C$21,$E$2,$E$2-$E$3),IF(C186=КАЛЬКУЛЯТОР!$C$21,$I$9,$I$9-SUMIF($A$10:$A$369,\"<=\"&$E$3,$H$10:$H$369)),0,0),\"\")","v":""},{"$f":"IFERROR((-PPMT(C186/12,B186,IF(C186=КАЛЬКУЛЯТОР!$C$21,$E$2,$E$2-$E$3),IF(C186=КАЛЬКУЛЯТОР!$C$21,$I$9,$I$9-SUMIF($A$10:$A$369,\"<=\"&$E$3,$H$10:$H$369)),0,0)),\"\")","v":""},"",{"$error":"#VALUE!"},null,{"$error":"#VALUE!"},{"$error":"#VALUE!"},{"$error":"#VALUE!"},{"$error":"#VALUE!"},false]
[178,178,"",{"$f":"IF(A187<=$E$2,-PMT(C187/12,IF(C187=КАЛЬКУЛЯТОР!$C$21,$E$2,$E$2-$E$3),IF(C187=КАЛЬКУЛЯТОР!$C$21,$I$9,$I$9-SUMIF($A$10:$A$369,\"<=\"&$E$3,$H$10:$H$369)),0,0),\"\")","v":""},null,{"$f":"IFERROR(-IPMT(C187/12,B187,IF(C187=КАЛЬКУЛЯТОР!$C$21,$E$2,$E$2-$E$3),IF(C187=КАЛЬКУЛЯТОР!$C$21,$I$9,$I$9-SUMIF($A$10:$A$369,\"<=\"&$E$3,$H$10:$H$369)),0,0),\"\")","v":""},{"$f":"IFERROR(-IPMT((C187-$P$1)/12,B187,IF(C187=КАЛЬКУЛЯТОР!$C$21,$E$2,$E$2-$E$3),IF(C187=КАЛЬКУЛЯТОР!$C$21,$I$9,$I$9-SUMIF($A$10:$A$369,\"<=\"&$E$3,$H$10:$H$369)),0,0),\"\")","v":""},{"$f":"IFERROR((-PPMT(C187/12,B187,IF(C187=КАЛЬКУЛЯТОР!$C$21,$E$2,$E$2-$E$3),IF(C187=КАЛЬКУЛЯТОР!$C$21,$I$9,$I$9-SUMIF($A$10:$A$369,\"<=\"&$E$3,$H$10:$H$369)),0,0)),\"\")","v":""},"",{"$error":"#VALUE!"},null,{"$error":"#VALUE!"},{"$error":"#VALUE!"},{"$error":"#VALUE!"},{"$error":"#VALUE!"},false]
[179,179,"",{"$f":"IF(A188<=$E$2,-PMT(C188/12,IF(C188=КАЛЬКУЛЯТОР!$C$21,$E$2,$E$2-$E$3),IF(C188=КАЛЬКУЛЯТОР!$C$21,$I$9,$I$9-SUMIF($A$10:$A$369,\"<=\"&$E$3,$H$10:$H$369)),0,0),\"\")","v":""},null,{"$f":"IFERROR(-IPMT(C188/12,B188,IF(C188=КАЛЬКУЛЯТОР!$C$21,$E$2,$E$2-$E$3),IF(C188=КАЛЬКУЛЯТОР!$C$21,$I$9,$I$9-SUMIF($A$10:$A$369,\"<=\"&$E$3,$H$10:$H$369)),0,0),\"\")","v":""},{"$f":"IFERROR(-IPMT((C188-$P$1)/12,B188,IF(C188=КАЛЬКУЛЯТОР!$C$21,$E$2,$E$2-$E$3),IF(C188=КАЛЬКУЛЯТОР!$C$21,$I$9,$I$9-SUMIF($A$10:$A$369,\"<=\"&$E$3,$H$10:$H$369)),0,0),\"\")","v":""},{"$f":"IFERROR((-PPMT(C188/12,B188,IF(C188=КАЛЬКУЛЯТОР!$C$21,$E$2,$E$2-$E$3),IF(C188=КАЛЬКУЛЯТОР!$C$21,$I$9,$I$9-SUMIF($A$10:$A$369,\"<=\"&$E$3,$H$10:$H$369)),0,0)),\"\")","v":""},"",{"$error":"#VALUE!"},null,{"$error":"#VALUE!"},{"$error":"#VALUE!"},{"$error":"#VALUE!"},{"$error":"#VALUE!"},false]
[180,180,"",{"$f":"IF(A189<=$E$2,-PMT(C189/12,IF(C189=КАЛЬКУЛЯТОР!$C$21,$E$2,$E$2-$E$3),IF(C189=КАЛЬКУЛЯТОР!$C$21,$I$9,$I$9-SUMIF($A$10:$A$369,\"<=\"&$E$3,$H$10:$H$369)),0,0),\"\")","v":""},null,{"$f":"IFERROR(-IPMT(C189/12,B189,IF(C189=КАЛЬКУЛЯТОР!$C$21,$E$2,$E$2-$E$3),IF(C189=КАЛЬКУЛЯТОР!$C$21,$I$9,$I$9-SUMIF($A$10:$A$369,\"<=\"&$E$3,$H$10:$H$369)),0,0),\"\")","v":""},{"$f":"IFERROR(-IPMT((C189-$P$1)/12,B189,IF(C189=КАЛЬКУЛЯТОР!$C$21,$E$2,$E$2-$E$3),IF(C189=КАЛЬКУЛЯТОР!$C$21,$I$9,$I$9-SUMIF($A$10:$A$369,\"<=\"&$E$3,$H$10:$H$369)),0,0),\"\")","v":""},{"$f":"IFERROR((-PPMT(C189/12,B189,IF(C189=КАЛЬКУЛЯТОР!$C$21,$E$2,$E$2-$E$3),IF(C189=КАЛЬКУЛЯТОР!$C$21,$I$9,$I$9-SUMIF($A$10:$A$369,\"<=\"&$E$3,$H$10:$H$369)),0,0)),\"\")","v":""},"",{"$error":"#VALUE!"},null,{"$error":"#VALUE!"},{"$error":"#VALUE!"},{"$error":"#VALUE!"},{"$error":"#VALUE!"},false]
[181,181,"",{"$f":"IF(A190<=$E$2,-PMT(C190/12,IF(C190=КАЛЬКУЛЯТОР!$C$21,$E$2,$E$2-$E$3),IF(C190=КАЛЬКУЛЯТОР!$C$21,$I$9,$I$9-SUMIF($A$10:$A$369,\"<=\"&$E$3,$H$10:$H$369)),0,0)+E190,\"\")","v":""},{"$f":"IF($E$2>$A189,(I189+SUM(F190:F201))*($K$4+$K$5),0)","v":{"v":0,"d":"0.00"}},{"$f":"IFERROR(-IPMT(C190/12,B190,IF(C190=КАЛЬКУЛЯТОР!$C$21,$E$2,$E$2-$E$3),IF(C190=КАЛЬКУЛЯТОР!$C$21,$I$9,$I$9-SUMIF($A$10:$A$369,\"<=\"&$E$3,$H$10:$H$369)),0,0),\"\")","v":""},{"$f":"IFERROR(-IPMT((C190-$P$1)/12,B190,IF(C190=КАЛЬКУЛЯТОР!$C$21,$E$2,$E$2-$E$3),IF(C190=КАЛЬКУЛЯТОР!$C$21,$I$9,$I$9-SUMIF($A$10:$A$369,\"<=\"&$E$3,$H$10:$H$369)),0,0),\"\")","v":""},{"$f":"IFERROR((-PPMT(C190/12,B190,IF(C190=КАЛЬКУЛЯТОР!$C$21,$E$2,$E$2-$E$3),IF(C190=КАЛЬКУЛЯТОР!$C$21,$I$9,$I$9-SUMIF($A$10:$A$369,\"<=\"&$E$3,$H$10:$H$369)),0,0)),\"\")","v":""},"",{"$error":"#VALUE!"},{"$f":"PV($E$5/12,A190-1,0,-E190)","v":{"v":0,"d":"0.00"}},{"$error":"#VALUE!"},{"$error":"#VALUE!"},{"$error":"#VALUE!"},{"$error":"#VALUE!"},false]
[182,182,"",{"$f":"IF(A191<=$E$2,-PMT(C191/12,IF(C191=КАЛЬКУЛЯТОР!$C$21,$E$2,$E$2-$E$3),IF(C191=КАЛЬКУЛЯТОР!$C$21,$I$9,$I$9-SUMIF($A$10:$A$369,\"<=\"&$E$3,$H$10:$H$369)),0,0),\"\")","v":""},null,{"$f":"IFERROR(-IPMT(C191/12,B191,IF(C191=КАЛЬКУЛЯТОР!$C$21,$E$2,$E$2-$E$3),IF(C191=КАЛЬКУЛЯТОР!$C$21,$I$9,$I$9-SUMIF($A$10:$A$369,\"<=\"&$E$3,$H$10:$H$369)),0,0),\"\")","v":""},{"$f":"IFERROR(-IPMT((C191-$P$1)/12,B191,IF(C191=КАЛЬКУЛЯТОР!$C$21,$E$2,$E$2-$E$3),IF(C191=КАЛЬКУЛЯТОР!$C$21,$I$9,$I$9-SUMIF($A$10:$A$369,\"<=\"&$E$3,$H$10:$H$369)),0,0),\"\")","v":""},{"$f":"IFERROR((-PPMT(C191/12,B191,IF(C191=КАЛЬКУЛЯТОР!$C$21,$E$2,$E$2-$E$3),IF(C191=КАЛЬКУЛЯТОР!$C$21,$I$9,$I$9-SUMIF($A$10:$A$369,\"<=\"&$E$3,$H$10:$H$369)),0,0)),\"\")","v":""},"",{"$error":"#VALUE!"},null,{"$error":"#VALUE!"},{"$error":"#VALUE!"},{"$error":"#VALUE!"},{"$error":"#VALUE!"},false]
[183,183,"",{"$f":"IF(A192<=$E$2,-PMT(C192/12,IF(C192=КАЛЬКУЛЯТОР!$C$21,$E$2,$E$2-$E$3),IF(C192=КАЛЬКУЛЯТОР!$C$21,$I$9,$I$9-SUMIF($A$10:$A$369,\"<=\"&$E$3,$H$10:$H$369)),0,0),\"\")","v":""},null,{"$f":"IFERROR(-IPMT(C192/12,B192,IF(C192=КАЛЬКУЛЯТОР!$C$21,$E$2,$E$2-$E$3),IF(C192=КАЛЬКУЛЯТОР!$C$21,$I$9,$I$9-SUMIF($A$10:$A$369,\"<=\"&$E$3,$H$10:$H$369)),0,0),\"\")","v":""},{"$f":"IFERROR(-IPMT((C192-$P$1)/12,B192,IF(C192=КАЛЬКУЛЯТОР!$C$21,$E$2,$E$2-$E$3),IF(C192=КАЛЬКУЛЯТОР!$C$21,$I$9,$I$9-SUMIF($A$10:$A$369,\"<=\"&$E$3,$H$10:$H$369)),0,0),\"\")","v":""},{"$f":"IFERROR((-PPMT(C192/12,B192,IF(C192=КАЛЬКУЛЯТОР!$C$21,$E$2,$E$2-$E$3),IF(C192=КАЛЬКУЛЯТОР!$C$21,$I$9,$I$9-SUMIF($A$10:$A$369,\"<=\"&$E$3,$H$10:$H$369)),0,0)),\"\")","v":""},"",{"$error":"#VALUE!"},null,{"$error":"#VALUE!"},{"$error":"#VALUE!"},{"$error":"#VALUE!"},{"$error":"#VALUE!"},false]
[184,184,"",{"$f":"IF(A193<=$E$2,-PMT(C193/12,IF(C193=КАЛЬКУЛЯТОР!$C$21,$E$2,$E$2-$E$3),IF(C193=КАЛЬКУЛЯТОР!$C$21,$I$9,$I$9-SUMIF($A$10:$A$369,\"<=\"&$E$3,$H$10:$H$369)),0,0),\"\")","v":""},null,{"$f":"IFERROR(-IPMT(C193/12,B193,IF(C193=КАЛЬКУЛЯТОР!$C$21,$E$2,$E$2-$E$3),IF(C193=КАЛЬКУЛЯТОР!$C$21,$I$9,$I$9-SUMIF($A$10:$A$369,\"<=\"&$E$3,$H$10:$H$369)),0,0),\"\")","v":""},{"$f":"IFERROR(-IPMT((C193-$P$1)/12,B193,IF(C193=КАЛЬКУЛЯТОР!$C$21,$E$2,$E$2-$E$3),IF(C193=КАЛЬКУЛЯТОР!$C$21,$I$9,$I$9-SUMIF($A$10:$A$369,\"<=\"&$E$3,$H$10:$H$369)),0,0),\"\")","v":""},{"$f":"IFERROR((-PPMT(C193/12,B193,IF(C193=КАЛЬКУЛЯТОР!$C$21,$E$2,$E$2-$E$3),IF(C193=КАЛЬКУЛЯТОР!$C$21,$I$9,$I$9-SUMIF($A$10:$A$369,\"<=\"&$E$3,$H$10:$H$369)),0,0)),\"\")","v":""},"",{"$error":"#VALUE!"},null,{"$error":"#VALUE!"},{"$error":"#VALUE!"},{"$error":"#VALUE!"},{"$error":"#VALUE!"},false]
[185,185,"",{"$f":"IF(A194<=$E$2,-PMT(C194/12,IF(C194=КАЛЬКУЛЯТОР!$C$21,$E$2,$E$2-$E$3),IF(C194=КАЛЬКУЛЯТОР!$C$21,$I$9,$I$9-SUMIF($A$10:$A$369,\"<=\"&$E$3,$H$10:$H$369)),0,0),\"\")","v":""},null,{"$f":"IFERROR(-IPMT(C194/12,B194,IF(C194=КАЛЬКУЛЯТОР!$C$21,$E$2,$E$2-$E$3),IF(C194=КАЛЬКУЛЯТОР!$C$21,$I$9,$I$9-SUMIF($A$10:$A$369,\"<=\"&$E$3,$H$10:$H$369)),0,0),\"\")","v":""},{"$f":"IFERROR(-IPMT((C194-$P$1)/12,B194,IF(C194=КАЛЬКУЛЯТОР!$C$21,$E$2,$E$2-$E$3),IF(C194=КАЛЬКУЛЯТОР!$C$21,$I$9,$I$9-SUMIF($A$10:$A$369,\"<=\"&$E$3,$H$10:$H$369)),0,0),\"\")","v":""},{"$f":"IFERROR((-PPMT(C194/12,B194,IF(C194=КАЛЬКУЛЯТОР!$C$21,$E$2,$E$2-$E$3),IF(C194=КАЛЬКУЛЯТОР!$C$21,$I$9,$I$9-SUMIF($A$10:$A$369,\"<=\"&$E$3,$H$10:$H$369)),0,0)),\"\")","v":""},"",{"$error":"#VALUE!"},null,{"$error":"#VALUE!"},{"$error":"#VALUE!"},{"$error":"#VALUE!"},{"$error":"#VALUE!"},false]
[186,186,"",{"$f":"IF(A195<=$E$2,-PMT(C195/12,IF(C195=КАЛЬКУЛЯТОР!$C$21,$E$2,$E$2-$E$3),IF(C195=КАЛЬКУЛЯТОР!$C$21,$I$9,$I$9-SUMIF($A$10:$A$369,\"<=\"&$E$3,$H$10:$H$369)),0,0),\"\")","v":""},null,{"$f":"IFERROR(-IPMT(C195/12,B195,IF(C195=КАЛЬКУЛЯТОР!$C$21,$E$2,$E$2-$E$3),IF(C195=КАЛЬКУЛЯТОР!$C$21,$I$9,$I$9-SUMIF($A$10:$A$369,\"<=\"&$E$3,$H$10:$H$369)),0,0),\"\")","v":""},{"$f":"IFERROR(-IPMT((C195-$P$1)/12,B195,IF(C195=КАЛЬКУЛЯТОР!$C$21,$E$2,$E$2-$E$3),IF(C195=КАЛЬКУЛЯТОР!$C$21,$I$9,$I$9-SUMIF($A$10:$A$369,\"<=\"&$E$3,$H$10:$H$369)),0,0),\"\")","v":""},{"$f":"IFERROR((-PPMT(C195/12,B195,IF(C195=КАЛЬКУЛЯТОР!$C$21,$E$2,$E$2-$E$3),IF(C195=КАЛЬКУЛЯТОР!$C$21,$I$9,$I$9-SUMIF($A$10:$A$369,\"<=\"&$E$3,$H$10:$H$369)),0,0)),\"\")","v":""},"",{"$error":"#VALUE!"},null,{"$error":"#VALUE!"},{"$error":"#VALUE!"},{"$error":"#VALUE!"},{"$error":"#VALUE!"},false]
[187,187,"",{"$f":"IF(A196<=$E$2,-PMT(C196/12,IF(C196=КАЛЬКУЛЯТОР!$C$21,$E$2,$E$2-$E$3),IF(C196=КАЛЬКУЛЯТОР!$C$21,$I$9,$I$9-SUMIF($A$10:$A$369,\"<=\"&$E$3,$H$10:$H$369)),0,0),\"\")","v":""},null,{"$f":"IFERROR(-IPMT(C196/12,B196,IF(C196=КАЛЬКУЛЯТОР!$C$21,$E$2,$E$2-$E$3),IF(C196=КАЛЬКУЛЯТОР!$C$21,$I$9,$I$9-SUMIF($A$10:$A$369,\"<=\"&$E$3,$H$10:$H$369)),0,0),\"\")","v":""},{"$f":"IFERROR(-IPMT((C196-$P$1)/12,B196,IF(C196=КАЛЬКУЛЯТОР!$C$21,$E$2,$E$2-$E$3),IF(C196=КАЛЬКУЛЯТОР!$C$21,$I$9,$I$9-SUMIF($A$10:$A$369,\"<=\"&$E$3,$H$10:$H$369)),0,0),\"\")","v":""},{"$f":"IFERROR((-PPMT(C196/12,B196,IF(C196=КАЛЬКУЛЯТОР!$C$21,$E$2,$E$2-$E$3),IF(C196=КАЛЬКУЛЯТОР!$C$21,$I$9,$I$9-SUMIF($A$10:$A$369,\"<=\"&$E$3,$H$10:$H$369)),0,0)),\"\")","v":""},"",{"$error":"#VALUE!"},null,{"$error":"#VALUE!"},{"$error":"#VALUE!"},{"$error":"#VALUE!"},{"$error":"#VALUE!"},false]
[188,188,"",{"$f":"IF(A197<=$E$2,-PMT(C197/12,IF(C197=КАЛЬКУЛЯТОР!$C$21,$E$2,$E$2-$E$3),IF(C197=КАЛЬКУЛЯТОР!$C$21,$I$9,$I$9-SUMIF($A$10:$A$369,\"<=\"&$E$3,$H$10:$H$369)),0,0),\"\")","v":""},null,{"$f":"IFERROR(-IPMT(C197/12,B197,IF(C197=КАЛЬКУЛЯТОР!$C$21,$E$2,$E$2-$E$3),IF(C197=КАЛЬКУЛЯТОР!$C$21,$I$9,$I$9-SUMIF($A$10:$A$369,\"<=\"&$E$3,$H$10:$H$369)),0,0),\"\")","v":""},{"$f":"IFERROR(-IPMT((C197-$P$1)/12,B197,IF(C197=КАЛЬКУЛЯТОР!$C$21,$E$2,$E$2-$E$3),IF(C197=КАЛЬКУЛЯТОР!$C$21,$I$9,$I$9-SUMIF($A$10:$A$369,\"<=\"&$E$3,$H$10:$H$369)),0,0),\"\")","v":""},{"$f":"IFERROR((-PPMT(C197/12,B197,IF(C197=КАЛЬКУЛЯТОР!$C$21,$E$2,$E$2-$E$3),IF(C197=КАЛЬКУЛЯТОР!$C$21,$I$9,$I$9-SUMIF($A$10:$A$369,\"<=\"&$E$3,$H$10:$H$369)),0,0)),\"\")","v":""},"",{"$error":"#VALUE!"},null,{"$error":"#VALUE!"},{"$error":"#VALUE!"},{"$error":"#VALUE!"},{"$error":"#VALUE!"},false]
[189,189,"",{"$f":"IF(A198<=$E$2,-PMT(C198/12,IF(C198=КАЛЬКУЛЯТОР!$C$21,$E$2,$E$2-$E$3),IF(C198=КАЛЬКУЛЯТОР!$C$21,$I$9,$I$9-SUMIF($A$10:$A$369,\"<=\"&$E$3,$H$10:$H$369)),0,0),\"\")","v":""},null,{"$f":"IFERROR(-IPMT(C198/12,B198,IF(C198=КАЛЬКУЛЯТОР!$C$21,$E$2,$E$2-$E$3),IF(C198=КАЛЬКУЛЯТОР!$C$21,$I$9,$I$9-SUMIF($A$10:$A$369,\"<=\"&$E$3,$H$10:$H$369)),0,0),\"\")","v":""},{"$f":"IFERROR(-IPMT((C198-$P$1)/12,B198,IF(C198=КАЛЬКУЛЯТОР!$C$21,$E$2,$E$2-$E$3),IF(C198=КАЛЬКУЛЯТОР!$C$21,$I$9,$I$9-SUMIF($A$10:$A$369,\"<=\"&$E$3,$H$10:$H$369)),0,0),\"\")","v":""},{"$f":"IFERROR((-PPMT(C198/12,B198,IF(C198=КАЛЬКУЛЯТОР!$C$21,$E$2,$E$2-$E$3),IF(C198=КАЛЬКУЛЯТОР!$C$21,$I$9,$I$9-SUMIF($A$10:$A$369,\"<=\"&$E$3,$H$10:$H$369)),0,0)),\"\")","v":""},"",{"$error":"#VALUE!"},null,{"$error":"#VALUE!"},{"$error":"#VALUE!"},{"$error":"#VALUE!"},{"$error":"#VALUE!"},false]
[190,190,"",{"$f":"IF(A199<=$E$2,-PMT(C199/12,IF(C199=КАЛЬКУЛЯТОР!$C$21,$E$2,$E$2-$E$3),IF(C199=КАЛЬКУЛЯТОР!$C$21,$I$9,$I$9-SUMIF($A$10:$A$369,\"<=\"&$E$3,$H$10:$H$369)),0,0),\"\")","v":""},null,{"$f":"IFERROR(-IPMT(C199/12,B199,IF(C199=КАЛЬКУЛЯТОР!$C$21,$E$2,$E$2-$E$3),IF(C199=КАЛЬКУЛЯТОР!$C$21,$I$9,$I$9-SUMIF($A$10:$A$369,\"<=\"&$E$3,$H$10:$H$369)),0,0),\"\")","v":""},{"$f":"IFERROR(-IPMT((C199-$P$1)/12,B199,IF(C199=КАЛЬКУЛЯТОР!$C$21,$E$2,$E$2-$E$3),IF(C199=КАЛЬКУЛЯТОР!$C$21,$I$9,$I$9-SUMIF($A$10:$A$369,\"<=\"&$E$3,$H$10:$H$369)),0,0),\"\")","v":""},{"$f":"IFERROR((-PPMT(C199/12,B199,IF(C199=КАЛЬКУЛЯТОР!$C$21,$E$2,$E$2-$E$3),IF(C199=КАЛЬКУЛЯТОР!$C$21,$I$9,$I$9-SUMIF($A$10:$A$369,\"<=\"&$E$3,$H$10:$H$369)),0,0)),\"\")","v":""},"",{"$error":"#VALUE!"},null,{"$error":"#VALUE!"},{"$error":"#VALUE!"},{"$error":"#VALUE!"},{"$error":"#VALUE!"},false]
[191,191,"",{"$f":"IF(A200<=$E$2,-PMT(C200/12,IF(C200=КАЛЬКУЛЯТОР!$C$21,$E$2,$E$2-$E$3),IF(C200=КАЛЬКУЛЯТОР!$C$21,$I$9,$I$9-SUMIF($A$10:$A$369,\"<=\"&$E$3,$H$10:$H$369)),0,0),\"\")","v":""},null,{"$f":"IFERROR(-IPMT(C200/12,B200,IF(C200=КАЛЬКУЛЯТОР!$C$21,$E$2,$E$2-$E$3),IF(C200=КАЛЬКУЛЯТОР!$C$21,$I$9,$I$9-SUMIF($A$10:$A$369,\"<=\"&$E$3,$H$10:$H$369)),0,0),\"\")","v":""},{"$f":"IFERROR(-IPMT((C200-$P$1)/12,B200,IF(C200=КАЛЬКУЛЯТОР!$C$21,$E$2,$E$2-$E$3),IF(C200=КАЛЬКУЛЯТОР!$C$21,$I$9,$I$9-SUMIF($A$10:$A$369,\"<=\"&$E$3,$H$10:$H$369)),0,0),\"\")","v":""},{"$f":"IFERROR((-PPMT(C200/12,B200,IF(C200=КАЛЬКУЛЯТОР!$C$21,$E$2,$E$2-$E$3),IF(C200=КАЛЬКУЛЯТОР!$C$21,$I$9,$I$9-SUMIF($A$10:$A$369,\"<=\"&$E$3,$H$10:$H$369)),0,0)),\"\")","v":""},"",{"$error":"#VALUE!"},null,{"$error":"#VALUE!"},{"$error":"#VALUE!"},{"$error":"#VALUE!"},{"$error":"#VALUE!"},false]
[192,192,"",{"$f":"IF(A201<=$E$2,-PMT(C201/12,IF(C201=КАЛЬКУЛЯТОР!$C$21,$E$2,$E$2-$E$3),IF(C201=КАЛЬКУЛЯТОР!$C$21,$I$9,$I$9-SUMIF($A$10:$A$369,\"<=\"&$E$3,$H$10:$H$369)),0,0),\"\")","v":""},null,{"$f":"IFERROR(-IPMT(C201/12,B201,IF(C201=КАЛЬКУЛЯТОР!$C$21,$E$2,$E$2-$E$3),IF(C201=КАЛЬКУЛЯТОР!$C$21,$I$9,$I$9-SUMIF($A$10:$A$369,\"<=\"&$E$3,$H$10:$H$369)),0,0),\"\")","v":""},{"$f":"IFERROR(-IPMT((C201-$P$1)/12,B201,IF(C201=КАЛЬКУЛЯТОР!$C$21,$E$2,$E$2-$E$3),IF(C201=КАЛЬКУЛЯТОР!$C$21,$I$9,$I$9-SUMIF($A$10:$A$369,\"<=\"&$E$3,$H$10:$H$369)),0,0),\"\")","v":""},{"$f":"IFERROR((-PPMT(C201/12,B201,IF(C201=КАЛЬКУЛЯТОР!$C$21,$E$2,$E$2-$E$3),IF(C201=КАЛЬКУЛЯТОР!$C$21,$I$9,$I$9-SUMIF($A$10:$A$369,\"<=\"&$E$3,$H$10:$H$369)),0,0)),\"\")","v":""},"",{"$error":"#VALUE!"},null,{"$error":"#VALUE!"},{"$error":"#VALUE!"},{"$error":"#VALUE!"},{"$error":"#VALUE!"},false]
[193,193,"",{"$f":"IF(A202<=$E$2,-PMT(C202/12,IF(C202=КАЛЬКУЛЯТОР!$C$21,$E$2,$E$2-$E$3),IF(C202=КАЛЬКУЛЯТОР!$C$21,$I$9,$I$9-SUMIF($A$10:$A$369,\"<=\"&$E$3,$H$10:$H$369)),0,0)+E202,\"\")","v":""},{"$f":"IF($E$2>$A201,(I201+SUM(F202:F213))*($K$4+$K$5),0)","v":{"v":0,"d":"0.00"}},{"$f":"IFERROR(-IPMT(C202/12,B202,IF(C202=КАЛЬКУЛЯТОР!$C$21,$E$2,$E$2-$E$3),IF(C202=КАЛЬКУЛЯТОР!$C$21,$I$9,$I$9-SUMIF($A$10:$A$369,\"<=\"&$E$3,$H$10:$H$369)),0,0),\"\")","v":""},{"$f":"IFERROR(-IPMT((C202-$P$1)/12,B202,IF(C202=КАЛЬКУЛЯТОР!$C$21,$E$2,$E$2-$E$3),IF(C202=КАЛЬКУЛЯТОР!$C$21,$I$9,$I$9-SUMIF($A$10:$A$369,\"<=\"&$E$3,$H$10:$H$369)),0,0),\"\")","v":""},{"$f":"IFERROR((-PPMT(C202/12,B202,IF(C202=КАЛЬКУЛЯТОР!$C$21,$E$2,$E$2-$E$3),IF(C202=КАЛЬКУЛЯТОР!$C$21,$I$9,$I$9-SUMIF($A$10:$A$369,\"<=\"&$E$3,$H$10:$H$369)),0,0)),\"\")","v":""},{"$f":"IFERROR(I201-H202,\"\")","v":""},{"$f":"PV($E$5/12,A202-1,0,-D202)","v":{"$error":"#VALUE!"}},{"$f":"PV($E$5/12,A202-1,0,-E202)","v":{"v":0,"d":"0.00"}},{"$f":"PV($E$5/12,A202-1,0,-F202)","v":{"$error":"#VALUE!"}},{"$f":"PV($E$5/12,A202-1,0,-G202)","v":{"$error":"#VALUE!"}},{"$f":"PV($E$5/12,A202-1,0,-H202)","v":{"$error":"#VALUE!"}},{"$f":"O201-N202","v":{"$error":"#VALUE!"}},{"$f":"AND(A202<=$E$3)","v":false}]
[194,{"$f":"IF(P203=$P$10,B202+1,A203-$E$3)","v":194},{"$f":"IF(A203<=$E$2,$E$4,\"\")","v":""},{"$f":"IF(A203<=$E$2,-PMT(C203/12,IF(C203=КАЛЬКУЛЯТОР!$C$21,$E$2,$E$2-$E$3),IF(C203=КАЛЬКУЛЯТОР!$C$21,$I$9,$I$9-SUMIF($A$10:$A$369,\"<=\"&$E$3,$H$10:$H$369)),0,0),\"\")","v":""},null,{"$f":"IFERROR(-IPMT(C203/12,B203,IF(C203=КАЛЬКУЛЯТОР!$C$21,$E$2,$E$2-$E$3),IF(C203=КАЛЬКУЛЯТОР!$C$21,$I$9,$I$9-SUMIF($A$10:$A$369,\"<=\"&$E$3,$H$10:$H$369)),0,0),\"\")","v":""},{"$f":"IFERROR(-IPMT((C203-$P$1)/12,B203,IF(C203=КАЛЬКУЛЯТОР!$C$21,$E$2,$E$2-$E$3),IF(C203=КАЛЬКУЛЯТОР!$C$21,$I$9,$I$9-SUMIF($A$10:$A$369,\"<=\"&$E$3,$H$10:$H$369)),0,0),\"\")","v":""},{"$f":"IFERROR((-PPMT(C203/12,B203,IF(C203=КАЛЬКУЛЯТОР!$C$21,$E$2,$E$2-$E$3),IF(C203=КАЛЬКУЛЯТОР!$C$21,$I$9,$I$9-SUMIF($A$10:$A$369,\"<=\"&$E$3,$H$10:$H$369)),0,0)),\"\")","v":""},"",{"$error":"#VALUE!"},null,{"$error":"#VALUE!"},{"$error":"#VALUE!"},{"$error":"#VALUE!"},{"$error":"#VALUE!"},false]
[195,195,"",{"$f":"IF(A204<=$E$2,-PMT(C204/12,IF(C204=КАЛЬКУЛЯТОР!$C$21,$E$2,$E$2-$E$3),IF(C204=КАЛЬКУЛЯТОР!$C$21,$I$9,$I$9-SUMIF($A$10:$A$369,\"<=\"&$E$3,$H$10:$H$369)),0,0),\"\")","v":""},null,{"$f":"IFERROR(-IPMT(C204/12,B204,IF(C204=КАЛЬКУЛЯТОР!$C$21,$E$2,$E$2-$E$3),IF(C204=КАЛЬКУЛЯТОР!$C$21,$I$9,$I$9-SUMIF($A$10:$A$369,\"<=\"&$E$3,$H$10:$H$369)),0,0),\"\")","v":""},{"$f":"IFERROR(-IPMT((C204-$P$1)/12,B204,IF(C204=КАЛЬКУЛЯТОР!$C$21,$E$2,$E$2-$E$3),IF(C204=КАЛЬКУЛЯТОР!$C$21,$I$9,$I$9-SUMIF($A$10:$A$369,\"<=\"&$E$3,$H$10:$H$369)),0,0),\"\")","v":""},{"$f":"IFERROR((-PPMT(C204/12,B204,IF(C204=КАЛЬКУЛЯТОР!$C$21,$E$2,$E$2-$E$3),IF(C204=КАЛЬКУЛЯТОР!$C$21,$I$9,$I$9-SUMIF($A$10:$A$369,\"<=\"&$E$3,$H$10:$H$369)),0,0)),\"\")","v":""},"",{"$error":"#VALUE!"},null,{"$error":"#VALUE!"},{"$error":"#VALUE!"},{"$error":"#VALUE!"},{"$error":"#VALUE!"},false]
[196,196,"",{"$f":"IF(A205<=$E$2,-PMT(C205/12,IF(C205=КАЛЬКУЛЯТОР!$C$21,$E$2,$E$2-$E$3),IF(C205=КАЛЬКУЛЯТОР!$C$21,$I$9,$I$9-SUMIF($A$10:$A$369,\"<=\"&$E$3,$H$10:$H$369)),0,0),\"\")","v":""},null,{"$f":"IFERROR(-IPMT(C205/12,B205,IF(C205=КАЛЬКУЛЯТОР!$C$21,$E$2,$E$2-$E$3),IF(C205=КАЛЬКУЛЯТОР!$C$21,$I$9,$I$9-SUMIF($A$10:$A$369,\"<=\"&$E$3,$H$10:$H$369)),0,0),\"\")","v":""},{"$f":"IFERROR(-IPMT((C205-$P$1)/12,B205,IF(C205=КАЛЬКУЛЯТОР!$C$21,$E$2,$E$2-$E$3),IF(C205=КАЛЬКУЛЯТОР!$C$21,$I$9,$I$9-SUMIF($A$10:$A$369,\"<=\"&$E$3,$H$10:$H$369)),0,0),\"\")","v":""},{"$f":"IFERROR((-PPMT(C205/12,B205,IF(C205=КАЛЬКУЛЯТОР!$C$21,$E$2,$E$2-$E$3),IF(C205=КАЛЬКУЛЯТОР!$C$21,$I$9,$I$9-SUMIF($A$10:$A$369,\"<=\"&$E$3,$H$10:$H$369)),0,0)),\"\")","v":""},"",{"$error":"#VALUE!"},null,{"$error":"#VALUE!"},{"$error":"#VALUE!"},{"$error":"#VALUE!"},{"$error":"#VALUE!"},false]
[197,197,"",{"$f":"IF(A206<=$E$2,-PMT(C206/12,IF(C206=КАЛЬКУЛЯТОР!$C$21,$E$2,$E$2-$E$3),IF(C206=КАЛЬКУЛЯТОР!$C$21,$I$9,$I$9-SUMIF($A$10:$A$369,\"<=\"&$E$3,$H$10:$H$369)),0,0),\"\")","v":""},null,{"$f":"IFERROR(-IPMT(C206/12,B206,IF(C206=КАЛЬКУЛЯТОР!$C$21,$E$2,$E$2-$E$3),IF(C206=КАЛЬКУЛЯТОР!$C$21,$I$9,$I$9-SUMIF($A$10:$A$369,\"<=\"&$E$3,$H$10:$H$369)),0,0),\"\")","v":""},{"$f":"IFERROR(-IPMT((C206-$P$1)/12,B206,IF(C206=КАЛЬКУЛЯТОР!$C$21,$E$2,$E$2-$E$3),IF(C206=КАЛЬКУЛЯТОР!$C$21,$I$9,$I$9-SUMIF($A$10:$A$369,\"<=\"&$E$3,$H$10:$H$369)),0,0),\"\")","v":""},{"$f":"IFERROR((-PPMT(C206/12,B206,IF(C206=КАЛЬКУЛЯТОР!$C$21,$E$2,$E$2-$E$3),IF(C206=КАЛЬКУЛЯТОР!$C$21,$I$9,$I$9-SUMIF($A$10:$A$369,\"<=\"&$E$3,$H$10:$H$369)),0,0)),\"\")","v":""},"",{"$error":"#VALUE!"},null,{"$error":"#VALUE!"},{"$error":"#VALUE!"},{"$error":"#VALUE!"},{"$error":"#VALUE!"},false]
[198,198,"",{"$f":"IF(A207<=$E$2,-PMT(C207/12,IF(C207=КАЛЬКУЛЯТОР!$C$21,$E$2,$E$2-$E$3),IF(C207=КАЛЬКУЛЯТОР!$C$21,$I$9,$I$9-SUMIF($A$10:$A$369,\"<=\"&$E$3,$H$10:$H$369)),0,0),\"\")","v":""},null,{"$f":"IFERROR(-IPMT(C207/12,B207,IF(C207=КАЛЬКУЛЯТОР!$C$21,$E$2,$E$2-$E$3),IF(C207=КАЛЬКУЛЯТОР!$C$21,$I$9,$I$9-SUMIF($A$10:$A$369,\"<=\"&$E$3,$H$10:$H$369)),0,0),\"\")","v":""},{"$f":"IFERROR(-IPMT((C207-$P$1)/12,B207,IF(C207=КАЛЬКУЛЯТОР!$C$21,$E$2,$E$2-$E$3),IF(C207=КАЛЬКУЛЯТОР!$C$21,$I$9,$I$9-SUMIF($A$10:$A$369,\"<=\"&$E$3,$H$10:$H$369)),0,0),\"\")","v":""},{"$f":"IFERROR((-PPMT(C207/12,B207,IF(C207=КАЛЬКУЛЯТОР!$C$21,$E$2,$E$2-$E$3),IF(C207=КАЛЬКУЛЯТОР!$C$21,$I$9,$I$9-SUMIF($A$10:$A$369,\"<=\"&$E$3,$H$10:$H$369)),0,0)),\"\")","v":""},"",{"$error":"#VALUE!"},null,{"$error":"#VALUE!"},{"$error":"#VALUE!"},{"$error":"#VALUE!"},{"$error":"#VALUE!"},false]
[199,199,"",{"$f":"IF(A208<=$E$2,-PMT(C208/12,IF(C208=КАЛЬКУЛЯТОР!$C$21,$E$2,$E$2-$E$3),IF(C208=КАЛЬКУЛЯТОР!$C$21,$I$9,$I$9-SUMIF($A$10:$A$369,\"<=\"&$E$3,$H$10:$H$369)),0,0),\"\")","v":""},null,{"$f":"IFERROR(-IPMT(C208/12,B208,IF(C208=КАЛЬКУЛЯТОР!$C$21,$E$2,$E$2-$E$3),IF(C208=КАЛЬКУЛЯТОР!$C$21,$I$9,$I$9-SUMIF($A$10:$A$369,\"<=\"&$E$3,$H$10:$H$369)),0,0),\"\")","v":""},{"$f":"IFERROR(-IPMT((C208-$P$1)/12,B208,IF(C208=КАЛЬКУЛЯТОР!$C$21,$E$2,$E$2-$E$3),IF(C208=КАЛЬКУЛЯТОР!$C$21,$I$9,$I$9-SUMIF($A$10:$A$369,\"<=\"&$E$3,$H$10:$H$369)),0,0),\"\")","v":""},{"$f":"IFERROR((-PPMT(C208/12,B208,IF(C208=КАЛЬКУЛЯТОР!$C$21,$E$2,$E$2-$E$3),IF(C208=КАЛЬКУЛЯТОР!$C$21,$I$9,$I$9-SUMIF($A$10:$A$369,\"<=\"&$E$3,$H$10:$H$369)),0,0)),\"\")","v":""},"",{"$error":"#VALUE!"},null,{"$error":"#VALUE!"},{"$error":"#VALUE!"},{"$error":"#VALUE!"},{"$error":"#VALUE!"},false]
[200,200,"",{"$f":"IF(A209<=$E$2,-PMT(C209/12,IF(C209=КАЛЬКУЛЯТОР!$C$21,$E$2,$E$2-$E$3),IF(C209=КАЛЬКУЛЯТОР!$C$21,$I$9,$I$9-SUMIF($A$10:$A$369,\"<=\"&$E$3,$H$10:$H$369)),0,0),\"\")","v":""},null,{"$f":"IFERROR(-IPMT(C209/12,B209,IF(C209=КАЛЬКУЛЯТОР!$C$21,$E$2,$E$2-$E$3),IF(C209=КАЛЬКУЛЯТОР!$C$21,$I$9,$I$9-SUMIF($A$10:$A$369,\"<=\"&$E$3,$H$10:$H$369)),0,0),\"\")","v":""},{"$f":"IFERROR(-IPMT((C209-$P$1)/12,B209,IF(C209=КАЛЬКУЛЯТОР!$C$21,$E$2,$E$2-$E$3),IF(C209=КАЛЬКУЛЯТОР!$C$21,$I$9,$I$9-SUMIF($A$10:$A$369,\"<=\"&$E$3,$H$10:$H$369)),0,0),\"\")","v":""},{"$f":"IFERROR((-PPMT(C209/12,B209,IF(C209=КАЛЬКУЛЯТОР!$C$21,$E$2,$E$2-$E$3),IF(C209=КАЛЬКУЛЯТОР!$C$21,$I$9,$I$9-SUMIF($A$10:$A$369,\"<=\"&$E$3,$H$10:$H$369)),0,0)),\"\")","v":""},"",{"$error":"#VALUE!"},null,{"$error":"#VALUE!"},{"$error":"#VALUE!"},{"$error":"#VALUE!"},{"$error":"#VALUE!"},false]
[201,201,"",{"$f":"IF(A210<=$E$2,-PMT(C210/12,IF(C210=КАЛЬКУЛЯТОР!$C$21,$E$2,$E$2-$E$3),IF(C210=КАЛЬКУЛЯТОР!$C$21,$I$9,$I$9-SUMIF($A$10:$A$369,\"<=\"&$E$3,$H$10:$H$369)),0,0),\"\")","v":""},null,{"$f":"IFERROR(-IPMT(C210/12,B210,IF(C210=КАЛЬКУЛЯТОР!$C$21,$E$2,$E$2-$E$3),IF(C210=КАЛЬКУЛЯТОР!$C$21,$I$9,$I$9-SUMIF($A$10:$A$369,\"<=\"&$E$3,$H$10:$H$369)),0,0),\"\")","v":""},{"$f":"IFERROR(-IPMT((C210-$P$1)/12,B210,IF(C210=КАЛЬКУЛЯТОР!$C$21,$E$2,$E$2-$E$3),IF(C210=КАЛЬКУЛЯТОР!$C$21,$I$9,$I$9-SUMIF($A$10:$A$369,\"<=\"&$E$3,$H$10:$H$369)),0,0),\"\")","v":""},{"$f":"IFERROR((-PPMT(C210/12,B210,IF(C210=КАЛЬКУЛЯТОР!$C$21,$E$2,$E$2-$E$3),IF(C210=КАЛЬКУЛЯТОР!$C$21,$I$9,$I$9-SUMIF($A$10:$A$369,\"<=\"&$E$3,$H$10:$H$369)),0,0)),\"\")","v":""},"",{"$error":"#VALUE!"},null,{"$error":"#VALUE!"},{"$error":"#VALUE!"},{"$error":"#VALUE!"},{"$error":"#VALUE!"},false]
[202,202,"",{"$f":"IF(A211<=$E$2,-PMT(C211/12,IF(C211=КАЛЬКУЛЯТОР!$C$21,$E$2,$E$2-$E$3),IF(C211=КАЛЬКУЛЯТОР!$C$21,$I$9,$I$9-SUMIF($A$10:$A$369,\"<=\"&$E$3,$H$10:$H$369)),0,0),\"\")","v":""},null,{"$f":"IFERROR(-IPMT(C211/12,B211,IF(C211=КАЛЬКУЛЯТОР!$C$21,$E$2,$E$2-$E$3),IF(C211=КАЛЬКУЛЯТОР!$C$21,$I$9,$I$9-SUMIF($A$10:$A$369,\"<=\"&$E$3,$H$10:$H$369)),0,0),\"\")","v":""},{"$f":"IFERROR(-IPMT((C211-$P$1)/12,B211,IF(C211=КАЛЬКУЛЯТОР!$C$21,$E$2,$E$2-$E$3),IF(C211=КАЛЬКУЛЯТОР!$C$21,$I$9,$I$9-SUMIF($A$10:$A$369,\"<=\"&$E$3,$H$10:$H$369)),0,0),\"\")","v":""},{"$f":"IFERROR((-PPMT(C211/12,B211,IF(C211=КАЛЬКУЛЯТОР!$C$21,$E$2,$E$2-$E$3),IF(C211=КАЛЬКУЛЯТОР!$C$21,$I$9,$I$9-SUMIF($A$10:$A$369,\"<=\"&$E$3,$H$10:$H$369)),0,0)),\"\")","v":""},"",{"$error":"#VALUE!"},null,{"$error":"#VALUE!"},{"$error":"#VALUE!"},{"$error":"#VALUE!"},{"$error":"#VALUE!"},false]
[203,203,"",{"$f":"IF(A212<=$E$2,-PMT(C212/12,IF(C212=КАЛЬКУЛЯТОР!$C$21,$E$2,$E$2-$E$3),IF(C212=КАЛЬКУЛЯТОР!$C$21,$I$9,$I$9-SUMIF($A$10:$A$369,\"<=\"&$E$3,$H$10:$H$369)),0,0),\"\")","v":""},null,{"$f":"IFERROR(-IPMT(C212/12,B212,IF(C212=КАЛЬКУЛЯТОР!$C$21,$E$2,$E$2-$E$3),IF(C212=КАЛЬКУЛЯТОР!$C$21,$I$9,$I$9-SUMIF($A$10:$A$369,\"<=\"&$E$3,$H$10:$H$369)),0,0),\"\")","v":""},{"$f":"IFERROR(-IPMT((C212-$P$1)/12,B212,IF(C212=КАЛЬКУЛЯТОР!$C$21,$E$2,$E$2-$E$3),IF(C212=КАЛЬКУЛЯТОР!$C$21,$I$9,$I$9-SUMIF($A$10:$A$369,\"<=\"&$E$3,$H$10:$H$369)),0,0),\"\")","v":""},{"$f":"IFERROR((-PPMT(C212/12,B212,IF(C212=КАЛЬКУЛЯТОР!$C$21,$E$2,$E$2-$E$3),IF(C212=КАЛЬКУЛЯТОР!$C$21,$I$9,$I$9-SUMIF($A$10:$A$369,\"<=\"&$E$3,$H$10:$H$369)),0,0)),\"\")","v":""},"",{"$error":"#VALUE!"},null,{"$error":"#VALUE!"},{"$error":"#VALUE!"},{"$error":"#VALUE!"},{"$error":"#VALUE!"},false]
[204,204,"",{"$f":"IF(A213<=$E$2,-PMT(C213/12,IF(C213=КАЛЬКУЛЯТОР!$C$21,$E$2,$E$2-$E$3),IF(C213=КАЛЬКУЛЯТОР!$C$21,$I$9,$I$9-SUMIF($A$10:$A$369,\"<=\"&$E$3,$H$10:$H$369)),0,0),\"\")","v":""},null,{"$f":"IFERROR(-IPMT(C213/12,B213,IF(C213=КАЛЬКУЛЯТОР!$C$21,$E$2,$E$2-$E$3),IF(C213=КАЛЬКУЛЯТОР!$C$21,$I$9,$I$9-SUMIF($A$10:$A$369,\"<=\"&$E$3,$H$10:$H$369)),0,0),\"\")","v":""},{"$f":"IFERROR(-IPMT((C213-$P$1)/12,B213,IF(C213=КАЛЬКУЛЯТОР!$C$21,$E$2,$E$2-$E$3),IF(C213=КАЛЬКУЛЯТОР!$C$21,$I$9,$I$9-SUMIF($A$10:$A$369,\"<=\"&$E$3,$H$10:$H$369)),0,0),\"\")","v":""},{"$f":"IFERROR((-PPMT(C213/12,B213,IF(C213=КАЛЬКУЛЯТОР!$C$21,$E$2,$E$2-$E$3),IF(C213=КАЛЬКУЛЯТОР!$C$21,$I$9,$I$9-SUMIF($A$10:$A$369,\"<=\"&$E$3,$H$10:$H$369)),0,0)),\"\")","v":""},"",{"$error":"#VALUE!"},null,{"$error":"#VALUE!"},{"$error":"#VALUE!"},{"$error":"#VALUE!"},{"$error":"#VALUE!"},false]
[205,205,"",{"$f":"IF(A214<=$E$2,-PMT(C214/12,IF(C214=КАЛЬКУЛЯТОР!$C$21,$E$2,$E$2-$E$3),IF(C214=КАЛЬКУЛЯТОР!$C$21,$I$9,$I$9-SUMIF($A$10:$A$369,\"<=\"&$E$3,$H$10:$H$369)),0,0)+E214,\"\")","v":""},{"$f":"IF($E$2>$A213,(I213+SUM(F214:F225))*($K$4+$K$5),0)","v":{"v":0,"d":"0.00"}},{"$f":"IFERROR(-IPMT(C214/12,B214,IF(C214=КАЛЬКУЛЯТОР!$C$21,$E$2,$E$2-$E$3),IF(C214=КАЛЬКУЛЯТОР!$C$21,$I$9,$I$9-SUMIF($A$10:$A$369,\"<=\"&$E$3,$H$10:$H$369)),0,0),\"\")","v":""},{"$f":"IFERROR(-IPMT((C214-$P$1)/12,B214,IF(C214=КАЛЬКУЛЯТОР!$C$21,$E$2,$E$2-$E$3),IF(C214=КАЛЬКУЛЯТОР!$C$21,$I$9,$I$9-SUMIF($A$10:$A$369,\"<=\"&$E$3,$H$10:$H$369)),0,0),\"\")","v":""},{"$f":"IFERROR((-PPMT(C214/12,B214,IF(C214=КАЛЬКУЛЯТОР!$C$21,$E$2,$E$2-$E$3),IF(C214=КАЛЬКУЛЯТОР!$C$21,$I$9,$I$9-SUMIF($A$10:$A$369,\"<=\"&$E$3,$H$10:$H$369)),0,0)),\"\")","v":""},"",{"$error":"#VALUE!"},{"$f":"PV($E$5/12,A214-1,0,-E214)","v":{"v":0,"d":"0.00"}},{"$error":"#VALUE!"},{"$error":"#VALUE!"},{"$error":"#VALUE!"},{"$error":"#VALUE!"},false]
[206,206,"",{"$f":"IF(A215<=$E$2,-PMT(C215/12,IF(C215=КАЛЬКУЛЯТОР!$C$21,$E$2,$E$2-$E$3),IF(C215=КАЛЬКУЛЯТОР!$C$21,$I$9,$I$9-SUMIF($A$10:$A$369,\"<=\"&$E$3,$H$10:$H$369)),0,0),\"\")","v":""},null,{"$f":"IFERROR(-IPMT(C215/12,B215,IF(C215=КАЛЬКУЛЯТОР!$C$21,$E$2,$E$2-$E$3),IF(C215=КАЛЬКУЛЯТОР!$C$21,$I$9,$I$9-SUMIF($A$10:$A$369,\"<=\"&$E$3,$H$10:$H$369)),0,0),\"\")","v":""},{"$f":"IFERROR(-IPMT((C215-$P$1)/12,B215,IF(C215=КАЛЬКУЛЯТОР!$C$21,$E$2,$E$2-$E$3),IF(C215=КАЛЬКУЛЯТОР!$C$21,$I$9,$I$9-SUMIF($A$10:$A$369,\"<=\"&$E$3,$H$10:$H$369)),0,0),\"\")","v":""},{"$f":"IFERROR((-PPMT(C215/12,B215,IF(C215=КАЛЬКУЛЯТОР!$C$21,$E$2,$E$2-$E$3),IF(C215=КАЛЬКУЛЯТОР!$C$21,$I$9,$I$9-SUMIF($A$10:$A$369,\"<=\"&$E$3,$H$10:$H$369)),0,0)),\"\")","v":""},"",{"$error":"#VALUE!"},null,{"$error":"#VALUE!"},{"$error":"#VALUE!"},{"$error":"#VALUE!"},{"$error":"#VALUE!"},false]
[207,207,"",{"$f":"IF(A216<=$E$2,-PMT(C216/12,IF(C216=КАЛЬКУЛЯТОР!$C$21,$E$2,$E$2-$E$3),IF(C216=КАЛЬКУЛЯТОР!$C$21,$I$9,$I$9-SUMIF($A$10:$A$369,\"<=\"&$E$3,$H$10:$H$369)),0,0),\"\")","v":""},null,{"$f":"IFERROR(-IPMT(C216/12,B216,IF(C216=КАЛЬКУЛЯТОР!$C$21,$E$2,$E$2-$E$3),IF(C216=КАЛЬКУЛЯТОР!$C$21,$I$9,$I$9-SUMIF($A$10:$A$369,\"<=\"&$E$3,$H$10:$H$369)),0,0),\"\")","v":""},{"$f":"IFERROR(-IPMT((C216-$P$1)/12,B216,IF(C216=КАЛЬКУЛЯТОР!$C$21,$E$2,$E$2-$E$3),IF(C216=КАЛЬКУЛЯТОР!$C$21,$I$9,$I$9-SUMIF($A$10:$A$369,\"<=\"&$E$3,$H$10:$H$369)),0,0),\"\")","v":""},{"$f":"IFERROR((-PPMT(C216/12,B216,IF(C216=КАЛЬКУЛЯТОР!$C$21,$E$2,$E$2-$E$3),IF(C216=КАЛЬКУЛЯТОР!$C$21,$I$9,$I$9-SUMIF($A$10:$A$369,\"<=\"&$E$3,$H$10:$H$369)),0,0)),\"\")","v":""},"",{"$error":"#VALUE!"},null,{"$error":"#VALUE!"},{"$error":"#VALUE!"},{"$error":"#VALUE!"},{"$error":"#VALUE!"},false]
[208,208,"",{"$f":"IF(A217<=$E$2,-PMT(C217/12,IF(C217=КАЛЬКУЛЯТОР!$C$21,$E$2,$E$2-$E$3),IF(C217=КАЛЬКУЛЯТОР!$C$21,$I$9,$I$9-SUMIF($A$10:$A$369,\"<=\"&$E$3,$H$10:$H$369)),0,0),\"\")","v":""},null,{"$f":"IFERROR(-IPMT(C217/12,B217,IF(C217=КАЛЬКУЛЯТОР!$C$21,$E$2,$E$2-$E$3),IF(C217=КАЛЬКУЛЯТОР!$C$21,$I$9,$I$9-SUMIF($A$10:$A$369,\"<=\"&$E$3,$H$10:$H$369)),0,0),\"\")","v":""},{"$f":"IFERROR(-IPMT((C217-$P$1)/12,B217,IF(C217=КАЛЬКУЛЯТОР!$C$21,$E$2,$E$2-$E$3),IF(C217=КАЛЬКУЛЯТОР!$C$21,$I$9,$I$9-SUMIF($A$10:$A$369,\"<=\"&$E$3,$H$10:$H$369)),0,0),\"\")","v":""},{"$f":"IFERROR((-PPMT(C217/12,B217,IF(C217=КАЛЬКУЛЯТОР!$C$21,$E$2,$E$2-$E$3),IF(C217=КАЛЬКУЛЯТОР!$C$21,$I$9,$I$9-SUMIF($A$10:$A$369,\"<=\"&$E$3,$H$10:$H$369)),0,0)),\"\")","v":""},"",{"$error":"#VALUE!"},null,{"$error":"#VALUE!"},{"$error":"#VALUE!"},{"$error":"#VALUE!"},{"$error":"#VALUE!"},false]
[209,209,"",{"$f":"IF(A218<=$E$2,-PMT(C218/12,IF(C218=КАЛЬКУЛЯТОР!$C$21,$E$2,$E$2-$E$3),IF(C218=КАЛЬКУЛЯТОР!$C$21,$I$9,$I$9-SUMIF($A$10:$A$369,\"<=\"&$E$3,$H$10:$H$369)),0,0),\"\")","v":""},null,{"$f":"IFERROR(-IPMT(C218/12,B218,IF(C218=КАЛЬКУЛЯТОР!$C$21,$E$2,$E$2-$E$3),IF(C218=КАЛЬКУЛЯТОР!$C$21,$I$9,$I$9-SUMIF($A$10:$A$369,\"<=\"&$E$3,$H$10:$H$369)),0,0),\"\")","v":""},{"$f":"IFERROR(-IPMT((C218-$P$1)/12,B218,IF(C218=КАЛЬКУЛЯТОР!$C$21,$E$2,$E$2-$E$3),IF(C218=КАЛЬКУЛЯТОР!$C$21,$I$9,$I$9-SUMIF($A$10:$A$369,\"<=\"&$E$3,$H$10:$H$369)),0,0),\"\")","v":""},{"$f":"IFERROR((-PPMT(C218/12,B218,IF(C218=КАЛЬКУЛЯТОР!$C$21,$E$2,$E$2-$E$3),IF(C218=КАЛЬКУЛЯТОР!$C$21,$I$9,$I$9-SUMIF($A$10:$A$369,\"<=\"&$E$3,$H$10:$H$369)),0,0)),\"\")","v":""},"",{"$error":"#VALUE!"},null,{"$error":"#VALUE!"},{"$error":"#VALUE!"},{"$error":"#VALUE!"},{"$error":"#VALUE!"},false]
[210,210,"",{"$f":"IF(A219<=$E$2,-PMT(C219/12,IF(C219=КАЛЬКУЛЯТОР!$C$21,$E$2,$E$2-$E$3),IF(C219=КАЛЬКУЛЯТОР!$C$21,$I$9,$I$9-SUMIF($A$10:$A$369,\"<=\"&$E$3,$H$10:$H$369)),0,0),\"\")","v":""},null,{"$f":"IFERROR(-IPMT(C219/12,B219,IF(C219=КАЛЬКУЛЯТОР!$C$21,$E$2,$E$2-$E$3),IF(C219=КАЛЬКУЛЯТОР!$C$21,$I$9,$I$9-SUMIF($A$10:$A$369,\"<=\"&$E$3,$H$10:$H$369)),0,0),\"\")","v":""},{"$f":"IFERROR(-IPMT((C219-$P$1)/12,B219,IF(C219=КАЛЬКУЛЯТОР!$C$21,$E$2,$E$2-$E$3),IF(C219=КАЛЬКУЛЯТОР!$C$21,$I$9,$I$9-SUMIF($A$10:$A$369,\"<=\"&$E$3,$H$10:$H$369)),0,0),\"\")","v":""},{"$f":"IFERROR((-PPMT(C219/12,B219,IF(C219=КАЛЬКУЛЯТОР!$C$21,$E$2,$E$2-$E$3),IF(C219=КАЛЬКУЛЯТОР!$C$21,$I$9,$I$9-SUMIF($A$10:$A$369,\"<=\"&$E$3,$H$10:$H$369)),0,0)),\"\")","v":""},"",{"$error":"#VALUE!"},null,{"$error":"#VALUE!"},{"$error":"#VALUE!"},{"$error":"#VALUE!"},{"$error":"#VALUE!"},false]
[211,211,"",{"$f":"IF(A220<=$E$2,-PMT(C220/12,IF(C220=КАЛЬКУЛЯТОР!$C$21,$E$2,$E$2-$E$3),IF(C220=КАЛЬКУЛЯТОР!$C$21,$I$9,$I$9-SUMIF($A$10:$A$369,\"<=\"&$E$3,$H$10:$H$369)),0,0),\"\")","v":""},null,{"$f":"IFERROR(-IPMT(C220/12,B220,IF(C220=КАЛЬКУЛЯТОР!$C$21,$E$2,$E$2-$E$3),IF(C220=КАЛЬКУЛЯТОР!$C$21,$I$9,$I$9-SUMIF($A$10:$A$369,\"<=\"&$E$3,$H$10:$H$369)),0,0),\"\")","v":""},{"$f":"IFERROR(-IPMT((C220-$P$1)/12,B220,IF(C220=КАЛЬКУЛЯТОР!$C$21,$E$2,$E$2-$E$3),IF(C220=КАЛЬКУЛЯТОР!$C$21,$I$9,$I$9-SUMIF($A$10:$A$369,\"<=\"&$E$3,$H$10:$H$369)),0,0),\"\")","v":""},{"$f":"IFERROR((-PPMT(C220/12,B220,IF(C220=КАЛЬКУЛЯТОР!$C$21,$E$2,$E$2-$E$3),IF(C220=КАЛЬКУЛЯТОР!$C$21,$I$9,$I$9-SUMIF($A$10:$A$369,\"<=\"&$E$3,$H$10:$H$369)),0,0)),\"\")","v":""},"",{"$error":"#VALUE!"},null,{"$error":"#VALUE!"},{"$error":"#VALUE!"},{"$error":"#VALUE!"},{"$error":"#VALUE!"},false]
[212,212,"",{"$f":"IF(A221<=$E$2,-PMT(C221/12,IF(C221=КАЛЬКУЛЯТОР!$C$21,$E$2,$E$2-$E$3),IF(C221=КАЛЬКУЛЯТОР!$C$21,$I$9,$I$9-SUMIF($A$10:$A$369,\"<=\"&$E$3,$H$10:$H$369)),0,0),\"\")","v":""},null,{"$f":"IFERROR(-IPMT(C221/12,B221,IF(C221=КАЛЬКУЛЯТОР!$C$21,$E$2,$E$2-$E$3),IF(C221=КАЛЬКУЛЯТОР!$C$21,$I$9,$I$9-SUMIF($A$10:$A$369,\"<=\"&$E$3,$H$10:$H$369)),0,0),\"\")","v":""},{"$f":"IFERROR(-IPMT((C221-$P$1)/12,B221,IF(C221=КАЛЬКУЛЯТОР!$C$21,$E$2,$E$2-$E$3),IF(C221=КАЛЬКУЛЯТОР!$C$21,$I$9,$I$9-SUMIF($A$10:$A$369,\"<=\"&$E$3,$H$10:$H$369)),0,0),\"\")","v":""},{"$f":"IFERROR((-PPMT(C221/12,B221,IF(C221=КАЛЬКУЛЯТОР!$C$21,$E$2,$E$2-$E$3),IF(C221=КАЛЬКУЛЯТОР!$C$21,$I$9,$I$9-SUMIF($A$10:$A$369,\"<=\"&$E$3,$H$10:$H$369)),0,0)),\"\")","v":""},"",{"$error":"#VALUE!"},null,{"$error":"#VALUE!"},{"$error":"#VALUE!"},{"$error":"#VALUE!"},{"$error":"#VALUE!"},false]
[213,213,"",{"$f":"IF(A222<=$E$2,-PMT(C222/12,IF(C222=КАЛЬКУЛЯТОР!$C$21,$E$2,$E$2-$E$3),IF(C222=КАЛЬКУЛЯТОР!$C$21,$I$9,$I$9-SUMIF($A$10:$A$369,\"<=\"&$E$3,$H$10:$H$369)),0,0),\"\")","v":""},null,{"$f":"IFERROR(-IPMT(C222/12,B222,IF(C222=КАЛЬКУЛЯТОР!$C$21,$E$2,$E$2-$E$3),IF(C222=КАЛЬКУЛЯТОР!$C$21,$I$9,$I$9-SUMIF($A$10:$A$369,\"<=\"&$E$3,$H$10:$H$369)),0,0),\"\")","v":""},{"$f":"IFERROR(-IPMT((C222-$P$1)/12,B222,IF(C222=КАЛЬКУЛЯТОР!$C$21,$E$2,$E$2-$E$3),IF(C222=КАЛЬКУЛЯТОР!$C$21,$I$9,$I$9-SUMIF($A$10:$A$369,\"<=\"&$E$3,$H$10:$H$369)),0,0),\"\")","v":""},{"$f":"IFERROR((-PPMT(C222/12,B222,IF(C222=КАЛЬКУЛЯТОР!$C$21,$E$2,$E$2-$E$3),IF(C222=КАЛЬКУЛЯТОР!$C$21,$I$9,$I$9-SUMIF($A$10:$A$369,\"<=\"&$E$3,$H$10:$H$369)),0,0)),\"\")","v":""},"",{"$error":"#VALUE!"},null,{"$error":"#VALUE!"},{"$error":"#VALUE!"},{"$error":"#VALUE!"},{"$error":"#VALUE!"},false]
[214,214,"",{"$f":"IF(A223<=$E$2,-PMT(C223/12,IF(C223=КАЛЬКУЛЯТОР!$C$21,$E$2,$E$2-$E$3),IF(C223=КАЛЬКУЛЯТОР!$C$21,$I$9,$I$9-SUMIF($A$10:$A$369,\"<=\"&$E$3,$H$10:$H$369)),0,0),\"\")","v":""},null,{"$f":"IFERROR(-IPMT(C223/12,B223,IF(C223=КАЛЬКУЛЯТОР!$C$21,$E$2,$E$2-$E$3),IF(C223=КАЛЬКУЛЯТОР!$C$21,$I$9,$I$9-SUMIF($A$10:$A$369,\"<=\"&$E$3,$H$10:$H$369)),0,0),\"\")","v":""},{"$f":"IFERROR(-IPMT((C223-$P$1)/12,B223,IF(C223=КАЛЬКУЛЯТОР!$C$21,$E$2,$E$2-$E$3),IF(C223=КАЛЬКУЛЯТОР!$C$21,$I$9,$I$9-SUMIF($A$10:$A$369,\"<=\"&$E$3,$H$10:$H$369)),0,0),\"\")","v":""},{"$f":"IFERROR((-PPMT(C223/12,B223,IF(C223=КАЛЬКУЛЯТОР!$C$21,$E$2,$E$2-$E$3),IF(C223=КАЛЬКУЛЯТОР!$C$21,$I$9,$I$9-SUMIF($A$10:$A$369,\"<=\"&$E$3,$H$10:$H$369)),0,0)),\"\")","v":""},"",{"$error":"#VALUE!"},null,{"$error":"#VALUE!"},{"$error":"#VALUE!"},{"$error":"#VALUE!"},{"$error":"#VALUE!"},false]
[215,215,"",{"$f":"IF(A224<=$E$2,-PMT(C224/12,IF(C224=КАЛЬКУЛЯТОР!$C$21,$E$2,$E$2-$E$3),IF(C224=КАЛЬКУЛЯТОР!$C$21,$I$9,$I$9-SUMIF($A$10:$A$369,\"<=\"&$E$3,$H$10:$H$369)),0,0),\"\")","v":""},null,{"$f":"IFERROR(-IPMT(C224/12,B224,IF(C224=КАЛЬКУЛЯТОР!$C$21,$E$2,$E$2-$E$3),IF(C224=КАЛЬКУЛЯТОР!$C$21,$I$9,$I$9-SUMIF($A$10:$A$369,\"<=\"&$E$3,$H$10:$H$369)),0,0),\"\")","v":""},{"$f":"IFERROR(-IPMT((C224-$P$1)/12,B224,IF(C224=КАЛЬКУЛЯТОР!$C$21,$E$2,$E$2-$E$3),IF(C224=КАЛЬКУЛЯТОР!$C$21,$I$9,$I$9-SUMIF($A$10:$A$369,\"<=\"&$E$3,$H$10:$H$369)),0,0),\"\")","v":""},{"$f":"IFERROR((-PPMT(C224/12,B224,IF(C224=КАЛЬКУЛЯТОР!$C$21,$E$2,$E$2-$E$3),IF(C224=КАЛЬКУЛЯТОР!$C$21,$I$9,$I$9-SUMIF($A$10:$A$369,\"<=\"&$E$3,$H$10:$H$369)),0,0)),\"\")","v":""},"",{"$error":"#VALUE!"},null,{"$error":"#VALUE!"},{"$error":"#VALUE!"},{"$error":"#VALUE!"},{"$error":"#VALUE!"},false]
[216,216,"",{"$f":"IF(A225<=$E$2,-PMT(C225/12,IF(C225=КАЛЬКУЛЯТОР!$C$21,$E$2,$E$2-$E$3),IF(C225=КАЛЬКУЛЯТОР!$C$21,$I$9,$I$9-SUMIF($A$10:$A$369,\"<=\"&$E$3,$H$10:$H$369)),0,0),\"\")","v":""},null,{"$f":"IFERROR(-IPMT(C225/12,B225,IF(C225=КАЛЬКУЛЯТОР!$C$21,$E$2,$E$2-$E$3),IF(C225=КАЛЬКУЛЯТОР!$C$21,$I$9,$I$9-SUMIF($A$10:$A$369,\"<=\"&$E$3,$H$10:$H$369)),0,0),\"\")","v":""},{"$f":"IFERROR(-IPMT((C225-$P$1)/12,B225,IF(C225=КАЛЬКУЛЯТОР!$C$21,$E$2,$E$2-$E$3),IF(C225=КАЛЬКУЛЯТОР!$C$21,$I$9,$I$9-SUMIF($A$10:$A$369,\"<=\"&$E$3,$H$10:$H$369)),0,0),\"\")","v":""},{"$f":"IFERROR((-PPMT(C225/12,B225,IF(C225=КАЛЬКУЛЯТОР!$C$21,$E$2,$E$2-$E$3),IF(C225=КАЛЬКУЛЯТОР!$C$21,$I$9,$I$9-SUMIF($A$10:$A$369,\"<=\"&$E$3,$H$10:$H$369)),0,0)),\"\")","v":""},"",{"$error":"#VALUE!"},null,{"$error":"#VALUE!"},{"$error":"#VALUE!"},{"$error":"#VALUE!"},{"$error":"#VALUE!"},false]
[217,217,"",{"$f":"IF(A226<=$E$2,-PMT(C226/12,IF(C226=КАЛЬКУЛЯТОР!$C$21,$E$2,$E$2-$E$3),IF(C226=КАЛЬКУЛЯТОР!$C$21,$I$9,$I$9-SUMIF($A$10:$A$369,\"<=\"&$E$3,$H$10:$H$369)),0,0)+E226,\"\")","v":""},{"$f":"IF($E$2>$A225,(I225+SUM(F226:F237))*($K$4+$K$5),0)","v":{"v":0,"d":"0.00"}},{"$f":"IFERROR(-IPMT(C226/12,B226,IF(C226=КАЛЬКУЛЯТОР!$C$21,$E$2,$E$2-$E$3),IF(C226=КАЛЬКУЛЯТОР!$C$21,$I$9,$I$9-SUMIF($A$10:$A$369,\"<=\"&$E$3,$H$10:$H$369)),0,0),\"\")","v":""},{"$f":"IFERROR(-IPMT((C226-$P$1)/12,B226,IF(C226=КАЛЬКУЛЯТОР!$C$21,$E$2,$E$2-$E$3),IF(C226=КАЛЬКУЛЯТОР!$C$21,$I$9,$I$9-SUMIF($A$10:$A$369,\"<=\"&$E$3,$H$10:$H$369)),0,0),\"\")","v":""},{"$f":"IFERROR((-PPMT(C226/12,B226,IF(C226=КАЛЬКУЛЯТОР!$C$21,$E$2,$E$2-$E$3),IF(C226=КАЛЬКУЛЯТОР!$C$21,$I$9,$I$9-SUMIF($A$10:$A$369,\"<=\"&$E$3,$H$10:$H$369)),0,0)),\"\")","v":""},"",{"$error":"#VALUE!"},{"$f":"PV($E$5/12,A226-1,0,-E226)","v":{"v":0,"d":"0.00"}},{"$error":"#VALUE!"},{"$error":"#VALUE!"},{"$error":"#VALUE!"},{"$error":"#VALUE!"},false]
[218,218,"",{"$f":"IF(A227<=$E$2,-PMT(C227/12,IF(C227=КАЛЬКУЛЯТОР!$C$21,$E$2,$E$2-$E$3),IF(C227=КАЛЬКУЛЯТОР!$C$21,$I$9,$I$9-SUMIF($A$10:$A$369,\"<=\"&$E$3,$H$10:$H$369)),0,0),\"\")","v":""},null,{"$f":"IFERROR(-IPMT(C227/12,B227,IF(C227=КАЛЬКУЛЯТОР!$C$21,$E$2,$E$2-$E$3),IF(C227=КАЛЬКУЛЯТОР!$C$21,$I$9,$I$9-SUMIF($A$10:$A$369,\"<=\"&$E$3,$H$10:$H$369)),0,0),\"\")","v":""},{"$f":"IFERROR(-IPMT((C227-$P$1)/12,B227,IF(C227=КАЛЬКУЛЯТОР!$C$21,$E$2,$E$2-$E$3),IF(C227=КАЛЬКУЛЯТОР!$C$21,$I$9,$I$9-SUMIF($A$10:$A$369,\"<=\"&$E$3,$H$10:$H$369)),0,0),\"\")","v":""},{"$f":"IFERROR((-PPMT(C227/12,B227,IF(C227=КАЛЬКУЛЯТОР!$C$21,$E$2,$E$2-$E$3),IF(C227=КАЛЬКУЛЯТОР!$C$21,$I$9,$I$9-SUMIF($A$10:$A$369,\"<=\"&$E$3,$H$10:$H$369)),0,0)),\"\")","v":""},"",{"$error":"#VALUE!"},null,{"$error":"#VALUE!"},{"$error":"#VALUE!"},{"$error":"#VALUE!"},{"$error":"#VALUE!"},false]
[219,219,"",{"$f":"IF(A228<=$E$2,-PMT(C228/12,IF(C228=КАЛЬКУЛЯТОР!$C$21,$E$2,$E$2-$E$3),IF(C228=КАЛЬКУЛЯТОР!$C$21,$I$9,$I$9-SUMIF($A$10:$A$369,\"<=\"&$E$3,$H$10:$H$369)),0,0),\"\")","v":""},null,{"$f":"IFERROR(-IPMT(C228/12,B228,IF(C228=КАЛЬКУЛЯТОР!$C$21,$E$2,$E$2-$E$3),IF(C228=КАЛЬКУЛЯТОР!$C$21,$I$9,$I$9-SUMIF($A$10:$A$369,\"<=\"&$E$3,$H$10:$H$369)),0,0),\"\")","v":""},{"$f":"IFERROR(-IPMT((C228-$P$1)/12,B228,IF(C228=КАЛЬКУЛЯТОР!$C$21,$E$2,$E$2-$E$3),IF(C228=КАЛЬКУЛЯТОР!$C$21,$I$9,$I$9-SUMIF($A$10:$A$369,\"<=\"&$E$3,$H$10:$H$369)),0,0),\"\")","v":""},{"$f":"IFERROR((-PPMT(C228/12,B228,IF(C228=КАЛЬКУЛЯТОР!$C$21,$E$2,$E$2-$E$3),IF(C228=КАЛЬКУЛЯТОР!$C$21,$I$9,$I$9-SUMIF($A$10:$A$369,\"<=\"&$E$3,$H$10:$H$369)),0,0)),\"\")","v":""},"",{"$error":"#VALUE!"},null,{"$error":"#VALUE!"},{"$error":"#VALUE!"},{"$error":"#VALUE!"},{"$error":"#VALUE!"},false]
[220,220,"",{"$f":"IF(A229<=$E$2,-PMT(C229/12,IF(C229=КАЛЬКУЛЯТОР!$C$21,$E$2,$E$2-$E$3),IF(C229=КАЛЬКУЛЯТОР!$C$21,$I$9,$I$9-SUMIF($A$10:$A$369,\"<=\"&$E$3,$H$10:$H$369)),0,0),\"\")","v":""},null,{"$f":"IFERROR(-IPMT(C229/12,B229,IF(C229=КАЛЬКУЛЯТОР!$C$21,$E$2,$E$2-$E$3),IF(C229=КАЛЬКУЛЯТОР!$C$21,$I$9,$I$9-SUMIF($A$10:$A$369,\"<=\"&$E$3,$H$10:$H$369)),0,0),\"\")","v":""},{"$f":"IFERROR(-IPMT((C229-$P$1)/12,B229,IF(C229=КАЛЬКУЛЯТОР!$C$21,$E$2,$E$2-$E$3),IF(C229=КАЛЬКУЛЯТОР!$C$21,$I$9,$I$9-SUMIF($A$10:$A$369,\"<=\"&$E$3,$H$10:$H$369)),0,0),\"\")","v":""},{"$f":"IFERROR((-PPMT(C229/12,B229,IF(C229=КАЛЬКУЛЯТОР!$C$21,$E$2,$E$2-$E$3),IF(C229=КАЛЬКУЛЯТОР!$C$21,$I$9,$I$9-SUMIF($A$10:$A$369,\"<=\"&$E$3,$H$10:$H$369)),0,0)),\"\")","v":""},"",{"$error":"#VALUE!"},null,{"$error":"#VALUE!"},{"$error":"#VALUE!"},{"$error":"#VALUE!"},{"$error":"#VALUE!"},false]
[221,221,"",{"$f":"IF(A230<=$E$2,-PMT(C230/12,IF(C230=КАЛЬКУЛЯТОР!$C$21,$E$2,$E$2-$E$3),IF(C230=КАЛЬКУЛЯТОР!$C$21,$I$9,$I$9-SUMIF($A$10:$A$369,\"<=\"&$E$3,$H$10:$H$369)),0,0),\"\")","v":""},null,{"$f":"IFERROR(-IPMT(C230/12,B230,IF(C230=КАЛЬКУЛЯТОР!$C$21,$E$2,$E$2-$E$3),IF(C230=КАЛЬКУЛЯТОР!$C$21,$I$9,$I$9-SUMIF($A$10:$A$369,\"<=\"&$E$3,$H$10:$H$369)),0,0),\"\")","v":""},{"$f":"IFERROR(-IPMT((C230-$P$1)/12,B230,IF(C230=КАЛЬКУЛЯТОР!$C$21,$E$2,$E$2-$E$3),IF(C230=КАЛЬКУЛЯТОР!$C$21,$I$9,$I$9-SUMIF($A$10:$A$369,\"<=\"&$E$3,$H$10:$H$369)),0,0),\"\")","v":""},{"$f":"IFERROR((-PPMT(C230/12,B230,IF(C230=КАЛЬКУЛЯТОР!$C$21,$E$2,$E$2-$E$3),IF(C230=КАЛЬКУЛЯТОР!$C$21,$I$9,$I$9-SUMIF($A$10:$A$369,\"<=\"&$E$3,$H$10:$H$369)),0,0)),\"\")","v":""},"",{"$error":"#VALUE!"},null,{"$error":"#VALUE!"},{"$error":"#VALUE!"},{"$error":"#VALUE!"},{"$error":"#VALUE!"},false]
[222,222,"",{"$f":"IF(A231<=$E$2,-PMT(C231/12,IF(C231=КАЛЬКУЛЯТОР!$C$21,$E$2,$E$2-$E$3),IF(C231=КАЛЬКУЛЯТОР!$C$21,$I$9,$I$9-SUMIF($A$10:$A$369,\"<=\"&$E$3,$H$10:$H$369)),0,0),\"\")","v":""},null,{"$f":"IFERROR(-IPMT(C231/12,B231,IF(C231=КАЛЬКУЛЯТОР!$C$21,$E$2,$E$2-$E$3),IF(C231=КАЛЬКУЛЯТОР!$C$21,$I$9,$I$9-SUMIF($A$10:$A$369,\"<=\"&$E$3,$H$10:$H$369)),0,0),\"\")","v":""},{"$f":"IFERROR(-IPMT((C231-$P$1)/12,B231,IF(C231=КАЛЬКУЛЯТОР!$C$21,$E$2,$E$2-$E$3),IF(C231=КАЛЬКУЛЯТОР!$C$21,$I$9,$I$9-SUMIF($A$10:$A$369,\"<=\"&$E$3,$H$10:$H$369)),0,0),\"\")","v":""},{"$f":"IFERROR((-PPMT(C231/12,B231,IF(C231=КАЛЬКУЛЯТОР!$C$21,$E$2,$E$2-$E$3),IF(C231=КАЛЬКУЛЯТОР!$C$21,$I$9,$I$9-SUMIF($A$10:$A$369,\"<=\"&$E$3,$H$10:$H$369)),0,0)),\"\")","v":""},"",{"$error":"#VALUE!"},null,{"$error":"#VALUE!"},{"$error":"#VALUE!"},{"$error":"#VALUE!"},{"$error":"#VALUE!"},false]
[223,223,"",{"$f":"IF(A232<=$E$2,-PMT(C232/12,IF(C232=КАЛЬКУЛЯТОР!$C$21,$E$2,$E$2-$E$3),IF(C232=КАЛЬКУЛЯТОР!$C$21,$I$9,$I$9-SUMIF($A$10:$A$369,\"<=\"&$E$3,$H$10:$H$369)),0,0),\"\")","v":""},null,{"$f":"IFERROR(-IPMT(C232/12,B232,IF(C232=КАЛЬКУЛЯТОР!$C$21,$E$2,$E$2-$E$3),IF(C232=КАЛЬКУЛЯТОР!$C$21,$I$9,$I$9-SUMIF($A$10:$A$369,\"<=\"&$E$3,$H$10:$H$369)),0,0),\"\")","v":""},{"$f":"IFERROR(-IPMT((C232-$P$1)/12,B232,IF(C232=КАЛЬКУЛЯТОР!$C$21,$E$2,$E$2-$E$3),IF(C232=КАЛЬКУЛЯТОР!$C$21,$I$9,$I$9-SUMIF($A$10:$A$369,\"<=\"&$E$3,$H$10:$H$369)),0,0),\"\")","v":""},{"$f":"IFERROR((-PPMT(C232/12,B232,IF(C232=КАЛЬКУЛЯТОР!$C$21,$E$2,$E$2-$E$3),IF(C232=КАЛЬКУЛЯТОР!$C$21,$I$9,$I$9-SUMIF($A$10:$A$369,\"<=\"&$E$3,$H$10:$H$369)),0,0)),\"\")","v":""},"",{"$error":"#VALUE!"},null,{"$error":"#VALUE!"},{"$error":"#VALUE!"},{"$error":"#VALUE!"},{"$error":"#VALUE!"},false]
[224,224,"",{"$f":"IF(A233<=$E$2,-PMT(C233/12,IF(C233=КАЛЬКУЛЯТОР!$C$21,$E$2,$E$2-$E$3),IF(C233=КАЛЬКУЛЯТОР!$C$21,$I$9,$I$9-SUMIF($A$10:$A$369,\"<=\"&$E$3,$H$10:$H$369)),0,0),\"\")","v":""},null,{"$f":"IFERROR(-IPMT(C233/12,B233,IF(C233=КАЛЬКУЛЯТОР!$C$21,$E$2,$E$2-$E$3),IF(C233=КАЛЬКУЛЯТОР!$C$21,$I$9,$I$9-SUMIF($A$10:$A$369,\"<=\"&$E$3,$H$10:$H$369)),0,0),\"\")","v":""},{"$f":"IFERROR(-IPMT((C233-$P$1)/12,B233,IF(C233=КАЛЬКУЛЯТОР!$C$21,$E$2,$E$2-$E$3),IF(C233=КАЛЬКУЛЯТОР!$C$21,$I$9,$I$9-SUMIF($A$10:$A$369,\"<=\"&$E$3,$H$10:$H$369)),0,0),\"\")","v":""},{"$f":"IFERROR((-PPMT(C233/12,B233,IF(C233=КАЛЬКУЛЯТОР!$C$21,$E$2,$E$2-$E$3),IF(C233=КАЛЬКУЛЯТОР!$C$21,$I$9,$I$9-SUMIF($A$10:$A$369,\"<=\"&$E$3,$H$10:$H$369)),0,0)),\"\")","v":""},"",{"$error":"#VALUE!"},null,{"$error":"#VALUE!"},{"$error":"#VALUE!"},{"$error":"#VALUE!"},{"$error":"#VALUE!"},false]
[225,225,"",{"$f":"IF(A234<=$E$2,-PMT(C234/12,IF(C234=КАЛЬКУЛЯТОР!$C$21,$E$2,$E$2-$E$3),IF(C234=КАЛЬКУЛЯТОР!$C$21,$I$9,$I$9-SUMIF($A$10:$A$369,\"<=\"&$E$3,$H$10:$H$369)),0,0),\"\")","v":""},null,{"$f":"IFERROR(-IPMT(C234/12,B234,IF(C234=КАЛЬКУЛЯТОР!$C$21,$E$2,$E$2-$E$3),IF(C234=КАЛЬКУЛЯТОР!$C$21,$I$9,$I$9-SUMIF($A$10:$A$369,\"<=\"&$E$3,$H$10:$H$369)),0,0),\"\")","v":""},{"$f":"IFERROR(-IPMT((C234-$P$1)/12,B234,IF(C234=КАЛЬКУЛЯТОР!$C$21,$E$2,$E$2-$E$3),IF(C234=КАЛЬКУЛЯТОР!$C$21,$I$9,$I$9-SUMIF($A$10:$A$369,\"<=\"&$E$3,$H$10:$H$369)),0,0),\"\")","v":""},{"$f":"IFERROR((-PPMT(C234/12,B234,IF(C234=КАЛЬКУЛЯТОР!$C$21,$E$2,$E$2-$E$3),IF(C234=КАЛЬКУЛЯТОР!$C$21,$I$9,$I$9-SUMIF($A$10:$A$369,\"<=\"&$E$3,$H$10:$H$369)),0,0)),\"\")","v":""},"",{"$error":"#VALUE!"},null,{"$error":"#VALUE!"},{"$error":"#VALUE!"},{"$error":"#VALUE!"},{"$error":"#VALUE!"},false]
[226,226,"",{"$f":"IF(A235<=$E$2,-PMT(C235/12,IF(C235=КАЛЬКУЛЯТОР!$C$21,$E$2,$E$2-$E$3),IF(C235=КАЛЬКУЛЯТОР!$C$21,$I$9,$I$9-SUMIF($A$10:$A$369,\"<=\"&$E$3,$H$10:$H$369)),0,0),\"\")","v":""},null,{"$f":"IFERROR(-IPMT(C235/12,B235,IF(C235=КАЛЬКУЛЯТОР!$C$21,$E$2,$E$2-$E$3),IF(C235=КАЛЬКУЛЯТОР!$C$21,$I$9,$I$9-SUMIF($A$10:$A$369,\"<=\"&$E$3,$H$10:$H$369)),0,0),\"\")","v":""},{"$f":"IFERROR(-IPMT((C235-$P$1)/12,B235,IF(C235=КАЛЬКУЛЯТОР!$C$21,$E$2,$E$2-$E$3),IF(C235=КАЛЬКУЛЯТОР!$C$21,$I$9,$I$9-SUMIF($A$10:$A$369,\"<=\"&$E$3,$H$10:$H$369)),0,0),\"\")","v":""},{"$f":"IFERROR((-PPMT(C235/12,B235,IF(C235=КАЛЬКУЛЯТОР!$C$21,$E$2,$E$2-$E$3),IF(C235=КАЛЬКУЛЯТОР!$C$21,$I$9,$I$9-SUMIF($A$10:$A$369,\"<=\"&$E$3,$H$10:$H$369)),0,0)),\"\")","v":""},"",{"$error":"#VALUE!"},null,{"$error":"#VALUE!"},{"$error":"#VALUE!"},{"$error":"#VALUE!"},{"$error":"#VALUE!"},false]
[227,227,"",{"$f":"IF(A236<=$E$2,-PMT(C236/12,IF(C236=КАЛЬКУЛЯТОР!$C$21,$E$2,$E$2-$E$3),IF(C236=КАЛЬКУЛЯТОР!$C$21,$I$9,$I$9-SUMIF($A$10:$A$369,\"<=\"&$E$3,$H$10:$H$369)),0,0),\"\")","v":""},null,{"$f":"IFERROR(-IPMT(C236/12,B236,IF(C236=КАЛЬКУЛЯТОР!$C$21,$E$2,$E$2-$E$3),IF(C236=КАЛЬКУЛЯТОР!$C$21,$I$9,$I$9-SUMIF($A$10:$A$369,\"<=\"&$E$3,$H$10:$H$369)),0,0),\"\")","v":""},{"$f":"IFERROR(-IPMT((C236-$P$1)/12,B236,IF(C236=КАЛЬКУЛЯТОР!$C$21,$E$2,$E$2-$E$3),IF(C236=КАЛЬКУЛЯТОР!$C$21,$I$9,$I$9-SUMIF($A$10:$A$369,\"<=\"&$E$3,$H$10:$H$369)),0,0),\"\")","v":""},{"$f":"IFERROR((-PPMT(C236/12,B236,IF(C236=КАЛЬКУЛЯТОР!$C$21,$E$2,$E$2-$E$3),IF(C236=КАЛЬКУЛЯТОР!$C$21,$I$9,$I$9-SUMIF($A$10:$A$369,\"<=\"&$E$3,$H$10:$H$369)),0,0)),\"\")","v":""},"",{"$error":"#VALUE!"},null,{"$error":"#VALUE!"},{"$error":"#VALUE!"},{"$error":"#VALUE!"},{"$error":"#VALUE!"},false]
[228,228,"",{"$f":"IF(A237<=$E$2,-PMT(C237/12,IF(C237=КАЛЬКУЛЯТОР!$C$21,$E$2,$E$2-$E$3),IF(C237=КАЛЬКУЛЯТОР!$C$21,$I$9,$I$9-SUMIF($A$10:$A$369,\"<=\"&$E$3,$H$10:$H$369)),0,0),\"\")","v":""},null,{"$f":"IFERROR(-IPMT(C237/12,B237,IF(C237=КАЛЬКУЛЯТОР!$C$21,$E$2,$E$2-$E$3),IF(C237=КАЛЬКУЛЯТОР!$C$21,$I$9,$I$9-SUMIF($A$10:$A$369,\"<=\"&$E$3,$H$10:$H$369)),0,0),\"\")","v":""},{"$f":"IFERROR(-IPMT((C237-$P$1)/12,B237,IF(C237=КАЛЬКУЛЯТОР!$C$21,$E$2,$E$2-$E$3),IF(C237=КАЛЬКУЛЯТОР!$C$21,$I$9,$I$9-SUMIF($A$10:$A$369,\"<=\"&$E$3,$H$10:$H$369)),0,0),\"\")","v":""},{"$f":"IFERROR((-PPMT(C237/12,B237,IF(C237=КАЛЬКУЛЯТОР!$C$21,$E$2,$E$2-$E$3),IF(C237=КАЛЬКУЛЯТОР!$C$21,$I$9,$I$9-SUMIF($A$10:$A$369,\"<=\"&$E$3,$H$10:$H$369)),0,0)),\"\")","v":""},"",{"$error":"#VALUE!"},null,{"$error":"#VALUE!"},{"$error":"#VALUE!"},{"$error":"#VALUE!"},{"$error":"#VALUE!"},false]
[229,229,"",{"$f":"IF(A238<=$E$2,-PMT(C238/12,IF(C238=КАЛЬКУЛЯТОР!$C$21,$E$2,$E$2-$E$3),IF(C238=КАЛЬКУЛЯТОР!$C$21,$I$9,$I$9-SUMIF($A$10:$A$369,\"<=\"&$E$3,$H$10:$H$369)),0,0)+E238,\"\")","v":""},{"$f":"IF($E$2>$A237,(I237+SUM(F238:F249))*($K$4+$K$5),0)","v":{"v":0,"d":"0.00"}},{"$f":"IFERROR(-IPMT(C238/12,B238,IF(C238=КАЛЬКУЛЯТОР!$C$21,$E$2,$E$2-$E$3),IF(C238=КАЛЬКУЛЯТОР!$C$21,$I$9,$I$9-SUMIF($A$10:$A$369,\"<=\"&$E$3,$H$10:$H$369)),0,0),\"\")","v":""},{"$f":"IFERROR(-IPMT((C238-$P$1)/12,B238,IF(C238=КАЛЬКУЛЯТОР!$C$21,$E$2,$E$2-$E$3),IF(C238=КАЛЬКУЛЯТОР!$C$21,$I$9,$I$9-SUMIF($A$10:$A$369,\"<=\"&$E$3,$H$10:$H$369)),0,0),\"\")","v":""},{"$f":"IFERROR((-PPMT(C238/12,B238,IF(C238=КАЛЬКУЛЯТОР!$C$21,$E$2,$E$2-$E$3),IF(C238=КАЛЬКУЛЯТОР!$C$21,$I$9,$I$9-SUMIF($A$10:$A$369,\"<=\"&$E$3,$H$10:$H$369)),0,0)),\"\")","v":""},"",{"$error":"#VALUE!"},{"$f":"PV($E$5/12,A238-1,0,-E238)","v":{"v":0,"d":"0.00"}},{"$error":"#VALUE!"},{"$error":"#VALUE!"},{"$error":"#VALUE!"},{"$error":"#VALUE!"},false]
[230,230,"",{"$f":"IF(A239<=$E$2,-PMT(C239/12,IF(C239=КАЛЬКУЛЯТОР!$C$21,$E$2,$E$2-$E$3),IF(C239=КАЛЬКУЛЯТОР!$C$21,$I$9,$I$9-SUMIF($A$10:$A$369,\"<=\"&$E$3,$H$10:$H$369)),0,0),\"\")","v":""},null,{"$f":"IFERROR(-IPMT(C239/12,B239,IF(C239=КАЛЬКУЛЯТОР!$C$21,$E$2,$E$2-$E$3),IF(C239=КАЛЬКУЛЯТОР!$C$21,$I$9,$I$9-SUMIF($A$10:$A$369,\"<=\"&$E$3,$H$10:$H$369)),0,0),\"\")","v":""},{"$f":"IFERROR(-IPMT((C239-$P$1)/12,B239,IF(C239=КАЛЬКУЛЯТОР!$C$21,$E$2,$E$2-$E$3),IF(C239=КАЛЬКУЛЯТОР!$C$21,$I$9,$I$9-SUMIF($A$10:$A$369,\"<=\"&$E$3,$H$10:$H$369)),0,0),\"\")","v":""},{"$f":"IFERROR((-PPMT(C239/12,B239,IF(C239=КАЛЬКУЛЯТОР!$C$21,$E$2,$E$2-$E$3),IF(C239=КАЛЬКУЛЯТОР!$C$21,$I$9,$I$9-SUMIF($A$10:$A$369,\"<=\"&$E$3,$H$10:$H$369)),0,0)),\"\")","v":""},"",{"$error":"#VALUE!"},null,{"$error":"#VALUE!"},{"$error":"#VALUE!"},{"$error":"#VALUE!"},{"$error":"#VALUE!"},false]
[231,231,"",{"$f":"IF(A240<=$E$2,-PMT(C240/12,IF(C240=КАЛЬКУЛЯТОР!$C$21,$E$2,$E$2-$E$3),IF(C240=КАЛЬКУЛЯТОР!$C$21,$I$9,$I$9-SUMIF($A$10:$A$369,\"<=\"&$E$3,$H$10:$H$369)),0,0),\"\")","v":""},null,{"$f":"IFERROR(-IPMT(C240/12,B240,IF(C240=КАЛЬКУЛЯТОР!$C$21,$E$2,$E$2-$E$3),IF(C240=КАЛЬКУЛЯТОР!$C$21,$I$9,$I$9-SUMIF($A$10:$A$369,\"<=\"&$E$3,$H$10:$H$369)),0,0),\"\")","v":""},{"$f":"IFERROR(-IPMT((C240-$P$1)/12,B240,IF(C240=КАЛЬКУЛЯТОР!$C$21,$E$2,$E$2-$E$3),IF(C240=КАЛЬКУЛЯТОР!$C$21,$I$9,$I$9-SUMIF($A$10:$A$369,\"<=\"&$E$3,$H$10:$H$369)),0,0),\"\")","v":""},{"$f":"IFERROR((-PPMT(C240/12,B240,IF(C240=КАЛЬКУЛЯТОР!$C$21,$E$2,$E$2-$E$3),IF(C240=КАЛЬКУЛЯТОР!$C$21,$I$9,$I$9-SUMIF($A$10:$A$369,\"<=\"&$E$3,$H$10:$H$369)),0,0)),\"\")","v":""},"",{"$error":"#VALUE!"},null,{"$error":"#VALUE!"},{"$error":"#VALUE!"},{"$error":"#VALUE!"},{"$error":"#VALUE!"},false]
[232,232,"",{"$f":"IF(A241<=$E$2,-PMT(C241/12,IF(C241=КАЛЬКУЛЯТОР!$C$21,$E$2,$E$2-$E$3),IF(C241=КАЛЬКУЛЯТОР!$C$21,$I$9,$I$9-SUMIF($A$10:$A$369,\"<=\"&$E$3,$H$10:$H$369)),0,0),\"\")","v":""},null,{"$f":"IFERROR(-IPMT(C241/12,B241,IF(C241=КАЛЬКУЛЯТОР!$C$21,$E$2,$E$2-$E$3),IF(C241=КАЛЬКУЛЯТОР!$C$21,$I$9,$I$9-SUMIF($A$10:$A$369,\"<=\"&$E$3,$H$10:$H$369)),0,0),\"\")","v":""},{"$f":"IFERROR(-IPMT((C241-$P$1)/12,B241,IF(C241=КАЛЬКУЛЯТОР!$C$21,$E$2,$E$2-$E$3),IF(C241=КАЛЬКУЛЯТОР!$C$21,$I$9,$I$9-SUMIF($A$10:$A$369,\"<=\"&$E$3,$H$10:$H$369)),0,0),\"\")","v":""},{"$f":"IFERROR((-PPMT(C241/12,B241,IF(C241=КАЛЬКУЛЯТОР!$C$21,$E$2,$E$2-$E$3),IF(C241=КАЛЬКУЛЯТОР!$C$21,$I$9,$I$9-SUMIF($A$10:$A$369,\"<=\"&$E$3,$H$10:$H$369)),0,0)),\"\")","v":""},"",{"$error":"#VALUE!"},null,{"$error":"#VALUE!"},{"$error":"#VALUE!"},{"$error":"#VALUE!"},{"$error":"#VALUE!"},false]
[233,233,"",{"$f":"IF(A242<=$E$2,-PMT(C242/12,IF(C242=КАЛЬКУЛЯТОР!$C$21,$E$2,$E$2-$E$3),IF(C242=КАЛЬКУЛЯТОР!$C$21,$I$9,$I$9-SUMIF($A$10:$A$369,\"<=\"&$E$3,$H$10:$H$369)),0,0),\"\")","v":""},null,{"$f":"IFERROR(-IPMT(C242/12,B242,IF(C242=КАЛЬКУЛЯТОР!$C$21,$E$2,$E$2-$E$3),IF(C242=КАЛЬКУЛЯТОР!$C$21,$I$9,$I$9-SUMIF($A$10:$A$369,\"<=\"&$E$3,$H$10:$H$369)),0,0),\"\")","v":""},{"$f":"IFERROR(-IPMT((C242-$P$1)/12,B242,IF(C242=КАЛЬКУЛЯТОР!$C$21,$E$2,$E$2-$E$3),IF(C242=КАЛЬКУЛЯТОР!$C$21,$I$9,$I$9-SUMIF($A$10:$A$369,\"<=\"&$E$3,$H$10:$H$369)),0,0),\"\")","v":""},{"$f":"IFERROR((-PPMT(C242/12,B242,IF(C242=КАЛЬКУЛЯТОР!$C$21,$E$2,$E$2-$E$3),IF(C242=КАЛЬКУЛЯТОР!$C$21,$I$9,$I$9-SUMIF($A$10:$A$369,\"<=\"&$E$3,$H$10:$H$369)),0,0)),\"\")","v":""},"",{"$error":"#VALUE!"},null,{"$error":"#VALUE!"},{"$error":"#VALUE!"},{"$error":"#VALUE!"},{"$error":"#VALUE!"},false]
[234,234,"",{"$f":"IF(A243<=$E$2,-PMT(C243/12,IF(C243=КАЛЬКУЛЯТОР!$C$21,$E$2,$E$2-$E$3),IF(C243=КАЛЬКУЛЯТОР!$C$21,$I$9,$I$9-SUMIF($A$10:$A$369,\"<=\"&$E$3,$H$10:$H$369)),0,0),\"\")","v":""},null,{"$f":"IFERROR(-IPMT(C243/12,B243,IF(C243=КАЛЬКУЛЯТОР!$C$21,$E$2,$E$2-$E$3),IF(C243=КАЛЬКУЛЯТОР!$C$21,$I$9,$I$9-SUMIF($A$10:$A$369,\"<=\"&$E$3,$H$10:$H$369)),0,0),\"\")","v":""},{"$f":"IFERROR(-IPMT((C243-$P$1)/12,B243,IF(C243=КАЛЬКУЛЯТОР!$C$21,$E$2,$E$2-$E$3),IF(C243=КАЛЬКУЛЯТОР!$C$21,$I$9,$I$9-SUMIF($A$10:$A$369,\"<=\"&$E$3,$H$10:$H$369)),0,0),\"\")","v":""},{"$f":"IFERROR((-PPMT(C243/12,B243,IF(C243=КАЛЬКУЛЯТОР!$C$21,$E$2,$E$2-$E$3),IF(C243=КАЛЬКУЛЯТОР!$C$21,$I$9,$I$9-SUMIF($A$10:$A$369,\"<=\"&$E$3,$H$10:$H$369)),0,0)),\"\")","v":""},"",{"$error":"#VALUE!"},null,{"$error":"#VALUE!"},{"$error":"#VALUE!"},{"$error":"#VALUE!"},{"$error":"#VALUE!"},false]
[235,235,"",{"$f":"IF(A244<=$E$2,-PMT(C244/12,IF(C244=КАЛЬКУЛЯТОР!$C$21,$E$2,$E$2-$E$3),IF(C244=КАЛЬКУЛЯТОР!$C$21,$I$9,$I$9-SUMIF($A$10:$A$369,\"<=\"&$E$3,$H$10:$H$369)),0,0),\"\")","v":""},null,{"$f":"IFERROR(-IPMT(C244/12,B244,IF(C244=КАЛЬКУЛЯТОР!$C$21,$E$2,$E$2-$E$3),IF(C244=КАЛЬКУЛЯТОР!$C$21,$I$9,$I$9-SUMIF($A$10:$A$369,\"<=\"&$E$3,$H$10:$H$369)),0,0),\"\")","v":""},{"$f":"IFERROR(-IPMT((C244-$P$1)/12,B244,IF(C244=КАЛЬКУЛЯТОР!$C$21,$E$2,$E$2-$E$3),IF(C244=КАЛЬКУЛЯТОР!$C$21,$I$9,$I$9-SUMIF($A$10:$A$369,\"<=\"&$E$3,$H$10:$H$369)),0,0),\"\")","v":""},{"$f":"IFERROR((-PPMT(C244/12,B244,IF(C244=КАЛЬКУЛЯТОР!$C$21,$E$2,$E$2-$E$3),IF(C244=КАЛЬКУЛЯТОР!$C$21,$I$9,$I$9-SUMIF($A$10:$A$369,\"<=\"&$E$3,$H$10:$H$369)),0,0)),\"\")","v":""},"",{"$error":"#VALUE!"},null,{"$error":"#VALUE!"},{"$error":"#VALUE!"},{"$error":"#VALUE!"},{"$error":"#VALUE!"},false]
[236,236,"",{"$f":"IF(A245<=$E$2,-PMT(C245/12,IF(C245=КАЛЬКУЛЯТОР!$C$21,$E$2,$E$2-$E$3),IF(C245=КАЛЬКУЛЯТОР!$C$21,$I$9,$I$9-SUMIF($A$10:$A$369,\"<=\"&$E$3,$H$10:$H$369)),0,0),\"\")","v":""},null,{"$f":"IFERROR(-IPMT(C245/12,B245,IF(C245=КАЛЬКУЛЯТОР!$C$21,$E$2,$E$2-$E$3),IF(C245=КАЛЬКУЛЯТОР!$C$21,$I$9,$I$9-SUMIF($A$10:$A$369,\"<=\"&$E$3,$H$10:$H$369)),0,0),\"\")","v":""},{"$f":"IFERROR(-IPMT((C245-$P$1)/12,B245,IF(C245=КАЛЬКУЛЯТОР!$C$21,$E$2,$E$2-$E$3),IF(C245=КАЛЬКУЛЯТОР!$C$21,$I$9,$I$9-SUMIF($A$10:$A$369,\"<=\"&$E$3,$H$10:$H$369)),0,0),\"\")","v":""},{"$f":"IFERROR((-PPMT(C245/12,B245,IF(C245=КАЛЬКУЛЯТОР!$C$21,$E$2,$E$2-$E$3),IF(C245=КАЛЬКУЛЯТОР!$C$21,$I$9,$I$9-SUMIF($A$10:$A$369,\"<=\"&$E$3,$H$10:$H$369)),0,0)),\"\")","v":""},"",{"$error":"#VALUE!"},null,{"$error":"#VALUE!"},{"$error":"#VALUE!"},{"$error":"#VALUE!"},{"$error":"#VALUE!"},false]
[237,237,"",{"$f":"IF(A246<=$E$2,-PMT(C246/12,IF(C246=КАЛЬКУЛЯТОР!$C$21,$E$2,$E$2-$E$3),IF(C246=КАЛЬКУЛЯТОР!$C$21,$I$9,$I$9-SUMIF($A$10:$A$369,\"<=\"&$E$3,$H$10:$H$369)),0,0),\"\")","v":""},null,{"$f":"IFERROR(-IPMT(C246/12,B246,IF(C246=КАЛЬКУЛЯТОР!$C$21,$E$2,$E$2-$E$3),IF(C246=КАЛЬКУЛЯТОР!$C$21,$I$9,$I$9-SUMIF($A$10:$A$369,\"<=\"&$E$3,$H$10:$H$369)),0,0),\"\")","v":""},{"$f":"IFERROR(-IPMT((C246-$P$1)/12,B246,IF(C246=КАЛЬКУЛЯТОР!$C$21,$E$2,$E$2-$E$3),IF(C246=КАЛЬКУЛЯТОР!$C$21,$I$9,$I$9-SUMIF($A$10:$A$369,\"<=\"&$E$3,$H$10:$H$369)),0,0),\"\")","v":""},{"$f":"IFERROR((-PPMT(C246/12,B246,IF(C246=КАЛЬКУЛЯТОР!$C$21,$E$2,$E$2-$E$3),IF(C246=КАЛЬКУЛЯТОР!$C$21,$I$9,$I$9-SUMIF($A$10:$A$369,\"<=\"&$E$3,$H$10:$H$369)),0,0)),\"\")","v":""},"",{"$error":"#VALUE!"},null,{"$error":"#VALUE!"},{"$error":"#VALUE!"},{"$error":"#VALUE!"},{"$error":"#VALUE!"},false]
[238,238,"",{"$f":"IF(A247<=$E$2,-PMT(C247/12,IF(C247=КАЛЬКУЛЯТОР!$C$21,$E$2,$E$2-$E$3),IF(C247=КАЛЬКУЛЯТОР!$C$21,$I$9,$I$9-SUMIF($A$10:$A$369,\"<=\"&$E$3,$H$10:$H$369)),0,0),\"\")","v":""},null,{"$f":"IFERROR(-IPMT(C247/12,B247,IF(C247=КАЛЬКУЛЯТОР!$C$21,$E$2,$E$2-$E$3),IF(C247=КАЛЬКУЛЯТОР!$C$21,$I$9,$I$9-SUMIF($A$10:$A$369,\"<=\"&$E$3,$H$10:$H$369)),0,0),\"\")","v":""},{"$f":"IFERROR(-IPMT((C247-$P$1)/12,B247,IF(C247=КАЛЬКУЛЯТОР!$C$21,$E$2,$E$2-$E$3),IF(C247=КАЛЬКУЛЯТОР!$C$21,$I$9,$I$9-SUMIF($A$10:$A$369,\"<=\"&$E$3,$H$10:$H$369)),0,0),\"\")","v":""},{"$f":"IFERROR((-PPMT(C247/12,B247,IF(C247=КАЛЬКУЛЯТОР!$C$21,$E$2,$E$2-$E$3),IF(C247=КАЛЬКУЛЯТОР!$C$21,$I$9,$I$9-SUMIF($A$10:$A$369,\"<=\"&$E$3,$H$10:$H$369)),0,0)),\"\")","v":""},"",{"$error":"#VALUE!"},null,{"$error":"#VALUE!"},{"$error":"#VALUE!"},{"$error":"#VALUE!"},{"$error":"#VALUE!"},false]
[239,239,"",{"$f":"IF(A248<=$E$2,-PMT(C248/12,IF(C248=КАЛЬКУЛЯТОР!$C$21,$E$2,$E$2-$E$3),IF(C248=КАЛЬКУЛЯТОР!$C$21,$I$9,$I$9-SUMIF($A$10:$A$369,\"<=\"&$E$3,$H$10:$H$369)),0,0),\"\")","v":""},null,{"$f":"IFERROR(-IPMT(C248/12,B248,IF(C248=КАЛЬКУЛЯТОР!$C$21,$E$2,$E$2-$E$3),IF(C248=КАЛЬКУЛЯТОР!$C$21,$I$9,$I$9-SUMIF($A$10:$A$369,\"<=\"&$E$3,$H$10:$H$369)),0,0),\"\")","v":""},{"$f":"IFERROR(-IPMT((C248-$P$1)/12,B248,IF(C248=КАЛЬКУЛЯТОР!$C$21,$E$2,$E$2-$E$3),IF(C248=КАЛЬКУЛЯТОР!$C$21,$I$9,$I$9-SUMIF($A$10:$A$369,\"<=\"&$E$3,$H$10:$H$369)),0,0),\"\")","v":""},{"$f":"IFERROR((-PPMT(C248/12,B248,IF(C248=КАЛЬКУЛЯТОР!$C$21,$E$2,$E$2-$E$3),IF(C248=КАЛЬКУЛЯТОР!$C$21,$I$9,$I$9-SUMIF($A$10:$A$369,\"<=\"&$E$3,$H$10:$H$369)),0,0)),\"\")","v":""},"",{"$error":"#VALUE!"},null,{"$error":"#VALUE!"},{"$error":"#VALUE!"},{"$error":"#VALUE!"},{"$error":"#VALUE!"},false]
[240,240,"",{"$f":"IF(A249<=$E$2,-PMT(C249/12,IF(C249=КАЛЬКУЛЯТОР!$C$21,$E$2,$E$2-$E$3),IF(C249=КАЛЬКУЛЯТОР!$C$21,$I$9,$I$9-SUMIF($A$10:$A$369,\"<=\"&$E$3,$H$10:$H$369)),0,0),\"\")","v":""},null,{"$f":"IFERROR(-IPMT(C249/12,B249,IF(C249=КАЛЬКУЛЯТОР!$C$21,$E$2,$E$2-$E$3),IF(C249=КАЛЬКУЛЯТОР!$C$21,$I$9,$I$9-SUMIF($A$10:$A$369,\"<=\"&$E$3,$H$10:$H$369)),0,0),\"\")","v":""},{"$f":"IFERROR(-IPMT((C249-$P$1)/12,B249,IF(C249=КАЛЬКУЛЯТОР!$C$21,$E$2,$E$2-$E$3),IF(C249=КАЛЬКУЛЯТОР!$C$21,$I$9,$I$9-SUMIF($A$10:$A$369,\"<=\"&$E$3,$H$10:$H$369)),0,0),\"\")","v":""},{"$f":"IFERROR((-PPMT(C249/12,B249,IF(C249=КАЛЬКУЛЯТОР!$C$21,$E$2,$E$2-$E$3),IF(C249=КАЛЬКУЛЯТОР!$C$21,$I$9,$I$9-SUMIF($A$10:$A$369,\"<=\"&$E$3,$H$10:$H$369)),0,0)),\"\")","v":""},"",{"$error":"#VALUE!"},null,{"$error":"#VALUE!"},{"$error":"#VALUE!"},{"$error":"#VALUE!"},{"$error":"#VALUE!"},false]
[241,241,"",{"$f":"IF(A250<=$E$2,-PMT(C250/12,IF(C250=КАЛЬКУЛЯТОР!$C$21,$E$2,$E$2-$E$3),IF(C250=КАЛЬКУЛЯТОР!$C$21,$I$9,$I$9-SUMIF($A$10:$A$369,\"<=\"&$E$3,$H$10:$H$369)),0,0)+E250,\"\")","v":""},{"$f":"IF($E$2>$A249,(I249+SUM(F250:F261))*($K$4+$K$5),0)","v":{"v":0,"d":"0.00"}},{"$f":"IFERROR(-IPMT(C250/12,B250,IF(C250=КАЛЬКУЛЯТОР!$C$21,$E$2,$E$2-$E$3),IF(C250=КАЛЬКУЛЯТОР!$C$21,$I$9,$I$9-SUMIF($A$10:$A$369,\"<=\"&$E$3,$H$10:$H$369)),0,0),\"\")","v":""},{"$f":"IFERROR(-IPMT((C250-$P$1)/12,B250,IF(C250=КАЛЬКУЛЯТОР!$C$21,$E$2,$E$2-$E$3),IF(C250=КАЛЬКУЛЯТОР!$C$21,$I$9,$I$9-SUMIF($A$10:$A$369,\"<=\"&$E$3,$H$10:$H$369)),0,0),\"\")","v":""},{"$f":"IFERROR((-PPMT(C250/12,B250,IF(C250=КАЛЬКУЛЯТОР!$C$21,$E$2,$E$2-$E$3),IF(C250=КАЛЬКУЛЯТОР!$C$21,$I$9,$I$9-SUMIF($A$10:$A$369,\"<=\"&$E$3,$H$10:$H$369)),0,0)),\"\")","v":""},"",{"$error":"#VALUE!"},{"$f":"PV($E$5/12,A250-1,0,-E250)","v":{"v":0,"d":"0.00"}},{"$error":"#VALUE!"},{"$error":"#VALUE!"},{"$error":"#VALUE!"},{"$error":"#VALUE!"},false]
[242,242,"",{"$f":"IF(A251<=$E$2,-PMT(C251/12,IF(C251=КАЛЬКУЛЯТОР!$C$21,$E$2,$E$2-$E$3),IF(C251=КАЛЬКУЛЯТОР!$C$21,$I$9,$I$9-SUMIF($A$10:$A$369,\"<=\"&$E$3,$H$10:$H$369)),0,0),\"\")","v":""},null,{"$f":"IFERROR(-IPMT(C251/12,B251,IF(C251=КАЛЬКУЛЯТОР!$C$21,$E$2,$E$2-$E$3),IF(C251=КАЛЬКУЛЯТОР!$C$21,$I$9,$I$9-SUMIF($A$10:$A$369,\"<=\"&$E$3,$H$10:$H$369)),0,0),\"\")","v":""},{"$f":"IFERROR(-IPMT((C251-$P$1)/12,B251,IF(C251=КАЛЬКУЛЯТОР!$C$21,$E$2,$E$2-$E$3),IF(C251=КАЛЬКУЛЯТОР!$C$21,$I$9,$I$9-SUMIF($A$10:$A$369,\"<=\"&$E$3,$H$10:$H$369)),0,0),\"\")","v":""},{"$f":"IFERROR((-PPMT(C251/12,B251,IF(C251=КАЛЬКУЛЯТОР!$C$21,$E$2,$E$2-$E$3),IF(C251=КАЛЬКУЛЯТОР!$C$21,$I$9,$I$9-SUMIF($A$10:$A$369,\"<=\"&$E$3,$H$10:$H$369)),0,0)),\"\")","v":""},"",{"$error":"#VALUE!"},null,{"$error":"#VALUE!"},{"$error":"#VALUE!"},{"$error":"#VALUE!"},{"$error":"#VALUE!"},false]
[243,243,"",{"$f":"IF(A252<=$E$2,-PMT(C252/12,IF(C252=КАЛЬКУЛЯТОР!$C$21,$E$2,$E$2-$E$3),IF(C252=КАЛЬКУЛЯТОР!$C$21,$I$9,$I$9-SUMIF($A$10:$A$369,\"<=\"&$E$3,$H$10:$H$369)),0,0),\"\")","v":""},null,{"$f":"IFERROR(-IPMT(C252/12,B252,IF(C252=КАЛЬКУЛЯТОР!$C$21,$E$2,$E$2-$E$3),IF(C252=КАЛЬКУЛЯТОР!$C$21,$I$9,$I$9-SUMIF($A$10:$A$369,\"<=\"&$E$3,$H$10:$H$369)),0,0),\"\")","v":""},{"$f":"IFERROR(-IPMT((C252-$P$1)/12,B252,IF(C252=КАЛЬКУЛЯТОР!$C$21,$E$2,$E$2-$E$3),IF(C252=КАЛЬКУЛЯТОР!$C$21,$I$9,$I$9-SUMIF($A$10:$A$369,\"<=\"&$E$3,$H$10:$H$369)),0,0),\"\")","v":""},{"$f":"IFERROR((-PPMT(C252/12,B252,IF(C252=КАЛЬКУЛЯТОР!$C$21,$E$2,$E$2-$E$3),IF(C252=КАЛЬКУЛЯТОР!$C$21,$I$9,$I$9-SUMIF($A$10:$A$369,\"<=\"&$E$3,$H$10:$H$369)),0,0)),\"\")","v":""},"",{"$error":"#VALUE!"},null,{"$error":"#VALUE!"},{"$error":"#VALUE!"},{"$error":"#VALUE!"},{"$error":"#VALUE!"},false]
[244,244,"",{"$f":"IF(A253<=$E$2,-PMT(C253/12,IF(C253=КАЛЬКУЛЯТОР!$C$21,$E$2,$E$2-$E$3),IF(C253=КАЛЬКУЛЯТОР!$C$21,$I$9,$I$9-SUMIF($A$10:$A$369,\"<=\"&$E$3,$H$10:$H$369)),0,0),\"\")","v":""},null,{"$f":"IFERROR(-IPMT(C253/12,B253,IF(C253=КАЛЬКУЛЯТОР!$C$21,$E$2,$E$2-$E$3),IF(C253=КАЛЬКУЛЯТОР!$C$21,$I$9,$I$9-SUMIF($A$10:$A$369,\"<=\"&$E$3,$H$10:$H$369)),0,0),\"\")","v":""},{"$f":"IFERROR(-IPMT((C253-$P$1)/12,B253,IF(C253=КАЛЬКУЛЯТОР!$C$21,$E$2,$E$2-$E$3),IF(C253=КАЛЬКУЛЯТОР!$C$21,$I$9,$I$9-SUMIF($A$10:$A$369,\"<=\"&$E$3,$H$10:$H$369)),0,0),\"\")","v":""},{"$f":"IFERROR((-PPMT(C253/12,B253,IF(C253=КАЛЬКУЛЯТОР!$C$21,$E$2,$E$2-$E$3),IF(C253=КАЛЬКУЛЯТОР!$C$21,$I$9,$I$9-SUMIF($A$10:$A$369,\"<=\"&$E$3,$H$10:$H$369)),0,0)),\"\")","v":""},"",{"$error":"#VALUE!"},null,{"$error":"#VALUE!"},{"$error":"#VALUE!"},{"$error":"#VALUE!"},{"$error":"#VALUE!"},false]
[245,245,"",{"$f":"IF(A254<=$E$2,-PMT(C254/12,IF(C254=КАЛЬКУЛЯТОР!$C$21,$E$2,$E$2-$E$3),IF(C254=КАЛЬКУЛЯТОР!$C$21,$I$9,$I$9-SUMIF($A$10:$A$369,\"<=\"&$E$3,$H$10:$H$369)),0,0),\"\")","v":""},null,{"$f":"IFERROR(-IPMT(C254/12,B254,IF(C254=КАЛЬКУЛЯТОР!$C$21,$E$2,$E$2-$E$3),IF(C254=КАЛЬКУЛЯТОР!$C$21,$I$9,$I$9-SUMIF($A$10:$A$369,\"<=\"&$E$3,$H$10:$H$369)),0,0),\"\")","v":""},{"$f":"IFERROR(-IPMT((C254-$P$1)/12,B254,IF(C254=КАЛЬКУЛЯТОР!$C$21,$E$2,$E$2-$E$3),IF(C254=КАЛЬКУЛЯТОР!$C$21,$I$9,$I$9-SUMIF($A$10:$A$369,\"<=\"&$E$3,$H$10:$H$369)),0,0),\"\")","v":""},{"$f":"IFERROR((-PPMT(C254/12,B254,IF(C254=КАЛЬКУЛЯТОР!$C$21,$E$2,$E$2-$E$3),IF(C254=КАЛЬКУЛЯТОР!$C$21,$I$9,$I$9-SUMIF($A$10:$A$369,\"<=\"&$E$3,$H$10:$H$369)),0,0)),\"\")","v":""},"",{"$error":"#VALUE!"},null,{"$error":"#VALUE!"},{"$error":"#VALUE!"},{"$error":"#VALUE!"},{"$error":"#VALUE!"},false]
[246,246,"",{"$f":"IF(A255<=$E$2,-PMT(C255/12,IF(C255=КАЛЬКУЛЯТОР!$C$21,$E$2,$E$2-$E$3),IF(C255=КАЛЬКУЛЯТОР!$C$21,$I$9,$I$9-SUMIF($A$10:$A$369,\"<=\"&$E$3,$H$10:$H$369)),0,0),\"\")","v":""},null,{"$f":"IFERROR(-IPMT(C255/12,B255,IF(C255=КАЛЬКУЛЯТОР!$C$21,$E$2,$E$2-$E$3),IF(C255=КАЛЬКУЛЯТОР!$C$21,$I$9,$I$9-SUMIF($A$10:$A$369,\"<=\"&$E$3,$H$10:$H$369)),0,0),\"\")","v":""},{"$f":"IFERROR(-IPMT((C255-$P$1)/12,B255,IF(C255=КАЛЬКУЛЯТОР!$C$21,$E$2,$E$2-$E$3),IF(C255=КАЛЬКУЛЯТОР!$C$21,$I$9,$I$9-SUMIF($A$10:$A$369,\"<=\"&$E$3,$H$10:$H$369)),0,0),\"\")","v":""},{"$f":"IFERROR((-PPMT(C255/12,B255,IF(C255=КАЛЬКУЛЯТОР!$C$21,$E$2,$E$2-$E$3),IF(C255=КАЛЬКУЛЯТОР!$C$21,$I$9,$I$9-SUMIF($A$10:$A$369,\"<=\"&$E$3,$H$10:$H$369)),0,0)),\"\")","v":""},"",{"$error":"#VALUE!"},null,{"$error":"#VALUE!"},{"$error":"#VALUE!"},{"$error":"#VALUE!"},{"$error":"#VALUE!"},false]
[247,247,"",{"$f":"IF(A256<=$E$2,-PMT(C256/12,IF(C256=КАЛЬКУЛЯТОР!$C$21,$E$2,$E$2-$E$3),IF(C256=КАЛЬКУЛЯТОР!$C$21,$I$9,$I$9-SUMIF($A$10:$A$369,\"<=\"&$E$3,$H$10:$H$369)),0,0),\"\")","v":""},null,{"$f":"IFERROR(-IPMT(C256/12,B256,IF(C256=КАЛЬКУЛЯТОР!$C$21,$E$2,$E$2-$E$3),IF(C256=КАЛЬКУЛЯТОР!$C$21,$I$9,$I$9-SUMIF($A$10:$A$369,\"<=\"&$E$3,$H$10:$H$369)),0,0),\"\")","v":""},{"$f":"IFERROR(-IPMT((C256-$P$1)/12,B256,IF(C256=КАЛЬКУЛЯТОР!$C$21,$E$2,$E$2-$E$3),IF(C256=КАЛЬКУЛЯТОР!$C$21,$I$9,$I$9-SUMIF($A$10:$A$369,\"<=\"&$E$3,$H$10:$H$369)),0,0),\"\")","v":""},{"$f":"IFERROR((-PPMT(C256/12,B256,IF(C256=КАЛЬКУЛЯТОР!$C$21,$E$2,$E$2-$E$3),IF(C256=КАЛЬКУЛЯТОР!$C$21,$I$9,$I$9-SUMIF($A$10:$A$369,\"<=\"&$E$3,$H$10:$H$369)),0,0)),\"\")","v":""},"",{"$error":"#VALUE!"},null,{"$error":"#VALUE!"},{"$error":"#VALUE!"},{"$error":"#VALUE!"},{"$error":"#VALUE!"},false]
[248,248,"",{"$f":"IF(A257<=$E$2,-PMT(C257/12,IF(C257=КАЛЬКУЛЯТОР!$C$21,$E$2,$E$2-$E$3),IF(C257=КАЛЬКУЛЯТОР!$C$21,$I$9,$I$9-SUMIF($A$10:$A$369,\"<=\"&$E$3,$H$10:$H$369)),0,0),\"\")","v":""},null,{"$f":"IFERROR(-IPMT(C257/12,B257,IF(C257=КАЛЬКУЛЯТОР!$C$21,$E$2,$E$2-$E$3),IF(C257=КАЛЬКУЛЯТОР!$C$21,$I$9,$I$9-SUMIF($A$10:$A$369,\"<=\"&$E$3,$H$10:$H$369)),0,0),\"\")","v":""},{"$f":"IFERROR(-IPMT((C257-$P$1)/12,B257,IF(C257=КАЛЬКУЛЯТОР!$C$21,$E$2,$E$2-$E$3),IF(C257=КАЛЬКУЛЯТОР!$C$21,$I$9,$I$9-SUMIF($A$10:$A$369,\"<=\"&$E$3,$H$10:$H$369)),0,0),\"\")","v":""},{"$f":"IFERROR((-PPMT(C257/12,B257,IF(C257=КАЛЬКУЛЯТОР!$C$21,$E$2,$E$2-$E$3),IF(C257=КАЛЬКУЛЯТОР!$C$21,$I$9,$I$9-SUMIF($A$10:$A$369,\"<=\"&$E$3,$H$10:$H$369)),0,0)),\"\")","v":""},"",{"$error":"#VALUE!"},null,{"$error":"#VALUE!"},{"$error":"#VALUE!"},{"$error":"#VALUE!"},{"$error":"#VALUE!"},false]
[249,249,"",{"$f":"IF(A258<=$E$2,-PMT(C258/12,IF(C258=КАЛЬКУЛЯТОР!$C$21,$E$2,$E$2-$E$3),IF(C258=КАЛЬКУЛЯТОР!$C$21,$I$9,$I$9-SUMIF($A$10:$A$369,\"<=\"&$E$3,$H$10:$H$369)),0,0),\"\")","v":""},null,{"$f":"IFERROR(-IPMT(C258/12,B258,IF(C258=КАЛЬКУЛЯТОР!$C$21,$E$2,$E$2-$E$3),IF(C258=КАЛЬКУЛЯТОР!$C$21,$I$9,$I$9-SUMIF($A$10:$A$369,\"<=\"&$E$3,$H$10:$H$369)),0,0),\"\")","v":""},{"$f":"IFERROR(-IPMT((C258-$P$1)/12,B258,IF(C258=КАЛЬКУЛЯТОР!$C$21,$E$2,$E$2-$E$3),IF(C258=КАЛЬКУЛЯТОР!$C$21,$I$9,$I$9-SUMIF($A$10:$A$369,\"<=\"&$E$3,$H$10:$H$369)),0,0),\"\")","v":""},{"$f":"IFERROR((-PPMT(C258/12,B258,IF(C258=КАЛЬКУЛЯТОР!$C$21,$E$2,$E$2-$E$3),IF(C258=КАЛЬКУЛЯТОР!$C$21,$I$9,$I$9-SUMIF($A$10:$A$369,\"<=\"&$E$3,$H$10:$H$369)),0,0)),\"\")","v":""},"",{"$error":"#VALUE!"},null,{"$error":"#VALUE!"},{"$error":"#VALUE!"},{"$error":"#VALUE!"},{"$error":"#VALUE!"},false]
[250,250,"",{"$f":"IF(A259<=$E$2,-PMT(C259/12,IF(C259=КАЛЬКУЛЯТОР!$C$21,$E$2,$E$2-$E$3),IF(C259=КАЛЬКУЛЯТОР!$C$21,$I$9,$I$9-SUMIF($A$10:$A$369,\"<=\"&$E$3,$H$10:$H$369)),0,0),\"\")","v":""},null,{"$f":"IFERROR(-IPMT(C259/12,B259,IF(C259=КАЛЬКУЛЯТОР!$C$21,$E$2,$E$2-$E$3),IF(C259=КАЛЬКУЛЯТОР!$C$21,$I$9,$I$9-SUMIF($A$10:$A$369,\"<=\"&$E$3,$H$10:$H$369)),0,0),\"\")","v":""},{"$f":"IFERROR(-IPMT((C259-$P$1)/12,B259,IF(C259=КАЛЬКУЛЯТОР!$C$21,$E$2,$E$2-$E$3),IF(C259=КАЛЬКУЛЯТОР!$C$21,$I$9,$I$9-SUMIF($A$10:$A$369,\"<=\"&$E$3,$H$10:$H$369)),0,0),\"\")","v":""},{"$f":"IFERROR((-PPMT(C259/12,B259,IF(C259=КАЛЬКУЛЯТОР!$C$21,$E$2,$E$2-$E$3),IF(C259=КАЛЬКУЛЯТОР!$C$21,$I$9,$I$9-SUMIF($A$10:$A$369,\"<=\"&$E$3,$H$10:$H$369)),0,0)),\"\")","v":""},"",{"$error":"#VALUE!"},null,{"$error":"#VALUE!"},{"$error":"#VALUE!"},{"$error":"#VALUE!"},{"$error":"#VALUE!"},false]
[251,251,"",{"$f":"IF(A260<=$E$2,-PMT(C260/12,IF(C260=КАЛЬКУЛЯТОР!$C$21,$E$2,$E$2-$E$3),IF(C260=КАЛЬКУЛЯТОР!$C$21,$I$9,$I$9-SUMIF($A$10:$A$369,\"<=\"&$E$3,$H$10:$H$369)),0,0),\"\")","v":""},null,{"$f":"IFERROR(-IPMT(C260/12,B260,IF(C260=КАЛЬКУЛЯТОР!$C$21,$E$2,$E$2-$E$3),IF(C260=КАЛЬКУЛЯТОР!$C$21,$I$9,$I$9-SUMIF($A$10:$A$369,\"<=\"&$E$3,$H$10:$H$369)),0,0),\"\")","v":""},{"$f":"IFERROR(-IPMT((C260-$P$1)/12,B260,IF(C260=КАЛЬКУЛЯТОР!$C$21,$E$2,$E$2-$E$3),IF(C260=КАЛЬКУЛЯТОР!$C$21,$I$9,$I$9-SUMIF($A$10:$A$369,\"<=\"&$E$3,$H$10:$H$369)),0,0),\"\")","v":""},{"$f":"IFERROR((-PPMT(C260/12,B260,IF(C260=КАЛЬКУЛЯТОР!$C$21,$E$2,$E$2-$E$3),IF(C260=КАЛЬКУЛЯТОР!$C$21,$I$9,$I$9-SUMIF($A$10:$A$369,\"<=\"&$E$3,$H$10:$H$369)),0,0)),\"\")","v":""},"",{"$error":"#VALUE!"},null,{"$error":"#VALUE!"},{"$error":"#VALUE!"},{"$error":"#VALUE!"},{"$error":"#VALUE!"},false]
[252,252,"",{"$f":"IF(A261<=$E$2,-PMT(C261/12,IF(C261=КАЛЬКУЛЯТОР!$C$21,$E$2,$E$2-$E$3),IF(C261=КАЛЬКУЛЯТОР!$C$21,$I$9,$I$9-SUMIF($A$10:$A$369,\"<=\"&$E$3,$H$10:$H$369)),0,0),\"\")","v":""},null,{"$f":"IFERROR(-IPMT(C261/12,B261,IF(C261=КАЛЬКУЛЯТОР!$C$21,$E$2,$E$2-$E$3),IF(C261=КАЛЬКУЛЯТОР!$C$21,$I$9,$I$9-SUMIF($A$10:$A$369,\"<=\"&$E$3,$H$10:$H$369)),0,0),\"\")","v":""},{"$f":"IFERROR(-IPMT((C261-$P$1)/12,B261,IF(C261=КАЛЬКУЛЯТОР!$C$21,$E$2,$E$2-$E$3),IF(C261=КАЛЬКУЛЯТОР!$C$21,$I$9,$I$9-SUMIF($A$10:$A$369,\"<=\"&$E$3,$H$10:$H$369)),0,0),\"\")","v":""},{"$f":"IFERROR((-PPMT(C261/12,B261,IF(C261=КАЛЬКУЛЯТОР!$C$21,$E$2,$E$2-$E$3),IF(C261=КАЛЬКУЛЯТОР!$C$21,$I$9,$I$9-SUMIF($A$10:$A$369,\"<=\"&$E$3,$H$10:$H$369)),0,0)),\"\")","v":""},"",{"$error":"#VALUE!"},null,{"$error":"#VALUE!"},{"$error":"#VALUE!"},{"$error":"#VALUE!"},{"$error":"#VALUE!"},false]
[253,253,"",{"$f":"IF(A262<=$E$2,-PMT(C262/12,IF(C262=КАЛЬКУЛЯТОР!$C$21,$E$2,$E$2-$E$3),IF(C262=КАЛЬКУЛЯТОР!$C$21,$I$9,$I$9-SUMIF($A$10:$A$369,\"<=\"&$E$3,$H$10:$H$369)),0,0)+E262,\"\")","v":""},{"$f":"IF($E$2>$A261,(I261+SUM(F262:F273))*($K$4+$K$5),0)","v":{"v":0,"d":"0.00"}},{"$f":"IFERROR(-IPMT(C262/12,B262,IF(C262=КАЛЬКУЛЯТОР!$C$21,$E$2,$E$2-$E$3),IF(C262=КАЛЬКУЛЯТОР!$C$21,$I$9,$I$9-SUMIF($A$10:$A$369,\"<=\"&$E$3,$H$10:$H$369)),0,0),\"\")","v":""},{"$f":"IFERROR(-IPMT((C262-$P$1)/12,B262,IF(C262=КАЛЬКУЛЯТОР!$C$21,$E$2,$E$2-$E$3),IF(C262=КАЛЬКУЛЯТОР!$C$21,$I$9,$I$9-SUMIF($A$10:$A$369,\"<=\"&$E$3,$H$10:$H$369)),0,0),\"\")","v":""},{"$f":"IFERROR((-PPMT(C262/12,B262,IF(C262=КАЛЬКУЛЯТОР!$C$21,$E$2,$E$2-$E$3),IF(C262=КАЛЬКУЛЯТОР!$C$21,$I$9,$I$9-SUMIF($A$10:$A$369,\"<=\"&$E$3,$H$10:$H$369)),0,0)),\"\")","v":""},"",{"$error":"#VALUE!"},{"$f":"PV($E$5/12,A262-1,0,-E262)","v":{"v":0,"d":"0.00"}},{"$error":"#VALUE!"},{"$error":"#VALUE!"},{"$error":"#VALUE!"},{"$error":"#VALUE!"},false]
[254,254,"",{"$f":"IF(A263<=$E$2,-PMT(C263/12,IF(C263=КАЛЬКУЛЯТОР!$C$21,$E$2,$E$2-$E$3),IF(C263=КАЛЬКУЛЯТОР!$C$21,$I$9,$I$9-SUMIF($A$10:$A$369,\"<=\"&$E$3,$H$10:$H$369)),0,0),\"\")","v":""},null,{"$f":"IFERROR(-IPMT(C263/12,B263,IF(C263=КАЛЬКУЛЯТОР!$C$21,$E$2,$E$2-$E$3),IF(C263=КАЛЬКУЛЯТОР!$C$21,$I$9,$I$9-SUMIF($A$10:$A$369,\"<=\"&$E$3,$H$10:$H$369)),0,0),\"\")","v":""},{"$f":"IFERROR(-IPMT((C263-$P$1)/12,B263,IF(C263=КАЛЬКУЛЯТОР!$C$21,$E$2,$E$2-$E$3),IF(C263=КАЛЬКУЛЯТОР!$C$21,$I$9,$I$9-SUMIF($A$10:$A$369,\"<=\"&$E$3,$H$10:$H$369)),0,0),\"\")","v":""},{"$f":"IFERROR((-PPMT(C263/12,B263,IF(C263=КАЛЬКУЛЯТОР!$C$21,$E$2,$E$2-$E$3),IF(C263=КАЛЬКУЛЯТОР!$C$21,$I$9,$I$9-SUMIF($A$10:$A$369,\"<=\"&$E$3,$H$10:$H$369)),0,0)),\"\")","v":""},"",{"$error":"#VALUE!"},null,{"$error":"#VALUE!"},{"$error":"#VALUE!"},{"$error":"#VALUE!"},{"$error":"#VALUE!"},false]
[255,255,"",{"$f":"IF(A264<=$E$2,-PMT(C264/12,IF(C264=КАЛЬКУЛЯТОР!$C$21,$E$2,$E$2-$E$3),IF(C264=КАЛЬКУЛЯТОР!$C$21,$I$9,$I$9-SUMIF($A$10:$A$369,\"<=\"&$E$3,$H$10:$H$369)),0,0),\"\")","v":""},null,{"$f":"IFERROR(-IPMT(C264/12,B264,IF(C264=КАЛЬКУЛЯТОР!$C$21,$E$2,$E$2-$E$3),IF(C264=КАЛЬКУЛЯТОР!$C$21,$I$9,$I$9-SUMIF($A$10:$A$369,\"<=\"&$E$3,$H$10:$H$369)),0,0),\"\")","v":""},{"$f":"IFERROR(-IPMT((C264-$P$1)/12,B264,IF(C264=КАЛЬКУЛЯТОР!$C$21,$E$2,$E$2-$E$3),IF(C264=КАЛЬКУЛЯТОР!$C$21,$I$9,$I$9-SUMIF($A$10:$A$369,\"<=\"&$E$3,$H$10:$H$369)),0,0),\"\")","v":""},{"$f":"IFERROR((-PPMT(C264/12,B264,IF(C264=КАЛЬКУЛЯТОР!$C$21,$E$2,$E$2-$E$3),IF(C264=КАЛЬКУЛЯТОР!$C$21,$I$9,$I$9-SUMIF($A$10:$A$369,\"<=\"&$E$3,$H$10:$H$369)),0,0)),\"\")","v":""},"",{"$error":"#VALUE!"},null,{"$error":"#VALUE!"},{"$error":"#VALUE!"},{"$error":"#VALUE!"},{"$error":"#VALUE!"},false]
[256,256,"",{"$f":"IF(A265<=$E$2,-PMT(C265/12,IF(C265=КАЛЬКУЛЯТОР!$C$21,$E$2,$E$2-$E$3),IF(C265=КАЛЬКУЛЯТОР!$C$21,$I$9,$I$9-SUMIF($A$10:$A$369,\"<=\"&$E$3,$H$10:$H$369)),0,0),\"\")","v":""},null,{"$f":"IFERROR(-IPMT(C265/12,B265,IF(C265=КАЛЬКУЛЯТОР!$C$21,$E$2,$E$2-$E$3),IF(C265=КАЛЬКУЛЯТОР!$C$21,$I$9,$I$9-SUMIF($A$10:$A$369,\"<=\"&$E$3,$H$10:$H$369)),0,0),\"\")","v":""},{"$f":"IFERROR(-IPMT((C265-$P$1)/12,B265,IF(C265=КАЛЬКУЛЯТОР!$C$21,$E$2,$E$2-$E$3),IF(C265=КАЛЬКУЛЯТОР!$C$21,$I$9,$I$9-SUMIF($A$10:$A$369,\"<=\"&$E$3,$H$10:$H$369)),0,0),\"\")","v":""},{"$f":"IFERROR((-PPMT(C265/12,B265,IF(C265=КАЛЬКУЛЯТОР!$C$21,$E$2,$E$2-$E$3),IF(C265=КАЛЬКУЛЯТОР!$C$21,$I$9,$I$9-SUMIF($A$10:$A$369,\"<=\"&$E$3,$H$10:$H$369)),0,0)),\"\")","v":""},"",{"$error":"#VALUE!"},null,{"$error":"#VALUE!"},{"$error":"#VALUE!"},{"$error":"#VALUE!"},{"$error":"#VALUE!"},false]
[257,257,"",{"$f":"IF(A266<=$E$2,-PMT(C266/12,IF(C266=КАЛЬКУЛЯТОР!$C$21,$E$2,$E$2-$E$3),IF(C266=КАЛЬКУЛЯТОР!$C$21,$I$9,$I$9-SUMIF($A$10:$A$369,\"<=\"&$E$3,$H$10:$H$369)),0,0),\"\")","v":""},null,{"$f":"IFERROR(-IPMT(C266/12,B266,IF(C266=КАЛЬКУЛЯТОР!$C$21,$E$2,$E$2-$E$3),IF(C266=КАЛЬКУЛЯТОР!$C$21,$I$9,$I$9-SUMIF($A$10:$A$369,\"<=\"&$E$3,$H$10:$H$369)),0,0),\"\")","v":""},{"$f":"IFERROR(-IPMT((C266-$P$1)/12,B266,IF(C266=КАЛЬКУЛЯТОР!$C$21,$E$2,$E$2-$E$3),IF(C266=КАЛЬКУЛЯТОР!$C$21,$I$9,$I$9-SUMIF($A$10:$A$369,\"<=\"&$E$3,$H$10:$H$369)),0,0),\"\")","v":""},{"$f":"IFERROR((-PPMT(C266/12,B266,IF(C266=КАЛЬКУЛЯТОР!$C$21,$E$2,$E$2-$E$3),IF(C266=КАЛЬКУЛЯТОР!$C$21,$I$9,$I$9-SUMIF($A$10:$A$369,\"<=\"&$E$3,$H$10:$H$369)),0,0)),\"\")","v":""},{"$f":"IFERROR(I265-H266,\"\")","v":""},{"$f":"PV($E$5/12,A266-1,0,-D266)","v":{"$error":"#VALUE!"}},null,{"$f":"PV($E$5/12,A266-1,0,-F266)","v":{"$error":"#VALUE!"}},{"$f":"PV($E$5/12,A266-1,0,-G266)","v":{"$error":"#VALUE!"}},{"$f":"PV($E$5/12,A266-1,0,-H266)","v":{"$error":"#VALUE!"}},{"$f":"O265-N266","v":{"$error":"#VALUE!"}},{"$f":"AND(A266<=$E$3)","v":false}]
[258,{"$f":"IF(P267=$P$10,B266+1,A267-$E$3)","v":258},{"$f":"IF(A267<=$E$2,$E$4,\"\")","v":""},{"$f":"IF(A267<=$E$2,-PMT(C267/12,IF(C267=КАЛЬКУЛЯТОР!$C$21,$E$2,$E$2-$E$3),IF(C267=КАЛЬКУЛЯТОР!$C$21,$I$9,$I$9-SUMIF($A$10:$A$369,\"<=\"&$E$3,$H$10:$H$369)),0,0),\"\")","v":""},null,{"$f":"IFERROR(-IPMT(C267/12,B267,IF(C267=КАЛЬКУЛЯТОР!$C$21,$E$2,$E$2-$E$3),IF(C267=КАЛЬКУЛЯТОР!$C$21,$I$9,$I$9-SUMIF($A$10:$A$369,\"<=\"&$E$3,$H$10:$H$369)),0,0),\"\")","v":""},{"$f":"IFERROR(-IPMT((C267-$P$1)/12,B267,IF(C267=КАЛЬКУЛЯТОР!$C$21,$E$2,$E$2-$E$3),IF(C267=КАЛЬКУЛЯТОР!$C$21,$I$9,$I$9-SUMIF($A$10:$A$369,\"<=\"&$E$3,$H$10:$H$369)),0,0),\"\")","v":""},{"$f":"IFERROR((-PPMT(C267/12,B267,IF(C267=КАЛЬКУЛЯТОР!$C$21,$E$2,$E$2-$E$3),IF(C267=КАЛЬКУЛЯТОР!$C$21,$I$9,$I$9-SUMIF($A$10:$A$369,\"<=\"&$E$3,$H$10:$H$369)),0,0)),\"\")","v":""},"",{"$error":"#VALUE!"},null,{"$error":"#VALUE!"},{"$error":"#VALUE!"},{"$error":"#VALUE!"},{"$error":"#VALUE!"},false]
[259,259,"",{"$f":"IF(A268<=$E$2,-PMT(C268/12,IF(C268=КАЛЬКУЛЯТОР!$C$21,$E$2,$E$2-$E$3),IF(C268=КАЛЬКУЛЯТОР!$C$21,$I$9,$I$9-SUMIF($A$10:$A$369,\"<=\"&$E$3,$H$10:$H$369)),0,0),\"\")","v":""},null,{"$f":"IFERROR(-IPMT(C268/12,B268,IF(C268=КАЛЬКУЛЯТОР!$C$21,$E$2,$E$2-$E$3),IF(C268=КАЛЬКУЛЯТОР!$C$21,$I$9,$I$9-SUMIF($A$10:$A$369,\"<=\"&$E$3,$H$10:$H$369)),0,0),\"\")","v":""},{"$f":"IFERROR(-IPMT((C268-$P$1)/12,B268,IF(C268=КАЛЬКУЛЯТОР!$C$21,$E$2,$E$2-$E$3),IF(C268=КАЛЬКУЛЯТОР!$C$21,$I$9,$I$9-SUMIF($A$10:$A$369,\"<=\"&$E$3,$H$10:$H$369)),0,0),\"\")","v":""},{"$f":"IFERROR((-PPMT(C268/12,B268,IF(C268=КАЛЬКУЛЯТОР!$C$21,$E$2,$E$2-$E$3),IF(C268=КАЛЬКУЛЯТОР!$C$21,$I$9,$I$9-SUMIF($A$10:$A$369,\"<=\"&$E$3,$H$10:$H$369)),0,0)),\"\")","v":""},"",{"$error":"#VALUE!"},null,{"$error":"#VALUE!"},{"$error":"#VALUE!"},{"$error":"#VALUE!"},{"$error":"#VALUE!"},false]
[260,260,"",{"$f":"IF(A269<=$E$2,-PMT(C269/12,IF(C269=КАЛЬКУЛЯТОР!$C$21,$E$2,$E$2-$E$3),IF(C269=КАЛЬКУЛЯТОР!$C$21,$I$9,$I$9-SUMIF($A$10:$A$369,\"<=\"&$E$3,$H$10:$H$369)),0,0),\"\")","v":""},null,{"$f":"IFERROR(-IPMT(C269/12,B269,IF(C269=КАЛЬКУЛЯТОР!$C$21,$E$2,$E$2-$E$3),IF(C269=КАЛЬКУЛЯТОР!$C$21,$I$9,$I$9-SUMIF($A$10:$A$369,\"<=\"&$E$3,$H$10:$H$369)),0,0),\"\")","v":""},{"$f":"IFERROR(-IPMT((C269-$P$1)/12,B269,IF(C269=КАЛЬКУЛЯТОР!$C$21,$E$2,$E$2-$E$3),IF(C269=КАЛЬКУЛЯТОР!$C$21,$I$9,$I$9-SUMIF($A$10:$A$369,\"<=\"&$E$3,$H$10:$H$369)),0,0),\"\")","v":""},{"$f":"IFERROR((-PPMT(C269/12,B269,IF(C269=КАЛЬКУЛЯТОР!$C$21,$E$2,$E$2-$E$3),IF(C269=КАЛЬКУЛЯТОР!$C$21,$I$9,$I$9-SUMIF($A$10:$A$369,\"<=\"&$E$3,$H$10:$H$369)),0,0)),\"\")","v":""},"",{"$error":"#VALUE!"},null,{"$error":"#VALUE!"},{"$error":"#VALUE!"},{"$error":"#VALUE!"},{"$error":"#VALUE!"},false]
[261,261,"",{"$f":"IF(A270<=$E$2,-PMT(C270/12,IF(C270=КАЛЬКУЛЯТОР!$C$21,$E$2,$E$2-$E$3),IF(C270=КАЛЬКУЛЯТОР!$C$21,$I$9,$I$9-SUMIF($A$10:$A$369,\"<=\"&$E$3,$H$10:$H$369)),0,0),\"\")","v":""},null,{"$f":"IFERROR(-IPMT(C270/12,B270,IF(C270=КАЛЬКУЛЯТОР!$C$21,$E$2,$E$2-$E$3),IF(C270=КАЛЬКУЛЯТОР!$C$21,$I$9,$I$9-SUMIF($A$10:$A$369,\"<=\"&$E$3,$H$10:$H$369)),0,0),\"\")","v":""},{"$f":"IFERROR(-IPMT((C270-$P$1)/12,B270,IF(C270=КАЛЬКУЛЯТОР!$C$21,$E$2,$E$2-$E$3),IF(C270=КАЛЬКУЛЯТОР!$C$21,$I$9,$I$9-SUMIF($A$10:$A$369,\"<=\"&$E$3,$H$10:$H$369)),0,0),\"\")","v":""},{"$f":"IFERROR((-PPMT(C270/12,B270,IF(C270=КАЛЬКУЛЯТОР!$C$21,$E$2,$E$2-$E$3),IF(C270=КАЛЬКУЛЯТОР!$C$21,$I$9,$I$9-SUMIF($A$10:$A$369,\"<=\"&$E$3,$H$10:$H$369)),0,0)),\"\")","v":""},"",{"$error":"#VALUE!"},null,{"$error":"#VALUE!"},{"$error":"#VALUE!"},{"$error":"#VALUE!"},{"$error":"#VALUE!"},false]
[262,262,"",{"$f":"IF(A271<=$E$2,-PMT(C271/12,IF(C271=КАЛЬКУЛЯТОР!$C$21,$E$2,$E$2-$E$3),IF(C271=КАЛЬКУЛЯТОР!$C$21,$I$9,$I$9-SUMIF($A$10:$A$369,\"<=\"&$E$3,$H$10:$H$369)),0,0),\"\")","v":""},null,{"$f":"IFERROR(-IPMT(C271/12,B271,IF(C271=КАЛЬКУЛЯТОР!$C$21,$E$2,$E$2-$E$3),IF(C271=КАЛЬКУЛЯТОР!$C$21,$I$9,$I$9-SUMIF($A$10:$A$369,\"<=\"&$E$3,$H$10:$H$369)),0,0),\"\")","v":""},{"$f":"IFERROR(-IPMT((C271-$P$1)/12,B271,IF(C271=КАЛЬКУЛЯТОР!$C$21,$E$2,$E$2-$E$3),IF(C271=КАЛЬКУЛЯТОР!$C$21,$I$9,$I$9-SUMIF($A$10:$A$369,\"<=\"&$E$3,$H$10:$H$369)),0,0),\"\")","v":""},{"$f":"IFERROR((-PPMT(C271/12,B271,IF(C271=КАЛЬКУЛЯТОР!$C$21,$E$2,$E$2-$E$3),IF(C271=КАЛЬКУЛЯТОР!$C$21,$I$9,$I$9-SUMIF($A$10:$A$369,\"<=\"&$E$3,$H$10:$H$369)),0,0)),\"\")","v":""},"",{"$error":"#VALUE!"},null,{"$error":"#VALUE!"},{"$error":"#VALUE!"},{"$error":"#VALUE!"},{"$error":"#VALUE!"},false]
[263,263,"",{"$f":"IF(A272<=$E$2,-PMT(C272/12,IF(C272=КАЛЬКУЛЯТОР!$C$21,$E$2,$E$2-$E$3),IF(C272=КАЛЬКУЛЯТОР!$C$21,$I$9,$I$9-SUMIF($A$10:$A$369,\"<=\"&$E$3,$H$10:$H$369)),0,0),\"\")","v":""},null,{"$f":"IFERROR(-IPMT(C272/12,B272,IF(C272=КАЛЬКУЛЯТОР!$C$21,$E$2,$E$2-$E$3),IF(C272=КАЛЬКУЛЯТОР!$C$21,$I$9,$I$9-SUMIF($A$10:$A$369,\"<=\"&$E$3,$H$10:$H$369)),0,0),\"\")","v":""},{"$f":"IFERROR(-IPMT((C272-$P$1)/12,B272,IF(C272=КАЛЬКУЛЯТОР!$C$21,$E$2,$E$2-$E$3),IF(C272=КАЛЬКУЛЯТОР!$C$21,$I$9,$I$9-SUMIF($A$10:$A$369,\"<=\"&$E$3,$H$10:$H$369)),0,0),\"\")","v":""},{"$f":"IFERROR((-PPMT(C272/12,B272,IF(C272=КАЛЬКУЛЯТОР!$C$21,$E$2,$E$2-$E$3),IF(C272=КАЛЬКУЛЯТОР!$C$21,$I$9,$I$9-SUMIF($A$10:$A$369,\"<=\"&$E$3,$H$10:$H$369)),0,0)),\"\")","v":""},"",{"$error":"#VALUE!"},null,{"$error":"#VALUE!"},{"$error":"#VALUE!"},{"$error":"#VALUE!"},{"$error":"#VALUE!"},false]
[264,264,"",{"$f":"IF(A273<=$E$2,-PMT(C273/12,IF(C273=КАЛЬКУЛЯТОР!$C$21,$E$2,$E$2-$E$3),IF(C273=КАЛЬКУЛЯТОР!$C$21,$I$9,$I$9-SUMIF($A$10:$A$369,\"<=\"&$E$3,$H$10:$H$369)),0,0),\"\")","v":""},null,{"$f":"IFERROR(-IPMT(C273/12,B273,IF(C273=КАЛЬКУЛЯТОР!$C$21,$E$2,$E$2-$E$3),IF(C273=КАЛЬКУЛЯТОР!$C$21,$I$9,$I$9-SUMIF($A$10:$A$369,\"<=\"&$E$3,$H$10:$H$369)),0,0),\"\")","v":""},{"$f":"IFERROR(-IPMT((C273-$P$1)/12,B273,IF(C273=КАЛЬКУЛЯТОР!$C$21,$E$2,$E$2-$E$3),IF(C273=КАЛЬКУЛЯТОР!$C$21,$I$9,$I$9-SUMIF($A$10:$A$369,\"<=\"&$E$3,$H$10:$H$369)),0,0),\"\")","v":""},{"$f":"IFERROR((-PPMT(C273/12,B273,IF(C273=КАЛЬКУЛЯТОР!$C$21,$E$2,$E$2-$E$3),IF(C273=КАЛЬКУЛЯТОР!$C$21,$I$9,$I$9-SUMIF($A$10:$A$369,\"<=\"&$E$3,$H$10:$H$369)),0,0)),\"\")","v":""},"",{"$error":"#VALUE!"},null,{"$error":"#VALUE!"},{"$error":"#VALUE!"},{"$error":"#VALUE!"},{"$error":"#VALUE!"},false]
[265,265,"",{"$f":"IF(A274<=$E$2,-PMT(C274/12,IF(C274=КАЛЬКУЛЯТОР!$C$21,$E$2,$E$2-$E$3),IF(C274=КАЛЬКУЛЯТОР!$C$21,$I$9,$I$9-SUMIF($A$10:$A$369,\"<=\"&$E$3,$H$10:$H$369)),0,0)+E274,\"\")","v":""},{"$f":"IF($E$2>$A273,(I273+SUM(F274:F285))*($K$4+$K$5),0)","v":{"v":0,"d":"0.00"}},{"$f":"IFERROR(-IPMT(C274/12,B274,IF(C274=КАЛЬКУЛЯТОР!$C$21,$E$2,$E$2-$E$3),IF(C274=КАЛЬКУЛЯТОР!$C$21,$I$9,$I$9-SUMIF($A$10:$A$369,\"<=\"&$E$3,$H$10:$H$369)),0,0),\"\")","v":""},{"$f":"IFERROR(-IPMT((C274-$P$1)/12,B274,IF(C274=КАЛЬКУЛЯТОР!$C$21,$E$2,$E$2-$E$3),IF(C274=КАЛЬКУЛЯТОР!$C$21,$I$9,$I$9-SUMIF($A$10:$A$369,\"<=\"&$E$3,$H$10:$H$369)),0,0),\"\")","v":""},{"$f":"IFERROR((-PPMT(C274/12,B274,IF(C274=КАЛЬКУЛЯТОР!$C$21,$E$2,$E$2-$E$3),IF(C274=КАЛЬКУЛЯТОР!$C$21,$I$9,$I$9-SUMIF($A$10:$A$369,\"<=\"&$E$3,$H$10:$H$369)),0,0)),\"\")","v":""},"",{"$error":"#VALUE!"},{"$f":"PV($E$5/12,A274-1,0,-E274)","v":{"v":0,"d":"0.00"}},{"$error":"#VALUE!"},{"$error":"#VALUE!"},{"$error":"#VALUE!"},{"$error":"#VALUE!"},false]
[266,266,"",{"$f":"IF(A275<=$E$2,-PMT(C275/12,IF(C275=КАЛЬКУЛЯТОР!$C$21,$E$2,$E$2-$E$3),IF(C275=КАЛЬКУЛЯТОР!$C$21,$I$9,$I$9-SUMIF($A$10:$A$369,\"<=\"&$E$3,$H$10:$H$369)),0,0),\"\")","v":""},null,{"$f":"IFERROR(-IPMT(C275/12,B275,IF(C275=КАЛЬКУЛЯТОР!$C$21,$E$2,$E$2-$E$3),IF(C275=КАЛЬКУЛЯТОР!$C$21,$I$9,$I$9-SUMIF($A$10:$A$369,\"<=\"&$E$3,$H$10:$H$369)),0,0),\"\")","v":""},{"$f":"IFERROR(-IPMT((C275-$P$1)/12,B275,IF(C275=КАЛЬКУЛЯТОР!$C$21,$E$2,$E$2-$E$3),IF(C275=КАЛЬКУЛЯТОР!$C$21,$I$9,$I$9-SUMIF($A$10:$A$369,\"<=\"&$E$3,$H$10:$H$369)),0,0),\"\")","v":""},{"$f":"IFERROR((-PPMT(C275/12,B275,IF(C275=КАЛЬКУЛЯТОР!$C$21,$E$2,$E$2-$E$3),IF(C275=КАЛЬКУЛЯТОР!$C$21,$I$9,$I$9-SUMIF($A$10:$A$369,\"<=\"&$E$3,$H$10:$H$369)),0,0)),\"\")","v":""},"",{"$error":"#VALUE!"},null,{"$error":"#VALUE!"},{"$error":"#VALUE!"},{"$error":"#VALUE!"},{"$error":"#VALUE!"},false]
[267,267,"",{"$f":"IF(A276<=$E$2,-PMT(C276/12,IF(C276=КАЛЬКУЛЯТОР!$C$21,$E$2,$E$2-$E$3),IF(C276=КАЛЬКУЛЯТОР!$C$21,$I$9,$I$9-SUMIF($A$10:$A$369,\"<=\"&$E$3,$H$10:$H$369)),0,0),\"\")","v":""},null,{"$f":"IFERROR(-IPMT(C276/12,B276,IF(C276=КАЛЬКУЛЯТОР!$C$21,$E$2,$E$2-$E$3),IF(C276=КАЛЬКУЛЯТОР!$C$21,$I$9,$I$9-SUMIF($A$10:$A$369,\"<=\"&$E$3,$H$10:$H$369)),0,0),\"\")","v":""},{"$f":"IFERROR(-IPMT((C276-$P$1)/12,B276,IF(C276=КАЛЬКУЛЯТОР!$C$21,$E$2,$E$2-$E$3),IF(C276=КАЛЬКУЛЯТОР!$C$21,$I$9,$I$9-SUMIF($A$10:$A$369,\"<=\"&$E$3,$H$10:$H$369)),0,0),\"\")","v":""},{"$f":"IFERROR((-PPMT(C276/12,B276,IF(C276=КАЛЬКУЛЯТОР!$C$21,$E$2,$E$2-$E$3),IF(C276=КАЛЬКУЛЯТОР!$C$21,$I$9,$I$9-SUMIF($A$10:$A$369,\"<=\"&$E$3,$H$10:$H$369)),0,0)),\"\")","v":""},"",{"$error":"#VALUE!"},null,{"$error":"#VALUE!"},{"$error":"#VALUE!"},{"$error":"#VALUE!"},{"$error":"#VALUE!"},false]
[268,268,"",{"$f":"IF(A277<=$E$2,-PMT(C277/12,IF(C277=КАЛЬКУЛЯТОР!$C$21,$E$2,$E$2-$E$3),IF(C277=КАЛЬКУЛЯТОР!$C$21,$I$9,$I$9-SUMIF($A$10:$A$369,\"<=\"&$E$3,$H$10:$H$369)),0,0),\"\")","v":""},null,{"$f":"IFERROR(-IPMT(C277/12,B277,IF(C277=КАЛЬКУЛЯТОР!$C$21,$E$2,$E$2-$E$3),IF(C277=КАЛЬКУЛЯТОР!$C$21,$I$9,$I$9-SUMIF($A$10:$A$369,\"<=\"&$E$3,$H$10:$H$369)),0,0),\"\")","v":""},{"$f":"IFERROR(-IPMT((C277-$P$1)/12,B277,IF(C277=КАЛЬКУЛЯТОР!$C$21,$E$2,$E$2-$E$3),IF(C277=КАЛЬКУЛЯТОР!$C$21,$I$9,$I$9-SUMIF($A$10:$A$369,\"<=\"&$E$3,$H$10:$H$369)),0,0),\"\")","v":""},{"$f":"IFERROR((-PPMT(C277/12,B277,IF(C277=КАЛЬКУЛЯТОР!$C$21,$E$2,$E$2-$E$3),IF(C277=КАЛЬКУЛЯТОР!$C$21,$I$9,$I$9-SUMIF($A$10:$A$369,\"<=\"&$E$3,$H$10:$H$369)),0,0)),\"\")","v":""},"",{"$error":"#VALUE!"},null,{"$error":"#VALUE!"},{"$error":"#VALUE!"},{"$error":"#VALUE!"},{"$error":"#VALUE!"},false]
[269,269,"",{"$f":"IF(A278<=$E$2,-PMT(C278/12,IF(C278=КАЛЬКУЛЯТОР!$C$21,$E$2,$E$2-$E$3),IF(C278=КАЛЬКУЛЯТОР!$C$21,$I$9,$I$9-SUMIF($A$10:$A$369,\"<=\"&$E$3,$H$10:$H$369)),0,0),\"\")","v":""},null,{"$f":"IFERROR(-IPMT(C278/12,B278,IF(C278=КАЛЬКУЛЯТОР!$C$21,$E$2,$E$2-$E$3),IF(C278=КАЛЬКУЛЯТОР!$C$21,$I$9,$I$9-SUMIF($A$10:$A$369,\"<=\"&$E$3,$H$10:$H$369)),0,0),\"\")","v":""},{"$f":"IFERROR(-IPMT((C278-$P$1)/12,B278,IF(C278=КАЛЬКУЛЯТОР!$C$21,$E$2,$E$2-$E$3),IF(C278=КАЛЬКУЛЯТОР!$C$21,$I$9,$I$9-SUMIF($A$10:$A$369,\"<=\"&$E$3,$H$10:$H$369)),0,0),\"\")","v":""},{"$f":"IFERROR((-PPMT(C278/12,B278,IF(C278=КАЛЬКУЛЯТОР!$C$21,$E$2,$E$2-$E$3),IF(C278=КАЛЬКУЛЯТОР!$C$21,$I$9,$I$9-SUMIF($A$10:$A$369,\"<=\"&$E$3,$H$10:$H$369)),0,0)),\"\")","v":""},"",{"$error":"#VALUE!"},null,{"$error":"#VALUE!"},{"$error":"#VALUE!"},{"$error":"#VALUE!"},{"$error":"#VALUE!"},false]
[270,270,"",{"$f":"IF(A279<=$E$2,-PMT(C279/12,IF(C279=КАЛЬКУЛЯТОР!$C$21,$E$2,$E$2-$E$3),IF(C279=КАЛЬКУЛЯТОР!$C$21,$I$9,$I$9-SUMIF($A$10:$A$369,\"<=\"&$E$3,$H$10:$H$369)),0,0),\"\")","v":""},null,{"$f":"IFERROR(-IPMT(C279/12,B279,IF(C279=КАЛЬКУЛЯТОР!$C$21,$E$2,$E$2-$E$3),IF(C279=КАЛЬКУЛЯТОР!$C$21,$I$9,$I$9-SUMIF($A$10:$A$369,\"<=\"&$E$3,$H$10:$H$369)),0,0),\"\")","v":""},{"$f":"IFERROR(-IPMT((C279-$P$1)/12,B279,IF(C279=КАЛЬКУЛЯТОР!$C$21,$E$2,$E$2-$E$3),IF(C279=КАЛЬКУЛЯТОР!$C$21,$I$9,$I$9-SUMIF($A$10:$A$369,\"<=\"&$E$3,$H$10:$H$369)),0,0),\"\")","v":""},{"$f":"IFERROR((-PPMT(C279/12,B279,IF(C279=КАЛЬКУЛЯТОР!$C$21,$E$2,$E$2-$E$3),IF(C279=КАЛЬКУЛЯТОР!$C$21,$I$9,$I$9-SUMIF($A$10:$A$369,\"<=\"&$E$3,$H$10:$H$369)),0,0)),\"\")","v":""},"",{"$error":"#VALUE!"},null,{"$error":"#VALUE!"},{"$error":"#VALUE!"},{"$error":"#VALUE!"},{"$error":"#VALUE!"},false]
[271,271,"",{"$f":"IF(A280<=$E$2,-PMT(C280/12,IF(C280=КАЛЬКУЛЯТОР!$C$21,$E$2,$E$2-$E$3),IF(C280=КАЛЬКУЛЯТОР!$C$21,$I$9,$I$9-SUMIF($A$10:$A$369,\"<=\"&$E$3,$H$10:$H$369)),0,0),\"\")","v":""},null,{"$f":"IFERROR(-IPMT(C280/12,B280,IF(C280=КАЛЬКУЛЯТОР!$C$21,$E$2,$E$2-$E$3),IF(C280=КАЛЬКУЛЯТОР!$C$21,$I$9,$I$9-SUMIF($A$10:$A$369,\"<=\"&$E$3,$H$10:$H$369)),0,0),\"\")","v":""},{"$f":"IFERROR(-IPMT((C280-$P$1)/12,B280,IF(C280=КАЛЬКУЛЯТОР!$C$21,$E$2,$E$2-$E$3),IF(C280=КАЛЬКУЛЯТОР!$C$21,$I$9,$I$9-SUMIF($A$10:$A$369,\"<=\"&$E$3,$H$10:$H$369)),0,0),\"\")","v":""},{"$f":"IFERROR((-PPMT(C280/12,B280,IF(C280=КАЛЬКУЛЯТОР!$C$21,$E$2,$E$2-$E$3),IF(C280=КАЛЬКУЛЯТОР!$C$21,$I$9,$I$9-SUMIF($A$10:$A$369,\"<=\"&$E$3,$H$10:$H$369)),0,0)),\"\")","v":""},"",{"$error":"#VALUE!"},null,{"$error":"#VALUE!"},{"$error":"#VALUE!"},{"$error":"#VALUE!"},{"$error":"#VALUE!"},false]
[272,272,"",{"$f":"IF(A281<=$E$2,-PMT(C281/12,IF(C281=КАЛЬКУЛЯТОР!$C$21,$E$2,$E$2-$E$3),IF(C281=КАЛЬКУЛЯТОР!$C$21,$I$9,$I$9-SUMIF($A$10:$A$369,\"<=\"&$E$3,$H$10:$H$369)),0,0),\"\")","v":""},null,{"$f":"IFERROR(-IPMT(C281/12,B281,IF(C281=КАЛЬКУЛЯТОР!$C$21,$E$2,$E$2-$E$3),IF(C281=КАЛЬКУЛЯТОР!$C$21,$I$9,$I$9-SUMIF($A$10:$A$369,\"<=\"&$E$3,$H$10:$H$369)),0,0),\"\")","v":""},{"$f":"IFERROR(-IPMT((C281-$P$1)/12,B281,IF(C281=КАЛЬКУЛЯТОР!$C$21,$E$2,$E$2-$E$3),IF(C281=КАЛЬКУЛЯТОР!$C$21,$I$9,$I$9-SUMIF($A$10:$A$369,\"<=\"&$E$3,$H$10:$H$369)),0,0),\"\")","v":""},{"$f":"IFERROR((-PPMT(C281/12,B281,IF(C281=КАЛЬКУЛЯТОР!$C$21,$E$2,$E$2-$E$3),IF(C281=КАЛЬКУЛЯТОР!$C$21,$I$9,$I$9-SUMIF($A$10:$A$369,\"<=\"&$E$3,$H$10:$H$369)),0,0)),\"\")","v":""},"",{"$error":"#VALUE!"},null,{"$error":"#VALUE!"},{"$error":"#VALUE!"},{"$error":"#VALUE!"},{"$error":"#VALUE!"},false]
[273,273,"",{"$f":"IF(A282<=$E$2,-PMT(C282/12,IF(C282=КАЛЬКУЛЯТОР!$C$21,$E$2,$E$2-$E$3),IF(C282=КАЛЬКУЛЯТОР!$C$21,$I$9,$I$9-SUMIF($A$10:$A$369,\"<=\"&$E$3,$H$10:$H$369)),0,0),\"\")","v":""},null,{"$f":"IFERROR(-IPMT(C282/12,B282,IF(C282=КАЛЬКУЛЯТОР!$C$21,$E$2,$E$2-$E$3),IF(C282=КАЛЬКУЛЯТОР!$C$21,$I$9,$I$9-SUMIF($A$10:$A$369,\"<=\"&$E$3,$H$10:$H$369)),0,0),\"\")","v":""},{"$f":"IFERROR(-IPMT((C282-$P$1)/12,B282,IF(C282=КАЛЬКУЛЯТОР!$C$21,$E$2,$E$2-$E$3),IF(C282=КАЛЬКУЛЯТОР!$C$21,$I$9,$I$9-SUMIF($A$10:$A$369,\"<=\"&$E$3,$H$10:$H$369)),0,0),\"\")","v":""},{"$f":"IFERROR((-PPMT(C282/12,B282,IF(C282=КАЛЬКУЛЯТОР!$C$21,$E$2,$E$2-$E$3),IF(C282=КАЛЬКУЛЯТОР!$C$21,$I$9,$I$9-SUMIF($A$10:$A$369,\"<=\"&$E$3,$H$10:$H$369)),0,0)),\"\")","v":""},"",{"$error":"#VALUE!"},null,{"$error":"#VALUE!"},{"$error":"#VALUE!"},{"$error":"#VALUE!"},{"$error":"#VALUE!"},false]
[274,274,"",{"$f":"IF(A283<=$E$2,-PMT(C283/12,IF(C283=КАЛЬКУЛЯТОР!$C$21,$E$2,$E$2-$E$3),IF(C283=КАЛЬКУЛЯТОР!$C$21,$I$9,$I$9-SUMIF($A$10:$A$369,\"<=\"&$E$3,$H$10:$H$369)),0,0),\"\")","v":""},null,{"$f":"IFERROR(-IPMT(C283/12,B283,IF(C283=КАЛЬКУЛЯТОР!$C$21,$E$2,$E$2-$E$3),IF(C283=КАЛЬКУЛЯТОР!$C$21,$I$9,$I$9-SUMIF($A$10:$A$369,\"<=\"&$E$3,$H$10:$H$369)),0,0),\"\")","v":""},{"$f":"IFERROR(-IPMT((C283-$P$1)/12,B283,IF(C283=КАЛЬКУЛЯТОР!$C$21,$E$2,$E$2-$E$3),IF(C283=КАЛЬКУЛЯТОР!$C$21,$I$9,$I$9-SUMIF($A$10:$A$369,\"<=\"&$E$3,$H$10:$H$369)),0,0),\"\")","v":""},{"$f":"IFERROR((-PPMT(C283/12,B283,IF(C283=КАЛЬКУЛЯТОР!$C$21,$E$2,$E$2-$E$3),IF(C283=КАЛЬКУЛЯТОР!$C$21,$I$9,$I$9-SUMIF($A$10:$A$369,\"<=\"&$E$3,$H$10:$H$369)),0,0)),\"\")","v":""},"",{"$error":"#VALUE!"},null,{"$error":"#VALUE!"},{"$error":"#VALUE!"},{"$error":"#VALUE!"},{"$error":"#VALUE!"},false]
[275,275,"",{"$f":"IF(A284<=$E$2,-PMT(C284/12,IF(C284=КАЛЬКУЛЯТОР!$C$21,$E$2,$E$2-$E$3),IF(C284=КАЛЬКУЛЯТОР!$C$21,$I$9,$I$9-SUMIF($A$10:$A$369,\"<=\"&$E$3,$H$10:$H$369)),0,0),\"\")","v":""},null,{"$f":"IFERROR(-IPMT(C284/12,B284,IF(C284=КАЛЬКУЛЯТОР!$C$21,$E$2,$E$2-$E$3),IF(C284=КАЛЬКУЛЯТОР!$C$21,$I$9,$I$9-SUMIF($A$10:$A$369,\"<=\"&$E$3,$H$10:$H$369)),0,0),\"\")","v":""},{"$f":"IFERROR(-IPMT((C284-$P$1)/12,B284,IF(C284=КАЛЬКУЛЯТОР!$C$21,$E$2,$E$2-$E$3),IF(C284=КАЛЬКУЛЯТОР!$C$21,$I$9,$I$9-SUMIF($A$10:$A$369,\"<=\"&$E$3,$H$10:$H$369)),0,0),\"\")","v":""},{"$f":"IFERROR((-PPMT(C284/12,B284,IF(C284=КАЛЬКУЛЯТОР!$C$21,$E$2,$E$2-$E$3),IF(C284=КАЛЬКУЛЯТОР!$C$21,$I$9,$I$9-SUMIF($A$10:$A$369,\"<=\"&$E$3,$H$10:$H$369)),0,0)),\"\")","v":""},"",{"$error":"#VALUE!"},null,{"$error":"#VALUE!"},{"$error":"#VALUE!"},{"$error":"#VALUE!"},{"$error":"#VALUE!"},false]
[276,276,"",{"$f":"IF(A285<=$E$2,-PMT(C285/12,IF(C285=КАЛЬКУЛЯТОР!$C$21,$E$2,$E$2-$E$3),IF(C285=КАЛЬКУЛЯТОР!$C$21,$I$9,$I$9-SUMIF($A$10:$A$369,\"<=\"&$E$3,$H$10:$H$369)),0,0),\"\")","v":""},null,{"$f":"IFERROR(-IPMT(C285/12,B285,IF(C285=КАЛЬКУЛЯТОР!$C$21,$E$2,$E$2-$E$3),IF(C285=КАЛЬКУЛЯТОР!$C$21,$I$9,$I$9-SUMIF($A$10:$A$369,\"<=\"&$E$3,$H$10:$H$369)),0,0),\"\")","v":""},{"$f":"IFERROR(-IPMT((C285-$P$1)/12,B285,IF(C285=КАЛЬКУЛЯТОР!$C$21,$E$2,$E$2-$E$3),IF(C285=КАЛЬКУЛЯТОР!$C$21,$I$9,$I$9-SUMIF($A$10:$A$369,\"<=\"&$E$3,$H$10:$H$369)),0,0),\"\")","v":""},{"$f":"IFERROR((-PPMT(C285/12,B285,IF(C285=КАЛЬКУЛЯТОР!$C$21,$E$2,$E$2-$E$3),IF(C285=КАЛЬКУЛЯТОР!$C$21,$I$9,$I$9-SUMIF($A$10:$A$369,\"<=\"&$E$3,$H$10:$H$369)),0,0)),\"\")","v":""},"",{"$error":"#VALUE!"},null,{"$error":"#VALUE!"},{"$error":"#VALUE!"},{"$error":"#VALUE!"},{"$error":"#VALUE!"},false]
[277,277,"",{"$f":"IF(A286<=$E$2,-PMT(C286/12,IF(C286=КАЛЬКУЛЯТОР!$C$21,$E$2,$E$2-$E$3),IF(C286=КАЛЬКУЛЯТОР!$C$21,$I$9,$I$9-SUMIF($A$10:$A$369,\"<=\"&$E$3,$H$10:$H$369)),0,0)+E286,\"\")","v":""},{"$f":"IF($E$2>$A285,(I285+SUM(F286:F297))*($K$4+$K$5),0)","v":{"v":0,"d":"0.00"}},{"$f":"IFERROR(-IPMT(C286/12,B286,IF(C286=КАЛЬКУЛЯТОР!$C$21,$E$2,$E$2-$E$3),IF(C286=КАЛЬКУЛЯТОР!$C$21,$I$9,$I$9-SUMIF($A$10:$A$369,\"<=\"&$E$3,$H$10:$H$369)),0,0),\"\")","v":""},{"$f":"IFERROR(-IPMT((C286-$P$1)/12,B286,IF(C286=КАЛЬКУЛЯТОР!$C$21,$E$2,$E$2-$E$3),IF(C286=КАЛЬКУЛЯТОР!$C$21,$I$9,$I$9-SUMIF($A$10:$A$369,\"<=\"&$E$3,$H$10:$H$369)),0,0),\"\")","v":""},{"$f":"IFERROR((-PPMT(C286/12,B286,IF(C286=КАЛЬКУЛЯТОР!$C$21,$E$2,$E$2-$E$3),IF(C286=КАЛЬКУЛЯТОР!$C$21,$I$9,$I$9-SUMIF($A$10:$A$369,\"<=\"&$E$3,$H$10:$H$369)),0,0)),\"\")","v":""},"",{"$error":"#VALUE!"},{"$f":"PV($E$5/12,A286-1,0,-E286)","v":{"v":0,"d":"0.00"}},{"$error":"#VALUE!"},{"$error":"#VALUE!"},{"$error":"#VALUE!"},{"$error":"#VALUE!"},false]
[278,278,"",{"$f":"IF(A287<=$E$2,-PMT(C287/12,IF(C287=КАЛЬКУЛЯТОР!$C$21,$E$2,$E$2-$E$3),IF(C287=КАЛЬКУЛЯТОР!$C$21,$I$9,$I$9-SUMIF($A$10:$A$369,\"<=\"&$E$3,$H$10:$H$369)),0,0),\"\")","v":""},null,{"$f":"IFERROR(-IPMT(C287/12,B287,IF(C287=КАЛЬКУЛЯТОР!$C$21,$E$2,$E$2-$E$3),IF(C287=КАЛЬКУЛЯТОР!$C$21,$I$9,$I$9-SUMIF($A$10:$A$369,\"<=\"&$E$3,$H$10:$H$369)),0,0),\"\")","v":""},{"$f":"IFERROR(-IPMT((C287-$P$1)/12,B287,IF(C287=КАЛЬКУЛЯТОР!$C$21,$E$2,$E$2-$E$3),IF(C287=КАЛЬКУЛЯТОР!$C$21,$I$9,$I$9-SUMIF($A$10:$A$369,\"<=\"&$E$3,$H$10:$H$369)),0,0),\"\")","v":""},{"$f":"IFERROR((-PPMT(C287/12,B287,IF(C287=КАЛЬКУЛЯТОР!$C$21,$E$2,$E$2-$E$3),IF(C287=КАЛЬКУЛЯТОР!$C$21,$I$9,$I$9-SUMIF($A$10:$A$369,\"<=\"&$E$3,$H$10:$H$369)),0,0)),\"\")","v":""},"",{"$error":"#VALUE!"},null,{"$error":"#VALUE!"},{"$error":"#VALUE!"},{"$error":"#VALUE!"},{"$error":"#VALUE!"},false]
[279,279,"",{"$f":"IF(A288<=$E$2,-PMT(C288/12,IF(C288=КАЛЬКУЛЯТОР!$C$21,$E$2,$E$2-$E$3),IF(C288=КАЛЬКУЛЯТОР!$C$21,$I$9,$I$9-SUMIF($A$10:$A$369,\"<=\"&$E$3,$H$10:$H$369)),0,0),\"\")","v":""},null,{"$f":"IFERROR(-IPMT(C288/12,B288,IF(C288=КАЛЬКУЛЯТОР!$C$21,$E$2,$E$2-$E$3),IF(C288=КАЛЬКУЛЯТОР!$C$21,$I$9,$I$9-SUMIF($A$10:$A$369,\"<=\"&$E$3,$H$10:$H$369)),0,0),\"\")","v":""},{"$f":"IFERROR(-IPMT((C288-$P$1)/12,B288,IF(C288=КАЛЬКУЛЯТОР!$C$21,$E$2,$E$2-$E$3),IF(C288=КАЛЬКУЛЯТОР!$C$21,$I$9,$I$9-SUMIF($A$10:$A$369,\"<=\"&$E$3,$H$10:$H$369)),0,0),\"\")","v":""},{"$f":"IFERROR((-PPMT(C288/12,B288,IF(C288=КАЛЬКУЛЯТОР!$C$21,$E$2,$E$2-$E$3),IF(C288=КАЛЬКУЛЯТОР!$C$21,$I$9,$I$9-SUMIF($A$10:$A$369,\"<=\"&$E$3,$H$10:$H$369)),0,0)),\"\")","v":""},"",{"$error":"#VALUE!"},null,{"$error":"#VALUE!"},{"$error":"#VALUE!"},{"$error":"#VALUE!"},{"$error":"#VALUE!"},false]
[280,280,"",{"$f":"IF(A289<=$E$2,-PMT(C289/12,IF(C289=КАЛЬКУЛЯТОР!$C$21,$E$2,$E$2-$E$3),IF(C289=КАЛЬКУЛЯТОР!$C$21,$I$9,$I$9-SUMIF($A$10:$A$369,\"<=\"&$E$3,$H$10:$H$369)),0,0),\"\")","v":""},null,{"$f":"IFERROR(-IPMT(C289/12,B289,IF(C289=КАЛЬКУЛЯТОР!$C$21,$E$2,$E$2-$E$3),IF(C289=КАЛЬКУЛЯТОР!$C$21,$I$9,$I$9-SUMIF($A$10:$A$369,\"<=\"&$E$3,$H$10:$H$369)),0,0),\"\")","v":""},{"$f":"IFERROR(-IPMT((C289-$P$1)/12,B289,IF(C289=КАЛЬКУЛЯТОР!$C$21,$E$2,$E$2-$E$3),IF(C289=КАЛЬКУЛЯТОР!$C$21,$I$9,$I$9-SUMIF($A$10:$A$369,\"<=\"&$E$3,$H$10:$H$369)),0,0),\"\")","v":""},{"$f":"IFERROR((-PPMT(C289/12,B289,IF(C289=КАЛЬКУЛЯТОР!$C$21,$E$2,$E$2-$E$3),IF(C289=КАЛЬКУЛЯТОР!$C$21,$I$9,$I$9-SUMIF($A$10:$A$369,\"<=\"&$E$3,$H$10:$H$369)),0,0)),\"\")","v":""},"",{"$error":"#VALUE!"},null,{"$error":"#VALUE!"},{"$error":"#VALUE!"},{"$error":"#VALUE!"},{"$error":"#VALUE!"},false]
[281,281,"",{"$f":"IF(A290<=$E$2,-PMT(C290/12,IF(C290=КАЛЬКУЛЯТОР!$C$21,$E$2,$E$2-$E$3),IF(C290=КАЛЬКУЛЯТОР!$C$21,$I$9,$I$9-SUMIF($A$10:$A$369,\"<=\"&$E$3,$H$10:$H$369)),0,0),\"\")","v":""},null,{"$f":"IFERROR(-IPMT(C290/12,B290,IF(C290=КАЛЬКУЛЯТОР!$C$21,$E$2,$E$2-$E$3),IF(C290=КАЛЬКУЛЯТОР!$C$21,$I$9,$I$9-SUMIF($A$10:$A$369,\"<=\"&$E$3,$H$10:$H$369)),0,0),\"\")","v":""},{"$f":"IFERROR(-IPMT((C290-$P$1)/12,B290,IF(C290=КАЛЬКУЛЯТОР!$C$21,$E$2,$E$2-$E$3),IF(C290=КАЛЬКУЛЯТОР!$C$21,$I$9,$I$9-SUMIF($A$10:$A$369,\"<=\"&$E$3,$H$10:$H$369)),0,0),\"\")","v":""},{"$f":"IFERROR((-PPMT(C290/12,B290,IF(C290=КАЛЬКУЛЯТОР!$C$21,$E$2,$E$2-$E$3),IF(C290=КАЛЬКУЛЯТОР!$C$21,$I$9,$I$9-SUMIF($A$10:$A$369,\"<=\"&$E$3,$H$10:$H$369)),0,0)),\"\")","v":""},"",{"$error":"#VALUE!"},null,{"$error":"#VALUE!"},{"$error":"#VALUE!"},{"$error":"#VALUE!"},{"$error":"#VALUE!"},false]
[282,282,"",{"$f":"IF(A291<=$E$2,-PMT(C291/12,IF(C291=КАЛЬКУЛЯТОР!$C$21,$E$2,$E$2-$E$3),IF(C291=КАЛЬКУЛЯТОР!$C$21,$I$9,$I$9-SUMIF($A$10:$A$369,\"<=\"&$E$3,$H$10:$H$369)),0,0),\"\")","v":""},null,{"$f":"IFERROR(-IPMT(C291/12,B291,IF(C291=КАЛЬКУЛЯТОР!$C$21,$E$2,$E$2-$E$3),IF(C291=КАЛЬКУЛЯТОР!$C$21,$I$9,$I$9-SUMIF($A$10:$A$369,\"<=\"&$E$3,$H$10:$H$369)),0,0),\"\")","v":""},{"$f":"IFERROR(-IPMT((C291-$P$1)/12,B291,IF(C291=КАЛЬКУЛЯТОР!$C$21,$E$2,$E$2-$E$3),IF(C291=КАЛЬКУЛЯТОР!$C$21,$I$9,$I$9-SUMIF($A$10:$A$369,\"<=\"&$E$3,$H$10:$H$369)),0,0),\"\")","v":""},{"$f":"IFERROR((-PPMT(C291/12,B291,IF(C291=КАЛЬКУЛЯТОР!$C$21,$E$2,$E$2-$E$3),IF(C291=КАЛЬКУЛЯТОР!$C$21,$I$9,$I$9-SUMIF($A$10:$A$369,\"<=\"&$E$3,$H$10:$H$369)),0,0)),\"\")","v":""},"",{"$error":"#VALUE!"},null,{"$error":"#VALUE!"},{"$error":"#VALUE!"},{"$error":"#VALUE!"},{"$error":"#VALUE!"},false]
[283,283,"",{"$f":"IF(A292<=$E$2,-PMT(C292/12,IF(C292=КАЛЬКУЛЯТОР!$C$21,$E$2,$E$2-$E$3),IF(C292=КАЛЬКУЛЯТОР!$C$21,$I$9,$I$9-SUMIF($A$10:$A$369,\"<=\"&$E$3,$H$10:$H$369)),0,0),\"\")","v":""},null,{"$f":"IFERROR(-IPMT(C292/12,B292,IF(C292=КАЛЬКУЛЯТОР!$C$21,$E$2,$E$2-$E$3),IF(C292=КАЛЬКУЛЯТОР!$C$21,$I$9,$I$9-SUMIF($A$10:$A$369,\"<=\"&$E$3,$H$10:$H$369)),0,0),\"\")","v":""},{"$f":"IFERROR(-IPMT((C292-$P$1)/12,B292,IF(C292=КАЛЬКУЛЯТОР!$C$21,$E$2,$E$2-$E$3),IF(C292=КАЛЬКУЛЯТОР!$C$21,$I$9,$I$9-SUMIF($A$10:$A$369,\"<=\"&$E$3,$H$10:$H$369)),0,0),\"\")","v":""},{"$f":"IFERROR((-PPMT(C292/12,B292,IF(C292=КАЛЬКУЛЯТОР!$C$21,$E$2,$E$2-$E$3),IF(C292=КАЛЬКУЛЯТОР!$C$21,$I$9,$I$9-SUMIF($A$10:$A$369,\"<=\"&$E$3,$H$10:$H$369)),0,0)),\"\")","v":""},"",{"$error":"#VALUE!"},null,{"$error":"#VALUE!"},{"$error":"#VALUE!"},{"$error":"#VALUE!"},{"$error":"#VALUE!"},false]
[284,284,"",{"$f":"IF(A293<=$E$2,-PMT(C293/12,IF(C293=КАЛЬКУЛЯТОР!$C$21,$E$2,$E$2-$E$3),IF(C293=КАЛЬКУЛЯТОР!$C$21,$I$9,$I$9-SUMIF($A$10:$A$369,\"<=\"&$E$3,$H$10:$H$369)),0,0),\"\")","v":""},null,{"$f":"IFERROR(-IPMT(C293/12,B293,IF(C293=КАЛЬКУЛЯТОР!$C$21,$E$2,$E$2-$E$3),IF(C293=КАЛЬКУЛЯТОР!$C$21,$I$9,$I$9-SUMIF($A$10:$A$369,\"<=\"&$E$3,$H$10:$H$369)),0,0),\"\")","v":""},{"$f":"IFERROR(-IPMT((C293-$P$1)/12,B293,IF(C293=КАЛЬКУЛЯТОР!$C$21,$E$2,$E$2-$E$3),IF(C293=КАЛЬКУЛЯТОР!$C$21,$I$9,$I$9-SUMIF($A$10:$A$369,\"<=\"&$E$3,$H$10:$H$369)),0,0),\"\")","v":""},{"$f":"IFERROR((-PPMT(C293/12,B293,IF(C293=КАЛЬКУЛЯТОР!$C$21,$E$2,$E$2-$E$3),IF(C293=КАЛЬКУЛЯТОР!$C$21,$I$9,$I$9-SUMIF($A$10:$A$369,\"<=\"&$E$3,$H$10:$H$369)),0,0)),\"\")","v":""},"",{"$error":"#VALUE!"},null,{"$error":"#VALUE!"},{"$error":"#VALUE!"},{"$error":"#VALUE!"},{"$error":"#VALUE!"},false]
[285,285,"",{"$f":"IF(A294<=$E$2,-PMT(C294/12,IF(C294=КАЛЬКУЛЯТОР!$C$21,$E$2,$E$2-$E$3),IF(C294=КАЛЬКУЛЯТОР!$C$21,$I$9,$I$9-SUMIF($A$10:$A$369,\"<=\"&$E$3,$H$10:$H$369)),0,0),\"\")","v":""},null,{"$f":"IFERROR(-IPMT(C294/12,B294,IF(C294=КАЛЬКУЛЯТОР!$C$21,$E$2,$E$2-$E$3),IF(C294=КАЛЬКУЛЯТОР!$C$21,$I$9,$I$9-SUMIF($A$10:$A$369,\"<=\"&$E$3,$H$10:$H$369)),0,0),\"\")","v":""},{"$f":"IFERROR(-IPMT((C294-$P$1)/12,B294,IF(C294=КАЛЬКУЛЯТОР!$C$21,$E$2,$E$2-$E$3),IF(C294=КАЛЬКУЛЯТОР!$C$21,$I$9,$I$9-SUMIF($A$10:$A$369,\"<=\"&$E$3,$H$10:$H$369)),0,0),\"\")","v":""},{"$f":"IFERROR((-PPMT(C294/12,B294,IF(C294=КАЛЬКУЛЯТОР!$C$21,$E$2,$E$2-$E$3),IF(C294=КАЛЬКУЛЯТОР!$C$21,$I$9,$I$9-SUMIF($A$10:$A$369,\"<=\"&$E$3,$H$10:$H$369)),0,0)),\"\")","v":""},"",{"$error":"#VALUE!"},null,{"$error":"#VALUE!"},{"$error":"#VALUE!"},{"$error":"#VALUE!"},{"$error":"#VALUE!"},false]
[286,286,"",{"$f":"IF(A295<=$E$2,-PMT(C295/12,IF(C295=КАЛЬКУЛЯТОР!$C$21,$E$2,$E$2-$E$3),IF(C295=КАЛЬКУЛЯТОР!$C$21,$I$9,$I$9-SUMIF($A$10:$A$369,\"<=\"&$E$3,$H$10:$H$369)),0,0),\"\")","v":""},null,{"$f":"IFERROR(-IPMT(C295/12,B295,IF(C295=КАЛЬКУЛЯТОР!$C$21,$E$2,$E$2-$E$3),IF(C295=КАЛЬКУЛЯТОР!$C$21,$I$9,$I$9-SUMIF($A$10:$A$369,\"<=\"&$E$3,$H$10:$H$369)),0,0),\"\")","v":""},{"$f":"IFERROR(-IPMT((C295-$P$1)/12,B295,IF(C295=КАЛЬКУЛЯТОР!$C$21,$E$2,$E$2-$E$3),IF(C295=КАЛЬКУЛЯТОР!$C$21,$I$9,$I$9-SUMIF($A$10:$A$369,\"<=\"&$E$3,$H$10:$H$369)),0,0),\"\")","v":""},{"$f":"IFERROR((-PPMT(C295/12,B295,IF(C295=КАЛЬКУЛЯТОР!$C$21,$E$2,$E$2-$E$3),IF(C295=КАЛЬКУЛЯТОР!$C$21,$I$9,$I$9-SUMIF($A$10:$A$369,\"<=\"&$E$3,$H$10:$H$369)),0,0)),\"\")","v":""},"",{"$error":"#VALUE!"},null,{"$error":"#VALUE!"},{"$error":"#VALUE!"},{"$error":"#VALUE!"},{"$error":"#VALUE!"},false]
[287,287,"",{"$f":"IF(A296<=$E$2,-PMT(C296/12,IF(C296=КАЛЬКУЛЯТОР!$C$21,$E$2,$E$2-$E$3),IF(C296=КАЛЬКУЛЯТОР!$C$21,$I$9,$I$9-SUMIF($A$10:$A$369,\"<=\"&$E$3,$H$10:$H$369)),0,0),\"\")","v":""},null,{"$f":"IFERROR(-IPMT(C296/12,B296,IF(C296=КАЛЬКУЛЯТОР!$C$21,$E$2,$E$2-$E$3),IF(C296=КАЛЬКУЛЯТОР!$C$21,$I$9,$I$9-SUMIF($A$10:$A$369,\"<=\"&$E$3,$H$10:$H$369)),0,0),\"\")","v":""},{"$f":"IFERROR(-IPMT((C296-$P$1)/12,B296,IF(C296=КАЛЬКУЛЯТОР!$C$21,$E$2,$E$2-$E$3),IF(C296=КАЛЬКУЛЯТОР!$C$21,$I$9,$I$9-SUMIF($A$10:$A$369,\"<=\"&$E$3,$H$10:$H$369)),0,0),\"\")","v":""},{"$f":"IFERROR((-PPMT(C296/12,B296,IF(C296=КАЛЬКУЛЯТОР!$C$21,$E$2,$E$2-$E$3),IF(C296=КАЛЬКУЛЯТОР!$C$21,$I$9,$I$9-SUMIF($A$10:$A$369,\"<=\"&$E$3,$H$10:$H$369)),0,0)),\"\")","v":""},"",{"$error":"#VALUE!"},null,{"$error":"#VALUE!"},{"$error":"#VALUE!"},{"$error":"#VALUE!"},{"$error":"#VALUE!"},false]
[288,288,"",{"$f":"IF(A297<=$E$2,-PMT(C297/12,IF(C297=КАЛЬКУЛЯТОР!$C$21,$E$2,$E$2-$E$3),IF(C297=КАЛЬКУЛЯТОР!$C$21,$I$9,$I$9-SUMIF($A$10:$A$369,\"<=\"&$E$3,$H$10:$H$369)),0,0),\"\")","v":""},null,{"$f":"IFERROR(-IPMT(C297/12,B297,IF(C297=КАЛЬКУЛЯТОР!$C$21,$E$2,$E$2-$E$3),IF(C297=КАЛЬКУЛЯТОР!$C$21,$I$9,$I$9-SUMIF($A$10:$A$369,\"<=\"&$E$3,$H$10:$H$369)),0,0),\"\")","v":""},{"$f":"IFERROR(-IPMT((C297-$P$1)/12,B297,IF(C297=КАЛЬКУЛЯТОР!$C$21,$E$2,$E$2-$E$3),IF(C297=КАЛЬКУЛЯТОР!$C$21,$I$9,$I$9-SUMIF($A$10:$A$369,\"<=\"&$E$3,$H$10:$H$369)),0,0),\"\")","v":""},{"$f":"IFERROR((-PPMT(C297/12,B297,IF(C297=КАЛЬКУЛЯТОР!$C$21,$E$2,$E$2-$E$3),IF(C297=КАЛЬКУЛЯТОР!$C$21,$I$9,$I$9-SUMIF($A$10:$A$369,\"<=\"&$E$3,$H$10:$H$369)),0,0)),\"\")","v":""},"",{"$error":"#VALUE!"},null,{"$error":"#VALUE!"},{"$error":"#VALUE!"},{"$error":"#VALUE!"},{"$error":"#VALUE!"},false]
[289,289,"",{"$f":"IF(A298<=$E$2,-PMT(C298/12,IF(C298=КАЛЬКУЛЯТОР!$C$21,$E$2,$E$2-$E$3),IF(C298=КАЛЬКУЛЯТОР!$C$21,$I$9,$I$9-SUMIF($A$10:$A$369,\"<=\"&$E$3,$H$10:$H$369)),0,0)+E298,\"\")","v":""},{"$f":"IF($E$2>$A297,(I297+SUM(F298:F309))*($K$4+$K$5),0)","v":{"v":0,"d":"0.00"}},{"$f":"IFERROR(-IPMT(C298/12,B298,IF(C298=КАЛЬКУЛЯТОР!$C$21,$E$2,$E$2-$E$3),IF(C298=КАЛЬКУЛЯТОР!$C$21,$I$9,$I$9-SUMIF($A$10:$A$369,\"<=\"&$E$3,$H$10:$H$369)),0,0),\"\")","v":""},{"$f":"IFERROR(-IPMT((C298-$P$1)/12,B298,IF(C298=КАЛЬКУЛЯТОР!$C$21,$E$2,$E$2-$E$3),IF(C298=КАЛЬКУЛЯТОР!$C$21,$I$9,$I$9-SUMIF($A$10:$A$369,\"<=\"&$E$3,$H$10:$H$369)),0,0),\"\")","v":""},{"$f":"IFERROR((-PPMT(C298/12,B298,IF(C298=КАЛЬКУЛЯТОР!$C$21,$E$2,$E$2-$E$3),IF(C298=КАЛЬКУЛЯТОР!$C$21,$I$9,$I$9-SUMIF($A$10:$A$369,\"<=\"&$E$3,$H$10:$H$369)),0,0)),\"\")","v":""},"",{"$error":"#VALUE!"},{"$f":"PV($E$5/12,A298-1,0,-E298)","v":{"v":0,"d":"0.00"}},{"$error":"#VALUE!"},{"$error":"#VALUE!"},{"$error":"#VALUE!"},{"$error":"#VALUE!"},false]
[290,290,"",{"$f":"IF(A299<=$E$2,-PMT(C299/12,IF(C299=КАЛЬКУЛЯТОР!$C$21,$E$2,$E$2-$E$3),IF(C299=КАЛЬКУЛЯТОР!$C$21,$I$9,$I$9-SUMIF($A$10:$A$369,\"<=\"&$E$3,$H$10:$H$369)),0,0),\"\")","v":""},null,{"$f":"IFERROR(-IPMT(C299/12,B299,IF(C299=КАЛЬКУЛЯТОР!$C$21,$E$2,$E$2-$E$3),IF(C299=КАЛЬКУЛЯТОР!$C$21,$I$9,$I$9-SUMIF($A$10:$A$369,\"<=\"&$E$3,$H$10:$H$369)),0,0),\"\")","v":""},{"$f":"IFERROR(-IPMT((C299-$P$1)/12,B299,IF(C299=КАЛЬКУЛЯТОР!$C$21,$E$2,$E$2-$E$3),IF(C299=КАЛЬКУЛЯТОР!$C$21,$I$9,$I$9-SUMIF($A$10:$A$369,\"<=\"&$E$3,$H$10:$H$369)),0,0),\"\")","v":""},{"$f":"IFERROR((-PPMT(C299/12,B299,IF(C299=КАЛЬКУЛЯТОР!$C$21,$E$2,$E$2-$E$3),IF(C299=КАЛЬКУЛЯТОР!$C$21,$I$9,$I$9-SUMIF($A$10:$A$369,\"<=\"&$E$3,$H$10:$H$369)),0,0)),\"\")","v":""},"",{"$error":"#VALUE!"},null,{"$error":"#VALUE!"},{"$error":"#VALUE!"},{"$error":"#VALUE!"},{"$error":"#VALUE!"},false]
[291,291,"",{"$f":"IF(A300<=$E$2,-PMT(C300/12,IF(C300=КАЛЬКУЛЯТОР!$C$21,$E$2,$E$2-$E$3),IF(C300=КАЛЬКУЛЯТОР!$C$21,$I$9,$I$9-SUMIF($A$10:$A$369,\"<=\"&$E$3,$H$10:$H$369)),0,0),\"\")","v":""},null,{"$f":"IFERROR(-IPMT(C300/12,B300,IF(C300=КАЛЬКУЛЯТОР!$C$21,$E$2,$E$2-$E$3),IF(C300=КАЛЬКУЛЯТОР!$C$21,$I$9,$I$9-SUMIF($A$10:$A$369,\"<=\"&$E$3,$H$10:$H$369)),0,0),\"\")","v":""},{"$f":"IFERROR(-IPMT((C300-$P$1)/12,B300,IF(C300=КАЛЬКУЛЯТОР!$C$21,$E$2,$E$2-$E$3),IF(C300=КАЛЬКУЛЯТОР!$C$21,$I$9,$I$9-SUMIF($A$10:$A$369,\"<=\"&$E$3,$H$10:$H$369)),0,0),\"\")","v":""},{"$f":"IFERROR((-PPMT(C300/12,B300,IF(C300=КАЛЬКУЛЯТОР!$C$21,$E$2,$E$2-$E$3),IF(C300=КАЛЬКУЛЯТОР!$C$21,$I$9,$I$9-SUMIF($A$10:$A$369,\"<=\"&$E$3,$H$10:$H$369)),0,0)),\"\")","v":""},"",{"$error":"#VALUE!"},null,{"$error":"#VALUE!"},{"$error":"#VALUE!"},{"$error":"#VALUE!"},{"$error":"#VALUE!"},false]
[292,292,"",{"$f":"IF(A301<=$E$2,-PMT(C301/12,IF(C301=КАЛЬКУЛЯТОР!$C$21,$E$2,$E$2-$E$3),IF(C301=КАЛЬКУЛЯТОР!$C$21,$I$9,$I$9-SUMIF($A$10:$A$369,\"<=\"&$E$3,$H$10:$H$369)),0,0),\"\")","v":""},null,{"$f":"IFERROR(-IPMT(C301/12,B301,IF(C301=КАЛЬКУЛЯТОР!$C$21,$E$2,$E$2-$E$3),IF(C301=КАЛЬКУЛЯТОР!$C$21,$I$9,$I$9-SUMIF($A$10:$A$369,\"<=\"&$E$3,$H$10:$H$369)),0,0),\"\")","v":""},{"$f":"IFERROR(-IPMT((C301-$P$1)/12,B301,IF(C301=КАЛЬКУЛЯТОР!$C$21,$E$2,$E$2-$E$3),IF(C301=КАЛЬКУЛЯТОР!$C$21,$I$9,$I$9-SUMIF($A$10:$A$369,\"<=\"&$E$3,$H$10:$H$369)),0,0),\"\")","v":""},{"$f":"IFERROR((-PPMT(C301/12,B301,IF(C301=КАЛЬКУЛЯТОР!$C$21,$E$2,$E$2-$E$3),IF(C301=КАЛЬКУЛЯТОР!$C$21,$I$9,$I$9-SUMIF($A$10:$A$369,\"<=\"&$E$3,$H$10:$H$369)),0,0)),\"\")","v":""},"",{"$error":"#VALUE!"},null,{"$error":"#VALUE!"},{"$error":"#VALUE!"},{"$error":"#VALUE!"},{"$error":"#VALUE!"},false]
[293,293,"",{"$f":"IF(A302<=$E$2,-PMT(C302/12,IF(C302=КАЛЬКУЛЯТОР!$C$21,$E$2,$E$2-$E$3),IF(C302=КАЛЬКУЛЯТОР!$C$21,$I$9,$I$9-SUMIF($A$10:$A$369,\"<=\"&$E$3,$H$10:$H$369)),0,0),\"\")","v":""},null,{"$f":"IFERROR(-IPMT(C302/12,B302,IF(C302=КАЛЬКУЛЯТОР!$C$21,$E$2,$E$2-$E$3),IF(C302=КАЛЬКУЛЯТОР!$C$21,$I$9,$I$9-SUMIF($A$10:$A$369,\"<=\"&$E$3,$H$10:$H$369)),0,0),\"\")","v":""},{"$f":"IFERROR(-IPMT((C302-$P$1)/12,B302,IF(C302=КАЛЬКУЛЯТОР!$C$21,$E$2,$E$2-$E$3),IF(C302=КАЛЬКУЛЯТОР!$C$21,$I$9,$I$9-SUMIF($A$10:$A$369,\"<=\"&$E$3,$H$10:$H$369)),0,0),\"\")","v":""},{"$f":"IFERROR((-PPMT(C302/12,B302,IF(C302=КАЛЬКУЛЯТОР!$C$21,$E$2,$E$2-$E$3),IF(C302=КАЛЬКУЛЯТОР!$C$21,$I$9,$I$9-SUMIF($A$10:$A$369,\"<=\"&$E$3,$H$10:$H$369)),0,0)),\"\")","v":""},"",{"$error":"#VALUE!"},null,{"$error":"#VALUE!"},{"$error":"#VALUE!"},{"$error":"#VALUE!"},{"$error":"#VALUE!"},false]
[294,294,"",{"$f":"IF(A303<=$E$2,-PMT(C303/12,IF(C303=КАЛЬКУЛЯТОР!$C$21,$E$2,$E$2-$E$3),IF(C303=КАЛЬКУЛЯТОР!$C$21,$I$9,$I$9-SUMIF($A$10:$A$369,\"<=\"&$E$3,$H$10:$H$369)),0,0),\"\")","v":""},null,{"$f":"IFERROR(-IPMT(C303/12,B303,IF(C303=КАЛЬКУЛЯТОР!$C$21,$E$2,$E$2-$E$3),IF(C303=КАЛЬКУЛЯТОР!$C$21,$I$9,$I$9-SUMIF($A$10:$A$369,\"<=\"&$E$3,$H$10:$H$369)),0,0),\"\")","v":""},{"$f":"IFERROR(-IPMT((C303-$P$1)/12,B303,IF(C303=КАЛЬКУЛЯТОР!$C$21,$E$2,$E$2-$E$3),IF(C303=КАЛЬКУЛЯТОР!$C$21,$I$9,$I$9-SUMIF($A$10:$A$369,\"<=\"&$E$3,$H$10:$H$369)),0,0),\"\")","v":""},{"$f":"IFERROR((-PPMT(C303/12,B303,IF(C303=КАЛЬКУЛЯТОР!$C$21,$E$2,$E$2-$E$3),IF(C303=КАЛЬКУЛЯТОР!$C$21,$I$9,$I$9-SUMIF($A$10:$A$369,\"<=\"&$E$3,$H$10:$H$369)),0,0)),\"\")","v":""},"",{"$error":"#VALUE!"},null,{"$error":"#VALUE!"},{"$error":"#VALUE!"},{"$error":"#VALUE!"},{"$error":"#VALUE!"},false]
[295,295,"",{"$f":"IF(A304<=$E$2,-PMT(C304/12,IF(C304=КАЛЬКУЛЯТОР!$C$21,$E$2,$E$2-$E$3),IF(C304=КАЛЬКУЛЯТОР!$C$21,$I$9,$I$9-SUMIF($A$10:$A$369,\"<=\"&$E$3,$H$10:$H$369)),0,0),\"\")","v":""},null,{"$f":"IFERROR(-IPMT(C304/12,B304,IF(C304=КАЛЬКУЛЯТОР!$C$21,$E$2,$E$2-$E$3),IF(C304=КАЛЬКУЛЯТОР!$C$21,$I$9,$I$9-SUMIF($A$10:$A$369,\"<=\"&$E$3,$H$10:$H$369)),0,0),\"\")","v":""},{"$f":"IFERROR(-IPMT((C304-$P$1)/12,B304,IF(C304=КАЛЬКУЛЯТОР!$C$21,$E$2,$E$2-$E$3),IF(C304=КАЛЬКУЛЯТОР!$C$21,$I$9,$I$9-SUMIF($A$10:$A$369,\"<=\"&$E$3,$H$10:$H$369)),0,0),\"\")","v":""},{"$f":"IFERROR((-PPMT(C304/12,B304,IF(C304=КАЛЬКУЛЯТОР!$C$21,$E$2,$E$2-$E$3),IF(C304=КАЛЬКУЛЯТОР!$C$21,$I$9,$I$9-SUMIF($A$10:$A$369,\"<=\"&$E$3,$H$10:$H$369)),0,0)),\"\")","v":""},"",{"$error":"#VALUE!"},null,{"$error":"#VALUE!"},{"$error":"#VALUE!"},{"$error":"#VALUE!"},{"$error":"#VALUE!"},false]
[296,296,"",{"$f":"IF(A305<=$E$2,-PMT(C305/12,IF(C305=КАЛЬКУЛЯТОР!$C$21,$E$2,$E$2-$E$3),IF(C305=КАЛЬКУЛЯТОР!$C$21,$I$9,$I$9-SUMIF($A$10:$A$369,\"<=\"&$E$3,$H$10:$H$369)),0,0),\"\")","v":""},null,{"$f":"IFERROR(-IPMT(C305/12,B305,IF(C305=КАЛЬКУЛЯТОР!$C$21,$E$2,$E$2-$E$3),IF(C305=КАЛЬКУЛЯТОР!$C$21,$I$9,$I$9-SUMIF($A$10:$A$369,\"<=\"&$E$3,$H$10:$H$369)),0,0),\"\")","v":""},{"$f":"IFERROR(-IPMT((C305-$P$1)/12,B305,IF(C305=КАЛЬКУЛЯТОР!$C$21,$E$2,$E$2-$E$3),IF(C305=КАЛЬКУЛЯТОР!$C$21,$I$9,$I$9-SUMIF($A$10:$A$369,\"<=\"&$E$3,$H$10:$H$369)),0,0),\"\")","v":""},{"$f":"IFERROR((-PPMT(C305/12,B305,IF(C305=КАЛЬКУЛЯТОР!$C$21,$E$2,$E$2-$E$3),IF(C305=КАЛЬКУЛЯТОР!$C$21,$I$9,$I$9-SUMIF($A$10:$A$369,\"<=\"&$E$3,$H$10:$H$369)),0,0)),\"\")","v":""},"",{"$error":"#VALUE!"},null,{"$error":"#VALUE!"},{"$error":"#VALUE!"},{"$error":"#VALUE!"},{"$error":"#VALUE!"},false]
[297,297,"",{"$f":"IF(A306<=$E$2,-PMT(C306/12,IF(C306=КАЛЬКУЛЯТОР!$C$21,$E$2,$E$2-$E$3),IF(C306=КАЛЬКУЛЯТОР!$C$21,$I$9,$I$9-SUMIF($A$10:$A$369,\"<=\"&$E$3,$H$10:$H$369)),0,0),\"\")","v":""},null,{"$f":"IFERROR(-IPMT(C306/12,B306,IF(C306=КАЛЬКУЛЯТОР!$C$21,$E$2,$E$2-$E$3),IF(C306=КАЛЬКУЛЯТОР!$C$21,$I$9,$I$9-SUMIF($A$10:$A$369,\"<=\"&$E$3,$H$10:$H$369)),0,0),\"\")","v":""},{"$f":"IFERROR(-IPMT((C306-$P$1)/12,B306,IF(C306=КАЛЬКУЛЯТОР!$C$21,$E$2,$E$2-$E$3),IF(C306=КАЛЬКУЛЯТОР!$C$21,$I$9,$I$9-SUMIF($A$10:$A$369,\"<=\"&$E$3,$H$10:$H$369)),0,0),\"\")","v":""},{"$f":"IFERROR((-PPMT(C306/12,B306,IF(C306=КАЛЬКУЛЯТОР!$C$21,$E$2,$E$2-$E$3),IF(C306=КАЛЬКУЛЯТОР!$C$21,$I$9,$I$9-SUMIF($A$10:$A$369,\"<=\"&$E$3,$H$10:$H$369)),0,0)),\"\")","v":""},"",{"$error":"#VALUE!"},null,{"$error":"#VALUE!"},{"$error":"#VALUE!"},{"$error":"#VALUE!"},{"$error":"#VALUE!"},false]
[298,298,"",{"$f":"IF(A307<=$E$2,-PMT(C307/12,IF(C307=КАЛЬКУЛЯТОР!$C$21,$E$2,$E$2-$E$3),IF(C307=КАЛЬКУЛЯТОР!$C$21,$I$9,$I$9-SUMIF($A$10:$A$369,\"<=\"&$E$3,$H$10:$H$369)),0,0),\"\")","v":""},null,{"$f":"IFERROR(-IPMT(C307/12,B307,IF(C307=КАЛЬКУЛЯТОР!$C$21,$E$2,$E$2-$E$3),IF(C307=КАЛЬКУЛЯТОР!$C$21,$I$9,$I$9-SUMIF($A$10:$A$369,\"<=\"&$E$3,$H$10:$H$369)),0,0),\"\")","v":""},{"$f":"IFERROR(-IPMT((C307-$P$1)/12,B307,IF(C307=КАЛЬКУЛЯТОР!$C$21,$E$2,$E$2-$E$3),IF(C307=КАЛЬКУЛЯТОР!$C$21,$I$9,$I$9-SUMIF($A$10:$A$369,\"<=\"&$E$3,$H$10:$H$369)),0,0),\"\")","v":""},{"$f":"IFERROR((-PPMT(C307/12,B307,IF(C307=КАЛЬКУЛЯТОР!$C$21,$E$2,$E$2-$E$3),IF(C307=КАЛЬКУЛЯТОР!$C$21,$I$9,$I$9-SUMIF($A$10:$A$369,\"<=\"&$E$3,$H$10:$H$369)),0,0)),\"\")","v":""},"",{"$error":"#VALUE!"},null,{"$error":"#VALUE!"},{"$error":"#VALUE!"},{"$error":"#VALUE!"},{"$error":"#VALUE!"},false]
[299,299,"",{"$f":"IF(A308<=$E$2,-PMT(C308/12,IF(C308=КАЛЬКУЛЯТОР!$C$21,$E$2,$E$2-$E$3),IF(C308=КАЛЬКУЛЯТОР!$C$21,$I$9,$I$9-SUMIF($A$10:$A$369,\"<=\"&$E$3,$H$10:$H$369)),0,0),\"\")","v":""},null,{"$f":"IFERROR(-IPMT(C308/12,B308,IF(C308=КАЛЬКУЛЯТОР!$C$21,$E$2,$E$2-$E$3),IF(C308=КАЛЬКУЛЯТОР!$C$21,$I$9,$I$9-SUMIF($A$10:$A$369,\"<=\"&$E$3,$H$10:$H$369)),0,0),\"\")","v":""},{"$f":"IFERROR(-IPMT((C308-$P$1)/12,B308,IF(C308=КАЛЬКУЛЯТОР!$C$21,$E$2,$E$2-$E$3),IF(C308=КАЛЬКУЛЯТОР!$C$21,$I$9,$I$9-SUMIF($A$10:$A$369,\"<=\"&$E$3,$H$10:$H$369)),0,0),\"\")","v":""},{"$f":"IFERROR((-PPMT(C308/12,B308,IF(C308=КАЛЬКУЛЯТОР!$C$21,$E$2,$E$2-$E$3),IF(C308=КАЛЬКУЛЯТОР!$C$21,$I$9,$I$9-SUMIF($A$10:$A$369,\"<=\"&$E$3,$H$10:$H$369)),0,0)),\"\")","v":""},"",{"$error":"#VALUE!"},null,{"$error":"#VALUE!"},{"$error":"#VALUE!"},{"$error":"#VALUE!"},{"$error":"#VALUE!"},false]
[300,300,"",{"$f":"IF(A309<=$E$2,-PMT(C309/12,IF(C309=КАЛЬКУЛЯТОР!$C$21,$E$2,$E$2-$E$3),IF(C309=КАЛЬКУЛЯТОР!$C$21,$I$9,$I$9-SUMIF($A$10:$A$369,\"<=\"&$E$3,$H$10:$H$369)),0,0),\"\")","v":""},null,{"$f":"IFERROR(-IPMT(C309/12,B309,IF(C309=КАЛЬКУЛЯТОР!$C$21,$E$2,$E$2-$E$3),IF(C309=КАЛЬКУЛЯТОР!$C$21,$I$9,$I$9-SUMIF($A$10:$A$369,\"<=\"&$E$3,$H$10:$H$369)),0,0),\"\")","v":""},{"$f":"IFERROR(-IPMT((C309-$P$1)/12,B309,IF(C309=КАЛЬКУЛЯТОР!$C$21,$E$2,$E$2-$E$3),IF(C309=КАЛЬКУЛЯТОР!$C$21,$I$9,$I$9-SUMIF($A$10:$A$369,\"<=\"&$E$3,$H$10:$H$369)),0,0),\"\")","v":""},{"$f":"IFERROR((-PPMT(C309/12,B309,IF(C309=КАЛЬКУЛЯТОР!$C$21,$E$2,$E$2-$E$3),IF(C309=КАЛЬКУЛЯТОР!$C$21,$I$9,$I$9-SUMIF($A$10:$A$369,\"<=\"&$E$3,$H$10:$H$369)),0,0)),\"\")","v":""},"",{"$error":"#VALUE!"},null,{"$error":"#VALUE!"},{"$error":"#VALUE!"},{"$error":"#VALUE!"},{"$error":"#VALUE!"},false]
[301,301,"",{"$f":"IF(A310<=$E$2,-PMT(C310/12,IF(C310=КАЛЬКУЛЯТОР!$C$21,$E$2,$E$2-$E$3),IF(C310=КАЛЬКУЛЯТОР!$C$21,$I$9,$I$9-SUMIF($A$10:$A$369,\"<=\"&$E$3,$H$10:$H$369)),0,0)+E310,\"\")","v":""},{"$f":"IF($E$2>$A309,(I309+SUM(F310:F321))*($K$4+$K$5),0)","v":{"v":0,"d":"0.00"}},{"$f":"IFERROR(-IPMT(C310/12,B310,IF(C310=КАЛЬКУЛЯТОР!$C$21,$E$2,$E$2-$E$3),IF(C310=КАЛЬКУЛЯТОР!$C$21,$I$9,$I$9-SUMIF($A$10:$A$369,\"<=\"&$E$3,$H$10:$H$369)),0,0),\"\")","v":""},{"$f":"IFERROR(-IPMT((C310-$P$1)/12,B310,IF(C310=КАЛЬКУЛЯТОР!$C$21,$E$2,$E$2-$E$3),IF(C310=КАЛЬКУЛЯТОР!$C$21,$I$9,$I$9-SUMIF($A$10:$A$369,\"<=\"&$E$3,$H$10:$H$369)),0,0),\"\")","v":""},{"$f":"IFERROR((-PPMT(C310/12,B310,IF(C310=КАЛЬКУЛЯТОР!$C$21,$E$2,$E$2-$E$3),IF(C310=КАЛЬКУЛЯТОР!$C$21,$I$9,$I$9-SUMIF($A$10:$A$369,\"<=\"&$E$3,$H$10:$H$369)),0,0)),\"\")","v":""},"",{"$error":"#VALUE!"},{"$f":"PV($E$5/12,A310-1,0,-E310)","v":{"v":0,"d":"0.00"}},{"$error":"#VALUE!"},{"$error":"#VALUE!"},{"$error":"#VALUE!"},{"$error":"#VALUE!"},false]
[302,302,"",{"$f":"IF(A311<=$E$2,-PMT(C311/12,IF(C311=КАЛЬКУЛЯТОР!$C$21,$E$2,$E$2-$E$3),IF(C311=КАЛЬКУЛЯТОР!$C$21,$I$9,$I$9-SUMIF($A$10:$A$369,\"<=\"&$E$3,$H$10:$H$369)),0,0),\"\")","v":""},null,{"$f":"IFERROR(-IPMT(C311/12,B311,IF(C311=КАЛЬКУЛЯТОР!$C$21,$E$2,$E$2-$E$3),IF(C311=КАЛЬКУЛЯТОР!$C$21,$I$9,$I$9-SUMIF($A$10:$A$369,\"<=\"&$E$3,$H$10:$H$369)),0,0),\"\")","v":""},{"$f":"IFERROR(-IPMT((C311-$P$1)/12,B311,IF(C311=КАЛЬКУЛЯТОР!$C$21,$E$2,$E$2-$E$3),IF(C311=КАЛЬКУЛЯТОР!$C$21,$I$9,$I$9-SUMIF($A$10:$A$369,\"<=\"&$E$3,$H$10:$H$369)),0,0),\"\")","v":""},{"$f":"IFERROR((-PPMT(C311/12,B311,IF(C311=КАЛЬКУЛЯТОР!$C$21,$E$2,$E$2-$E$3),IF(C311=КАЛЬКУЛЯТОР!$C$21,$I$9,$I$9-SUMIF($A$10:$A$369,\"<=\"&$E$3,$H$10:$H$369)),0,0)),\"\")","v":""},"",{"$error":"#VALUE!"},null,{"$error":"#VALUE!"},{"$error":"#VALUE!"},{"$error":"#VALUE!"},{"$error":"#VALUE!"},false]
[303,303,"",{"$f":"IF(A312<=$E$2,-PMT(C312/12,IF(C312=КАЛЬКУЛЯТОР!$C$21,$E$2,$E$2-$E$3),IF(C312=КАЛЬКУЛЯТОР!$C$21,$I$9,$I$9-SUMIF($A$10:$A$369,\"<=\"&$E$3,$H$10:$H$369)),0,0),\"\")","v":""},null,{"$f":"IFERROR(-IPMT(C312/12,B312,IF(C312=КАЛЬКУЛЯТОР!$C$21,$E$2,$E$2-$E$3),IF(C312=КАЛЬКУЛЯТОР!$C$21,$I$9,$I$9-SUMIF($A$10:$A$369,\"<=\"&$E$3,$H$10:$H$369)),0,0),\"\")","v":""},{"$f":"IFERROR(-IPMT((C312-$P$1)/12,B312,IF(C312=КАЛЬКУЛЯТОР!$C$21,$E$2,$E$2-$E$3),IF(C312=КАЛЬКУЛЯТОР!$C$21,$I$9,$I$9-SUMIF($A$10:$A$369,\"<=\"&$E$3,$H$10:$H$369)),0,0),\"\")","v":""},{"$f":"IFERROR((-PPMT(C312/12,B312,IF(C312=КАЛЬКУЛЯТОР!$C$21,$E$2,$E$2-$E$3),IF(C312=КАЛЬКУЛЯТОР!$C$21,$I$9,$I$9-SUMIF($A$10:$A$369,\"<=\"&$E$3,$H$10:$H$369)),0,0)),\"\")","v":""},"",{"$error":"#VALUE!"},null,{"$error":"#VALUE!"},{"$error":"#VALUE!"},{"$error":"#VALUE!"},{"$error":"#VALUE!"},false]
[304,304,"",{"$f":"IF(A313<=$E$2,-PMT(C313/12,IF(C313=КАЛЬКУЛЯТОР!$C$21,$E$2,$E$2-$E$3),IF(C313=КАЛЬКУЛЯТОР!$C$21,$I$9,$I$9-SUMIF($A$10:$A$369,\"<=\"&$E$3,$H$10:$H$369)),0,0),\"\")","v":""},null,{"$f":"IFERROR(-IPMT(C313/12,B313,IF(C313=КАЛЬКУЛЯТОР!$C$21,$E$2,$E$2-$E$3),IF(C313=КАЛЬКУЛЯТОР!$C$21,$I$9,$I$9-SUMIF($A$10:$A$369,\"<=\"&$E$3,$H$10:$H$369)),0,0),\"\")","v":""},{"$f":"IFERROR(-IPMT((C313-$P$1)/12,B313,IF(C313=КАЛЬКУЛЯТОР!$C$21,$E$2,$E$2-$E$3),IF(C313=КАЛЬКУЛЯТОР!$C$21,$I$9,$I$9-SUMIF($A$10:$A$369,\"<=\"&$E$3,$H$10:$H$369)),0,0),\"\")","v":""},{"$f":"IFERROR((-PPMT(C313/12,B313,IF(C313=КАЛЬКУЛЯТОР!$C$21,$E$2,$E$2-$E$3),IF(C313=КАЛЬКУЛЯТОР!$C$21,$I$9,$I$9-SUMIF($A$10:$A$369,\"<=\"&$E$3,$H$10:$H$369)),0,0)),\"\")","v":""},"",{"$error":"#VALUE!"},null,{"$error":"#VALUE!"},{"$error":"#VALUE!"},{"$error":"#VALUE!"},{"$error":"#VALUE!"},false]
[305,305,"",{"$f":"IF(A314<=$E$2,-PMT(C314/12,IF(C314=КАЛЬКУЛЯТОР!$C$21,$E$2,$E$2-$E$3),IF(C314=КАЛЬКУЛЯТОР!$C$21,$I$9,$I$9-SUMIF($A$10:$A$369,\"<=\"&$E$3,$H$10:$H$369)),0,0),\"\")","v":""},null,{"$f":"IFERROR(-IPMT(C314/12,B314,IF(C314=КАЛЬКУЛЯТОР!$C$21,$E$2,$E$2-$E$3),IF(C314=КАЛЬКУЛЯТОР!$C$21,$I$9,$I$9-SUMIF($A$10:$A$369,\"<=\"&$E$3,$H$10:$H$369)),0,0),\"\")","v":""},{"$f":"IFERROR(-IPMT((C314-$P$1)/12,B314,IF(C314=КАЛЬКУЛЯТОР!$C$21,$E$2,$E$2-$E$3),IF(C314=КАЛЬКУЛЯТОР!$C$21,$I$9,$I$9-SUMIF($A$10:$A$369,\"<=\"&$E$3,$H$10:$H$369)),0,0),\"\")","v":""},{"$f":"IFERROR((-PPMT(C314/12,B314,IF(C314=КАЛЬКУЛЯТОР!$C$21,$E$2,$E$2-$E$3),IF(C314=КАЛЬКУЛЯТОР!$C$21,$I$9,$I$9-SUMIF($A$10:$A$369,\"<=\"&$E$3,$H$10:$H$369)),0,0)),\"\")","v":""},"",{"$error":"#VALUE!"},null,{"$error":"#VALUE!"},{"$error":"#VALUE!"},{"$error":"#VALUE!"},{"$error":"#VALUE!"},false]
[306,306,"",{"$f":"IF(A315<=$E$2,-PMT(C315/12,IF(C315=КАЛЬКУЛЯТОР!$C$21,$E$2,$E$2-$E$3),IF(C315=КАЛЬКУЛЯТОР!$C$21,$I$9,$I$9-SUMIF($A$10:$A$369,\"<=\"&$E$3,$H$10:$H$369)),0,0),\"\")","v":""},null,{"$f":"IFERROR(-IPMT(C315/12,B315,IF(C315=КАЛЬКУЛЯТОР!$C$21,$E$2,$E$2-$E$3),IF(C315=КАЛЬКУЛЯТОР!$C$21,$I$9,$I$9-SUMIF($A$10:$A$369,\"<=\"&$E$3,$H$10:$H$369)),0,0),\"\")","v":""},{"$f":"IFERROR(-IPMT((C315-$P$1)/12,B315,IF(C315=КАЛЬКУЛЯТОР!$C$21,$E$2,$E$2-$E$3),IF(C315=КАЛЬКУЛЯТОР!$C$21,$I$9,$I$9-SUMIF($A$10:$A$369,\"<=\"&$E$3,$H$10:$H$369)),0,0),\"\")","v":""},{"$f":"IFERROR((-PPMT(C315/12,B315,IF(C315=КАЛЬКУЛЯТОР!$C$21,$E$2,$E$2-$E$3),IF(C315=КАЛЬКУЛЯТОР!$C$21,$I$9,$I$9-SUMIF($A$10:$A$369,\"<=\"&$E$3,$H$10:$H$369)),0,0)),\"\")","v":""},"",{"$error":"#VALUE!"},null,{"$error":"#VALUE!"},{"$error":"#VALUE!"},{"$error":"#VALUE!"},{"$error":"#VALUE!"},false]
[307,307,"",{"$f":"IF(A316<=$E$2,-PMT(C316/12,IF(C316=КАЛЬКУЛЯТОР!$C$21,$E$2,$E$2-$E$3),IF(C316=КАЛЬКУЛЯТОР!$C$21,$I$9,$I$9-SUMIF($A$10:$A$369,\"<=\"&$E$3,$H$10:$H$369)),0,0),\"\")","v":""},null,{"$f":"IFERROR(-IPMT(C316/12,B316,IF(C316=КАЛЬКУЛЯТОР!$C$21,$E$2,$E$2-$E$3),IF(C316=КАЛЬКУЛЯТОР!$C$21,$I$9,$I$9-SUMIF($A$10:$A$369,\"<=\"&$E$3,$H$10:$H$369)),0,0),\"\")","v":""},{"$f":"IFERROR(-IPMT((C316-$P$1)/12,B316,IF(C316=КАЛЬКУЛЯТОР!$C$21,$E$2,$E$2-$E$3),IF(C316=КАЛЬКУЛЯТОР!$C$21,$I$9,$I$9-SUMIF($A$10:$A$369,\"<=\"&$E$3,$H$10:$H$369)),0,0),\"\")","v":""},{"$f":"IFERROR((-PPMT(C316/12,B316,IF(C316=КАЛЬКУЛЯТОР!$C$21,$E$2,$E$2-$E$3),IF(C316=КАЛЬКУЛЯТОР!$C$21,$I$9,$I$9-SUMIF($A$10:$A$369,\"<=\"&$E$3,$H$10:$H$369)),0,0)),\"\")","v":""},"",{"$error":"#VALUE!"},null,{"$error":"#VALUE!"},{"$error":"#VALUE!"},{"$error":"#VALUE!"},{"$error":"#VALUE!"},false]
[308,308,"",{"$f":"IF(A317<=$E$2,-PMT(C317/12,IF(C317=КАЛЬКУЛЯТОР!$C$21,$E$2,$E$2-$E$3),IF(C317=КАЛЬКУЛЯТОР!$C$21,$I$9,$I$9-SUMIF($A$10:$A$369,\"<=\"&$E$3,$H$10:$H$369)),0,0),\"\")","v":""},null,{"$f":"IFERROR(-IPMT(C317/12,B317,IF(C317=КАЛЬКУЛЯТОР!$C$21,$E$2,$E$2-$E$3),IF(C317=КАЛЬКУЛЯТОР!$C$21,$I$9,$I$9-SUMIF($A$10:$A$369,\"<=\"&$E$3,$H$10:$H$369)),0,0),\"\")","v":""},{"$f":"IFERROR(-IPMT((C317-$P$1)/12,B317,IF(C317=КАЛЬКУЛЯТОР!$C$21,$E$2,$E$2-$E$3),IF(C317=КАЛЬКУЛЯТОР!$C$21,$I$9,$I$9-SUMIF($A$10:$A$369,\"<=\"&$E$3,$H$10:$H$369)),0,0),\"\")","v":""},{"$f":"IFERROR((-PPMT(C317/12,B317,IF(C317=КАЛЬКУЛЯТОР!$C$21,$E$2,$E$2-$E$3),IF(C317=КАЛЬКУЛЯТОР!$C$21,$I$9,$I$9-SUMIF($A$10:$A$369,\"<=\"&$E$3,$H$10:$H$369)),0,0)),\"\")","v":""},"",{"$error":"#VALUE!"},null,{"$error":"#VALUE!"},{"$error":"#VALUE!"},{"$error":"#VALUE!"},{"$error":"#VALUE!"},false]
[309,309,"",{"$f":"IF(A318<=$E$2,-PMT(C318/12,IF(C318=КАЛЬКУЛЯТОР!$C$21,$E$2,$E$2-$E$3),IF(C318=КАЛЬКУЛЯТОР!$C$21,$I$9,$I$9-SUMIF($A$10:$A$369,\"<=\"&$E$3,$H$10:$H$369)),0,0),\"\")","v":""},null,{"$f":"IFERROR(-IPMT(C318/12,B318,IF(C318=КАЛЬКУЛЯТОР!$C$21,$E$2,$E$2-$E$3),IF(C318=КАЛЬКУЛЯТОР!$C$21,$I$9,$I$9-SUMIF($A$10:$A$369,\"<=\"&$E$3,$H$10:$H$369)),0,0),\"\")","v":""},{"$f":"IFERROR(-IPMT((C318-$P$1)/12,B318,IF(C318=КАЛЬКУЛЯТОР!$C$21,$E$2,$E$2-$E$3),IF(C318=КАЛЬКУЛЯТОР!$C$21,$I$9,$I$9-SUMIF($A$10:$A$369,\"<=\"&$E$3,$H$10:$H$369)),0,0),\"\")","v":""},{"$f":"IFERROR((-PPMT(C318/12,B318,IF(C318=КАЛЬКУЛЯТОР!$C$21,$E$2,$E$2-$E$3),IF(C318=КАЛЬКУЛЯТОР!$C$21,$I$9,$I$9-SUMIF($A$10:$A$369,\"<=\"&$E$3,$H$10:$H$369)),0,0)),\"\")","v":""},"",{"$error":"#VALUE!"},null,{"$error":"#VALUE!"},{"$error":"#VALUE!"},{"$error":"#VALUE!"},{"$error":"#VALUE!"},false]
[310,310,"",{"$f":"IF(A319<=$E$2,-PMT(C319/12,IF(C319=КАЛЬКУЛЯТОР!$C$21,$E$2,$E$2-$E$3),IF(C319=КАЛЬКУЛЯТОР!$C$21,$I$9,$I$9-SUMIF($A$10:$A$369,\"<=\"&$E$3,$H$10:$H$369)),0,0),\"\")","v":""},null,{"$f":"IFERROR(-IPMT(C319/12,B319,IF(C319=КАЛЬКУЛЯТОР!$C$21,$E$2,$E$2-$E$3),IF(C319=КАЛЬКУЛЯТОР!$C$21,$I$9,$I$9-SUMIF($A$10:$A$369,\"<=\"&$E$3,$H$10:$H$369)),0,0),\"\")","v":""},{"$f":"IFERROR(-IPMT((C319-$P$1)/12,B319,IF(C319=КАЛЬКУЛЯТОР!$C$21,$E$2,$E$2-$E$3),IF(C319=КАЛЬКУЛЯТОР!$C$21,$I$9,$I$9-SUMIF($A$10:$A$369,\"<=\"&$E$3,$H$10:$H$369)),0,0),\"\")","v":""},{"$f":"IFERROR((-PPMT(C319/12,B319,IF(C319=КАЛЬКУЛЯТОР!$C$21,$E$2,$E$2-$E$3),IF(C319=КАЛЬКУЛЯТОР!$C$21,$I$9,$I$9-SUMIF($A$10:$A$369,\"<=\"&$E$3,$H$10:$H$369)),0,0)),\"\")","v":""},"",{"$error":"#VALUE!"},null,{"$error":"#VALUE!"},{"$error":"#VALUE!"},{"$error":"#VALUE!"},{"$error":"#VALUE!"},false]
[311,311,"",{"$f":"IF(A320<=$E$2,-PMT(C320/12,IF(C320=КАЛЬКУЛЯТОР!$C$21,$E$2,$E$2-$E$3),IF(C320=КАЛЬКУЛЯТОР!$C$21,$I$9,$I$9-SUMIF($A$10:$A$369,\"<=\"&$E$3,$H$10:$H$369)),0,0),\"\")","v":""},null,{"$f":"IFERROR(-IPMT(C320/12,B320,IF(C320=КАЛЬКУЛЯТОР!$C$21,$E$2,$E$2-$E$3),IF(C320=КАЛЬКУЛЯТОР!$C$21,$I$9,$I$9-SUMIF($A$10:$A$369,\"<=\"&$E$3,$H$10:$H$369)),0,0),\"\")","v":""},{"$f":"IFERROR(-IPMT((C320-$P$1)/12,B320,IF(C320=КАЛЬКУЛЯТОР!$C$21,$E$2,$E$2-$E$3),IF(C320=КАЛЬКУЛЯТОР!$C$21,$I$9,$I$9-SUMIF($A$10:$A$369,\"<=\"&$E$3,$H$10:$H$369)),0,0),\"\")","v":""},{"$f":"IFERROR((-PPMT(C320/12,B320,IF(C320=КАЛЬКУЛЯТОР!$C$21,$E$2,$E$2-$E$3),IF(C320=КАЛЬКУЛЯТОР!$C$21,$I$9,$I$9-SUMIF($A$10:$A$369,\"<=\"&$E$3,$H$10:$H$369)),0,0)),\"\")","v":""},"",{"$error":"#VALUE!"},null,{"$error":"#VALUE!"},{"$error":"#VALUE!"},{"$error":"#VALUE!"},{"$error":"#VALUE!"},false]
[312,312,"",{"$f":"IF(A321<=$E$2,-PMT(C321/12,IF(C321=КАЛЬКУЛЯТОР!$C$21,$E$2,$E$2-$E$3),IF(C321=КАЛЬКУЛЯТОР!$C$21,$I$9,$I$9-SUMIF($A$10:$A$369,\"<=\"&$E$3,$H$10:$H$369)),0,0),\"\")","v":""},null,{"$f":"IFERROR(-IPMT(C321/12,B321,IF(C321=КАЛЬКУЛЯТОР!$C$21,$E$2,$E$2-$E$3),IF(C321=КАЛЬКУЛЯТОР!$C$21,$I$9,$I$9-SUMIF($A$10:$A$369,\"<=\"&$E$3,$H$10:$H$369)),0,0),\"\")","v":""},{"$f":"IFERROR(-IPMT((C321-$P$1)/12,B321,IF(C321=КАЛЬКУЛЯТОР!$C$21,$E$2,$E$2-$E$3),IF(C321=КАЛЬКУЛЯТОР!$C$21,$I$9,$I$9-SUMIF($A$10:$A$369,\"<=\"&$E$3,$H$10:$H$369)),0,0),\"\")","v":""},{"$f":"IFERROR((-PPMT(C321/12,B321,IF(C321=КАЛЬКУЛЯТОР!$C$21,$E$2,$E$2-$E$3),IF(C321=КАЛЬКУЛЯТОР!$C$21,$I$9,$I$9-SUMIF($A$10:$A$369,\"<=\"&$E$3,$H$10:$H$369)),0,0)),\"\")","v":""},"",{"$error":"#VALUE!"},null,{"$error":"#VALUE!"},{"$error":"#VALUE!"},{"$error":"#VALUE!"},{"$error":"#VALUE!"},false]
[313,313,"",{"$f":"IF(A322<=$E$2,-PMT(C322/12,IF(C322=КАЛЬКУЛЯТОР!$C$21,$E$2,$E$2-$E$3),IF(C322=КАЛЬКУЛЯТОР!$C$21,$I$9,$I$9-SUMIF($A$10:$A$369,\"<=\"&$E$3,$H$10:$H$369)),0,0)+E322,\"\")","v":""},{"$f":"IF($E$2>$A321,(I321+SUM(F322:F333))*($K$4+$K$5),0)","v":{"v":0,"d":"0.00"}},{"$f":"IFERROR(-IPMT(C322/12,B322,IF(C322=КАЛЬКУЛЯТОР!$C$21,$E$2,$E$2-$E$3),IF(C322=КАЛЬКУЛЯТОР!$C$21,$I$9,$I$9-SUMIF($A$10:$A$369,\"<=\"&$E$3,$H$10:$H$369)),0,0),\"\")","v":""},{"$f":"IFERROR(-IPMT((C322-$P$1)/12,B322,IF(C322=КАЛЬКУЛЯТОР!$C$21,$E$2,$E$2-$E$3),IF(C322=КАЛЬКУЛЯТОР!$C$21,$I$9,$I$9-SUMIF($A$10:$A$369,\"<=\"&$E$3,$H$10:$H$369)),0,0),\"\")","v":""},{"$f":"IFERROR((-PPMT(C322/12,B322,IF(C322=КАЛЬКУЛЯТОР!$C$21,$E$2,$E$2-$E$3),IF(C322=КАЛЬКУЛЯТОР!$C$21,$I$9,$I$9-SUMIF($A$10:$A$369,\"<=\"&$E$3,$H$10:$H$369)),0,0)),\"\")","v":""},"",{"$error":"#VALUE!"},{"$f":"PV($E$5/12,A322-1,0,-E322)","v":{"v":0,"d":"0.00"}},{"$error":"#VALUE!"},{"$error":"#VALUE!"},{"$error":"#VALUE!"},{"$error":"#VALUE!"},false]
[314,314,"",{"$f":"IF(A323<=$E$2,-PMT(C323/12,IF(C323=КАЛЬКУЛЯТОР!$C$21,$E$2,$E$2-$E$3),IF(C323=КАЛЬКУЛЯТОР!$C$21,$I$9,$I$9-SUMIF($A$10:$A$369,\"<=\"&$E$3,$H$10:$H$369)),0,0),\"\")","v":""},null,{"$f":"IFERROR(-IPMT(C323/12,B323,IF(C323=КАЛЬКУЛЯТОР!$C$21,$E$2,$E$2-$E$3),IF(C323=КАЛЬКУЛЯТОР!$C$21,$I$9,$I$9-SUMIF($A$10:$A$369,\"<=\"&$E$3,$H$10:$H$369)),0,0),\"\")","v":""},{"$f":"IFERROR(-IPMT((C323-$P$1)/12,B323,IF(C323=КАЛЬКУЛЯТОР!$C$21,$E$2,$E$2-$E$3),IF(C323=КАЛЬКУЛЯТОР!$C$21,$I$9,$I$9-SUMIF($A$10:$A$369,\"<=\"&$E$3,$H$10:$H$369)),0,0),\"\")","v":""},{"$f":"IFERROR((-PPMT(C323/12,B323,IF(C323=КАЛЬКУЛЯТОР!$C$21,$E$2,$E$2-$E$3),IF(C323=КАЛЬКУЛЯТОР!$C$21,$I$9,$I$9-SUMIF($A$10:$A$369,\"<=\"&$E$3,$H$10:$H$369)),0,0)),\"\")","v":""},"",{"$error":"#VALUE!"},null,{"$error":"#VALUE!"},{"$error":"#VALUE!"},{"$error":"#VALUE!"},{"$error":"#VALUE!"},false]
[315,315,"",{"$f":"IF(A324<=$E$2,-PMT(C324/12,IF(C324=КАЛЬКУЛЯТОР!$C$21,$E$2,$E$2-$E$3),IF(C324=КАЛЬКУЛЯТОР!$C$21,$I$9,$I$9-SUMIF($A$10:$A$369,\"<=\"&$E$3,$H$10:$H$369)),0,0),\"\")","v":""},null,{"$f":"IFERROR(-IPMT(C324/12,B324,IF(C324=КАЛЬКУЛЯТОР!$C$21,$E$2,$E$2-$E$3),IF(C324=КАЛЬКУЛЯТОР!$C$21,$I$9,$I$9-SUMIF($A$10:$A$369,\"<=\"&$E$3,$H$10:$H$369)),0,0),\"\")","v":""},{"$f":"IFERROR(-IPMT((C324-$P$1)/12,B324,IF(C324=КАЛЬКУЛЯТОР!$C$21,$E$2,$E$2-$E$3),IF(C324=КАЛЬКУЛЯТОР!$C$21,$I$9,$I$9-SUMIF($A$10:$A$369,\"<=\"&$E$3,$H$10:$H$369)),0,0),\"\")","v":""},{"$f":"IFERROR((-PPMT(C324/12,B324,IF(C324=КАЛЬКУЛЯТОР!$C$21,$E$2,$E$2-$E$3),IF(C324=КАЛЬКУЛЯТОР!$C$21,$I$9,$I$9-SUMIF($A$10:$A$369,\"<=\"&$E$3,$H$10:$H$369)),0,0)),\"\")","v":""},"",{"$error":"#VALUE!"},null,{"$error":"#VALUE!"},{"$error":"#VALUE!"},{"$error":"#VALUE!"},{"$error":"#VALUE!"},false]
[316,316,"",{"$f":"IF(A325<=$E$2,-PMT(C325/12,IF(C325=КАЛЬКУЛЯТОР!$C$21,$E$2,$E$2-$E$3),IF(C325=КАЛЬКУЛЯТОР!$C$21,$I$9,$I$9-SUMIF($A$10:$A$369,\"<=\"&$E$3,$H$10:$H$369)),0,0),\"\")","v":""},null,{"$f":"IFERROR(-IPMT(C325/12,B325,IF(C325=КАЛЬКУЛЯТОР!$C$21,$E$2,$E$2-$E$3),IF(C325=КАЛЬКУЛЯТОР!$C$21,$I$9,$I$9-SUMIF($A$10:$A$369,\"<=\"&$E$3,$H$10:$H$369)),0,0),\"\")","v":""},{"$f":"IFERROR(-IPMT((C325-$P$1)/12,B325,IF(C325=КАЛЬКУЛЯТОР!$C$21,$E$2,$E$2-$E$3),IF(C325=КАЛЬКУЛЯТОР!$C$21,$I$9,$I$9-SUMIF($A$10:$A$369,\"<=\"&$E$3,$H$10:$H$369)),0,0),\"\")","v":""},{"$f":"IFERROR((-PPMT(C325/12,B325,IF(C325=КАЛЬКУЛЯТОР!$C$21,$E$2,$E$2-$E$3),IF(C325=КАЛЬКУЛЯТОР!$C$21,$I$9,$I$9-SUMIF($A$10:$A$369,\"<=\"&$E$3,$H$10:$H$369)),0,0)),\"\")","v":""},"",{"$error":"#VALUE!"},null,{"$error":"#VALUE!"},{"$error":"#VALUE!"},{"$error":"#VALUE!"},{"$error":"#VALUE!"},false]
[317,317,"",{"$f":"IF(A326<=$E$2,-PMT(C326/12,IF(C326=КАЛЬКУЛЯТОР!$C$21,$E$2,$E$2-$E$3),IF(C326=КАЛЬКУЛЯТОР!$C$21,$I$9,$I$9-SUMIF($A$10:$A$369,\"<=\"&$E$3,$H$10:$H$369)),0,0),\"\")","v":""},null,{"$f":"IFERROR(-IPMT(C326/12,B326,IF(C326=КАЛЬКУЛЯТОР!$C$21,$E$2,$E$2-$E$3),IF(C326=КАЛЬКУЛЯТОР!$C$21,$I$9,$I$9-SUMIF($A$10:$A$369,\"<=\"&$E$3,$H$10:$H$369)),0,0),\"\")","v":""},{"$f":"IFERROR(-IPMT((C326-$P$1)/12,B326,IF(C326=КАЛЬКУЛЯТОР!$C$21,$E$2,$E$2-$E$3),IF(C326=КАЛЬКУЛЯТОР!$C$21,$I$9,$I$9-SUMIF($A$10:$A$369,\"<=\"&$E$3,$H$10:$H$369)),0,0),\"\")","v":""},{"$f":"IFERROR((-PPMT(C326/12,B326,IF(C326=КАЛЬКУЛЯТОР!$C$21,$E$2,$E$2-$E$3),IF(C326=КАЛЬКУЛЯТОР!$C$21,$I$9,$I$9-SUMIF($A$10:$A$369,\"<=\"&$E$3,$H$10:$H$369)),0,0)),\"\")","v":""},"",{"$error":"#VALUE!"},null,{"$error":"#VALUE!"},{"$error":"#VALUE!"},{"$error":"#VALUE!"},{"$error":"#VALUE!"},false]
[318,318,"",{"$f":"IF(A327<=$E$2,-PMT(C327/12,IF(C327=КАЛЬКУЛЯТОР!$C$21,$E$2,$E$2-$E$3),IF(C327=КАЛЬКУЛЯТОР!$C$21,$I$9,$I$9-SUMIF($A$10:$A$369,\"<=\"&$E$3,$H$10:$H$369)),0,0),\"\")","v":""},null,{"$f":"IFERROR(-IPMT(C327/12,B327,IF(C327=КАЛЬКУЛЯТОР!$C$21,$E$2,$E$2-$E$3),IF(C327=КАЛЬКУЛЯТОР!$C$21,$I$9,$I$9-SUMIF($A$10:$A$369,\"<=\"&$E$3,$H$10:$H$369)),0,0),\"\")","v":""},{"$f":"IFERROR(-IPMT((C327-$P$1)/12,B327,IF(C327=КАЛЬКУЛЯТОР!$C$21,$E$2,$E$2-$E$3),IF(C327=КАЛЬКУЛЯТОР!$C$21,$I$9,$I$9-SUMIF($A$10:$A$369,\"<=\"&$E$3,$H$10:$H$369)),0,0),\"\")","v":""},{"$f":"IFERROR((-PPMT(C327/12,B327,IF(C327=КАЛЬКУЛЯТОР!$C$21,$E$2,$E$2-$E$3),IF(C327=КАЛЬКУЛЯТОР!$C$21,$I$9,$I$9-SUMIF($A$10:$A$369,\"<=\"&$E$3,$H$10:$H$369)),0,0)),\"\")","v":""},"",{"$error":"#VALUE!"},null,{"$error":"#VALUE!"},{"$error":"#VALUE!"},{"$error":"#VALUE!"},{"$error":"#VALUE!"},false]
[319,319,"",{"$f":"IF(A328<=$E$2,-PMT(C328/12,IF(C328=КАЛЬКУЛЯТОР!$C$21,$E$2,$E$2-$E$3),IF(C328=КАЛЬКУЛЯТОР!$C$21,$I$9,$I$9-SUMIF($A$10:$A$369,\"<=\"&$E$3,$H$10:$H$369)),0,0),\"\")","v":""},null,{"$f":"IFERROR(-IPMT(C328/12,B328,IF(C328=КАЛЬКУЛЯТОР!$C$21,$E$2,$E$2-$E$3),IF(C328=КАЛЬКУЛЯТОР!$C$21,$I$9,$I$9-SUMIF($A$10:$A$369,\"<=\"&$E$3,$H$10:$H$369)),0,0),\"\")","v":""},{"$f":"IFERROR(-IPMT((C328-$P$1)/12,B328,IF(C328=КАЛЬКУЛЯТОР!$C$21,$E$2,$E$2-$E$3),IF(C328=КАЛЬКУЛЯТОР!$C$21,$I$9,$I$9-SUMIF($A$10:$A$369,\"<=\"&$E$3,$H$10:$H$369)),0,0),\"\")","v":""},{"$f":"IFERROR((-PPMT(C328/12,B328,IF(C328=КАЛЬКУЛЯТОР!$C$21,$E$2,$E$2-$E$3),IF(C328=КАЛЬКУЛЯТОР!$C$21,$I$9,$I$9-SUMIF($A$10:$A$369,\"<=\"&$E$3,$H$10:$H$369)),0,0)),\"\")","v":""},"",{"$error":"#VALUE!"},null,{"$error":"#VALUE!"},{"$error":"#VALUE!"},{"$error":"#VALUE!"},{"$error":"#VALUE!"},false]
[320,320,"",{"$f":"IF(A329<=$E$2,-PMT(C329/12,IF(C329=КАЛЬКУЛЯТОР!$C$21,$E$2,$E$2-$E$3),IF(C329=КАЛЬКУЛЯТОР!$C$21,$I$9,$I$9-SUMIF($A$10:$A$369,\"<=\"&$E$3,$H$10:$H$369)),0,0),\"\")","v":""},null,{"$f":"IFERROR(-IPMT(C329/12,B329,IF(C329=КАЛЬКУЛЯТОР!$C$21,$E$2,$E$2-$E$3),IF(C329=КАЛЬКУЛЯТОР!$C$21,$I$9,$I$9-SUMIF($A$10:$A$369,\"<=\"&$E$3,$H$10:$H$369)),0,0),\"\")","v":""},{"$f":"IFERROR(-IPMT((C329-$P$1)/12,B329,IF(C329=КАЛЬКУЛЯТОР!$C$21,$E$2,$E$2-$E$3),IF(C329=КАЛЬКУЛЯТОР!$C$21,$I$9,$I$9-SUMIF($A$10:$A$369,\"<=\"&$E$3,$H$10:$H$369)),0,0),\"\")","v":""},{"$f":"IFERROR((-PPMT(C329/12,B329,IF(C329=КАЛЬКУЛЯТОР!$C$21,$E$2,$E$2-$E$3),IF(C329=КАЛЬКУЛЯТОР!$C$21,$I$9,$I$9-SUMIF($A$10:$A$369,\"<=\"&$E$3,$H$10:$H$369)),0,0)),\"\")","v":""},"",{"$error":"#VALUE!"},null,{"$error":"#VALUE!"},{"$error":"#VALUE!"},{"$error":"#VALUE!"},{"$error":"#VALUE!"},false]
[321,321,"",{"$f":"IF(A330<=$E$2,-PMT(C330/12,IF(C330=КАЛЬКУЛЯТОР!$C$21,$E$2,$E$2-$E$3),IF(C330=КАЛЬКУЛЯТОР!$C$21,$I$9,$I$9-SUMIF($A$10:$A$369,\"<=\"&$E$3,$H$10:$H$369)),0,0),\"\")","v":""},null,{"$f":"IFERROR(-IPMT(C330/12,B330,IF(C330=КАЛЬКУЛЯТОР!$C$21,$E$2,$E$2-$E$3),IF(C330=КАЛЬКУЛЯТОР!$C$21,$I$9,$I$9-SUMIF($A$10:$A$369,\"<=\"&$E$3,$H$10:$H$369)),0,0),\"\")","v":""},{"$f":"IFERROR(-IPMT((C330-$P$1)/12,B330,IF(C330=КАЛЬКУЛЯТОР!$C$21,$E$2,$E$2-$E$3),IF(C330=КАЛЬКУЛЯТОР!$C$21,$I$9,$I$9-SUMIF($A$10:$A$369,\"<=\"&$E$3,$H$10:$H$369)),0,0),\"\")","v":""},{"$f":"IFERROR((-PPMT(C330/12,B330,IF(C330=КАЛЬКУЛЯТОР!$C$21,$E$2,$E$2-$E$3),IF(C330=КАЛЬКУЛЯТОР!$C$21,$I$9,$I$9-SUMIF($A$10:$A$369,\"<=\"&$E$3,$H$10:$H$369)),0,0)),\"\")","v":""},{"$f":"IFERROR(I329-H330,\"\")","v":""},{"$f":"PV($E$5/12,A330-1,0,-D330)","v":{"$error":"#VALUE!"}},null,{"$f":"PV($E$5/12,A330-1,0,-F330)","v":{"$error":"#VALUE!"}},{"$f":"PV($E$5/12,A330-1,0,-G330)","v":{"$error":"#VALUE!"}},{"$f":"PV($E$5/12,A330-1,0,-H330)","v":{"$error":"#VALUE!"}},{"$f":"O329-N330","v":{"$error":"#VALUE!"}},{"$f":"AND(A330<=$E$3)","v":false}]
[322,{"$f":"IF(P331=$P$10,B330+1,A331-$E$3)","v":322},{"$f":"IF(A331<=$E$2,$E$4,\"\")","v":""},{"$f":"IF(A331<=$E$2,-PMT(C331/12,IF(C331=КАЛЬКУЛЯТОР!$C$21,$E$2,$E$2-$E$3),IF(C331=КАЛЬКУЛЯТОР!$C$21,$I$9,$I$9-SUMIF($A$10:$A$369,\"<=\"&$E$3,$H$10:$H$369)),0,0),\"\")","v":""},null,{"$f":"IFERROR(-IPMT(C331/12,B331,IF(C331=КАЛЬКУЛЯТОР!$C$21,$E$2,$E$2-$E$3),IF(C331=КАЛЬКУЛЯТОР!$C$21,$I$9,$I$9-SUMIF($A$10:$A$369,\"<=\"&$E$3,$H$10:$H$369)),0,0),\"\")","v":""},{"$f":"IFERROR(-IPMT((C331-$P$1)/12,B331,IF(C331=КАЛЬКУЛЯТОР!$C$21,$E$2,$E$2-$E$3),IF(C331=КАЛЬКУЛЯТОР!$C$21,$I$9,$I$9-SUMIF($A$10:$A$369,\"<=\"&$E$3,$H$10:$H$369)),0,0),\"\")","v":""},{"$f":"IFERROR((-PPMT(C331/12,B331,IF(C331=КАЛЬКУЛЯТОР!$C$21,$E$2,$E$2-$E$3),IF(C331=КАЛЬКУЛЯТОР!$C$21,$I$9,$I$9-SUMIF($A$10:$A$369,\"<=\"&$E$3,$H$10:$H$369)),0,0)),\"\")","v":""},"",{"$error":"#VALUE!"},null,{"$error":"#VALUE!"},{"$error":"#VALUE!"},{"$error":"#VALUE!"},{"$error":"#VALUE!"},false]
[323,323,"",{"$f":"IF(A332<=$E$2,-PMT(C332/12,IF(C332=КАЛЬКУЛЯТОР!$C$21,$E$2,$E$2-$E$3),IF(C332=КАЛЬКУЛЯТОР!$C$21,$I$9,$I$9-SUMIF($A$10:$A$369,\"<=\"&$E$3,$H$10:$H$369)),0,0),\"\")","v":""},null,{"$f":"IFERROR(-IPMT(C332/12,B332,IF(C332=КАЛЬКУЛЯТОР!$C$21,$E$2,$E$2-$E$3),IF(C332=КАЛЬКУЛЯТОР!$C$21,$I$9,$I$9-SUMIF($A$10:$A$369,\"<=\"&$E$3,$H$10:$H$369)),0,0),\"\")","v":""},{"$f":"IFERROR(-IPMT((C332-$P$1)/12,B332,IF(C332=КАЛЬКУЛЯТОР!$C$21,$E$2,$E$2-$E$3),IF(C332=КАЛЬКУЛЯТОР!$C$21,$I$9,$I$9-SUMIF($A$10:$A$369,\"<=\"&$E$3,$H$10:$H$369)),0,0),\"\")","v":""},{"$f":"IFERROR((-PPMT(C332/12,B332,IF(C332=КАЛЬКУЛЯТОР!$C$21,$E$2,$E$2-$E$3),IF(C332=КАЛЬКУЛЯТОР!$C$21,$I$9,$I$9-SUMIF($A$10:$A$369,\"<=\"&$E$3,$H$10:$H$369)),0,0)),\"\")","v":""},"",{"$error":"#VALUE!"},null,{"$error":"#VALUE!"},{"$error":"#VALUE!"},{"$error":"#VALUE!"},{"$error":"#VALUE!"},false]
[324,324,"",{"$f":"IF(A333<=$E$2,-PMT(C333/12,IF(C333=КАЛЬКУЛЯТОР!$C$21,$E$2,$E$2-$E$3),IF(C333=КАЛЬКУЛЯТОР!$C$21,$I$9,$I$9-SUMIF($A$10:$A$369,\"<=\"&$E$3,$H$10:$H$369)),0,0),\"\")","v":""},null,{"$f":"IFERROR(-IPMT(C333/12,B333,IF(C333=КАЛЬКУЛЯТОР!$C$21,$E$2,$E$2-$E$3),IF(C333=КАЛЬКУЛЯТОР!$C$21,$I$9,$I$9-SUMIF($A$10:$A$369,\"<=\"&$E$3,$H$10:$H$369)),0,0),\"\")","v":""},{"$f":"IFERROR(-IPMT((C333-$P$1)/12,B333,IF(C333=КАЛЬКУЛЯТОР!$C$21,$E$2,$E$2-$E$3),IF(C333=КАЛЬКУЛЯТОР!$C$21,$I$9,$I$9-SUMIF($A$10:$A$369,\"<=\"&$E$3,$H$10:$H$369)),0,0),\"\")","v":""},{"$f":"IFERROR((-PPMT(C333/12,B333,IF(C333=КАЛЬКУЛЯТОР!$C$21,$E$2,$E$2-$E$3),IF(C333=КАЛЬКУЛЯТОР!$C$21,$I$9,$I$9-SUMIF($A$10:$A$369,\"<=\"&$E$3,$H$10:$H$369)),0,0)),\"\")","v":""},"",{"$error":"#VALUE!"},null,{"$error":"#VALUE!"},{"$error":"#VALUE!"},{"$error":"#VALUE!"},{"$error":"#VALUE!"},false]
[325,325,"",{"$f":"IF(A334<=$E$2,-PMT(C334/12,IF(C334=КАЛЬКУЛЯТОР!$C$21,$E$2,$E$2-$E$3),IF(C334=КАЛЬКУЛЯТОР!$C$21,$I$9,$I$9-SUMIF($A$10:$A$369,\"<=\"&$E$3,$H$10:$H$369)),0,0)+E334,\"\")","v":""},{"$f":"IF($E$2>$A333,(I333+SUM(F334:F345))*($K$4+$K$5),0)","v":{"v":0,"d":"0.00"}},{"$f":"IFERROR(-IPMT(C334/12,B334,IF(C334=КАЛЬКУЛЯТОР!$C$21,$E$2,$E$2-$E$3),IF(C334=КАЛЬКУЛЯТОР!$C$21,$I$9,$I$9-SUMIF($A$10:$A$369,\"<=\"&$E$3,$H$10:$H$369)),0,0),\"\")","v":""},{"$f":"IFERROR(-IPMT((C334-$P$1)/12,B334,IF(C334=КАЛЬКУЛЯТОР!$C$21,$E$2,$E$2-$E$3),IF(C334=КАЛЬКУЛЯТОР!$C$21,$I$9,$I$9-SUMIF($A$10:$A$369,\"<=\"&$E$3,$H$10:$H$369)),0,0),\"\")","v":""},{"$f":"IFERROR((-PPMT(C334/12,B334,IF(C334=КАЛЬКУЛЯТОР!$C$21,$E$2,$E$2-$E$3),IF(C334=КАЛЬКУЛЯТОР!$C$21,$I$9,$I$9-SUMIF($A$10:$A$369,\"<=\"&$E$3,$H$10:$H$369)),0,0)),\"\")","v":""},"",{"$error":"#VALUE!"},{"$f":"PV($E$5/12,A334-1,0,-E334)","v":{"v":0,"d":"0.00"}},{"$error":"#VALUE!"},{"$error":"#VALUE!"},{"$error":"#VALUE!"},{"$error":"#VALUE!"},false]
[326,326,"",{"$f":"IF(A335<=$E$2,-PMT(C335/12,IF(C335=КАЛЬКУЛЯТОР!$C$21,$E$2,$E$2-$E$3),IF(C335=КАЛЬКУЛЯТОР!$C$21,$I$9,$I$9-SUMIF($A$10:$A$369,\"<=\"&$E$3,$H$10:$H$369)),0,0),\"\")","v":""},null,{"$f":"IFERROR(-IPMT(C335/12,B335,IF(C335=КАЛЬКУЛЯТОР!$C$21,$E$2,$E$2-$E$3),IF(C335=КАЛЬКУЛЯТОР!$C$21,$I$9,$I$9-SUMIF($A$10:$A$369,\"<=\"&$E$3,$H$10:$H$369)),0,0),\"\")","v":""},{"$f":"IFERROR(-IPMT((C335-$P$1)/12,B335,IF(C335=КАЛЬКУЛЯТОР!$C$21,$E$2,$E$2-$E$3),IF(C335=КАЛЬКУЛЯТОР!$C$21,$I$9,$I$9-SUMIF($A$10:$A$369,\"<=\"&$E$3,$H$10:$H$369)),0,0),\"\")","v":""},{"$f":"IFERROR((-PPMT(C335/12,B335,IF(C335=КАЛЬКУЛЯТОР!$C$21,$E$2,$E$2-$E$3),IF(C335=КАЛЬКУЛЯТОР!$C$21,$I$9,$I$9-SUMIF($A$10:$A$369,\"<=\"&$E$3,$H$10:$H$369)),0,0)),\"\")","v":""},"",{"$error":"#VALUE!"},null,{"$error":"#VALUE!"},{"$error":"#VALUE!"},{"$error":"#VALUE!"},{"$error":"#VALUE!"},false]
[327,327,"",{"$f":"IF(A336<=$E$2,-PMT(C336/12,IF(C336=КАЛЬКУЛЯТОР!$C$21,$E$2,$E$2-$E$3),IF(C336=КАЛЬКУЛЯТОР!$C$21,$I$9,$I$9-SUMIF($A$10:$A$369,\"<=\"&$E$3,$H$10:$H$369)),0,0),\"\")","v":""},null,{"$f":"IFERROR(-IPMT(C336/12,B336,IF(C336=КАЛЬКУЛЯТОР!$C$21,$E$2,$E$2-$E$3),IF(C336=КАЛЬКУЛЯТОР!$C$21,$I$9,$I$9-SUMIF($A$10:$A$369,\"<=\"&$E$3,$H$10:$H$369)),0,0),\"\")","v":""},{"$f":"IFERROR(-IPMT((C336-$P$1)/12,B336,IF(C336=КАЛЬКУЛЯТОР!$C$21,$E$2,$E$2-$E$3),IF(C336=КАЛЬКУЛЯТОР!$C$21,$I$9,$I$9-SUMIF($A$10:$A$369,\"<=\"&$E$3,$H$10:$H$369)),0,0),\"\")","v":""},{"$f":"IFERROR((-PPMT(C336/12,B336,IF(C336=КАЛЬКУЛЯТОР!$C$21,$E$2,$E$2-$E$3),IF(C336=КАЛЬКУЛЯТОР!$C$21,$I$9,$I$9-SUMIF($A$10:$A$369,\"<=\"&$E$3,$H$10:$H$369)),0,0)),\"\")","v":""},"",{"$error":"#VALUE!"},null,{"$error":"#VALUE!"},{"$error":"#VALUE!"},{"$error":"#VALUE!"},{"$error":"#VALUE!"},false]
[328,328,"",{"$f":"IF(A337<=$E$2,-PMT(C337/12,IF(C337=КАЛЬКУЛЯТОР!$C$21,$E$2,$E$2-$E$3),IF(C337=КАЛЬКУЛЯТОР!$C$21,$I$9,$I$9-SUMIF($A$10:$A$369,\"<=\"&$E$3,$H$10:$H$369)),0,0),\"\")","v":""},null,{"$f":"IFERROR(-IPMT(C337/12,B337,IF(C337=КАЛЬКУЛЯТОР!$C$21,$E$2,$E$2-$E$3),IF(C337=КАЛЬКУЛЯТОР!$C$21,$I$9,$I$9-SUMIF($A$10:$A$369,\"<=\"&$E$3,$H$10:$H$369)),0,0),\"\")","v":""},{"$f":"IFERROR(-IPMT((C337-$P$1)/12,B337,IF(C337=КАЛЬКУЛЯТОР!$C$21,$E$2,$E$2-$E$3),IF(C337=КАЛЬКУЛЯТОР!$C$21,$I$9,$I$9-SUMIF($A$10:$A$369,\"<=\"&$E$3,$H$10:$H$369)),0,0),\"\")","v":""},{"$f":"IFERROR((-PPMT(C337/12,B337,IF(C337=КАЛЬКУЛЯТОР!$C$21,$E$2,$E$2-$E$3),IF(C337=КАЛЬКУЛЯТОР!$C$21,$I$9,$I$9-SUMIF($A$10:$A$369,\"<=\"&$E$3,$H$10:$H$369)),0,0)),\"\")","v":""},"",{"$error":"#VALUE!"},null,{"$error":"#VALUE!"},{"$error":"#VALUE!"},{"$error":"#VALUE!"},{"$error":"#VALUE!"},false]
[329,329,"",{"$f":"IF(A338<=$E$2,-PMT(C338/12,IF(C338=КАЛЬКУЛЯТОР!$C$21,$E$2,$E$2-$E$3),IF(C338=КАЛЬКУЛЯТОР!$C$21,$I$9,$I$9-SUMIF($A$10:$A$369,\"<=\"&$E$3,$H$10:$H$369)),0,0),\"\")","v":""},null,{"$f":"IFERROR(-IPMT(C338/12,B338,IF(C338=КАЛЬКУЛЯТОР!$C$21,$E$2,$E$2-$E$3),IF(C338=КАЛЬКУЛЯТОР!$C$21,$I$9,$I$9-SUMIF($A$10:$A$369,\"<=\"&$E$3,$H$10:$H$369)),0,0),\"\")","v":""},{"$f":"IFERROR(-IPMT((C338-$P$1)/12,B338,IF(C338=КАЛЬКУЛЯТОР!$C$21,$E$2,$E$2-$E$3),IF(C338=КАЛЬКУЛЯТОР!$C$21,$I$9,$I$9-SUMIF($A$10:$A$369,\"<=\"&$E$3,$H$10:$H$369)),0,0),\"\")","v":""},{"$f":"IFERROR((-PPMT(C338/12,B338,IF(C338=КАЛЬКУЛЯТОР!$C$21,$E$2,$E$2-$E$3),IF(C338=КАЛЬКУЛЯТОР!$C$21,$I$9,$I$9-SUMIF($A$10:$A$369,\"<=\"&$E$3,$H$10:$H$369)),0,0)),\"\")","v":""},"",{"$error":"#VALUE!"},null,{"$error":"#VALUE!"},{"$error":"#VALUE!"},{"$error":"#VALUE!"},{"$error":"#VALUE!"},false]
[330,330,"",{"$f":"IF(A339<=$E$2,-PMT(C339/12,IF(C339=КАЛЬКУЛЯТОР!$C$21,$E$2,$E$2-$E$3),IF(C339=КАЛЬКУЛЯТОР!$C$21,$I$9,$I$9-SUMIF($A$10:$A$369,\"<=\"&$E$3,$H$10:$H$369)),0,0),\"\")","v":""},null,{"$f":"IFERROR(-IPMT(C339/12,B339,IF(C339=КАЛЬКУЛЯТОР!$C$21,$E$2,$E$2-$E$3),IF(C339=КАЛЬКУЛЯТОР!$C$21,$I$9,$I$9-SUMIF($A$10:$A$369,\"<=\"&$E$3,$H$10:$H$369)),0,0),\"\")","v":""},{"$f":"IFERROR(-IPMT((C339-$P$1)/12,B339,IF(C339=КАЛЬКУЛЯТОР!$C$21,$E$2,$E$2-$E$3),IF(C339=КАЛЬКУЛЯТОР!$C$21,$I$9,$I$9-SUMIF($A$10:$A$369,\"<=\"&$E$3,$H$10:$H$369)),0,0),\"\")","v":""},{"$f":"IFERROR((-PPMT(C339/12,B339,IF(C339=КАЛЬКУЛЯТОР!$C$21,$E$2,$E$2-$E$3),IF(C339=КАЛЬКУЛЯТОР!$C$21,$I$9,$I$9-SUMIF($A$10:$A$369,\"<=\"&$E$3,$H$10:$H$369)),0,0)),\"\")","v":""},"",{"$error":"#VALUE!"},null,{"$error":"#VALUE!"},{"$error":"#VALUE!"},{"$error":"#VALUE!"},{"$error":"#VALUE!"},false]
[331,331,"",{"$f":"IF(A340<=$E$2,-PMT(C340/12,IF(C340=КАЛЬКУЛЯТОР!$C$21,$E$2,$E$2-$E$3),IF(C340=КАЛЬКУЛЯТОР!$C$21,$I$9,$I$9-SUMIF($A$10:$A$369,\"<=\"&$E$3,$H$10:$H$369)),0,0),\"\")","v":""},null,{"$f":"IFERROR(-IPMT(C340/12,B340,IF(C340=КАЛЬКУЛЯТОР!$C$21,$E$2,$E$2-$E$3),IF(C340=КАЛЬКУЛЯТОР!$C$21,$I$9,$I$9-SUMIF($A$10:$A$369,\"<=\"&$E$3,$H$10:$H$369)),0,0),\"\")","v":""},{"$f":"IFERROR(-IPMT((C340-$P$1)/12,B340,IF(C340=КАЛЬКУЛЯТОР!$C$21,$E$2,$E$2-$E$3),IF(C340=КАЛЬКУЛЯТОР!$C$21,$I$9,$I$9-SUMIF($A$10:$A$369,\"<=\"&$E$3,$H$10:$H$369)),0,0),\"\")","v":""},{"$f":"IFERROR((-PPMT(C340/12,B340,IF(C340=КАЛЬКУЛЯТОР!$C$21,$E$2,$E$2-$E$3),IF(C340=КАЛЬКУЛЯТОР!$C$21,$I$9,$I$9-SUMIF($A$10:$A$369,\"<=\"&$E$3,$H$10:$H$369)),0,0)),\"\")","v":""},"",{"$error":"#VALUE!"},null,{"$error":"#VALUE!"},{"$error":"#VALUE!"},{"$error":"#VALUE!"},{"$error":"#VALUE!"},false]
[332,332,"",{"$f":"IF(A341<=$E$2,-PMT(C341/12,IF(C341=КАЛЬКУЛЯТОР!$C$21,$E$2,$E$2-$E$3),IF(C341=КАЛЬКУЛЯТОР!$C$21,$I$9,$I$9-SUMIF($A$10:$A$369,\"<=\"&$E$3,$H$10:$H$369)),0,0),\"\")","v":""},null,{"$f":"IFERROR(-IPMT(C341/12,B341,IF(C341=КАЛЬКУЛЯТОР!$C$21,$E$2,$E$2-$E$3),IF(C341=КАЛЬКУЛЯТОР!$C$21,$I$9,$I$9-SUMIF($A$10:$A$369,\"<=\"&$E$3,$H$10:$H$369)),0,0),\"\")","v":""},{"$f":"IFERROR(-IPMT((C341-$P$1)/12,B341,IF(C341=КАЛЬКУЛЯТОР!$C$21,$E$2,$E$2-$E$3),IF(C341=КАЛЬКУЛЯТОР!$C$21,$I$9,$I$9-SUMIF($A$10:$A$369,\"<=\"&$E$3,$H$10:$H$369)),0,0),\"\")","v":""},{"$f":"IFERROR((-PPMT(C341/12,B341,IF(C341=КАЛЬКУЛЯТОР!$C$21,$E$2,$E$2-$E$3),IF(C341=КАЛЬКУЛЯТОР!$C$21,$I$9,$I$9-SUMIF($A$10:$A$369,\"<=\"&$E$3,$H$10:$H$369)),0,0)),\"\")","v":""},"",{"$error":"#VALUE!"},null,{"$error":"#VALUE!"},{"$error":"#VALUE!"},{"$error":"#VALUE!"},{"$error":"#VALUE!"},false]
[333,333,"",{"$f":"IF(A342<=$E$2,-PMT(C342/12,IF(C342=КАЛЬКУЛЯТОР!$C$21,$E$2,$E$2-$E$3),IF(C342=КАЛЬКУЛЯТОР!$C$21,$I$9,$I$9-SUMIF($A$10:$A$369,\"<=\"&$E$3,$H$10:$H$369)),0,0),\"\")","v":""},null,{"$f":"IFERROR(-IPMT(C342/12,B342,IF(C342=КАЛЬКУЛЯТОР!$C$21,$E$2,$E$2-$E$3),IF(C342=КАЛЬКУЛЯТОР!$C$21,$I$9,$I$9-SUMIF($A$10:$A$369,\"<=\"&$E$3,$H$10:$H$369)),0,0),\"\")","v":""},{"$f":"IFERROR(-IPMT((C342-$P$1)/12,B342,IF(C342=КАЛЬКУЛЯТОР!$C$21,$E$2,$E$2-$E$3),IF(C342=КАЛЬКУЛЯТОР!$C$21,$I$9,$I$9-SUMIF($A$10:$A$369,\"<=\"&$E$3,$H$10:$H$369)),0,0),\"\")","v":""},{"$f":"IFERROR((-PPMT(C342/12,B342,IF(C342=КАЛЬКУЛЯТОР!$C$21,$E$2,$E$2-$E$3),IF(C342=КАЛЬКУЛЯТОР!$C$21,$I$9,$I$9-SUMIF($A$10:$A$369,\"<=\"&$E$3,$H$10:$H$369)),0,0)),\"\")","v":""},"",{"$error":"#VALUE!"},null,{"$error":"#VALUE!"},{"$error":"#VALUE!"},{"$error":"#VALUE!"},{"$error":"#VALUE!"},false]
[334,334,"",{"$f":"IF(A343<=$E$2,-PMT(C343/12,IF(C343=КАЛЬКУЛЯТОР!$C$21,$E$2,$E$2-$E$3),IF(C343=КАЛЬКУЛЯТОР!$C$21,$I$9,$I$9-SUMIF($A$10:$A$369,\"<=\"&$E$3,$H$10:$H$369)),0,0),\"\")","v":""},null,{"$f":"IFERROR(-IPMT(C343/12,B343,IF(C343=КАЛЬКУЛЯТОР!$C$21,$E$2,$E$2-$E$3),IF(C343=КАЛЬКУЛЯТОР!$C$21,$I$9,$I$9-SUMIF($A$10:$A$369,\"<=\"&$E$3,$H$10:$H$369)),0,0),\"\")","v":""},{"$f":"IFERROR(-IPMT((C343-$P$1)/12,B343,IF(C343=КАЛЬКУЛЯТОР!$C$21,$E$2,$E$2-$E$3),IF(C343=КАЛЬКУЛЯТОР!$C$21,$I$9,$I$9-SUMIF($A$10:$A$369,\"<=\"&$E$3,$H$10:$H$369)),0,0),\"\")","v":""},{"$f":"IFERROR((-PPMT(C343/12,B343,IF(C343=КАЛЬКУЛЯТОР!$C$21,$E$2,$E$2-$E$3),IF(C343=КАЛЬКУЛЯТОР!$C$21,$I$9,$I$9-SUMIF($A$10:$A$369,\"<=\"&$E$3,$H$10:$H$369)),0,0)),\"\")","v":""},"",{"$error":"#VALUE!"},null,{"$error":"#VALUE!"},{"$error":"#VALUE!"},{"$error":"#VALUE!"},{"$error":"#VALUE!"},false]
[335,335,"",{"$f":"IF(A344<=$E$2,-PMT(C344/12,IF(C344=КАЛЬКУЛЯТОР!$C$21,$E$2,$E$2-$E$3),IF(C344=КАЛЬКУЛЯТОР!$C$21,$I$9,$I$9-SUMIF($A$10:$A$369,\"<=\"&$E$3,$H$10:$H$369)),0,0),\"\")","v":""},null,{"$f":"IFERROR(-IPMT(C344/12,B344,IF(C344=КАЛЬКУЛЯТОР!$C$21,$E$2,$E$2-$E$3),IF(C344=КАЛЬКУЛЯТОР!$C$21,$I$9,$I$9-SUMIF($A$10:$A$369,\"<=\"&$E$3,$H$10:$H$369)),0,0),\"\")","v":""},{"$f":"IFERROR(-IPMT((C344-$P$1)/12,B344,IF(C344=КАЛЬКУЛЯТОР!$C$21,$E$2,$E$2-$E$3),IF(C344=КАЛЬКУЛЯТОР!$C$21,$I$9,$I$9-SUMIF($A$10:$A$369,\"<=\"&$E$3,$H$10:$H$369)),0,0),\"\")","v":""},{"$f":"IFERROR((-PPMT(C344/12,B344,IF(C344=КАЛЬКУЛЯТОР!$C$21,$E$2,$E$2-$E$3),IF(C344=КАЛЬКУЛЯТОР!$C$21,$I$9,$I$9-SUMIF($A$10:$A$369,\"<=\"&$E$3,$H$10:$H$369)),0,0)),\"\")","v":""},"",{"$error":"#VALUE!"},null,{"$error":"#VALUE!"},{"$error":"#VALUE!"},{"$error":"#VALUE!"},{"$error":"#VALUE!"},false]
[336,336,"",{"$f":"IF(A345<=$E$2,-PMT(C345/12,IF(C345=КАЛЬКУЛЯТОР!$C$21,$E$2,$E$2-$E$3),IF(C345=КАЛЬКУЛЯТОР!$C$21,$I$9,$I$9-SUMIF($A$10:$A$369,\"<=\"&$E$3,$H$10:$H$369)),0,0),\"\")","v":""},null,{"$f":"IFERROR(-IPMT(C345/12,B345,IF(C345=КАЛЬКУЛЯТОР!$C$21,$E$2,$E$2-$E$3),IF(C345=КАЛЬКУЛЯТОР!$C$21,$I$9,$I$9-SUMIF($A$10:$A$369,\"<=\"&$E$3,$H$10:$H$369)),0,0),\"\")","v":""},{"$f":"IFERROR(-IPMT((C345-$P$1)/12,B345,IF(C345=КАЛЬКУЛЯТОР!$C$21,$E$2,$E$2-$E$3),IF(C345=КАЛЬКУЛЯТОР!$C$21,$I$9,$I$9-SUMIF($A$10:$A$369,\"<=\"&$E$3,$H$10:$H$369)),0,0),\"\")","v":""},{"$f":"IFERROR((-PPMT(C345/12,B345,IF(C345=КАЛЬКУЛЯТОР!$C$21,$E$2,$E$2-$E$3),IF(C345=КАЛЬКУЛЯТОР!$C$21,$I$9,$I$9-SUMIF($A$10:$A$369,\"<=\"&$E$3,$H$10:$H$369)),0,0)),\"\")","v":""},"",{"$error":"#VALUE!"},null,{"$error":"#VALUE!"},{"$error":"#VALUE!"},{"$error":"#VALUE!"},{"$error":"#VALUE!"},false]
[337,337,"",{"$f":"IF(A346<=$E$2,-PMT(C346/12,IF(C346=КАЛЬКУЛЯТОР!$C$21,$E$2,$E$2-$E$3),IF(C346=КАЛЬКУЛЯТОР!$C$21,$I$9,$I$9-SUMIF($A$10:$A$369,\"<=\"&$E$3,$H$10:$H$369)),0,0)+E346,\"\")","v":""},{"$f":"IF($E$2>$A345,(I345+SUM(F346:F357))*($K$4+$K$5),0)","v":{"v":0,"d":"0.00"}},{"$f":"IFERROR(-IPMT(C346/12,B346,IF(C346=КАЛЬКУЛЯТОР!$C$21,$E$2,$E$2-$E$3),IF(C346=КАЛЬКУЛЯТОР!$C$21,$I$9,$I$9-SUMIF($A$10:$A$369,\"<=\"&$E$3,$H$10:$H$369)),0,0),\"\")","v":""},{"$f":"IFERROR(-IPMT((C346-$P$1)/12,B346,IF(C346=КАЛЬКУЛЯТОР!$C$21,$E$2,$E$2-$E$3),IF(C346=КАЛЬКУЛЯТОР!$C$21,$I$9,$I$9-SUMIF($A$10:$A$369,\"<=\"&$E$3,$H$10:$H$369)),0,0),\"\")","v":""},{"$f":"IFERROR((-PPMT(C346/12,B346,IF(C346=КАЛЬКУЛЯТОР!$C$21,$E$2,$E$2-$E$3),IF(C346=КАЛЬКУЛЯТОР!$C$21,$I$9,$I$9-SUMIF($A$10:$A$369,\"<=\"&$E$3,$H$10:$H$369)),0,0)),\"\")","v":""},"",{"$error":"#VALUE!"},{"$f":"PV($E$5/12,A346-1,0,-E346)","v":{"v":0,"d":"0.00"}},{"$error":"#VALUE!"},{"$error":"#VALUE!"},{"$error":"#VALUE!"},{"$error":"#VALUE!"},false]
[338,338,"",{"$f":"IF(A347<=$E$2,-PMT(C347/12,IF(C347=КАЛЬКУЛЯТОР!$C$21,$E$2,$E$2-$E$3),IF(C347=КАЛЬКУЛЯТОР!$C$21,$I$9,$I$9-SUMIF($A$10:$A$369,\"<=\"&$E$3,$H$10:$H$369)),0,0),\"\")","v":""},null,{"$f":"IFERROR(-IPMT(C347/12,B347,IF(C347=КАЛЬКУЛЯТОР!$C$21,$E$2,$E$2-$E$3),IF(C347=КАЛЬКУЛЯТОР!$C$21,$I$9,$I$9-SUMIF($A$10:$A$369,\"<=\"&$E$3,$H$10:$H$369)),0,0),\"\")","v":""},{"$f":"IFERROR(-IPMT((C347-$P$1)/12,B347,IF(C347=КАЛЬКУЛЯТОР!$C$21,$E$2,$E$2-$E$3),IF(C347=КАЛЬКУЛЯТОР!$C$21,$I$9,$I$9-SUMIF($A$10:$A$369,\"<=\"&$E$3,$H$10:$H$369)),0,0),\"\")","v":""},{"$f":"IFERROR((-PPMT(C347/12,B347,IF(C347=КАЛЬКУЛЯТОР!$C$21,$E$2,$E$2-$E$3),IF(C347=КАЛЬКУЛЯТОР!$C$21,$I$9,$I$9-SUMIF($A$10:$A$369,\"<=\"&$E$3,$H$10:$H$369)),0,0)),\"\")","v":""},"",{"$error":"#VALUE!"},null,{"$error":"#VALUE!"},{"$error":"#VALUE!"},{"$error":"#VALUE!"},{"$error":"#VALUE!"},false]
[339,339,"",{"$f":"IF(A348<=$E$2,-PMT(C348/12,IF(C348=КАЛЬКУЛЯТОР!$C$21,$E$2,$E$2-$E$3),IF(C348=КАЛЬКУЛЯТОР!$C$21,$I$9,$I$9-SUMIF($A$10:$A$369,\"<=\"&$E$3,$H$10:$H$369)),0,0),\"\")","v":""},null,{"$f":"IFERROR(-IPMT(C348/12,B348,IF(C348=КАЛЬКУЛЯТОР!$C$21,$E$2,$E$2-$E$3),IF(C348=КАЛЬКУЛЯТОР!$C$21,$I$9,$I$9-SUMIF($A$10:$A$369,\"<=\"&$E$3,$H$10:$H$369)),0,0),\"\")","v":""},{"$f":"IFERROR(-IPMT((C348-$P$1)/12,B348,IF(C348=КАЛЬКУЛЯТОР!$C$21,$E$2,$E$2-$E$3),IF(C348=КАЛЬКУЛЯТОР!$C$21,$I$9,$I$9-SUMIF($A$10:$A$369,\"<=\"&$E$3,$H$10:$H$369)),0,0),\"\")","v":""},{"$f":"IFERROR((-PPMT(C348/12,B348,IF(C348=КАЛЬКУЛЯТОР!$C$21,$E$2,$E$2-$E$3),IF(C348=КАЛЬКУЛЯТОР!$C$21,$I$9,$I$9-SUMIF($A$10:$A$369,\"<=\"&$E$3,$H$10:$H$369)),0,0)),\"\")","v":""},"",{"$error":"#VALUE!"},null,{"$error":"#VALUE!"},{"$error":"#VALUE!"},{"$error":"#VALUE!"},{"$error":"#VALUE!"},false]
[340,340,"",{"$f":"IF(A349<=$E$2,-PMT(C349/12,IF(C349=КАЛЬКУЛЯТОР!$C$21,$E$2,$E$2-$E$3),IF(C349=КАЛЬКУЛЯТОР!$C$21,$I$9,$I$9-SUMIF($A$10:$A$369,\"<=\"&$E$3,$H$10:$H$369)),0,0),\"\")","v":""},null,{"$f":"IFERROR(-IPMT(C349/12,B349,IF(C349=КАЛЬКУЛЯТОР!$C$21,$E$2,$E$2-$E$3),IF(C349=КАЛЬКУЛЯТОР!$C$21,$I$9,$I$9-SUMIF($A$10:$A$369,\"<=\"&$E$3,$H$10:$H$369)),0,0),\"\")","v":""},{"$f":"IFERROR(-IPMT((C349-$P$1)/12,B349,IF(C349=КАЛЬКУЛЯТОР!$C$21,$E$2,$E$2-$E$3),IF(C349=КАЛЬКУЛЯТОР!$C$21,$I$9,$I$9-SUMIF($A$10:$A$369,\"<=\"&$E$3,$H$10:$H$369)),0,0),\"\")","v":""},{"$f":"IFERROR((-PPMT(C349/12,B349,IF(C349=КАЛЬКУЛЯТОР!$C$21,$E$2,$E$2-$E$3),IF(C349=КАЛЬКУЛЯТОР!$C$21,$I$9,$I$9-SUMIF($A$10:$A$369,\"<=\"&$E$3,$H$10:$H$369)),0,0)),\"\")","v":""},"",{"$error":"#VALUE!"},null,{"$error":"#VALUE!"},{"$error":"#VALUE!"},{"$error":"#VALUE!"},{"$error":"#VALUE!"},false]
[341,341,"",{"$f":"IF(A350<=$E$2,-PMT(C350/12,IF(C350=КАЛЬКУЛЯТОР!$C$21,$E$2,$E$2-$E$3),IF(C350=КАЛЬКУЛЯТОР!$C$21,$I$9,$I$9-SUMIF($A$10:$A$369,\"<=\"&$E$3,$H$10:$H$369)),0,0),\"\")","v":""},null,{"$f":"IFERROR(-IPMT(C350/12,B350,IF(C350=КАЛЬКУЛЯТОР!$C$21,$E$2,$E$2-$E$3),IF(C350=КАЛЬКУЛЯТОР!$C$21,$I$9,$I$9-SUMIF($A$10:$A$369,\"<=\"&$E$3,$H$10:$H$369)),0,0),\"\")","v":""},{"$f":"IFERROR(-IPMT((C350-$P$1)/12,B350,IF(C350=КАЛЬКУЛЯТОР!$C$21,$E$2,$E$2-$E$3),IF(C350=КАЛЬКУЛЯТОР!$C$21,$I$9,$I$9-SUMIF($A$10:$A$369,\"<=\"&$E$3,$H$10:$H$369)),0,0),\"\")","v":""},{"$f":"IFERROR((-PPMT(C350/12,B350,IF(C350=КАЛЬКУЛЯТОР!$C$21,$E$2,$E$2-$E$3),IF(C350=КАЛЬКУЛЯТОР!$C$21,$I$9,$I$9-SUMIF($A$10:$A$369,\"<=\"&$E$3,$H$10:$H$369)),0,0)),\"\")","v":""},"",{"$error":"#VALUE!"},null,{"$error":"#VALUE!"},{"$error":"#VALUE!"},{"$error":"#VALUE!"},{"$error":"#VALUE!"},false]
[342,342,"",{"$f":"IF(A351<=$E$2,-PMT(C351/12,IF(C351=КАЛЬКУЛЯТОР!$C$21,$E$2,$E$2-$E$3),IF(C351=КАЛЬКУЛЯТОР!$C$21,$I$9,$I$9-SUMIF($A$10:$A$369,\"<=\"&$E$3,$H$10:$H$369)),0,0),\"\")","v":""},null,{"$f":"IFERROR(-IPMT(C351/12,B351,IF(C351=КАЛЬКУЛЯТОР!$C$21,$E$2,$E$2-$E$3),IF(C351=КАЛЬКУЛЯТОР!$C$21,$I$9,$I$9-SUMIF($A$10:$A$369,\"<=\"&$E$3,$H$10:$H$369)),0,0),\"\")","v":""},{"$f":"IFERROR(-IPMT((C351-$P$1)/12,B351,IF(C351=КАЛЬКУЛЯТОР!$C$21,$E$2,$E$2-$E$3),IF(C351=КАЛЬКУЛЯТОР!$C$21,$I$9,$I$9-SUMIF($A$10:$A$369,\"<=\"&$E$3,$H$10:$H$369)),0,0),\"\")","v":""},{"$f":"IFERROR((-PPMT(C351/12,B351,IF(C351=КАЛЬКУЛЯТОР!$C$21,$E$2,$E$2-$E$3),IF(C351=КАЛЬКУЛЯТОР!$C$21,$I$9,$I$9-SUMIF($A$10:$A$369,\"<=\"&$E$3,$H$10:$H$369)),0,0)),\"\")","v":""},"",{"$error":"#VALUE!"},null,{"$error":"#VALUE!"},{"$error":"#VALUE!"},{"$error":"#VALUE!"},{"$error":"#VALUE!"},false]
[343,343,"",{"$f":"IF(A352<=$E$2,-PMT(C352/12,IF(C352=КАЛЬКУЛЯТОР!$C$21,$E$2,$E$2-$E$3),IF(C352=КАЛЬКУЛЯТОР!$C$21,$I$9,$I$9-SUMIF($A$10:$A$369,\"<=\"&$E$3,$H$10:$H$369)),0,0),\"\")","v":""},null,{"$f":"IFERROR(-IPMT(C352/12,B352,IF(C352=КАЛЬКУЛЯТОР!$C$21,$E$2,$E$2-$E$3),IF(C352=КАЛЬКУЛЯТОР!$C$21,$I$9,$I$9-SUMIF($A$10:$A$369,\"<=\"&$E$3,$H$10:$H$369)),0,0),\"\")","v":""},{"$f":"IFERROR(-IPMT((C352-$P$1)/12,B352,IF(C352=КАЛЬКУЛЯТОР!$C$21,$E$2,$E$2-$E$3),IF(C352=КАЛЬКУЛЯТОР!$C$21,$I$9,$I$9-SUMIF($A$10:$A$369,\"<=\"&$E$3,$H$10:$H$369)),0,0),\"\")","v":""},{"$f":"IFERROR((-PPMT(C352/12,B352,IF(C352=КАЛЬКУЛЯТОР!$C$21,$E$2,$E$2-$E$3),IF(C352=КАЛЬКУЛЯТОР!$C$21,$I$9,$I$9-SUMIF($A$10:$A$369,\"<=\"&$E$3,$H$10:$H$369)),0,0)),\"\")","v":""},"",{"$error":"#VALUE!"},null,{"$error":"#VALUE!"},{"$error":"#VALUE!"},{"$error":"#VALUE!"},{"$error":"#VALUE!"},false]
[344,344,"",{"$f":"IF(A353<=$E$2,-PMT(C353/12,IF(C353=КАЛЬКУЛЯТОР!$C$21,$E$2,$E$2-$E$3),IF(C353=КАЛЬКУЛЯТОР!$C$21,$I$9,$I$9-SUMIF($A$10:$A$369,\"<=\"&$E$3,$H$10:$H$369)),0,0),\"\")","v":""},null,{"$f":"IFERROR(-IPMT(C353/12,B353,IF(C353=КАЛЬКУЛЯТОР!$C$21,$E$2,$E$2-$E$3),IF(C353=КАЛЬКУЛЯТОР!$C$21,$I$9,$I$9-SUMIF($A$10:$A$369,\"<=\"&$E$3,$H$10:$H$369)),0,0),\"\")","v":""},{"$f":"IFERROR(-IPMT((C353-$P$1)/12,B353,IF(C353=КАЛЬКУЛЯТОР!$C$21,$E$2,$E$2-$E$3),IF(C353=КАЛЬКУЛЯТОР!$C$21,$I$9,$I$9-SUMIF($A$10:$A$369,\"<=\"&$E$3,$H$10:$H$369)),0,0),\"\")","v":""},{"$f":"IFERROR((-PPMT(C353/12,B353,IF(C353=КАЛЬКУЛЯТОР!$C$21,$E$2,$E$2-$E$3),IF(C353=КАЛЬКУЛЯТОР!$C$21,$I$9,$I$9-SUMIF($A$10:$A$369,\"<=\"&$E$3,$H$10:$H$369)),0,0)),\"\")","v":""},"",{"$error":"#VALUE!"},null,{"$error":"#VALUE!"},{"$error":"#VALUE!"},{"$error":"#VALUE!"},{"$error":"#VALUE!"},false]
[345,345,"",{"$f":"IF(A354<=$E$2,-PMT(C354/12,IF(C354=КАЛЬКУЛЯТОР!$C$21,$E$2,$E$2-$E$3),IF(C354=КАЛЬКУЛЯТОР!$C$21,$I$9,$I$9-SUMIF($A$10:$A$369,\"<=\"&$E$3,$H$10:$H$369)),0,0),\"\")","v":""},null,{"$f":"IFERROR(-IPMT(C354/12,B354,IF(C354=КАЛЬКУЛЯТОР!$C$21,$E$2,$E$2-$E$3),IF(C354=КАЛЬКУЛЯТОР!$C$21,$I$9,$I$9-SUMIF($A$10:$A$369,\"<=\"&$E$3,$H$10:$H$369)),0,0),\"\")","v":""},{"$f":"IFERROR(-IPMT((C354-$P$1)/12,B354,IF(C354=КАЛЬКУЛЯТОР!$C$21,$E$2,$E$2-$E$3),IF(C354=КАЛЬКУЛЯТОР!$C$21,$I$9,$I$9-SUMIF($A$10:$A$369,\"<=\"&$E$3,$H$10:$H$369)),0,0),\"\")","v":""},{"$f":"IFERROR((-PPMT(C354/12,B354,IF(C354=КАЛЬКУЛЯТОР!$C$21,$E$2,$E$2-$E$3),IF(C354=КАЛЬКУЛЯТОР!$C$21,$I$9,$I$9-SUMIF($A$10:$A$369,\"<=\"&$E$3,$H$10:$H$369)),0,0)),\"\")","v":""},"",{"$error":"#VALUE!"},null,{"$error":"#VALUE!"},{"$error":"#VALUE!"},{"$error":"#VALUE!"},{"$error":"#VALUE!"},false]
[346,346,"",{"$f":"IF(A355<=$E$2,-PMT(C355/12,IF(C355=КАЛЬКУЛЯТОР!$C$21,$E$2,$E$2-$E$3),IF(C355=КАЛЬКУЛЯТОР!$C$21,$I$9,$I$9-SUMIF($A$10:$A$369,\"<=\"&$E$3,$H$10:$H$369)),0,0),\"\")","v":""},null,{"$f":"IFERROR(-IPMT(C355/12,B355,IF(C355=КАЛЬКУЛЯТОР!$C$21,$E$2,$E$2-$E$3),IF(C355=КАЛЬКУЛЯТОР!$C$21,$I$9,$I$9-SUMIF($A$10:$A$369,\"<=\"&$E$3,$H$10:$H$369)),0,0),\"\")","v":""},{"$f":"IFERROR(-IPMT((C355-$P$1)/12,B355,IF(C355=КАЛЬКУЛЯТОР!$C$21,$E$2,$E$2-$E$3),IF(C355=КАЛЬКУЛЯТОР!$C$21,$I$9,$I$9-SUMIF($A$10:$A$369,\"<=\"&$E$3,$H$10:$H$369)),0,0),\"\")","v":""},{"$f":"IFERROR((-PPMT(C355/12,B355,IF(C355=КАЛЬКУЛЯТОР!$C$21,$E$2,$E$2-$E$3),IF(C355=КАЛЬКУЛЯТОР!$C$21,$I$9,$I$9-SUMIF($A$10:$A$369,\"<=\"&$E$3,$H$10:$H$369)),0,0)),\"\")","v":""},"",{"$error":"#VALUE!"},null,{"$error":"#VALUE!"},{"$error":"#VALUE!"},{"$error":"#VALUE!"},{"$error":"#VALUE!"},false]
[347,347,"",{"$f":"IF(A356<=$E$2,-PMT(C356/12,IF(C356=КАЛЬКУЛЯТОР!$C$21,$E$2,$E$2-$E$3),IF(C356=КАЛЬКУЛЯТОР!$C$21,$I$9,$I$9-SUMIF($A$10:$A$369,\"<=\"&$E$3,$H$10:$H$369)),0,0),\"\")","v":""},null,{"$f":"IFERROR(-IPMT(C356/12,B356,IF(C356=КАЛЬКУЛЯТОР!$C$21,$E$2,$E$2-$E$3),IF(C356=КАЛЬКУЛЯТОР!$C$21,$I$9,$I$9-SUMIF($A$10:$A$369,\"<=\"&$E$3,$H$10:$H$369)),0,0),\"\")","v":""},{"$f":"IFERROR(-IPMT((C356-$P$1)/12,B356,IF(C356=КАЛЬКУЛЯТОР!$C$21,$E$2,$E$2-$E$3),IF(C356=КАЛЬКУЛЯТОР!$C$21,$I$9,$I$9-SUMIF($A$10:$A$369,\"<=\"&$E$3,$H$10:$H$369)),0,0),\"\")","v":""},{"$f":"IFERROR((-PPMT(C356/12,B356,IF(C356=КАЛЬКУЛЯТОР!$C$21,$E$2,$E$2-$E$3),IF(C356=КАЛЬКУЛЯТОР!$C$21,$I$9,$I$9-SUMIF($A$10:$A$369,\"<=\"&$E$3,$H$10:$H$369)),0,0)),\"\")","v":""},"",{"$error":"#VALUE!"},null,{"$error":"#VALUE!"},{"$error":"#VALUE!"},{"$error":"#VALUE!"},{"$error":"#VALUE!"},false]
[348,348,"",{"$f":"IF(A357<=$E$2,-PMT(C357/12,IF(C357=КАЛЬКУЛЯТОР!$C$21,$E$2,$E$2-$E$3),IF(C357=КАЛЬКУЛЯТОР!$C$21,$I$9,$I$9-SUMIF($A$10:$A$369,\"<=\"&$E$3,$H$10:$H$369)),0,0),\"\")","v":""},null,{"$f":"IFERROR(-IPMT(C357/12,B357,IF(C357=КАЛЬКУЛЯТОР!$C$21,$E$2,$E$2-$E$3),IF(C357=КАЛЬКУЛЯТОР!$C$21,$I$9,$I$9-SUMIF($A$10:$A$369,\"<=\"&$E$3,$H$10:$H$369)),0,0),\"\")","v":""},{"$f":"IFERROR(-IPMT((C357-$P$1)/12,B357,IF(C357=КАЛЬКУЛЯТОР!$C$21,$E$2,$E$2-$E$3),IF(C357=КАЛЬКУЛЯТОР!$C$21,$I$9,$I$9-SUMIF($A$10:$A$369,\"<=\"&$E$3,$H$10:$H$369)),0,0),\"\")","v":""},{"$f":"IFERROR((-PPMT(C357/12,B357,IF(C357=КАЛЬКУЛЯТОР!$C$21,$E$2,$E$2-$E$3),IF(C357=КАЛЬКУЛЯТОР!$C$21,$I$9,$I$9-SUMIF($A$10:$A$369,\"<=\"&$E$3,$H$10:$H$369)),0,0)),\"\")","v":""},"",{"$error":"#VALUE!"},null,{"$error":"#VALUE!"},{"$error":"#VALUE!"},{"$error":"#VALUE!"},{"$error":"#VALUE!"},false]
[349,349,"",{"$f":"IF(A358<=$E$2,-PMT(C358/12,IF(C358=КАЛЬКУЛЯТОР!$C$21,$E$2,$E$2-$E$3),IF(C358=КАЛЬКУЛЯТОР!$C$21,$I$9,$I$9-SUMIF($A$10:$A$369,\"<=\"&$E$3,$H$10:$H$369)),0,0)+E358,\"\")","v":""},{"$f":"IF($E$2>$A357,(I357+SUM(F358:F369))*($K$4+$K$5),0)","v":{"v":0,"d":"0.00"}},{"$f":"IFERROR(-IPMT(C358/12,B358,IF(C358=КАЛЬКУЛЯТОР!$C$21,$E$2,$E$2-$E$3),IF(C358=КАЛЬКУЛЯТОР!$C$21,$I$9,$I$9-SUMIF($A$10:$A$369,\"<=\"&$E$3,$H$10:$H$369)),0,0),\"\")","v":""},{"$f":"IFERROR(-IPMT((C358-$P$1)/12,B358,IF(C358=КАЛЬКУЛЯТОР!$C$21,$E$2,$E$2-$E$3),IF(C358=КАЛЬКУЛЯТОР!$C$21,$I$9,$I$9-SUMIF($A$10:$A$369,\"<=\"&$E$3,$H$10:$H$369)),0,0),\"\")","v":""},{"$f":"IFERROR((-PPMT(C358/12,B358,IF(C358=КАЛЬКУЛЯТОР!$C$21,$E$2,$E$2-$E$3),IF(C358=КАЛЬКУЛЯТОР!$C$21,$I$9,$I$9-SUMIF($A$10:$A$369,\"<=\"&$E$3,$H$10:$H$369)),0,0)),\"\")","v":""},"",{"$error":"#VALUE!"},{"$f":"PV($E$5/12,A358-1,0,-E358)","v":{"v":0,"d":"0.00"}},{"$error":"#VALUE!"},{"$error":"#VALUE!"},{"$error":"#VALUE!"},{"$error":"#VALUE!"},false]
[350,350,"",{"$f":"IF(A359<=$E$2,-PMT(C359/12,IF(C359=КАЛЬКУЛЯТОР!$C$21,$E$2,$E$2-$E$3),IF(C359=КАЛЬКУЛЯТОР!$C$21,$I$9,$I$9-SUMIF($A$10:$A$369,\"<=\"&$E$3,$H$10:$H$369)),0,0),\"\")","v":""},null,{"$f":"IFERROR(-IPMT(C359/12,B359,IF(C359=КАЛЬКУЛЯТОР!$C$21,$E$2,$E$2-$E$3),IF(C359=КАЛЬКУЛЯТОР!$C$21,$I$9,$I$9-SUMIF($A$10:$A$369,\"<=\"&$E$3,$H$10:$H$369)),0,0),\"\")","v":""},{"$f":"IFERROR(-IPMT((C359-$P$1)/12,B359,IF(C359=КАЛЬКУЛЯТОР!$C$21,$E$2,$E$2-$E$3),IF(C359=КАЛЬКУЛЯТОР!$C$21,$I$9,$I$9-SUMIF($A$10:$A$369,\"<=\"&$E$3,$H$10:$H$369)),0,0),\"\")","v":""},{"$f":"IFERROR((-PPMT(C359/12,B359,IF(C359=КАЛЬКУЛЯТОР!$C$21,$E$2,$E$2-$E$3),IF(C359=КАЛЬКУЛЯТОР!$C$21,$I$9,$I$9-SUMIF($A$10:$A$369,\"<=\"&$E$3,$H$10:$H$369)),0,0)),\"\")","v":""},"",{"$error":"#VALUE!"},null,{"$error":"#VALUE!"},{"$error":"#VALUE!"},{"$error":"#VALUE!"},{"$error":"#VALUE!"},false]
[351,351,"",{"$f":"IF(A360<=$E$2,-PMT(C360/12,IF(C360=КАЛЬКУЛЯТОР!$C$21,$E$2,$E$2-$E$3),IF(C360=КАЛЬКУЛЯТОР!$C$21,$I$9,$I$9-SUMIF($A$10:$A$369,\"<=\"&$E$3,$H$10:$H$369)),0,0),\"\")","v":""},null,{"$f":"IFERROR(-IPMT(C360/12,B360,IF(C360=КАЛЬКУЛЯТОР!$C$21,$E$2,$E$2-$E$3),IF(C360=КАЛЬКУЛЯТОР!$C$21,$I$9,$I$9-SUMIF($A$10:$A$369,\"<=\"&$E$3,$H$10:$H$369)),0,0),\"\")","v":""},{"$f":"IFERROR(-IPMT((C360-$P$1)/12,B360,IF(C360=КАЛЬКУЛЯТОР!$C$21,$E$2,$E$2-$E$3),IF(C360=КАЛЬКУЛЯТОР!$C$21,$I$9,$I$9-SUMIF($A$10:$A$369,\"<=\"&$E$3,$H$10:$H$369)),0,0),\"\")","v":""},{"$f":"IFERROR((-PPMT(C360/12,B360,IF(C360=КАЛЬКУЛЯТОР!$C$21,$E$2,$E$2-$E$3),IF(C360=КАЛЬКУЛЯТОР!$C$21,$I$9,$I$9-SUMIF($A$10:$A$369,\"<=\"&$E$3,$H$10:$H$369)),0,0)),\"\")","v":""},"",{"$error":"#VALUE!"},null,{"$error":"#VALUE!"},{"$error":"#VALUE!"},{"$error":"#VALUE!"},{"$error":"#VALUE!"},false]
[352,352,"",{"$f":"IF(A361<=$E$2,-PMT(C361/12,IF(C361=КАЛЬКУЛЯТОР!$C$21,$E$2,$E$2-$E$3),IF(C361=КАЛЬКУЛЯТОР!$C$21,$I$9,$I$9-SUMIF($A$10:$A$369,\"<=\"&$E$3,$H$10:$H$369)),0,0),\"\")","v":""},null,{"$f":"IFERROR(-IPMT(C361/12,B361,IF(C361=КАЛЬКУЛЯТОР!$C$21,$E$2,$E$2-$E$3),IF(C361=КАЛЬКУЛЯТОР!$C$21,$I$9,$I$9-SUMIF($A$10:$A$369,\"<=\"&$E$3,$H$10:$H$369)),0,0),\"\")","v":""},{"$f":"IFERROR(-IPMT((C361-$P$1)/12,B361,IF(C361=КАЛЬКУЛЯТОР!$C$21,$E$2,$E$2-$E$3),IF(C361=КАЛЬКУЛЯТОР!$C$21,$I$9,$I$9-SUMIF($A$10:$A$369,\"<=\"&$E$3,$H$10:$H$369)),0,0),\"\")","v":""},{"$f":"IFERROR((-PPMT(C361/12,B361,IF(C361=КАЛЬКУЛЯТОР!$C$21,$E$2,$E$2-$E$3),IF(C361=КАЛЬКУЛЯТОР!$C$21,$I$9,$I$9-SUMIF($A$10:$A$369,\"<=\"&$E$3,$H$10:$H$369)),0,0)),\"\")","v":""},"",{"$error":"#VALUE!"},null,{"$error":"#VALUE!"},{"$error":"#VALUE!"},{"$error":"#VALUE!"},{"$error":"#VALUE!"},false]
[353,353,"",{"$f":"IF(A362<=$E$2,-PMT(C362/12,IF(C362=КАЛЬКУЛЯТОР!$C$21,$E$2,$E$2-$E$3),IF(C362=КАЛЬКУЛЯТОР!$C$21,$I$9,$I$9-SUMIF($A$10:$A$369,\"<=\"&$E$3,$H$10:$H$369)),0,0),\"\")","v":""},null,{"$f":"IFERROR(-IPMT(C362/12,B362,IF(C362=КАЛЬКУЛЯТОР!$C$21,$E$2,$E$2-$E$3),IF(C362=КАЛЬКУЛЯТОР!$C$21,$I$9,$I$9-SUMIF($A$10:$A$369,\"<=\"&$E$3,$H$10:$H$369)),0,0),\"\")","v":""},{"$f":"IFERROR(-IPMT((C362-$P$1)/12,B362,IF(C362=КАЛЬКУЛЯТОР!$C$21,$E$2,$E$2-$E$3),IF(C362=КАЛЬКУЛЯТОР!$C$21,$I$9,$I$9-SUMIF($A$10:$A$369,\"<=\"&$E$3,$H$10:$H$369)),0,0),\"\")","v":""},{"$f":"IFERROR((-PPMT(C362/12,B362,IF(C362=КАЛЬКУЛЯТОР!$C$21,$E$2,$E$2-$E$3),IF(C362=КАЛЬКУЛЯТОР!$C$21,$I$9,$I$9-SUMIF($A$10:$A$369,\"<=\"&$E$3,$H$10:$H$369)),0,0)),\"\")","v":""},"",{"$error":"#VALUE!"},null,{"$error":"#VALUE!"},{"$error":"#VALUE!"},{"$error":"#VALUE!"},{"$error":"#VALUE!"},false]
[354,354,"",{"$f":"IF(A363<=$E$2,-PMT(C363/12,IF(C363=КАЛЬКУЛЯТОР!$C$21,$E$2,$E$2-$E$3),IF(C363=КАЛЬКУЛЯТОР!$C$21,$I$9,$I$9-SUMIF($A$10:$A$369,\"<=\"&$E$3,$H$10:$H$369)),0,0),\"\")","v":""},null,{"$f":"IFERROR(-IPMT(C363/12,B363,IF(C363=КАЛЬКУЛЯТОР!$C$21,$E$2,$E$2-$E$3),IF(C363=КАЛЬКУЛЯТОР!$C$21,$I$9,$I$9-SUMIF($A$10:$A$369,\"<=\"&$E$3,$H$10:$H$369)),0,0),\"\")","v":""},{"$f":"IFERROR(-IPMT((C363-$P$1)/12,B363,IF(C363=КАЛЬКУЛЯТОР!$C$21,$E$2,$E$2-$E$3),IF(C363=КАЛЬКУЛЯТОР!$C$21,$I$9,$I$9-SUMIF($A$10:$A$369,\"<=\"&$E$3,$H$10:$H$369)),0,0),\"\")","v":""},{"$f":"IFERROR((-PPMT(C363/12,B363,IF(C363=КАЛЬКУЛЯТОР!$C$21,$E$2,$E$2-$E$3),IF(C363=КАЛЬКУЛЯТОР!$C$21,$I$9,$I$9-SUMIF($A$10:$A$369,\"<=\"&$E$3,$H$10:$H$369)),0,0)),\"\")","v":""},"",{"$error":"#VALUE!"},null,{"$error":"#VALUE!"},{"$error":"#VALUE!"},{"$error":"#VALUE!"},{"$error":"#VALUE!"},false]
[355,355,"",{"$f":"IF(A364<=$E$2,-PMT(C364/12,IF(C364=КАЛЬКУЛЯТОР!$C$21,$E$2,$E$2-$E$3),IF(C364=КАЛЬКУЛЯТОР!$C$21,$I$9,$I$9-SUMIF($A$10:$A$369,\"<=\"&$E$3,$H$10:$H$369)),0,0),\"\")","v":""},null,{"$f":"IFERROR(-IPMT(C364/12,B364,IF(C364=КАЛЬКУЛЯТОР!$C$21,$E$2,$E$2-$E$3),IF(C364=КАЛЬКУЛЯТОР!$C$21,$I$9,$I$9-SUMIF($A$10:$A$369,\"<=\"&$E$3,$H$10:$H$369)),0,0),\"\")","v":""},{"$f":"IFERROR(-IPMT((C364-$P$1)/12,B364,IF(C364=КАЛЬКУЛЯТОР!$C$21,$E$2,$E$2-$E$3),IF(C364=КАЛЬКУЛЯТОР!$C$21,$I$9,$I$9-SUMIF($A$10:$A$369,\"<=\"&$E$3,$H$10:$H$369)),0,0),\"\")","v":""},{"$f":"IFERROR((-PPMT(C364/12,B364,IF(C364=КАЛЬКУЛЯТОР!$C$21,$E$2,$E$2-$E$3),IF(C364=КАЛЬКУЛЯТОР!$C$21,$I$9,$I$9-SUMIF($A$10:$A$369,\"<=\"&$E$3,$H$10:$H$369)),0,0)),\"\")","v":""},"",{"$error":"#VALUE!"},null,{"$error":"#VALUE!"},{"$error":"#VALUE!"},{"$error":"#VALUE!"},{"$error":"#VALUE!"},false]
[356,356,"",{"$f":"IF(A365<=$E$2,-PMT(C365/12,IF(C365=КАЛЬКУЛЯТОР!$C$21,$E$2,$E$2-$E$3),IF(C365=КАЛЬКУЛЯТОР!$C$21,$I$9,$I$9-SUMIF($A$10:$A$369,\"<=\"&$E$3,$H$10:$H$369)),0,0),\"\")","v":""},null,{"$f":"IFERROR(-IPMT(C365/12,B365,IF(C365=КАЛЬКУЛЯТОР!$C$21,$E$2,$E$2-$E$3),IF(C365=КАЛЬКУЛЯТОР!$C$21,$I$9,$I$9-SUMIF($A$10:$A$369,\"<=\"&$E$3,$H$10:$H$369)),0,0),\"\")","v":""},{"$f":"IFERROR(-IPMT((C365-$P$1)/12,B365,IF(C365=КАЛЬКУЛЯТОР!$C$21,$E$2,$E$2-$E$3),IF(C365=КАЛЬКУЛЯТОР!$C$21,$I$9,$I$9-SUMIF($A$10:$A$369,\"<=\"&$E$3,$H$10:$H$369)),0,0),\"\")","v":""},{"$f":"IFERROR((-PPMT(C365/12,B365,IF(C365=КАЛЬКУЛЯТОР!$C$21,$E$2,$E$2-$E$3),IF(C365=КАЛЬКУЛЯТОР!$C$21,$I$9,$I$9-SUMIF($A$10:$A$369,\"<=\"&$E$3,$H$10:$H$369)),0,0)),\"\")","v":""},"",{"$error":"#VALUE!"},null,{"$error":"#VALUE!"},{"$error":"#VALUE!"},{"$error":"#VALUE!"},{"$error":"#VALUE!"},false]
[357,357,"",{"$f":"IF(A366<=$E$2,-PMT(C366/12,IF(C366=КАЛЬКУЛЯТОР!$C$21,$E$2,$E$2-$E$3),IF(C366=КАЛЬКУЛЯТОР!$C$21,$I$9,$I$9-SUMIF($A$10:$A$369,\"<=\"&$E$3,$H$10:$H$369)),0,0),\"\")","v":""},null,{"$f":"IFERROR(-IPMT(C366/12,B366,IF(C366=КАЛЬКУЛЯТОР!$C$21,$E$2,$E$2-$E$3),IF(C366=КАЛЬКУЛЯТОР!$C$21,$I$9,$I$9-SUMIF($A$10:$A$369,\"<=\"&$E$3,$H$10:$H$369)),0,0),\"\")","v":""},{"$f":"IFERROR(-IPMT((C366-$P$1)/12,B366,IF(C366=КАЛЬКУЛЯТОР!$C$21,$E$2,$E$2-$E$3),IF(C366=КАЛЬКУЛЯТОР!$C$21,$I$9,$I$9-SUMIF($A$10:$A$369,\"<=\"&$E$3,$H$10:$H$369)),0,0),\"\")","v":""},{"$f":"IFERROR((-PPMT(C366/12,B366,IF(C366=КАЛЬКУЛЯТОР!$C$21,$E$2,$E$2-$E$3),IF(C366=КАЛЬКУЛЯТОР!$C$21,$I$9,$I$9-SUMIF($A$10:$A$369,\"<=\"&$E$3,$H$10:$H$369)),0,0)),\"\")","v":""},"",{"$error":"#VALUE!"},null,{"$error":"#VALUE!"},{"$error":"#VALUE!"},{"$error":"#VALUE!"},{"$error":"#VALUE!"},false]
[358,358,"",{"$f":"IF(A367<=$E$2,-PMT(C367/12,IF(C367=КАЛЬКУЛЯТОР!$C$21,$E$2,$E$2-$E$3),IF(C367=КАЛЬКУЛЯТОР!$C$21,$I$9,$I$9-SUMIF($A$10:$A$369,\"<=\"&$E$3,$H$10:$H$369)),0,0),\"\")","v":""},null,{"$f":"IFERROR(-IPMT(C367/12,B367,IF(C367=КАЛЬКУЛЯТОР!$C$21,$E$2,$E$2-$E$3),IF(C367=КАЛЬКУЛЯТОР!$C$21,$I$9,$I$9-SUMIF($A$10:$A$369,\"<=\"&$E$3,$H$10:$H$369)),0,0),\"\")","v":""},{"$f":"IFERROR(-IPMT((C367-$P$1)/12,B367,IF(C367=КАЛЬКУЛЯТОР!$C$21,$E$2,$E$2-$E$3),IF(C367=КАЛЬКУЛЯТОР!$C$21,$I$9,$I$9-SUMIF($A$10:$A$369,\"<=\"&$E$3,$H$10:$H$369)),0,0),\"\")","v":""},{"$f":"IFERROR((-PPMT(C367/12,B367,IF(C367=КАЛЬКУЛЯТОР!$C$21,$E$2,$E$2-$E$3),IF(C367=КАЛЬКУЛЯТОР!$C$21,$I$9,$I$9-SUMIF($A$10:$A$369,\"<=\"&$E$3,$H$10:$H$369)),0,0)),\"\")","v":""},"",{"$error":"#VALUE!"},null,{"$error":"#VALUE!"},{"$error":"#VALUE!"},{"$error":"#VALUE!"},{"$error":"#VALUE!"},false]
[359,359,"",{"$f":"IF(A368<=$E$2,-PMT(C368/12,IF(C368=КАЛЬКУЛЯТОР!$C$21,$E$2,$E$2-$E$3),IF(C368=КАЛЬКУЛЯТОР!$C$21,$I$9,$I$9-SUMIF($A$10:$A$369,\"<=\"&$E$3,$H$10:$H$369)),0,0),\"\")","v":""},null,{"$f":"IFERROR(-IPMT(C368/12,B368,IF(C368=КАЛЬКУЛЯТОР!$C$21,$E$2,$E$2-$E$3),IF(C368=КАЛЬКУЛЯТОР!$C$21,$I$9,$I$9-SUMIF($A$10:$A$369,\"<=\"&$E$3,$H$10:$H$369)),0,0),\"\")","v":""},{"$f":"IFERROR(-IPMT((C368-$P$1)/12,B368,IF(C368=КАЛЬКУЛЯТОР!$C$21,$E$2,$E$2-$E$3),IF(C368=КАЛЬКУЛЯТОР!$C$21,$I$9,$I$9-SUMIF($A$10:$A$369,\"<=\"&$E$3,$H$10:$H$369)),0,0),\"\")","v":""},{"$f":"IFERROR((-PPMT(C368/12,B368,IF(C368=КАЛЬКУЛЯТОР!$C$21,$E$2,$E$2-$E$3),IF(C368=КАЛЬКУЛЯТОР!$C$21,$I$9,$I$9-SUMIF($A$10:$A$369,\"<=\"&$E$3,$H$10:$H$369)),0,0)),\"\")","v":""},"",{"$error":"#VALUE!"},null,{"$error":"#VALUE!"},{"$error":"#VALUE!"},{"$error":"#VALUE!"},{"$error":"#VALUE!"},false]
[360,360,"",{"$f":"IF(A369<=$E$2,-PMT(C369/12,IF(C369=КАЛЬКУЛЯТОР!$C$21,$E$2,$E$2-$E$3),IF(C369=КАЛЬКУЛЯТОР!$C$21,$I$9,$I$9-SUMIF($A$10:$A$369,\"<=\"&$E$3,$H$10:$H$369)),0,0),\"\")","v":""},null,{"$f":"IFERROR(-IPMT(C369/12,B369,IF(C369=КАЛЬКУЛЯТОР!$C$21,$E$2,$E$2-$E$3),IF(C369=КАЛЬКУЛЯТОР!$C$21,$I$9,$I$9-SUMIF($A$10:$A$369,\"<=\"&$E$3,$H$10:$H$369)),0,0),\"\")","v":""},{"$f":"IFERROR(-IPMT((C369-$P$1)/12,B369,IF(C369=КАЛЬКУЛЯТОР!$C$21,$E$2,$E$2-$E$3),IF(C369=КАЛЬКУЛЯТОР!$C$21,$I$9,$I$9-SUMIF($A$10:$A$369,\"<=\"&$E$3,$H$10:$H$369)),0,0),\"\")","v":""},{"$f":"IFERROR((-PPMT(C369/12,B369,IF(C369=КАЛЬКУЛЯТОР!$C$21,$E$2,$E$2-$E$3),IF(C369=КАЛЬКУЛЯТОР!$C$21,$I$9,$I$9-SUMIF($A$10:$A$369,\"<=\"&$E$3,$H$10:$H$369)),0,0)),\"\")","v":""},"",{"$error":"#VALUE!"},null,{"$error":"#VALUE!"},{"$error":"#VALUE!"},{"$error":"#VALUE!"},{"$error":"#VALUE!"},false]

{"sheet":"КАЛЬКУЛЯТОР 1.1","index":5,"n_rows":370,"n_cols":16,"rows_kept":370,"hidden":true,"merged":[[0,0,0,3],[1,0,1,3],[5,0,5,3],[6,9,6,14]]}
[{"$f":"КАЛЬКУЛЯТОР!A9","v":"Сумма кредита (основной долг), руб.:"},{"$nulls":3},{"$f":"КАЛЬКУЛЯТОР!$C$9","v":0},null,null,"1. КОМИССИЯ ЗА ОТКР. АККРЕДИТИВА",null,null,{"$f":"'КАЛЬКУЛЯТОР 1'!$K$1","v":{"v":7000,"d":"7,000.00 ₽"}}]
["Срок кредита по договору, в мес.:",{"$nulls":3},120,null,null,"2. КОМИССИЯ ЗА ЭРС",null,null,{"$f":"'КАЛЬКУЛЯТОР 1'!$K$2","v":{"v":8300,"d":"8,300.00 ₽"}}]
["Срок льготного периода, в мес.:",{"$nulls":3},{"$f":"IF(КАЛЬКУЛЯТОР!$C$19=КАЛЬКУЛЯТОР!$A$43,0,IF(КАЛЬКУЛЯТОР!$C$19=КАЛЬКУЛЯТОР!$A$44,КАЛЬКУЛЯТОР!$C$20,0))","v":0},null,null,"3. ПЛАТА ЗА ОЦЕНКУ НЕДВ.ИМУЩЕСТВА",null,null,{"$f":"'КАЛЬКУЛЯТОР 1'!$K$3","v":{"v":3000,"d":"3,000.00 ₽"}}]
[{"$f":"КАЛЬКУЛЯТОР!$A$17","v":"ИТОГО размер процентной ставки по комбо-ипотеке, % годовых:"},{"$nulls":3},{"$f":"КАЛЬКУЛЯТОР!$C$17","v":""},null,null,"4. СТРАХОВАНИЕ ЖИЗНИ",null,null,{"$f":"'КАЛЬКУЛЯТОР 1'!$K$4","v":{"v":0.006,"d":"0.60%"}}]
["ИТОГО размер процентной ставки по комбо-ипотеке в ЛП:",{"$nulls":3},{"$f":"$E$4+1.5%","v":{"$error":"#VALUE!"}},null,null,"5. СТРАХОВАНИЕ ИМУЩЕСТВА",null,null,{"$f":"'КАЛЬКУЛЯТОР 1'!$K$5","v":{"v":1E-3,"d":"0.10%"}}]
["Инфляция IP, % годовых",{"$nulls":3},{"$f":"КАЛЬКУЛЯТОР!$C$25","v":{"v":0.09,"d":"9.00%"}}]
[{"$nulls":9},"С УЧЕТОМ ВЛИЯНИЯ ИНФЛЯЦИИ"]
["ИТОГО:",null,null,{"$f":"SUMIF(A11:A370,\"<=\"&E2,D11:D370)","v":{"$error":"#VALUE!"}},{"$f":"SUMIF(A11:A370,\"<=\"&E2,E11:E370)","v":{"$error":"#VALUE!"}},{"$f":"SUMIF($A$11:$A$370,\"<=\"&$E$2,F11:F370)","v":{"v":0,"d":"0.00"}},{"$f":"SUMIF($A$11:$A$370,\"<=\"&$E$2,G11:G370)","v":{"v":0,"d":"0.00"}},{"$f":"SUMIF(A11:A370,\"<=\"&E2,H11:H370)","v":{"v":0,"d":"0.00"}},null,{"$f":"SUMIF(A11:A370,\"<=\"&E2,J11:J370)","v":{"$error":"#VALUE!"}},{"$f":"SUMIF(A11:A370,\"<=\"&E2,K10:K370)","v":{"$error":"#VALUE!"}},{"$f":"SUMIF($A$11:$A$370,\"<=\"&$E$2,L11:L370)","v":{"$error":"#VALUE!"}},{"$f":"SUMIF($A$11:$A$370,\"<=\"&$E$2,M11:M370)","v":{"$error":"#VALUE!"}},{"$f":"SUMIF(A11:A370,\"<=\"&E2,N11:N370)","v":{"$error":"#VALUE!"}}]
["Месяцы \nплатежа","Период \nплатежа","Процентная \nставка","Ежемесячный платеж","Доп. платежи","Процентные \nплатежи","ЧПД Банка","Основной \nдолг","Остаток ссудной задолженности","Ежемесячный платеж","Доп. платежи","Процентные \nплатежи","ЧПД Банка","Основной \nдолг","Остаток ссудной задолженности"]
[0,null,null,{"$f":"-КАЛЬКУЛЯТОР!C9","v":{"v":0,"d":"0.00"}},{"$nulls":4},{"$f":"$E$1","v":{"v":0,"d":"0.00"}},{"$f":"-КАЛЬКУЛЯТОР!C9","v":{"v":0,"d":"0.00"}},{"$nulls":4},{"$f":"I10","v":{"v":0,"d":"0.00"}}]
[1,1,{"$f":"IF(AND($E$4<=$E$5,A11<=$E$3),$E$5,IF(AND(A11>$E$3,A11<=$E$2),$E$4,\"\"))","v":{"$error":"#VALUE!"}},{"$f":"IF(A11<=$E$2,-PMT(C11/12,IF(C11=КАЛЬКУЛЯТОР!$C$21,$E$2,$E$2-$E$3),IF(C11=КАЛЬКУЛЯТОР!$C$21,$I$10,$I$10-SUMIF($A$11:$A$370,\"<=\"&$E$3,$H$11:$H$370)),0,0)+E11,\"\")","v":{"$error":"#VALUE!"}},{"$f":"K1+K2+K3+((I10+SUM(F11:F22))*($K$4+$K$5))","v":{"v":18300,"d":"18,300.00"}},{"$f":"IFERROR(-IPMT(C11/12,B11,IF(C11=$E$5,$E$2,$E$2-$E$3),IF(C11=$E$5,$I$10,$I$10-SUMIF($A$11:$A$370,\"<=\"&$E$3,$H$11:$H$370)),0,0),\"\")","v":""},{"$f":"IFERROR(-IPMT((C11-'КАЛЬКУЛЯТОР 1'!$P$1)/12,B11,IF(C11=$E$5,$E$2,$E$2-$E$3),IF(C11=$E$5,$I$10,$I$10-SUMIF($A$11:$A$370,\"<=\"&$E$3,$H$11:$H$370)),0,0),\"\")","v":""},{"$f":"IFERROR((-PPMT(C11/12,B11,IF(C11=$E$5,$E$2,$E$2-$E$3),IF(C11=$E$5,$I$10,$I$10-SUMIF($A$11:$A$370,\"<=\"&$E$3,$H$11:$H$370)),0,0)),\"\")","v":""},{"$f":"IFERROR(I10-H11,\"\")","v":""},{"$f":"PV($E$6/12,A11-1,0,-D11)","v":{"$error":"#VALUE!"}},{"$f":"PV($E$6/12,A11-1,0,-E11)","v":{"v":18300,"d":"18,300.00"}},{"$f":"PV($E$6/12,A11-1,0,-F11)","v":{"$error":"#VALUE!"}},{"$f":"PV($E$6/12,A11-1,0,-G11)","v":{"$error":"#VALUE!"}},{"$f":"PV($E$6/12,A11-1,0,-H11)","v":{"$error":"#VALUE!"}},{"$f":"O10-N11","v":{"$error":"#VALUE!"}},{"$f":"AND(A11<=$E$3)","v":false}]
[2,{"$f":"IF(P12=$P$11,B11+1,A12-$E$3)","v":2},{"$f":"IF(AND($E$4<=$E$5,A12<=$E$3),$E$5,IF(AND(A12>$E$3,A12<=$E$2),$E$4,\"\"))","v":{"$error":"#VALUE!"}},{"$f":"IF(A12<=$E$2,-PMT(C12/12,IF(C12=КАЛЬКУЛЯТОР!$C$21,$E$2,$E$2-$E$3),IF(C12=КАЛЬКУЛЯТОР!$C$21,$I$10,$I$10-SUMIF($A$11:$A$370,\"<=\"&$E$3,$H$11:$H$370)),0,0),\"\")","v":{"$error":"#VALUE!"}},null,{"$f":"IFERROR(-IPMT(C12/12,B12,IF(C12=$E$5,$E$2,$E$2-$E$3),IF(C12=$E$5,$I$10,$I$10-SUMIF($A$11:$A$370,\"<=\"&$E$3,$H$11:$H$370)),0,0),\"\")","v":""},{"$f":"IFERROR(-IPMT((C12-'КАЛЬКУЛЯТОР 1'!$P$1)/12,B12,IF(C12=$E$5,$E$2,$E$2-$E$3),IF(C12=$E$5,$I$10,$I$10-SUMIF($A$11:$A$370,\"<=\"&$E$3,$H$11:$H$370)),0,0),\"\")","v":""},{"$f":"IFERROR((-PPMT(C12/12,B12,IF(C12=$E$5,$E$2,$E$2-$E$3),IF(C12=$E$5,$I$10,$I$10-SUMIF($A$11:$A$370,\"<=\"&$E$3,$H$11:$H$370)),0,0)),\"\")","v":""},{"$f":"IFERROR(I11-H12,\"\")","v":""},{"$error":"#VALUE!"},null,{"$error":"#VALUE!"},{"$error":"#VALUE!"},{"$error":"#VALUE!"},{"$error":"#VALUE!"},{"$f":"AND(A12<=$E$3)","v":false}]
[3,3,{"$error":"#VALUE!"},{"$f":"IF(A13<=$E$2,-PMT(C13/12,IF(C13=КАЛЬКУЛЯТОР!$C$21,$E$2,$E$2-$E$3),IF(C13=КАЛЬКУЛЯТОР!$C$21,$I$10,$I$10-SUMIF($A$11:$A$370,\"<=\"&$E$3,$H$11:$H$370)),0,0),\"\")","v":{"$error":"#VALUE!"}},null,"",{"$f":"IFERROR(-IPMT((C13-'КАЛЬКУЛЯТОР 1'!$P$1)/12,B13,IF(C13=$E$5,$E$2,$E$2-$E$3),IF(C13=$E$5,$I$10,$I$10-SUMIF($A$11:$A$370,\"<=\"&$E$3,$H$11:$H$370)),0,0),\"\")","v":""},"","",{"$error":"#VALUE!"},null,{"$error":"#VALUE!"},{"$error":"#VALUE!"},{"$error":"#VALUE!"},{"$error":"#VALUE!"},false]
[4,4,{"$error":"#VALUE!"},{"$f":"IF(A14<=$E$2,-PMT(C14/12,IF(C14=КАЛЬКУЛЯТОР!$C$21,$E$2,$E$2-$E$3),IF(C14=КАЛЬКУЛЯТОР!$C$21,$I$10,$I$10-SUMIF($A$11:$A$370,\"<=\"&$E$3,$H$11:$H$370)),0,0),\"\")","v":{"$error":"#VALUE!"}},null,"",{"$f":"IFERROR(-IPMT((C14-'КАЛЬКУЛЯТОР 1'!$P$1)/12,B14,IF(C14=$E$5,$E$2,$E$2-$E$3),IF(C14=$E$5,$I$10,$I$10-SUMIF($A$11:$A$370,\"<=\"&$E$3,$H$11:$H$370)),0,0),\"\")","v":""},"","",{"$error":"#VALUE!"},null,{"$error":"#VALUE!"},{"$error":"#VALUE!"},{"$error":"#VALUE!"},{"$error":"#VALUE!"},false]
[5,5,{"$error":"#VALUE!"},{"$f":"IF(A15<=$E$2,-PMT(C15/12,IF(C15=КАЛЬКУЛЯТОР!$C$21,$E$2,$E$2-$E$3),IF(C15=КАЛЬКУЛЯТОР!$C$21,$I$10,$I$10-SUMIF($A$11:$A$370,\"<=\"&$E$3,$H$11:$H$370)),0,0),\"\")","v":{"$error":"#VALUE!"}},null,"",{"$f":"IFERROR(-IPMT((C15-'КАЛЬКУЛЯТОР 1'!$P$1)/12,B15,IF(C15=$E$5,$E$2,$E$2-$E$3),IF(C15=$E$5,$I$10,$I$10-SUMIF($A$11:$A$370,\"<=\"&$E$3,$H$11:$H$370)),0,0),\"\")","v":""},"","",{"$error":"#VALUE!"},null,{"$error":"#VALUE!"},{"$error":"#VALUE!"},{"$error":"#VALUE!"},{"$error":"#VALUE!"},false]
[6,6,{"$error":"#VALUE!"},{"$f":"IF(A16<=$E$2,-PMT(C16/12,IF(C16=КАЛЬКУЛЯТОР!$C$21,$E$2,$E$2-$E$3),IF(C16=КАЛЬКУЛЯТОР!$C$21,$I$10,$I$10-SUMIF($A$11:$A$370,\"<=\"&$E$3,$H$11:$H$370)),0,0),\"\")","v":{"$error":"#VALUE!"}},null,"",{"$f":"IFERROR(-IPMT((C16-'КАЛЬКУЛЯТОР 1'!$P$1)/12,B16,IF(C16=$E$5,$E$2,$E$2-$E$3),IF(C16=$E$5,$I$10,$I$10-SUMIF($A$11:$A$370,\"<=\"&$E$3,$H$11:$H$370)),0,0),\"\")","v":""},"","",{"$error":"#VALUE!"},null,{"$error":"#VALUE!"},{"$error":"#VALUE!"},{"$error":"#VALUE!"},{"$error":"#VALUE!"},false]
[7,7,{"$error":"#VALUE!"},{"$f":"IF(A17<=$E$2,-PMT(C17/12,IF(C17=КАЛЬКУЛЯТОР!$C$21,$E$2,$E$2-$E$3),IF(C17=КАЛЬКУЛЯТОР!$C$21,$I$10,$I$10-SUMIF($A$11:$A$370,\"<=\"&$E$3,$H$11:$H$370)),0,0),\"\")","v":{"$error":"#VALUE!"}},null,"",{"$f":"IFERROR(-IPMT((C17-'КАЛЬКУЛЯТОР 1'!$P$1)/12,B17,IF(C17=$E$5,$E$2,$E$2-$E$3),IF(C17=$E$5,$I$10,$I$10-SUMIF($A$11:$A$370,\"<=\"&$E$3,$H$11:$H$370)),0,0),\"\")","v":""},"","",{"$error":"#VALUE!"},null,{"$error":"#VALUE!"},{"$error":"#VALUE!"},{"$error":"#VALUE!"},{"$error":"#VALUE!"},false]
[8,8,{"$error":"#VALUE!"},{"$f":"IF(A18<=$E$2,-PMT(C18/12,IF(C18=КАЛЬКУЛЯТОР!$C$21,$E$2,$E$2-$E$3),IF(C18=КАЛЬКУЛЯТОР!$C$21,$I$10,$I$10-SUMIF($A$11:$A$370,\"<=\"&$E$3,$H$11:$H$370)),0,0),\"\")","v":{"$error":"#VALUE!"}},null,"",{"$f":"IFERROR(-IPMT((C18-'КАЛЬКУЛЯТОР 1'!$P$1)/12,B18,IF(C18=$E$5,$E$2,$E$2-$E$3),IF(C18=$E$5,$I$10,$I$10-SUMIF($A$11:$A$370,\"<=\"&$E$3,$H$11:$H$370)),0,0),\"\")","v":""},"","",{"$error":"#VALUE!"},null,{"$error":"#VALUE!"},{"$error":"#VALUE!"},{"$error":"#VALUE!"},{"$error":"#VALUE!"},false]
[9,9,{"$error":"#VALUE!"},{"$f":"IF(A19<=$E$2,-PMT(C19/12,IF(C19=КАЛЬКУЛЯТОР!$C$21,$E$2,$E$2-$E$3),IF(C19=КАЛЬКУЛЯТОР!$C$21,$I$10,$I$10-SUMIF($A$11:$A$370,\"<=\"&$E$3,$H$11:$H$370)),0,0),\"\")","v":{"$error":"#VALUE!"}},null,"",{"$f":"IFERROR(-IPMT((C19-'КАЛЬКУЛЯТОР 1'!$P$1)/12,B19,IF(C19=$E$5,$E$2,$E$2-$E$3),IF(C19=$E$5,$I$10,$I$10-SUMIF($A$11:$A$370,\"<=\"&$E$3,$H$11:$H$370)),0,0),\"\")","v":""},"","",{"$error":"#VALUE!"},null,{"$error":"#VALUE!"},{"$error":"#VALUE!"},{"$error":"#VALUE!"},{"$error":"#VALUE!"},false]
[10,10,{"$error":"#VALUE!"},{"$f":"IF(A20<=$E$2,-PMT(C20/12,IF(C20=КАЛЬКУЛЯТОР!$C$21,$E$2,$E$2-$E$3),IF(C20=КАЛЬКУЛЯТОР!$C$21,$I$10,$I$10-SUMIF($A$11:$A$370,\"<=\"&$E$3,$H$11:$H$370)),0,0),\"\")","v":{"$error":"#VALUE!"}},null,"",{"$f":"IFERROR(-IPMT((C20-'КАЛЬКУЛЯТОР 1'!$P$1)/12,B20,IF(C20=$E$5,$E$2,$E$2-$E$3),IF(C20=$E$5,$I$10,$I$10-SUMIF($A$11:$A$370,\"<=\"&$E$3,$H$11:$H$370)),0,0),\"\")","v":""},"","",{"$error":"#VALUE!"},null,{"$error":"#VALUE!"},{"$error":"#VALUE!"},{"$error":"#VALUE!"},{"$error":"#VALUE!"},false]
[11,11,{"$error":"#VALUE!"},{"$f":"IF(A21<=$E$2,-PMT(C21/12,IF(C21=КАЛЬКУЛЯТОР!$C$21,$E$2,$E$2-$E$3),IF(C21=КАЛЬКУЛЯТОР!$C$21,$I$10,$I$10-SUMIF($A$11:$A$370,\"<=\"&$E$3,$H$11:$H$370)),0,0),\"\")","v":{"$error":"#VALUE!"}},null,"",{"$f":"IFERROR(-IPMT((C21-'КАЛЬКУЛЯТОР 1'!$P$1)/12,B21,IF(C21=$E$5,$E$2,$E$2-$E$3),IF(C21=$E$5,$I$10,$I$10-SUMIF($A$11:$A$370,\"<=\"&$E$3,$H$11:$H$370)),0,0),\"\")","v":""},"","",{"$error":"#VALUE!"},null,{"$error":"#VALUE!"},{"$error":"#VALUE!"},{"$error":"#VALUE!"},{"$error":"#VALUE!"},false]
[12,12,{"$error":"#VALUE!"},{"$f":"IF(A22<=$E$2,-PMT(C22/12,IF(C22=КАЛЬКУЛЯТОР!$C$21,$E$2,$E$2-$E$3),IF(C22=КАЛЬКУЛЯТОР!$C$21,$I$10,$I$10-SUMIF($A$11:$A$370,\"<=\"&$E$3,$H$11:$H$370)),0,0),\"\")","v":{"$error":"#VALUE!"}},null,"",{"$f":"IFERROR(-IPMT((C22-'КАЛЬКУЛЯТОР 1'!$P$1)/12,B22,IF(C22=$E$5,$E$2,$E$2-$E$3),IF(C22=$E$5,$I$10,$I$10-SUMIF($A$11:$A$370,\"<=\"&$E$3,$H$11:$H$370)),0,0),\"\")","v":""},"","",{"$error":"#VALUE!"},null,{"$error":"#VALUE!"},{"$error":"#VALUE!"},{"$error":"#VALUE!"},{"$error":"#VALUE!"},false]
[13,13,{"$error":"#VALUE!"},{"$f":"IF(A23<=$E$2,-PMT(C23/12,IF(C23=КАЛЬКУЛЯТОР!$C$21,$E$2,$E$2-$E$3),IF(C23=КАЛЬКУЛЯТОР!$C$21,$I$10,$I$10-SUMIF($A$11:$A$370,\"<=\"&$E$3,$H$11:$H$370)),0,0)+E23,\"\")","v":{"$error":"#VALUE!"}},{"$f":"IF($E$2>$A22,(I22+SUM(F23:F34))*($K$4+$K$5),0)","v":{"$error":"#VALUE!"}},"",{"$f":"IFERROR(-IPMT((C23-'КАЛЬКУЛЯТОР 1'!$P$1)/12,B23,IF(C23=$E$5,$E$2,$E$2-$E$3),IF(C23=$E$5,$I$10,$I$10-SUMIF($A$11:$A$370,\"<=\"&$E$3,$H$11:$H$370)),0,0),\"\")","v":""},"","",{"$error":"#VALUE!"},{"$f":"PV($E$6/12,A23-1,0,-E23)","v":{"$error":"#VALUE!"}},{"$error":"#VALUE!"},{"$error":"#VALUE!"},{"$error":"#VALUE!"},{"$error":"#VALUE!"},false]
[14,14,{"$error":"#VALUE!"},{"$f":"IF(A24<=$E$2,-PMT(C24/12,IF(C24=КАЛЬКУЛЯТОР!$C$21,$E$2,$E$2-$E$3),IF(C24=КАЛЬКУЛЯТОР!$C$21,$I$10,$I$10-SUMIF($A$11:$A$370,\"<=\"&$E$3,$H$11:$H$370)),0,0),\"\")","v":{"$error":"#VALUE!"}},null,"",{"$f":"IFERROR(-IPMT((C24-'КАЛЬКУЛЯТОР 1'!$P$1)/12,B24,IF(C24=$E$5,$E$2,$E$2-$E$3),IF(C24=$E$5,$I$10,$I$10-SUMIF($A$11:$A$370,\"<=\"&$E$3,$H$11:$H$370)),0,0),\"\")","v":""},"","",{"$error":"#VALUE!"},null,{"$error":"#VALUE!"},{"$error":"#VALUE!"},{"$error":"#VALUE!"},{"$error":"#VALUE!"},false]
[15,15,{"$error":"#VALUE!"},{"$f":"IF(A25<=$E$2,-PMT(C25/12,IF(C25=КАЛЬКУЛЯТОР!$C$21,$E$2,$E$2-$E$3),IF(C25=КАЛЬКУЛЯТОР!$C$21,$I$10,$I$10-SUMIF($A$11:$A$370,\"<=\"&$E$3,$H$11:$H$370)),0,0),\"\")","v":{"$error":"#VALUE!"}},null,"",{"$f":"IFERROR(-IPMT((C25-'КАЛЬКУЛЯТОР 1'!$P$1)/12,B25,IF(C25=$E$5,$E$2,$E$2-$E$3),IF(C25=$E$5,$I$10,$I$10-SUMIF($A$11:$A$370,\"<=\"&$E$3,$H$11:$H$370)),0,0),\"\")","v":""},"","",{"$error":"#VALUE!"},null,{"$error":"#VALUE!"},{"$error":"#VALUE!"},{"$error":"#VALUE!"},{"$error":"#VALUE!"},false]
[16,16,{"$error":"#VALUE!"},{"$f":"IF(A26<=$E$2,-PMT(C26/12,IF(C26=КАЛЬКУЛЯТОР!$C$21,$E$2,$E$2-$E$3),IF(C26=КАЛЬКУЛЯТОР!$C$21,$I$10,$I$10-SUMIF($A$11:$A$370,\"<=\"&$E$3,$H$11:$H$370)),0,0),\"\")","v":{"$error":"#VALUE!"}},null,"",{"$f":"IFERROR(-IPMT((C26-'КАЛЬКУЛЯТОР 1'!$P$1)/12,B26,IF(C26=$E$5,$E$2,$E$2-$E$3),IF(C26=$E$5,$I$10,$I$10-SUMIF($A$11:$A$370,\"<=\"&$E$3,$H$11:$H$370)),0,0),\"\")","v":""},"","",{"$error":"#VALUE!"},null,{"$error":"#VALUE!"},{"$error":"#VALUE!"},{"$error":"#VALUE!"},{"$error":"#VALUE!"},false]
[17,17,{"$error":"#VALUE!"},{"$f":"IF(A27<=$E$2,-PMT(C27/12,IF(C27=КАЛЬКУЛЯТОР!$C$21,$E$2,$E$2-$E$3),IF(C27=КАЛЬКУЛЯТОР!$C$21,$I$10,$I$10-SUMIF($A$11:$A$370,\"<=\"&$E$3,$H$11:$H$370)),0,0),\"\")","v":{"$error":"#VALUE!"}},null,"",{"$f":"IFERROR(-IPMT((C27-'КАЛЬКУЛЯТОР 1'!$P$1)/12,B27,IF(C27=$E$5,$E$2,$E$2-$E$3),IF(C27=$E$5,$I$10,$I$10-SUMIF($A$11:$A$370,\"<=\"&$E$3,$H$11:$H$370)),0,0),\"\")","v":""},"","",{"$error":"#VALUE!"},null,{"$error":"#VALUE!"},{"$error":"#VALUE!"},{"$error":"#VALUE!"},{"$error":"#VALUE!"},false]
[18,18,{"$error":"#VALUE!"},{"$f":"IF(A28<=$E$2,-PMT(C28/12,IF(C28=КАЛЬКУЛЯТОР!$C$21,$E$2,$E$2-$E$3),IF(C28=КАЛЬКУЛЯТОР!$C$21,$I$10,$I$10-SUMIF($A$11:$A$370,\"<=\"&$E$3,$H$11:$H$370)),0,0),\"\")","v":{"$error":"#VALUE!"}},null,"",{"$f":"IFERROR(-IPMT((C28-'КАЛЬКУЛЯТОР 1'!$P$1)/12,B28,IF(C28=$E$5,$E$2,$E$2-$E$3),IF(C28=$E$5,$I$10,$I$10-SUMIF($A$11:$A$370,\"<=\"&$E$3,$H$11:$H$370)),0,0),\"\")","v":""},"","",{"$error":"#VALUE!"},null,{"$error":"#VALUE!"},{"$error":"#VALUE!"},{"$error":"#VALUE!"},{"$error":"#VALUE!"},false]
[19,19,{"$error":"#VALUE!"},{"$f":"IF(A29<=$E$2,-PMT(C29/12,IF(C29=КАЛЬКУЛЯТОР!$C$21,$E$2,$E$2-$E$3),IF(C29=КАЛЬКУЛЯТОР!$C$21,$I$10,$I$10-SUMIF($A$11:$A$370,\"<=\"&$E$3,$H$11:$H$370)),0,0),\"\")","v":{"$error":"#VALUE!"}},null,"",{"$f":"IFERROR(-IPMT((C29-'КАЛЬКУЛЯТОР 1'!$P$1)/12,B29,IF(C29=$E$5,$E$2,$E$2-$E$3),IF(C29=$E$5,$I$10,$I$10-SUMIF($A$11:$A$370,\"<=\"&$E$3,$H$11:$H$370)),0,0),\"\")","v":""},"","",{"$error":"#VALUE!"},null,{"$error":"#VALUE!"},{"$error":"#VALUE!"},{"$error":"#VALUE!"},{"$error":"#VALUE!"},false]
[20,20,{"$error":"#VALUE!"},{"$f":"IF(A30<=$E$2,-PMT(C30/12,IF(C30=КАЛЬКУЛЯТОР!$C$21,$E$2,$E$2-$E$3),IF(C30=КАЛЬКУЛЯТОР!$C$21,$I$10,$I$10-SUMIF($A$11:$A$370,\"<=\"&$E$3,$H$11:$H$370)),0,0),\"\")","v":{"$error":"#VALUE!"}},null,"",{"$f":"IFERROR(-IPMT((C30-'КАЛЬКУЛЯТОР 1'!$P$1)/12,B30,IF(C30=$E$5,$E$2,$E$2-$E$3),IF(C30=$E$5,$I$10,$I$10-SUMIF($A$11:$A$370,\"<=\"&$E$3,$H$11:$H$370)),0,0),\"\")","v":""},"","",{"$error":"#VALUE!"},null,{"$error":"#VALUE!"},{"$error":"#VALUE!"},{"$error":"#VALUE!"},{"$error":"#VALUE!"},false]
[21,21,{"$error":"#VALUE!"},{"$f":"IF(A31<=$E$2,-PMT(C31/12,IF(C31=КАЛЬКУЛЯТОР!$C$21,$E$2,$E$2-$E$3),IF(C31=КАЛЬКУЛЯТОР!$C$21,$I$10,$I$10-SUMIF($A$11:$A$370,\"<=\"&$E$3,$H$11:$H$370)),0,0),\"\")","v":{"$error":"#VALUE!"}},null,"",{"$f":"IFERROR(-IPMT((C31-'КАЛЬКУЛЯТОР 1'!$P$1)/12,B31,IF(C31=$E$5,$E$2,$E$2-$E$3),IF(C31=$E$5,$I$10,$I$10-SUMIF($A$11:$A$370,\"<=\"&$E$3,$H$11:$H$370)),0,0),\"\")","v":""},"","",{"$error":"#VALUE!"},null,{"$error":"#VALUE!"},{"$error":"#VALUE!"},{"$error":"#VALUE!"},{"$error":"#VALUE!"},false]
[22,22,{"$error":"#VALUE!"},{"$f":"IF(A32<=$E$2,-PMT(C32/12,IF(C32=КАЛЬКУЛЯТОР!$C$21,$E$2,$E$2-$E$3),IF(C32=КАЛЬКУЛЯТОР!$C$21,$I$10,$I$10-SUMIF($A$11:$A$370,\"<=\"&$E$3,$H$11:$H$370)),0,0),\"\")","v":{"$error":"#VALUE!"}},null,"",{"$f":"IFERROR(-IPMT((C32-'КАЛЬКУЛЯТОР 1'!$P$1)/12,B32,IF(C32=$E$5,$E$2,$E$2-$E$3),IF(C32=$E$5,$I$10,$I$10-SUMIF($A$11:$A$370,\"<=\"&$E$3,$H$11:$H$370)),0,0),\"\")","v":""},"","",{"$error":"#VALUE!"},null,{"$error":"#VALUE!"},{"$error":"#VALUE!"},{"$error":"#VALUE!"},{"$error":"#VALUE!"},false]
[23,23,{"$error":"#VALUE!"},{"$f":"IF(A33<=$E$2,-PMT(C33/12,IF(C33=КАЛЬКУЛЯТОР!$C$21,$E$2,$E$2-$E$3),IF(C33=КАЛЬКУЛЯТОР!$C$21,$I$10,$I$10-SUMIF($A$11:$A$370,\"<=\"&$E$3,$H$11:$H$370)),0,0),\"\")","v":{"$error":"#VALUE!"}},null,"",{"$f":"IFERROR(-IPMT((C33-'КАЛЬКУЛЯТОР 1'!$P$1)/12,B33,IF(C33=$E$5,$E$2,$E$2-$E$3),IF(C33=$E$5,$I$10,$I$10-SUMIF($A$11:$A$370,\"<=\"&$E$3,$H$11:$H$370)),0,0),\"\")","v":""},"","",{"$error":"#VALUE!"},null,{"$error":"#VALUE!"},{"$error":"#VALUE!"},{"$error":"#VALUE!"},{"$error":"#VALUE!"},false]
[24,24,{"$error":"#VALUE!"},{"$f":"IF(A34<=$E$2,-PMT(C34/12,IF(C34=КАЛЬКУЛЯТОР!$C$21,$E$2,$E$2-$E$3),IF(C34=КАЛЬКУЛЯТОР!$C$21,$I$10,$I$10-SUMIF($A$11:$A$370,\"<=\"&$E$3,$H$11:$H$370)),0,0),\"\")","v":{"$error":"#VALUE!"}},null,"",{"$f":"IFERROR(-IPMT((C34-'КАЛЬКУЛЯТОР 1'!$P$1)/12,B34,IF(C34=$E$5,$E$2,$E$2-$E$3),IF(C34=$E$5,$I$10,$I$10-SUMIF($A$11:$A$370,\"<=\"&$E$3,$H$11:$H$370)),0,0),\"\")","v":""},"","",{"$error":"#VALUE!"},null,{"$error":"#VALUE!"},{"$error":"#VALUE!"},{"$error":"#VALUE!"},{"$error":"#VALUE!"},false]
[25,25,{"$error":"#VALUE!"},{"$f":"IF(A35<=$E$2,-PMT(C35/12,IF(C35=КАЛЬКУЛЯТОР!$C$21,$E$2,$E$2-$E$3),IF(C35=КАЛЬКУЛЯТОР!$C$21,$I$10,$I$10-SUMIF($A$11:$A$370,\"<=\"&$E$3,$H$11:$H$370)),0,0)+E35,\"\")","v":{"$error":"#VALUE!"}},{"$f":"IF($E$2>$A34,(I34+SUM(F35:F46))*($K$4+$K$5),0)","v":{"$error":"#VALUE!"}},"",{"$f":"IFERROR(-IPMT((C35-'КАЛЬКУЛЯТОР 1'!$P$1)/12,B35,IF(C35=$E$5,$E$2,$E$2-$E$3),IF(C35=$E$5,$I$10,$I$10-SUMIF($A$11:$A$370,\"<=\"&$E$3,$H$11:$H$370)),0,0),\"\")","v":""},"","",{"$error":"#VALUE!"},{"$f":"PV($E$6/12,A35-1,0,-E35)","v":{"$error":"#VALUE!"}},{"$error":"#VALUE!"},{"$error":"#VALUE!"},{"$error":"#VALUE!"},{"$error":"#VALUE!"},false]
[26,26,{"$error":"#VALUE!"},{"$f":"IF(A36<=$E$2,-PMT(C36/12,IF(C36=КАЛЬКУЛЯТОР!$C$21,$E$2,$E$2-$E$3),IF(C36=КАЛЬКУЛЯТОР!$C$21,$I$10,$I$10-SUMIF($A$11:$A$370,\"<=\"&$E$3,$H$11:$H$370)),0,0),\"\")","v":{"$error":"#VALUE!"}},null,"",{"$f":"IFERROR(-IPMT((C36-'КАЛЬКУЛЯТОР 1'!$P$1)/12,B36,IF(C36=$E$5,$E$2,$E$2-$E$3),IF(C36=$E$5,$I$10,$I$10-SUMIF($A$11:$A$370,\"<=\"&$E$3,$H$11:$H$370)),0,0),\"\")","v":""},"","",{"$error":"#VALUE!"},null,{"$error":"#VALUE!"},{"$error":"#VALUE!"},{"$error":"#VALUE!"},{"$error":"#VALUE!"},false]
[27,27,{"$error":"#VALUE!"},{"$f":"IF(A37<=$E$2,-PMT(C37/12,IF(C37=КАЛЬКУЛЯТОР!$C$21,$E$2,$E$2-$E$3),IF(C37=КАЛЬКУЛЯТОР!$C$21,$I$10,$I$10-SUMIF($A$11:$A$370,\"<=\"&$E$3,$H$11:$H$370)),0,0),\"\")","v":{"$error":"#VALUE!"}},null,"",{"$f":"IFERROR(-IPMT((C37-'КАЛЬКУЛЯТОР 1'!$P$1)/12,B37,IF(C37=$E$5,$E$2,$E$2-$E$3),IF(C37=$E$5,$I$10,$I$10-SUMIF($A$11:$A$370,\"<=\"&$E$3,$H$11:$H$370)),0,0),\"\")","v":""},"","",{"$error":"#VALUE!"},null,{"$error":"#VALUE!"},{"$error":"#VALUE!"},{"$error":"#VALUE!"},{"$error":"#VALUE!"},false]
[28,28,{"$error":"#VALUE!"},{"$f":"IF(A38<=$E$2,-PMT(C38/12,IF(C38=КАЛЬКУЛЯТОР!$C$21,$E$2,$E$2-$E$3),IF(C38=КАЛЬКУЛЯТОР!$C$21,$I$10,$I$10-SUMIF($A$11:$A$370,\"<=\"&$E$3,$H$11:$H$370)),0,0),\"\")","v":{"$error":"#VALUE!"}},null,"",{"$f":"IFERROR(-IPMT((C38-'КАЛЬКУЛЯТОР 1'!$P$1)/12,B38,IF(C38=$E$5,$E$2,$E$2-$E$3),IF(C38=$E$5,$I$10,$I$10-SUMIF($A$11:$A$370,\"<=\"&$E$3,$H$11:$H$370)),0,0),\"\")","v":""},"","",{"$error":"#VALUE!"},null,{"$error":"#VALUE!"},{"$error":"#VALUE!"},{"$error":"#VALUE!"},{"$error":"#VALUE!"},false]
[29,29,{"$error":"#VALUE!"},{"$f":"IF(A39<=$E$2,-PMT(C39/12,IF(C39=КАЛЬКУЛЯТОР!$C$21,$E$2,$E$2-$E$3),IF(C39=КАЛЬКУЛЯТОР!$C$21,$I$10,$I$10-SUMIF($A$11:$A$370,\"<=\"&$E$3,$H$11:$H$370)),0,0),\"\")","v":{"$error":"#VALUE!"}},null,"",{"$f":"IFERROR(-IPMT((C39-'КАЛЬКУЛЯТОР 1'!$P$1)/12,B39,IF(C39=$E$5,$E$2,$E$2-$E$3),IF(C39=$E$5,$I$10,$I$10-SUMIF($A$11:$A$370,\"<=\"&$E$3,$H$11:$H$370)),0,0),\"\")","v":""},"","",{"$error":"#VALUE!"},null,{"$error":"#VALUE!"},{"$error":"#VALUE!"},{"$error":"#VALUE!"},{"$error":"#VALUE!"},false]
[30,30,{"$error":"#VALUE!"},{"$f":"IF(A40<=$E$2,-PMT(C40/12,IF(C40=КАЛЬКУЛЯТОР!$C$21,$E$2,$E$2-$E$3),IF(C40=КАЛЬКУЛЯТОР!$C$21,$I$10,$I$10-SUMIF($A$11:$A$370,\"<=\"&$E$3,$H$11:$H$370)),0,0),\"\")","v":{"$error":"#VALUE!"}},null,"",{"$f":"IFERROR(-IPMT((C40-'КАЛЬКУЛЯТОР 1'!$P$1)/12,B40,IF(C40=$E$5,$E$2,$E$2-$E$3),IF(C40=$E$5,$I$10,$I$10-SUMIF($A$11:$A$370,\"<=\"&$E$3,$H$11:$H$370)),0,0),\"\")","v":""},"","",{"$error":"#VALUE!"},null,{"$error":"#VALUE!"},{"$error":"#VALUE!"},{"$error":"#VALUE!"},{"$error":"#VALUE!"},false]
[31,31,{"$error":"#VALUE!"},{"$f":"IF(A41<=$E$2,-PMT(C41/12,IF(C41=КАЛЬКУЛЯТОР!$C$21,$E$2,$E$2-$E$3),IF(C41=КАЛЬКУЛЯТОР!$C$21,$I$10,$I$10-SUMIF($A$11:$A$370,\"<=\"&$E$3,$H$11:$H$370)),0,0),\"\")","v":{"$error":"#VALUE!"}},null,"",{"$f":"IFERROR(-IPMT((C41-'КАЛЬКУЛЯТОР 1'!$P$1)/12,B41,IF(C41=$E$5,$E$2,$E$2-$E$3),IF(C41=$E$5,$I$10,$I$10-SUMIF($A$11:$A$370,\"<=\"&$E$3,$H$11:$H$370)),0,0),\"\")","v":""},"","",{"$error":"#VALUE!"},null,{"$error":"#VALUE!"},{"$error":"#VALUE!"},{"$error":"#VALUE!"},{"$error":"#VALUE!"},false]
[32,32,{"$error":"#VALUE!"},{"$f":"IF(A42<=$E$2,-PMT(C42/12,IF(C42=КАЛЬКУЛЯТОР!$C$21,$E$2,$E$2-$E$3),IF(C42=КАЛЬКУЛЯТОР!$C$21,$I$10,$I$10-SUMIF($A$11:$A$370,\"<=\"&$E$3,$H$11:$H$370)),0,0),\"\")","v":{"$error":"#VALUE!"}},null,"",{"$f":"IFERROR(-IPMT((C42-'КАЛЬКУЛЯТОР 1'!$P$1)/12,B42,IF(C42=$E$5,$E$2,$E$2-$E$3),IF(C42=$E$5,$I$10,$I$10-SUMIF($A$11:$A$370,\"<=\"&$E$3,$H$11:$H$370)),0,0),\"\")","v":""},"","",{"$error":"#VALUE!"},null,{"$error":"#VALUE!"},{"$error":"#VALUE!"},{"$error":"#VALUE!"},{"$error":"#VALUE!"},false]
[33,33,{"$error":"#VALUE!"},{"$f":"IF(A43<=$E$2,-PMT(C43/12,IF(C43=КАЛЬКУЛЯТОР!$C$21,$E$2,$E$2-$E$3),IF(C43=КАЛЬКУЛЯТОР!$C$21,$I$10,$I$10-SUMIF($A$11:$A$370,\"<=\"&$E$3,$H$11:$H$370)),0,0),\"\")","v":{"$error":"#VALUE!"}},null,"",{"$f":"IFERROR(-IPMT((C43-'КАЛЬКУЛЯТОР 1'!$P$1)/12,B43,IF(C43=$E$5,$E$2,$E$2-$E$3),IF(C43=$E$5,$I$10,$I$10-SUMIF($A$11:$A$370,\"<=\"&$E$3,$H$11:$H$370)),0,0),\"\")","v":""},"","",{"$error":"#VALUE!"},null,{"$error":"#VALUE!"},{"$error":"#VALUE!"},{"$error":"#VALUE!"},{"$error":"#VALUE!"},false]
[34,34,{"$error":"#VALUE!"},{"$f":"IF(A44<=$E$2,-PMT(C44/12,IF(C44=КАЛЬКУЛЯТОР!$C$21,$E$2,$E$2-$E$3),IF(C44=КАЛЬКУЛЯТОР!$C$21,$I$10,$I$10-SUMIF($A$11:$A$370,\"<=\"&$E$3,$H$11:$H$370)),0,0),\"\")","v":{"$error":"#VALUE!"}},null,"",{"$f":"IFERROR(-IPMT((C44-'КАЛЬКУЛЯТОР 1'!$P$1)/12,B44,IF(C44=$E$5,$E$2,$E$2-$E$3),IF(C44=$E$5,$I$10,$I$10-SUMIF($A$11:$A$370,\"<=\"&$E$3,$H$11:$H$370)),0,0),\"\")","v":""},"","",{"$error":"#VALUE!"},null,{"$error":"#VALUE!"},{"$error":"#VALUE!"},{"$error":"#VALUE!"},{"$error":"#VALUE!"},false]
[35,35,{"$error":"#VALUE!"},{"$f":"IF(A45<=$E$2,-PMT(C45/12,IF(C45=КАЛЬКУЛЯТОР!$C$21,$E$2,$E$2-$E$3),IF(C45=КАЛЬКУЛЯТОР!$C$21,$I$10,$I$10-SUMIF($A$11:$A$370,\"<=\"&$E$3,$H$11:$H$370)),0,0),\"\")","v":{"$error":"#VALUE!"}},null,"",{"$f":"IFERROR(-IPMT((C45-'КАЛЬКУЛЯТОР 1'!$P$1)/12,B45,IF(C45=$E$5,$E$2,$E$2-$E$3),IF(C45=$E$5,$I$10,$I$10-SUMIF($A$11:$A$370,\"<=\"&$E$3,$H$11:$H$370)),0,0),\"\")","v":""},"","",{"$error":"#VALUE!"},null,{"$error":"#VALUE!"},{"$error":"#VALUE!"},{"$error":"#VALUE!"},{"$error":"#VALUE!"},false]
[36,36,{"$error":"#VALUE!"},{"$f":"IF(A46<=$E$2,-PMT(C46/12,IF(C46=КАЛЬКУЛЯТОР!$C$21,$E$2,$E$2-$E$3),IF(C46=КАЛЬКУЛЯТОР!$C$21,$I$10,$I$10-SUMIF($A$11:$A$370,\"<=\"&$E$3,$H$11:$H$370)),0,0),\"\")","v":{"$error":"#VALUE!"}},null,"",{"$f":"IFERROR(-IPMT((C46-'КАЛЬКУЛЯТОР 1'!$P$1)/12,B46,IF(C46=$E$5,$E$2,$E$2-$E$3),IF(C46=$E$5,$I$10,$I$10-SUMIF($A$11:$A$370,\"<=\"&$E$3,$H$11:$H$370)),0,0),\"\")","v":""},"","",{"$error":"#VALUE!"},null,{"$error":"#VALUE!"},{"$error":"#VALUE!"},{"$error":"#VALUE!"},{"$error":"#VALUE!"},false]
[37,37,{"$error":"#VALUE!"},{"$f":"IF(A47<=$E$2,-PMT(C47/12,IF(C47=КАЛЬКУЛЯТОР!$C$21,$E$2,$E$2-$E$3),IF(C47=КАЛЬКУЛЯТОР!$C$21,$I$10,$I$10-SUMIF($A$11:$A$370,\"<=\"&$E$3,$H$11:$H$370)),0,0)+E47,\"\")","v":{"$error":"#VALUE!"}},{"$f":"IF($E$2>$A46,(I46+SUM(F47:F58))*($K$4+$K$5),0)","v":{"$error":"#VALUE!"}},"",{"$f":"IFERROR(-IPMT((C47-'КАЛЬКУЛЯТОР 1'!$P$1)/12,B47,IF(C47=$E$5,$E$2,$E$2-$E$3),IF(C47=$E$5,$I$10,$I$10-SUMIF($A$11:$A$370,\"<=\"&$E$3,$H$11:$H$370)),0,0),\"\")","v":""},"","",{"$error":"#VALUE!"},{"$f":"PV($E$6/12,A47-1,0,-E47)","v":{"$error":"#VALUE!"}},{"$error":"#VALUE!"},{"$error":"#VALUE!"},{"$error":"#VALUE!"},{"$error":"#VALUE!"},false]
[38,38,{"$error":"#VALUE!"},{"$f":"IF(A48<=$E$2,-PMT(C48/12,IF(C48=КАЛЬКУЛЯТОР!$C$21,$E$2,$E$2-$E$3),IF(C48=КАЛЬКУЛЯТОР!$C$21,$I$10,$I$10-SUMIF($A$11:$A$370,\"<=\"&$E$3,$H$11:$H$370)),0,0),\"\")","v":{"$error":"#VALUE!"}},null,"",{"$f":"IFERROR(-IPMT((C48-'КАЛЬКУЛЯТОР 1'!$P$1)/12,B48,IF(C48=$E$5,$E$2,$E$2-$E$3),IF(C48=$E$5,$I$10,$I$10-SUMIF($A$11:$A$370,\"<=\"&$E$3,$H$11:$H$370)),0,0),\"\")","v":""},"","",{"$error":"#VALUE!"},null,{"$error":"#VALUE!"},{"$error":"#VALUE!"},{"$error":"#VALUE!"},{"$error":"#VALUE!"},false]
[39,39,{"$error":"#VALUE!"},{"$f":"IF(A49<=$E$2,-PMT(C49/12,IF(C49=КАЛЬКУЛЯТОР!$C$21,$E$2,$E$2-$E$3),IF(C49=КАЛЬКУЛЯТОР!$C$21,$I$10,$I$10-SUMIF($A$11:$A$370,\"<=\"&$E$3,$H$11:$H$370)),0,0),\"\")","v":{"$error":"#VALUE!"}},null,"",{"$f":"IFERROR(-IPMT((C49-'КАЛЬКУЛЯТОР 1'!$P$1)/12,B49,IF(C49=$E$5,$E$2,$E$2-$E$3),IF(C49=$E$5,$I$10,$I$10-SUMIF($A$11:$A$370,\"<=\"&$E$3,$H$11:$H$370)),0,0),\"\")","v":""},"","",{"$error":"#VALUE!"},null,{"$error":"#VALUE!"},{"$error":"#VALUE!"},{"$error":"#VALUE!"},{"$error":"#VALUE!"},false]
[40,40,{"$error":"#VALUE!"},{"$f":"IF(A50<=$E$2,-PMT(C50/12,IF(C50=КАЛЬКУЛЯТОР!$C$21,$E$2,$E$2-$E$3),IF(C50=КАЛЬКУЛЯТОР!$C$21,$I$10,$I$10-SUMIF($A$11:$A$370,\"<=\"&$E$3,$H$11:$H$370)),0,0),\"\")","v":{"$error":"#VALUE!"}},null,"",{"$f":"IFERROR(-IPMT((C50-'КАЛЬКУЛЯТОР 1'!$P$1)/12,B50,IF(C50=$E$5,$E$2,$E$2-$E$3),IF(C50=$E$5,$I$10,$I$10-SUMIF($A$11:$A$370,\"<=\"&$E$3,$H$11:$H$370)),0,0),\"\")","v":""},"","",{"$error":"#VALUE!"},null,{"$error":"#VALUE!"},{"$error":"#VALUE!"},{"$error":"#VALUE!"},{"$error":"#VALUE!"},false]
[41,41,{"$error":"#VALUE!"},{"$f":"IF(A51<=$E$2,-PMT(C51/12,IF(C51=КАЛЬКУЛЯТОР!$C$21,$E$2,$E$2-$E$3),IF(C51=КАЛЬКУЛЯТОР!$C$21,$I$10,$I$10-SUMIF($A$11:$A$370,\"<=\"&$E$3,$H$11:$H$370)),0,0),\"\")","v":{"$error":"#VALUE!"}},null,"",{"$f":"IFERROR(-IPMT((C51-'КАЛЬКУЛЯТОР 1'!$P$1)/12,B51,IF(C51=$E$5,$E$2,$E$2-$E$3),IF(C51=$E$5,$I$10,$I$10-SUMIF($A$11:$A$370,\"<=\"&$E$3,$H$11:$H$370)),0,0),\"\")","v":""},"","",{"$error":"#VALUE!"},null,{"$error":"#VALUE!"},{"$error":"#VALUE!"},{"$error":"#VALUE!"},{"$error":"#VALUE!"},false]
[42,42,{"$error":"#VALUE!"},{"$f":"IF(A52<=$E$2,-PMT(C52/12,IF(C52=КАЛЬКУЛЯТОР!$C$21,$E$2,$E$2-$E$3),IF(C52=КАЛЬКУЛЯТОР!$C$21,$I$10,$I$10-SUMIF($A$11:$A$370,\"<=\"&$E$3,$H$11:$H$370)),0,0),\"\")","v":{"$error":"#VALUE!"}},null,"",{"$f":"IFERROR(-IPMT((C52-'КАЛЬКУЛЯТОР 1'!$P$1)/12,B52,IF(C52=$E$5,$E$2,$E$2-$E$3),IF(C52=$E$5,$I$10,$I$10-SUMIF($A$11:$A$370,\"<=\"&$E$3,$H$11:$H$370)),0,0),\"\")","v":""},"","",{"$error":"#VALUE!"},null,{"$error":"#VALUE!"},{"$error":"#VALUE!"},{"$error":"#VALUE!"},{"$error":"#VALUE!"},false]
[43,43,{"$error":"#VALUE!"},{"$f":"IF(A53<=$E$2,-PMT(C53/12,IF(C53=КАЛЬКУЛЯТОР!$C$21,$E$2,$E$2-$E$3),IF(C53=КАЛЬКУЛЯТОР!$C$21,$I$10,$I$10-SUMIF($A$11:$A$370,\"<=\"&$E$3,$H$11:$H$370)),0,0),\"\")","v":{"$error":"#VALUE!"}},null,"",{"$f":"IFERROR(-IPMT((C53-'КАЛЬКУЛЯТОР 1'!$P$1)/12,B53,IF(C53=$E$5,$E$2,$E$2-$E$3),IF(C53=$E$5,$I$10,$I$10-SUMIF($A$11:$A$370,\"<=\"&$E$3,$H$11:$H$370)),0,0),\"\")","v":""},"","",{"$error":"#VALUE!"},null,{"$error":"#VALUE!"},{"$error":"#VALUE!"},{"$error":"#VALUE!"},{"$error":"#VALUE!"},false]
[44,44,{"$error":"#VALUE!"},{"$f":"IF(A54<=$E$2,-PMT(C54/12,IF(C54=КАЛЬКУЛЯТОР!$C$21,$E$2,$E$2-$E$3),IF(C54=КАЛЬКУЛЯТОР!$C$21,$I$10,$I$10-SUMIF($A$11:$A$370,\"<=\"&$E$3,$H$11:$H$370)),0,0),\"\")","v":{"$error":"#VALUE!"}},null,"",{"$f":"IFERROR(-IPMT((C54-'КАЛЬКУЛЯТОР 1'!$P$1)/12,B54,IF(C54=$E$5,$E$2,$E$2-$E$3),IF(C54=$E$5,$I$10,$I$10-SUMIF($A$11:$A$370,\"<=\"&$E$3,$H$11:$H$370)),0,0),\"\")","v":""},"","",{"$error":"#VALUE!"},null,{"$error":"#VALUE!"},{"$error":"#VALUE!"},{"$error":"#VALUE!"},{"$error":"#VALUE!"},false]
[45,45,{"$error":"#VALUE!"},{"$f":"IF(A55<=$E$2,-PMT(C55/12,IF(C55=КАЛЬКУЛЯТОР!$C$21,$E$2,$E$2-$E$3),IF(C55=КАЛЬКУЛЯТОР!$C$21,$I$10,$I$10-SUMIF($A$11:$A$370,\"<=\"&$E$3,$H$11:$H$370)),0,0),\"\")","v":{"$error":"#VALUE!"}},null,"",{"$f":"IFERROR(-IPMT((C55-'КАЛЬКУЛЯТОР 1'!$P$1)/12,B55,IF(C55=$E$5,$E$2,$E$2-$E$3),IF(C55=$E$5,$I$10,$I$10-SUMIF($A$11:$A$370,\"<=\"&$E$3,$H$11:$H$370)),0,0),\"\")","v":""},"","",{"$error":"#VALUE!"},null,{"$error":"#VALUE!"},{"$error":"#VALUE!"},{"$error":"#VALUE!"},{"$error":"#VALUE!"},false]
[46,46,{"$error":"#VALUE!"},{"$f":"IF(A56<=$E$2,-PMT(C56/12,IF(C56=КАЛЬКУЛЯТОР!$C$21,$E$2,$E$2-$E$3),IF(C56=КАЛЬКУЛЯТОР!$C$21,$I$10,$I$10-SUMIF($A$11:$A$370,\"<=\"&$E$3,$H$11:$H$370)),0,0),\"\")","v":{"$error":"#VALUE!"}},null,"",{"$f":"IFERROR(-IPMT((C56-'КАЛЬКУЛЯТОР 1'!$P$1)/12,B56,IF(C56=$E$5,$E$2,$E$2-$E$3),IF(C56=$E$5,$I$10,$I$10-SUMIF($A$11:$A$370,\"<=\"&$E$3,$H$11:$H$370)),0,0),\"\")","v":""},"","",{"$error":"#VALUE!"},null,{"$error":"#VALUE!"},{"$error":"#VALUE!"},{"$error":"#VALUE!"},{"$error":"#VALUE!"},false]
[47,47,{"$error":"#VALUE!"},{"$f":"IF(A57<=$E$2,-PMT(C57/12,IF(C57=КАЛЬКУЛЯТОР!$C$21,$E$2,$E$2-$E$3),IF(C57=КАЛЬКУЛЯТОР!$C$21,$I$10,$I$10-SUMIF($A$11:$A$370,\"<=\"&$E$3,$H$11:$H$370)),0,0),\"\")","v":{"$error":"#VALUE!"}},null,"",{"$f":"IFERROR(-IPMT((C57-'КАЛЬКУЛЯТОР 1'!$P$1)/12,B57,IF(C57=$E$5,$E$2,$E$2-$E$3),IF(C57=$E$5,$I$10,$I$10-SUMIF($A$11:$A$370,\"<=\"&$E$3,$H$11:$H$370)),0,0),\"\")","v":""},"","",{"$error":"#VALUE!"},null,{"$error":"#VALUE!"},{"$error":"#VALUE!"},{"$error":"#VALUE!"},{"$error":"#VALUE!"},false]
[48,48,{"$error":"#VALUE!"},{"$f":"IF(A58<=$E$2,-PMT(C58/12,IF(C58=КАЛЬКУЛЯТОР!$C$21,$E$2,$E$2-$E$3),IF(C58=КАЛЬКУЛЯТОР!$C$21,$I$10,$I$10-SUMIF($A$11:$A$370,\"<=\"&$E$3,$H$11:$H$370)),0,0),\"\")","v":{"$error":"#VALUE!"}},null,"",{"$f":"IFERROR(-IPMT((C58-'КАЛЬКУЛЯТОР 1'!$P$1)/12,B58,IF(C58=$E$5,$E$2,$E$2-$E$3),IF(C58=$E$5,$I$10,$I$10-SUMIF($A$11:$A$370,\"<=\"&$E$3,$H$11:$H$370)),0,0),\"\")","v":""},"","",{"$error":"#VALUE!"},null,{"$error":"#VALUE!"},{"$error":"#VALUE!"},{"$error":"#VALUE!"},{"$error":"#VALUE!"},false]
[49,49,{"$error":"#VALUE!"},{"$f":"IF(A59<=$E$2,-PMT(C59/12,IF(C59=КАЛЬКУЛЯТОР!$C$21,$E$2,$E$2-$E$3),IF(C59=КАЛЬКУЛЯТОР!$C$21,$I$10,$I$10-SUMIF($A$11:$A$370,\"<=\"&$E$3,$H$11:$H$370)),0,0)+E59,\"\")","v":{"$error":"#VALUE!"}},{"$f":"IF($E$2>$A58,(I58+SUM(F59:F70))*($K$4+$K$5),0)","v":{"$error":"#VALUE!"}},"",{"$f":"IFERROR(-IPMT((C59-'КАЛЬКУЛЯТОР 1'!$P$1)/12,B59,IF(C59=$E$5,$E$2,$E$2-$E$3),IF(C59=$E$5,$I$10,$I$10-SUMIF($A$11:$A$370,\"<=\"&$E$3,$H$11:$H$370)),0,0),\"\")","v":""},"","",{"$error":"#VALUE!"},{"$f":"PV($E$6/12,A59-1,0,-E59)","v":{"$error":"#VALUE!"}},{"$error":"#VALUE!"},{"$error":"#VALUE!"},{"$error":"#VALUE!"},{"$error":"#VALUE!"},false]
[50,50,{"$error":"#VALUE!"},{"$f":"IF(A60<=$E$2,-PMT(C60/12,IF(C60=КАЛЬКУЛЯТОР!$C$21,$E$2,$E$2-$E$3),IF(C60=КАЛЬКУЛЯТОР!$C$21,$I$10,$I$10-SUMIF($A$11:$A$370,\"<=\"&$E$3,$H$11:$H$370)),0,0),\"\")","v":{"$error":"#VALUE!"}},null,"",{"$f":"IFERROR(-IPMT((C60-'КАЛЬКУЛЯТОР 1'!$P$1)/12,B60,IF(C60=$E$5,$E$2,$E$2-$E$3),IF(C60=$E$5,$I$10,$I$10-SUMIF($A$11:$A$370,\"<=\"&$E$3,$H$11:$H$370)),0,0),\"\")","v":""},"","",{"$error":"#VALUE!"},null,{"$error":"#VALUE!"},{"$error":"#VALUE!"},{"$error":"#VALUE!"},{"$error":"#VALUE!"},false]
[51,51,{"$error":"#VALUE!"},{"$f":"IF(A61<=$E$2,-PMT(C61/12,IF(C61=КАЛЬКУЛЯТОР!$C$21,$E$2,$E$2-$E$3),IF(C61=КАЛЬКУЛЯТОР!$C$21,$I$10,$I$10-SUMIF($A$11:$A$370,\"<=\"&$E$3,$H$11:$H$370)),0,0),\"\")","v":{"$error":"#VALUE!"}},null,"",{"$f":"IFERROR(-IPMT((C61-'КАЛЬКУЛЯТОР 1'!$P$1)/12,B61,IF(C61=$E$5,$E$2,$E$2-$E$3),IF(C61=$E$5,$I$10,$I$10-SUMIF($A$11:$A$370,\"<=\"&$E$3,$H$11:$H$370)),0,0),\"\")","v":""},"","",{"$error":"#VALUE!"},null,{"$error":"#VALUE!"},{"$error":"#VALUE!"},{"$error":"#VALUE!"},{"$error":"#VALUE!"},false]
[52,52,{"$error":"#VALUE!"},{"$f":"IF(A62<=$E$2,-PMT(C62/12,IF(C62=КАЛЬКУЛЯТОР!$C$21,$E$2,$E$2-$E$3),IF(C62=КАЛЬКУЛЯТОР!$C$21,$I$10,$I$10-SUMIF($A$11:$A$370,\"<=\"&$E$3,$H$11:$H$370)),0,0),\"\")","v":{"$error":"#VALUE!"}},null,"",{"$f":"IFERROR(-IPMT((C62-'КАЛЬКУЛЯТОР 1'!$P$1)/12,B62,IF(C62=$E$5,$E$2,$E$2-$E$3),IF(C62=$E$5,$I$10,$I$10-SUMIF($A$11:$A$370,\"<=\"&$E$3,$H$11:$H$370)),0,0),\"\")","v":""},"","",{"$error":"#VALUE!"},null,{"$error":"#VALUE!"},{"$error":"#VALUE!"},{"$error":"#VALUE!"},{"$error":"#VALUE!"},false]
[53,53,{"$error":"#VALUE!"},{"$f":"IF(A63<=$E$2,-PMT(C63/12,IF(C63=КАЛЬКУЛЯТОР!$C$21,$E$2,$E$2-$E$3),IF(C63=КАЛЬКУЛЯТОР!$C$21,$I$10,$I$10-SUMIF($A$11:$A$370,\"<=\"&$E$3,$H$11:$H$370)),0,0),\"\")","v":{"$error":"#VALUE!"}},null,"",{"$f":"IFERROR(-IPMT((C63-'КАЛЬКУЛЯТОР 1'!$P$1)/12,B63,IF(C63=$E$5,$E$2,$E$2-$E$3),IF(C63=$E$5,$I$10,$I$10-SUMIF($A$11:$A$370,\"<=\"&$E$3,$H$11:$H$370)),0,0),\"\")","v":""},"","",{"$error":"#VALUE!"},null,{"$error":"#VALUE!"},{"$error":"#VALUE!"},{"$error":"#VALUE!"},{"$error":"#VALUE!"},false]
[54,54,{"$error":"#VALUE!"},{"$f":"IF(A64<=$E$2,-PMT(C64/12,IF(C64=КАЛЬКУЛЯТОР!$C$21,$E$2,$E$2-$E$3),IF(C64=КАЛЬКУЛЯТОР!$C$21,$I$10,$I$10-SUMIF($A$11:$A$370,\"<=\"&$E$3,$H$11:$H$370)),0,0),\"\")","v":{"$error":"#VALUE!"}},null,"",{"$f":"IFERROR(-IPMT((C64-'КАЛЬКУЛЯТОР 1'!$P$1)/12,B64,IF(C64=$E$5,$E$2,$E$2-$E$3),IF(C64=$E$5,$I$10,$I$10-SUMIF($A$11:$A$370,\"<=\"&$E$3,$H$11:$H$370)),0,0),\"\")","v":""},"","",{"$error":"#VALUE!"},null,{"$error":"#VALUE!"},{"$error":"#VALUE!"},{"$error":"#VALUE!"},{"$error":"#VALUE!"},false]
[55,55,{"$error":"#VALUE!"},{"$f":"IF(A65<=$E$2,-PMT(C65/12,IF(C65=КАЛЬКУЛЯТОР!$C$21,$E$2,$E$2-$E$3),IF(C65=КАЛЬКУЛЯТОР!$C$21,$I$10,$I$10-SUMIF($A$11:$A$370,\"<=\"&$E$3,$H$11:$H$370)),0,0),\"\")","v":{"$error":"#VALUE!"}},null,"",{"$f":"IFERROR(-IPMT((C65-'КАЛЬКУЛЯТОР 1'!$P$1)/12,B65,IF(C65=$E$5,$E$2,$E$2-$E$3),IF(C65=$E$5,$I$10,$I$10-SUMIF($A$11:$A$370,\"<=\"&$E$3,$H$11:$H$370)),0,0),\"\")","v":""},"","",{"$error":"#VALUE!"},null,{"$error":"#VALUE!"},{"$error":"#VALUE!"},{"$error":"#VALUE!"},{"$error":"#VALUE!"},false]
[56,56,{"$error":"#VALUE!"},{"$f":"IF(A66<=$E$2,-PMT(C66/12,IF(C66=КАЛЬКУЛЯТОР!$C$21,$E$2,$E$2-$E$3),IF(C66=КАЛЬКУЛЯТОР!$C$21,$I$10,$I$10-SUMIF($A$11:$A$370,\"<=\"&$E$3,$H$11:$H$370)),0,0),\"\")","v":{"$error":"#VALUE!"}},null,"",{"$f":"IFERROR(-IPMT((C66-'КАЛЬКУЛЯТОР 1'!$P$1)/12,B66,IF(C66=$E$5,$E$2,$E$2-$E$3),IF(C66=$E$5,$I$10,$I$10-SUMIF($A$11:$A$370,\"<=\"&$E$3,$H$11:$H$370)),0,0),\"\")","v":""},"","",{"$error":"#VALUE!"},null,{"$error":"#VALUE!"},{"$error":"#VALUE!"},{"$error":"#VALUE!"},{"$error":"#VALUE!"},false]
[57,57,{"$error":"#VALUE!"},{"$f":"IF(A67<=$E$2,-PMT(C67/12,IF(C67=КАЛЬКУЛЯТОР!$C$21,$E$2,$E$2-$E$3),IF(C67=КАЛЬКУЛЯТОР!$C$21,$I$10,$I$10-SUMIF($A$11:$A$370,\"<=\"&$E$3,$H$11:$H$370)),0,0),\"\")","v":{"$error":"#VALUE!"}},null,"",{"$f":"IFERROR(-IPMT((C67-'КАЛЬКУЛЯТОР 1'!$P$1)/12,B67,IF(C67=$E$5,$E$2,$E$2-$E$3),IF(C67=$E$5,$I$10,$I$10-SUMIF($A$11:$A$370,\"<=\"&$E$3,$H$11:$H$370)),0,0),\"\")","v":""},"","",{"$error":"#VALUE!"},null,{"$error":"#VALUE!"},{"$error":"#VALUE!"},{"$error":"#VALUE!"},{"$error":"#VALUE!"},false]
[58,58,{"$error":"#VALUE!"},{"$f":"IF(A68<=$E$2,-PMT(C68/12,IF(C68=КАЛЬКУЛЯТОР!$C$21,$E$2,$E$2-$E$3),IF(C68=КАЛЬКУЛЯТОР!$C$21,$I$10,$I$10-SUMIF($A$11:$A$370,\"<=\"&$E$3,$H$11:$H$370)),0,0),\"\")","v":{"$error":"#VALUE!"}},null,"",{"$f":"IFERROR(-IPMT((C68-'КАЛЬКУЛЯТОР 1'!$P$1)/12,B68,IF(C68=$E$5,$E$2,$E$2-$E$3),IF(C68=$E$5,$I$10,$I$10-SUMIF($A$11:$A$370,\"<=\"&$E$3,$H$11:$H$370)),0,0),\"\")","v":""},"","",{"$error":"#VALUE!"},null,{"$error":"#VALUE!"},{"$error":"#VALUE!"},{"$error":"#VALUE!"},{"$error":"#VALUE!"},false]
[59,59,{"$error":"#VALUE!"},{"$f":"IF(A69<=$E$2,-PMT(C69/12,IF(C69=КАЛЬКУЛЯТОР!$C$21,$E$2,$E$2-$E$3),IF(C69=КАЛЬКУЛЯТОР!$C$21,$I$10,$I$10-SUMIF($A$11:$A$370,\"<=\"&$E$3,$H$11:$H$370)),0,0),\"\")","v":{"$error":"#VALUE!"}},null,"",{"$f":"IFERROR(-IPMT((C69-'КАЛЬКУЛЯТОР 1'!$P$1)/12,B69,IF(C69=$E$5,$E$2,$E$2-$E$3),IF(C69=$E$5,$I$10,$I$10-SUMIF($A$11:$A$370,\"<=\"&$E$3,$H$11:$H$370)),0,0),\"\")","v":""},"","",{"$error":"#VALUE!"},null,{"$error":"#VALUE!"},{"$error":"#VALUE!"},{"$error":"#VALUE!"},{"$error":"#VALUE!"},false]
[60,60,{"$error":"#VALUE!"},{"$f":"IF(A70<=$E$2,-PMT(C70/12,IF(C70=КАЛЬКУЛЯТОР!$C$21,$E$2,$E$2-$E$3),IF(C70=КАЛЬКУЛЯТОР!$C$21,$I$10,$I$10-SUMIF($A$11:$A$370,\"<=\"&$E$3,$H$11:$H$370)),0,0),\"\")","v":{"$error":"#VALUE!"}},null,"",{"$f":"IFERROR(-IPMT((C70-'КАЛЬКУЛЯТОР 1'!$P$1)/12,B70,IF(C70=$E$5,$E$2,$E$2-$E$3),IF(C70=$E$5,$I$10,$I$10-SUMIF($A$11:$A$370,\"<=\"&$E$3,$H$11:$H$370)),0,0),\"\")","v":""},"","",{"$error":"#VALUE!"},null,{"$error":"#VALUE!"},{"$error":"#VALUE!"},{"$error":"#VALUE!"},{"$error":"#VALUE!"},false]
[61,61,{"$error":"#VALUE!"},{"$f":"IF(A71<=$E$2,-PMT(C71/12,IF(C71=КАЛЬКУЛЯТОР!$C$21,$E$2,$E$2-$E$3),IF(C71=КАЛЬКУЛЯТОР!$C$21,$I$10,$I$10-SUMIF($A$11:$A$370,\"<=\"&$E$3,$H$11:$H$370)),0,0)+E71,\"\")","v":{"$error":"#VALUE!"}},{"$f":"IF($E$2>$A70,(I70+SUM(F71:F82))*($K$4+$K$5),0)","v":{"$error":"#VALUE!"}},"",{"$f":"IFERROR(-IPMT((C71-'КАЛЬКУЛЯТОР 1'!$P$1)/12,B71,IF(C71=$E$5,$E$2,$E$2-$E$3),IF(C71=$E$5,$I$10,$I$10-SUMIF($A$11:$A$370,\"<=\"&$E$3,$H$11:$H$370)),0,0),\"\")","v":""},"","",{"$error":"#VALUE!"},{"$f":"PV($E$6/12,A71-1,0,-E71)","v":{"$error":"#VALUE!"}},{"$error":"#VALUE!"},{"$error":"#VALUE!"},{"$error":"#VALUE!"},{"$error":"#VALUE!"},false]
[62,62,{"$error":"#VALUE!"},{"$f":"IF(A72<=$E$2,-PMT(C72/12,IF(C72=КАЛЬКУЛЯТОР!$C$21,$E$2,$E$2-$E$3),IF(C72=КАЛЬКУЛЯТОР!$C$21,$I$10,$I$10-SUMIF($A$11:$A$370,\"<=\"&$E$3,$H$11:$H$370)),0,0),\"\")","v":{"$error":"#VALUE!"}},null,"",{"$f":"IFERROR(-IPMT((C72-'КАЛЬКУЛЯТОР 1'!$P$1)/12,B72,IF(C72=$E$5,$E$2,$E$2-$E$3),IF(C72=$E$5,$I$10,$I$10-SUMIF($A$11:$A$370,\"<=\"&$E$3,$H$11:$H$370)),0,0),\"\")","v":""},"","",{"$error":"#VALUE!"},null,{"$error":"#VALUE!"},{"$error":"#VALUE!"},{"$error":"#VALUE!"},{"$error":"#VALUE!"},false]
[63,63,{"$error":"#VALUE!"},{"$f":"IF(A73<=$E$2,-PMT(C73/12,IF(C73=КАЛЬКУЛЯТОР!$C$21,$E$2,$E$2-$E$3),IF(C73=КАЛЬКУЛЯТОР!$C$21,$I$10,$I$10-SUMIF($A$11:$A$370,\"<=\"&$E$3,$H$11:$H$370)),0,0),\"\")","v":{"$error":"#VALUE!"}},null,"",{"$f":"IFERROR(-IPMT((C73-'КАЛЬКУЛЯТОР 1'!$P$1)/12,B73,IF(C73=$E$5,$E$2,$E$2-$E$3),IF(C73=$E$5,$I$10,$I$10-SUMIF($A$11:$A$370,\"<=\"&$E$3,$H$11:$H$370)),0,0),\"\")","v":""},"","",{"$error":"#VALUE!"},null,{"$error":"#VALUE!"},{"$error":"#VALUE!"},{"$error":"#VALUE!"},{"$error":"#VALUE!"},false]
[64,64,{"$error":"#VALUE!"},{"$f":"IF(A74<=$E$2,-PMT(C74/12,IF(C74=КАЛЬКУЛЯТОР!$C$21,$E$2,$E$2-$E$3),IF(C74=КАЛЬКУЛЯТОР!$C$21,$I$10,$I$10-SUMIF($A$11:$A$370,\"<=\"&$E$3,$H$11:$H$370)),0,0),\"\")","v":{"$error":"#VALUE!"}},null,"",{"$f":"IFERROR(-IPMT((C74-'КАЛЬКУЛЯТОР 1'!$P$1)/12,B74,IF(C74=$E$5,$E$2,$E$2-$E$3),IF(C74=$E$5,$I$10,$I$10-SUMIF($A$11:$A$370,\"<=\"&$E$3,$H$11:$H$370)),0,0),\"\")","v":""},"","",{"$error":"#VALUE!"},null,{"$error":"#VALUE!"},{"$error":"#VALUE!"},{"$error":"#VALUE!"},{"$error":"#VALUE!"},false]
[65,65,{"$error":"#VALUE!"},{"$f":"IF(A75<=$E$2,-PMT(C75/12,IF(C75=КАЛЬКУЛЯТОР!$C$21,$E$2,$E$2-$E$3),IF(C75=КАЛЬКУЛЯТОР!$C$21,$I$10,$I$10-SUMIF($A$11:$A$370,\"<=\"&$E$3,$H$11:$H$370)),0,0),\"\")","v":{"$error":"#VALUE!"}},null,"",{"$f":"IFERROR(-IPMT((C75-'КАЛЬКУЛЯТОР 1'!$P$1)/12,B75,IF(C75=$E$5,$E$2,$E$2-$E$3),IF(C75=$E$5,$I$10,$I$10-SUMIF($A$11:$A$370,\"<=\"&$E$3,$H$11:$H$370)),0,0),\"\")","v":""},"",{"$f":"IFERROR(I74-H75,\"\")","v":""},{"$f":"PV($E$6/12,A75-1,0,-D75)","v":{"$error":"#VALUE!"}},null,{"$f":"PV($E$6/12,A75-1,0,-F75)","v":{"$error":"#VALUE!"}},{"$f":"PV($E$6/12,A75-1,0,-G75)","v":{"$error":"#VALUE!"}},{"$f":"PV($E$6/12,A75-1,0,-H75)","v":{"$error":"#VALUE!"}},{"$f":"O74-N75","v":{"$error":"#VALUE!"}},false]
[66,{"$f":"IF(P76=$P$11,B75+1,A76-$E$3)","v":66},{"$f":"IF(AND($E$4<=$E$5,A76<=$E$3),$E$5,IF(AND(A76>$E$3,A76<=$E$2),$E$4,\"\"))","v":{"$error":"#VALUE!"}},{"$f":"IF(A76<=$E$2,-PMT(C76/12,IF(C76=КАЛЬКУЛЯТОР!$C$21,$E$2,$E$2-$E$3),IF(C76=КАЛЬКУЛЯТОР!$C$21,$I$10,$I$10-SUMIF($A$11:$A$370,\"<=\"&$E$3,$H$11:$H$370)),0,0),\"\")","v":{"$error":"#VALUE!"}},null,{"$f":"IFERROR(-IPMT(C76/12,B76,IF(C76=$E$5,$E$2,$E$2-$E$3),IF(C76=$E$5,$I$10,$I$10-SUMIF($A$11:$A$370,\"<=\"&$E$3,$H$11:$H$370)),0,0),\"\")","v":""},{"$f":"IFERROR(-IPMT((C76-'КАЛЬКУЛЯТОР 1'!$P$1)/12,B76,IF(C76=$E$5,$E$2,$E$2-$E$3),IF(C76=$E$5,$I$10,$I$10-SUMIF($A$11:$A$370,\"<=\"&$E$3,$H$11:$H$370)),0,0),\"\")","v":""},{"$f":"IFERROR((-PPMT(C76/12,B76,IF(C76=$E$5,$E$2,$E$2-$E$3),IF(C76=$E$5,$I$10,$I$10-SUMIF($A$11:$A$370,\"<=\"&$E$3,$H$11:$H$370)),0,0)),\"\")","v":""},"",{"$error":"#VALUE!"},null,{"$error":"#VALUE!"},{"$error":"#VALUE!"},{"$error":"#VALUE!"},{"$error":"#VALUE!"},{"$f":"AND(A76<=$E$3)","v":false}]
[67,67,{"$error":"#VALUE!"},{"$f":"IF(A77<=$E$2,-PMT(C77/12,IF(C77=КАЛЬКУЛЯТОР!$C$21,$E$2,$E$2-$E$3),IF(C77=КАЛЬКУЛЯТОР!$C$21,$I$10,$I$10-SUMIF($A$11:$A$370,\"<=\"&$E$3,$H$11:$H$370)),0,0),\"\")","v":{"$error":"#VALUE!"}},null,"",{"$f":"IFERROR(-IPMT((C77-'КАЛЬКУЛЯТОР 1'!$P$1)/12,B77,IF(C77=$E$5,$E$2,$E$2-$E$3),IF(C77=$E$5,$I$10,$I$10-SUMIF($A$11:$A$370,\"<=\"&$E$3,$H$11:$H$370)),0,0),\"\")","v":""},"","",{"$error":"#VALUE!"},null,{"$error":"#VALUE!"},{"$error":"#VALUE!"},{"$error":"#VALUE!"},{"$error":"#VALUE!"},false]
[68,68,{"$error":"#VALUE!"},{"$f":"IF(A78<=$E$2,-PMT(C78/12,IF(C78=КАЛЬКУЛЯТОР!$C$21,$E$2,$E$2-$E$3),IF(C78=КАЛЬКУЛЯТОР!$C$21,$I$10,$I$10-SUMIF($A$11:$A$370,\"<=\"&$E$3,$H$11:$H$370)),0,0),\"\")","v":{"$error":"#VALUE!"}},null,"",{"$f":"IFERROR(-IPMT((C78-'КАЛЬКУЛЯТОР 1'!$P$1)/12,B78,IF(C78=$E$5,$E$2,$E$2-$E$3),IF(C78=$E$5,$I$10,$I$10-SUMIF($A$11:$A$370,\"<=\"&$E$3,$H$11:$H$370)),0,0),\"\")","v":""},"","",{"$error":"#VALUE!"},null,{"$error":"#VALUE!"},{"$error":"#VALUE!"},{"$error":"#VALUE!"},{"$error":"#VALUE!"},false]
[69,69,{"$error":"#VALUE!"},{"$f":"IF(A79<=$E$2,-PMT(C79/12,IF(C79=КАЛЬКУЛЯТОР!$C$21,$E$2,$E$2-$E$3),IF(C79=КАЛЬКУЛЯТОР!$C$21,$I$10,$I$10-SUMIF($A$11:$A$370,\"<=\"&$E$3,$H$11:$H$370)),0,0),\"\")","v":{"$error":"#VALUE!"}},null,"",{"$f":"IFERROR(-IPMT((C79-'КАЛЬКУЛЯТОР 1'!$P$1)/12,B79,IF(C79=$E$5,$E$2,$E$2-$E$3),IF(C79=$E$5,$I$10,$I$10-SUMIF($A$11:$A$370,\"<=\"&$E$3,$H$11:$H$370)),0,0),\"\")","v":""},"","",{"$error":"#VALUE!"},null,{"$error":"#VALUE!"},{"$error":"#VALUE!"},{"$error":"#VALUE!"},{"$error":"#VALUE!"},false]
[70,70,{"$error":"#VALUE!"},{"$f":"IF(A80<=$E$2,-PMT(C80/12,IF(C80=КАЛЬКУЛЯТОР!$C$21,$E$2,$E$2-$E$3),IF(C80=КАЛЬКУЛЯТОР!$C$21,$I$10,$I$10-SUMIF($A$11:$A$370,\"<=\"&$E$3,$H$11:$H$370)),0,0),\"\")","v":{"$error":"#VALUE!"}},null,"",{"$f":"IFERROR(-IPMT((C80-'КАЛЬКУЛЯТОР 1'!$P$1)/12,B80,IF(C80=$E$5,$E$2,$E$2-$E$3),IF(C80=$E$5,$I$10,$I$10-SUMIF($A$11:$A$370,\"<=\"&$E$3,$H$11:$H$370)),0,0),\"\")","v":""},"","",{"$error":"#VALUE!"},null,{"$error":"#VALUE!"},{"$error":"#VALUE!"},{"$error":"#VALUE!"},{"$error":"#VALUE!"},false]
[71,71,{"$error":"#VALUE!"},{"$f":"IF(A81<=$E$2,-PMT(C81/12,IF(C81=КАЛЬКУЛЯТОР!$C$21,$E$2,$E$2-$E$3),IF(C81=КАЛЬКУЛЯТОР!$C$21,$I$10,$I$10-SUMIF($A$11:$A$370,\"<=\"&$E$3,$H$11:$H$370)),0,0),\"\")","v":{"$error":"#VALUE!"}},null,"",{"$f":"IFERROR(-IPMT((C81-'КАЛЬКУЛЯТОР 1'!$P$1)/12,B81,IF(C81=$E$5,$E$2,$E$2-$E$3),IF(C81=$E$5,$I$10,$I$10-SUMIF($A$11:$A$370,\"<=\"&$E$3,$H$11:$H$370)),0,0),\"\")","v":""},"","",{"$error":"#VALUE!"},null,{"$error":"#VALUE!"},{"$error":"#VALUE!"},{"$error":"#VALUE!"},{"$error":"#VALUE!"},false]
[72,72,{"$error":"#VALUE!"},{"$f":"IF(A82<=$E$2,-PMT(C82/12,IF(C82=КАЛЬКУЛЯТОР!$C$21,$E$2,$E$2-$E$3),IF(C82=КАЛЬКУЛЯТОР!$C$21,$I$10,$I$10-SUMIF($A$11:$A$370,\"<=\"&$E$3,$H$11:$H$370)),0,0),\"\")","v":{"$error":"#VALUE!"}},null,"",{"$f":"IFERROR(-IPMT((C82-'КАЛЬКУЛЯТОР 1'!$P$1)/12,B82,IF(C82=$E$5,$E$2,$E$2-$E$3),IF(C82=$E$5,$I$10,$I$10-SUMIF($A$11:$A$370,\"<=\"&$E$3,$H$11:$H$370)),0,0),\"\")","v":""},"","",{"$error":"#VALUE!"},null,{"$error":"#VALUE!"},{"$error":"#VALUE!"},{"$error":"#VALUE!"},{"$error":"#VALUE!"},false]
[73,73,{"$error":"#VALUE!"},{"$f":"IF(A83<=$E$2,-PMT(C83/12,IF(C83=КАЛЬКУЛЯТОР!$C$21,$E$2,$E$2-$E$3),IF(C83=КАЛЬКУЛЯТОР!$C$21,$I$10,$I$10-SUMIF($A$11:$A$370,\"<=\"&$E$3,$H$11:$H$370)),0,0)+E83,\"\")","v":{"$error":"#VALUE!"}},{"$f":"IF($E$2>$A82,(I82+SUM(F83:F94))*($K$4+$K$5),0)","v":{"$error":"#VALUE!"}},"",{"$f":"IFERROR(-IPMT((C83-'КАЛЬКУЛЯТОР 1'!$P$1)/12,B83,IF(C83=$E$5,$E$2,$E$2-$E$3),IF(C83=$E$5,$I$10,$I$10-SUMIF($A$11:$A$370,\"<=\"&$E$3,$H$11:$H$370)),0,0),\"\")","v":""},"","",{"$error":"#VALUE!"},{"$f":"PV($E$6/12,A83-1,0,-E83)","v":{"$error":"#VALUE!"}},{"$error":"#VALUE!"},{"$error":"#VALUE!"},{"$error":"#VALUE!"},{"$error":"#VALUE!"},false]
[74,74,{"$error":"#VALUE!"},{"$f":"IF(A84<=$E$2,-PMT(C84/12,IF(C84=КАЛЬКУЛЯТОР!$C$21,$E$2,$E$2-$E$3),IF(C84=КАЛЬКУЛЯТОР!$C$21,$I$10,$I$10-SUMIF($A$11:$A$370,\"<=\"&$E$3,$H$11:$H$370)),0,0),\"\")","v":{"$error":"#VALUE!"}},null,"",{"$f":"IFERROR(-IPMT((C84-'КАЛЬКУЛЯТОР 1'!$P$1)/12,B84,IF(C84=$E$5,$E$2,$E$2-$E$3),IF(C84=$E$5,$I$10,$I$10-SUMIF($A$11:$A$370,\"<=\"&$E$3,$H$11:$H$370)),0,0),\"\")","v":""},"","",{"$error":"#VALUE!"},null,{"$error":"#VALUE!"},{"$error":"#VALUE!"},{"$error":"#VALUE!"},{"$error":"#VALUE!"},false]
[75,75,{"$error":"#VALUE!"},{"$f":"IF(A85<=$E$2,-PMT(C85/12,IF(C85=КАЛЬКУЛЯТОР!$C$21,$E$2,$E$2-$E$3),IF(C85=КАЛЬКУЛЯТОР!$C$21,$I$10,$I$10-SUMIF($A$11:$A$370,\"<=\"&$E$3,$H$11:$H$370)),0,0),\"\")","v":{"$error":"#VALUE!"}},null,"",{"$f":"IFERROR(-IPMT((C85-'КАЛЬКУЛЯТОР 1'!$P$1)/12,B85,IF(C85=$E$5,$E$2,$E$2-$E$3),IF(C85=$E$5,$I$10,$I$10-SUMIF($A$11:$A$370,\"<=\"&$E$3,$H$11:$H$370)),0,0),\"\")","v":""},"","",{"$error":"#VALUE!"},null,{"$error":"#VALUE!"},{"$error":"#VALUE!"},{"$error":"#VALUE!"},{"$error":"#VALUE!"},false]
[76,76,{"$error":"#VALUE!"},{"$f":"IF(A86<=$E$2,-PMT(C86/12,IF(C86=КАЛЬКУЛЯТОР!$C$21,$E$2,$E$2-$E$3),IF(C86=КАЛЬКУЛЯТОР!$C$21,$I$10,$I$10-SUMIF($A$11:$A$370,\"<=\"&$E$3,$H$11:$H$370)),0,0),\"\")","v":{"$error":"#VALUE!"}},null,"",{"$f":"IFERROR(-IPMT((C86-'КАЛЬКУЛЯТОР 1'!$P$1)/12,B86,IF(C86=$E$5,$E$2,$E$2-$E$3),IF(C86=$E$5,$I$10,$I$10-SUMIF($A$11:$A$370,\"<=\"&$E$3,$H$11:$H$370)),0,0),\"\")","v":""},"","",{"$error":"#VALUE!"},null,{"$error":"#VALUE!"},{"$error":"#VALUE!"},{"$error":"#VALUE!"},{"$error":"#VALUE!"},false]
[77,77,{"$error":"#VALUE!"},{"$f":"IF(A87<=$E$2,-PMT(C87/12,IF(C87=КАЛЬКУЛЯТОР!$C$21,$E$2,$E$2-$E$3),IF(C87=КАЛЬКУЛЯТОР!$C$21,$I$10,$I$10-SUMIF($A$11:$A$370,\"<=\"&$E$3,$H$11:$H$370)),0,0),\"\")","v":{"$error":"#VALUE!"}},null,"",{"$f":"IFERROR(-IPMT((C87-'КАЛЬКУЛЯТОР 1'!$P$1)/12,B87,IF(C87=$E$5,$E$2,$E$2-$E$3),IF(C87=$E$5,$I$10,$I$10-SUMIF($A$11:$A$370,\"<=\"&$E$3,$H$11:$H$370)),0,0),\"\")","v":""},"","",{"$error":"#VALUE!"},null,{"$error":"#VALUE!"},{"$error":"#VALUE!"},{"$error":"#VALUE!"},{"$error":"#VALUE!"},false]
[78,78,{"$error":"#VALUE!"},{"$f":"IF(A88<=$E$2,-PMT(C88/12,IF(C88=КАЛЬКУЛЯТОР!$C$21,$E$2,$E$2-$E$3),IF(C88=КАЛЬКУЛЯТОР!$C$21,$I$10,$I$10-SUMIF($A$11:$A$370,\"<=\"&$E$3,$H$11:$H$370)),0,0),\"\")","v":{"$error":"#VALUE!"}},null,"",{"$f":"IFERROR(-IPMT((C88-'КАЛЬКУЛЯТОР 1'!$P$1)/12,B88,IF(C88=$E$5,$E$2,$E$2-$E$3),IF(C88=$E$5,$I$10,$I$10-SUMIF($A$11:$A$370,\"<=\"&$E$3,$H$11:$H$370)),0,0),\"\")","v":""},"","",{"$error":"#VALUE!"},null,{"$error":"#VALUE!"},{"$error":"#VALUE!"},{"$error":"#VALUE!"},{"$error":"#VALUE!"},false]
[79,79,{"$error":"#VALUE!"},{"$f":"IF(A89<=$E$2,-PMT(C89/12,IF(C89=КАЛЬКУЛЯТОР!$C$21,$E$2,$E$2-$E$3),IF(C89=КАЛЬКУЛЯТОР!$C$21,$I$10,$I$10-SUMIF($A$11:$A$370,\"<=\"&$E$3,$H$11:$H$370)),0,0),\"\")","v":{"$error":"#VALUE!"}},null,"",{"$f":"IFERROR(-IPMT((C89-'КАЛЬКУЛЯТОР 1'!$P$1)/12,B89,IF(C89=$E$5,$E$2,$E$2-$E$3),IF(C89=$E$5,$I$10,$I$10-SUMIF($A$11:$A$370,\"<=\"&$E$3,$H$11:$H$370)),0,0),\"\")","v":""},"","",{"$error":"#VALUE!"},null,{"$error":"#VALUE!"},{"$error":"#VALUE!"},{"$error":"#VALUE!"},{"$error":"#VALUE!"},false]
[80,80,{"$error":"#VALUE!"},{"$f":"IF(A90<=$E$2,-PMT(C90/12,IF(C90=КАЛЬКУЛЯТОР!$C$21,$E$2,$E$2-$E$3),IF(C90=КАЛЬКУЛЯТОР!$C$21,$I$10,$I$10-SUMIF($A$11:$A$370,\"<=\"&$E$3,$H$11:$H$370)),0,0),\"\")","v":{"$error":"#VALUE!"}},null,"",{"$f":"IFERROR(-IPMT((C90-'КАЛЬКУЛЯТОР 1'!$P$1)/12,B90,IF(C90=$E$5,$E$2,$E$2-$E$3),IF(C90=$E$5,$I$10,$I$10-SUMIF($A$11:$A$370,\"<=\"&$E$3,$H$11:$H$370)),0,0),\"\")","v":""},"","",{"$error":"#VALUE!"},null,{"$error":"#VALUE!"},{"$error":"#VALUE!"},{"$error":"#VALUE!"},{"$error":"#VALUE!"},false]
[81,81,{"$error":"#VALUE!"},{"$f":"IF(A91<=$E$2,-PMT(C91/12,IF(C91=КАЛЬКУЛЯТОР!$C$21,$E$2,$E$2-$E$3),IF(C91=КАЛЬКУЛЯТОР!$C$21,$I$10,$I$10-SUMIF($A$11:$A$370,\"<=\"&$E$3,$H$11:$H$370)),0,0),\"\")","v":{"$error":"#VALUE!"}},null,"",{"$f":"IFERROR(-IPMT((C91-'КАЛЬКУЛЯТОР 1'!$P$1)/12,B91,IF(C91=$E$5,$E$2,$E$2-$E$3),IF(C91=$E$5,$I$10,$I$10-SUMIF($A$11:$A$370,\"<=\"&$E$3,$H$11:$H$370)),0,0),\"\")","v":""},"","",{"$error":"#VALUE!"},null,{"$error":"#VALUE!"},{"$error":"#VALUE!"},{"$error":"#VALUE!"},{"$error":"#VALUE!"},false]
[82,82,{"$error":"#VALUE!"},{"$f":"IF(A92<=$E$2,-PMT(C92/12,IF(C92=КАЛЬКУЛЯТОР!$C$21,$E$2,$E$2-$E$3),IF(C92=КАЛЬКУЛЯТОР!$C$21,$I$10,$I$10-SUMIF($A$11:$A$370,\"<=\"&$E$3,$H$11:$H$370)),0,0),\"\")","v":{"$error":"#VALUE!"}},null,"",{"$f":"IFERROR(-IPMT((C92-'КАЛЬКУЛЯТОР 1'!$P$1)/12,B92,IF(C92=$E$5,$E$2,$E$2-$E$3),IF(C92=$E$5,$I$10,$I$10-SUMIF($A$11:$A$370,\"<=\"&$E$3,$H$11:$H$370)),0,0),\"\")","v":""},"","",{"$error":"#VALUE!"},null,{"$error":"#VALUE!"},{"$error":"#VALUE!"},{"$error":"#VALUE!"},{"$error":"#VALUE!"},false]
[83,83,{"$error":"#VALUE!"},{"$f":"IF(A93<=$E$2,-PMT(C93/12,IF(C93=КАЛЬКУЛЯТОР!$C$21,$E$2,$E$2-$E$3),IF(C93=КАЛЬКУЛЯТОР!$C$21,$I$10,$I$10-SUMIF($A$11:$A$370,\"<=\"&$E$3,$H$11:$H$370)),0,0),\"\")","v":{"$error":"#VALUE!"}},null,"",{"$f":"IFERROR(-IPMT((C93-'КАЛЬКУЛЯТОР 1'!$P$1)/12,B93,IF(C93=$E$5,$E$2,$E$2-$E$3),IF(C93=$E$5,$I$10,$I$10-SUMIF($A$11:$A$370,\"<=\"&$E$3,$H$11:$H$370)),0,0),\"\")","v":""},"","",{"$error":"#VALUE!"},null,{"$error":"#VALUE!"},{"$error":"#VALUE!"},{"$error":"#VALUE!"},{"$error":"#VALUE!"},false]
[84,84,{"$error":"#VALUE!"},{"$f":"IF(A94<=$E$2,-PMT(C94/12,IF(C94=КАЛЬКУЛЯТОР!$C$21,$E$2,$E$2-$E$3),IF(C94=КАЛЬКУЛЯТОР!$C$21,$I$10,$I$10-SUMIF($A$11:$A$370,\"<=\"&$E$3,$H$11:$H$370)),0,0),\"\")","v":{"$error":"#VALUE!"}},null,"",{"$f":"IFERROR(-IPMT((C94-'КАЛЬКУЛЯТОР 1'!$P$1)/12,B94,IF(C94=$E$5,$E$2,$E$2-$E$3),IF(C94=$E$5,$I$10,$I$10-SUMIF($A$11:$A$370,\"<=\"&$E$3,$H$11:$H$370)),0,0),\"\")","v":""},"","",{"$error":"#VALUE!"},null,{"$error":"#VALUE!"},{"$error":"#VALUE!"},{"$error":"#VALUE!"},{"$error":"#VALUE!"},false]
[85,85,{"$error":"#VALUE!"},{"$f":"IF(A95<=$E$2,-PMT(C95/12,IF(C95=КАЛЬКУЛЯТОР!$C$21,$E$2,$E$2-$E$3),IF(C95=КАЛЬКУЛЯТОР!$C$21,$I$10,$I$10-SUMIF($A$11:$A$370,\"<=\"&$E$3,$H$11:$H$370)),0,0)+E95,\"\")","v":{"$error":"#VALUE!"}},{"$f":"IF($E$2>$A94,(I94+SUM(F95:F106))*($K$4+$K$5),0)","v":{"$error":"#VALUE!"}},"",{"$f":"IFERROR(-IPMT((C95-'КАЛЬКУЛЯТОР 1'!$P$1)/12,B95,IF(C95=$E$5,$E$2,$E$2-$E$3),IF(C95=$E$5,$I$10,$I$10-SUMIF($A$11:$A$370,\"<=\"&$E$3,$H$11:$H$370)),0,0),\"\")","v":""},"","",{"$error":"#VALUE!"},{"$f":"PV($E$6/12,A95-1,0,-E95)","v":{"$error":"#VALUE!"}},{"$error":"#VALUE!"},{"$error":"#VALUE!"},{"$error":"#VALUE!"},{"$error":"#VALUE!"},false]
[86,86,{"$error":"#VALUE!"},{"$f":"IF(A96<=$E$2,-PMT(C96/12,IF(C96=КАЛЬКУЛЯТОР!$C$21,$E$2,$E$2-$E$3),IF(C96=КАЛЬКУЛЯТОР!$C$21,$I$10,$I$10-SUMIF($A$11:$A$370,\"<=\"&$E$3,$H$11:$H$370)),0,0),\"\")","v":{"$error":"#VALUE!"}},null,"",{"$f":"IFERROR(-IPMT((C96-'КАЛЬКУЛЯТОР 1'!$P$1)/12,B96,IF(C96=$E$5,$E$2,$E$2-$E$3),IF(C96=$E$5,$I$10,$I$10-SUMIF($A$11:$A$370,\"<=\"&$E$3,$H$11:$H$370)),0,0),\"\")","v":""},"","",{"$error":"#VALUE!"},null,{"$error":"#VALUE!"},{"$error":"#VALUE!"},{"$error":"#VALUE!"},{"$error":"#VALUE!"},false]
[87,87,{"$error":"#VALUE!"},{"$f":"IF(A97<=$E$2,-PMT(C97/12,IF(C97=КАЛЬКУЛЯТОР!$C$21,$E$2,$E$2-$E$3),IF(C97=КАЛЬКУЛЯТОР!$C$21,$I$10,$I$10-SUMIF($A$11:$A$370,\"<=\"&$E$3,$H$11:$H$370)),0,0),\"\")","v":{"$error":"#VALUE!"}},null,"",{"$f":"IFERROR(-IPMT((C97-'КАЛЬКУЛЯТОР 1'!$P$1)/12,B97,IF(C97=$E$5,$E$2,$E$2-$E$3),IF(C97=$E$5,$I$10,$I$10-SUMIF($A$11:$A$370,\"<=\"&$E$3,$H$11:$H$370)),0,0),\"\")","v":""},"","",{"$error":"#VALUE!"},null,{"$error":"#VALUE!"},{"$error":"#VALUE!"},{"$error":"#VALUE!"},{"$error":"#VALUE!"},false]
[88,88,{"$error":"#VALUE!"},{"$f":"IF(A98<=$E$2,-PMT(C98/12,IF(C98=КАЛЬКУЛЯТОР!$C$21,$E$2,$E$2-$E$3),IF(C98=КАЛЬКУЛЯТОР!$C$21,$I$10,$I$10-SUMIF($A$11:$A$370,\"<=\"&$E$3,$H$11:$H$370)),0,0),\"\")","v":{"$error":"#VALUE!"}},null,"",{"$f":"IFERROR(-IPMT((C98-'КАЛЬКУЛЯТОР 1'!$P$1)/12,B98,IF(C98=$E$5,$E$2,$E$2-$E$3),IF(C98=$E$5,$I$10,$I$10-SUMIF($A$11:$A$370,\"<=\"&$E$3,$H$11:$H$370)),0,0),\"\")","v":""},"","",{"$error":"#VALUE!"},null,{"$error":"#VALUE!"},{"$error":"#VALUE!"},{"$error":"#VALUE!"},{"$error":"#VALUE!"},false]
[89,89,{"$error":"#VALUE!"},{"$f":"IF(A99<=$E$2,-PMT(C99/12,IF(C99=КАЛЬКУЛЯТОР!$C$21,$E$2,$E$2-$E$3),IF(C99=КАЛЬКУЛЯТОР!$C$21,$I$10,$I$10-SUMIF($A$11:$A$370,\"<=\"&$E$3,$H$11:$H$370)),0,0),\"\")","v":{"$error":"#VALUE!"}},null,"",{"$f":"IFERROR(-IPMT((C99-'КАЛЬКУЛЯТОР 1'!$P$1)/12,B99,IF(C99=$E$5,$E$2,$E$2-$E$3),IF(C99=$E$5,$I$10,$I$10-SUMIF($A$11:$A$370,\"<=\"&$E$3,$H$11:$H$370)),0,0),\"\")","v":""},"","",{"$error":"#VALUE!"},null,{"$error":"#VALUE!"},{"$error":"#VALUE!"},{"$error":"#VALUE!"},{"$error":"#VALUE!"},false]
[90,90,{"$error":"#VALUE!"},{"$f":"IF(A100<=$E$2,-PMT(C100/12,IF(C100=КАЛЬКУЛЯТОР!$C$21,$E$2,$E$2-$E$3),IF(C100=КАЛЬКУЛЯТОР!$C$21,$I$10,$I$10-SUMIF($A$11:$A$370,\"<=\"&$E$3,$H$11:$H$370)),0,0),\"\")","v":{"$error":"#VALUE!"}},null,"",{"$f":"IFERROR(-IPMT((C100-'КАЛЬКУЛЯТОР 1'!$P$1)/12,B100,IF(C100=$E$5,$E$2,$E$2-$E$3),IF(C100=$E$5,$I$10,$I$10-SUMIF($A$11:$A$370,\"<=\"&$E$3,$H$11:$H$370)),0,0),\"\")","v":""},"","",{"$error":"#VALUE!"},null,{"$error":"#VALUE!"},{"$error":"#VALUE!"},{"$error":"#VALUE!"},{"$error":"#VALUE!"},false]
[91,91,{"$error":"#VALUE!"},{"$f":"IF(A101<=$E$2,-PMT(C101/12,IF(C101=КАЛЬКУЛЯТОР!$C$21,$E$2,$E$2-$E$3),IF(C101=КАЛЬКУЛЯТОР!$C$21,$I$10,$I$10-SUMIF($A$11:$A$370,\"<=\"&$E$3,$H$11:$H$370)),0,0),\"\")","v":{"$error":"#VALUE!"}},null,"",{"$f":"IFERROR(-IPMT((C101-'КАЛЬКУЛЯТОР 1'!$P$1)/12,B101,IF(C101=$E$5,$E$2,$E$2-$E$3),IF(C101=$E$5,$I$10,$I$10-SUMIF($A$11:$A$370,\"<=\"&$E$3,$H$11:$H$370)),0,0),\"\")","v":""},"","",{"$error":"#VALUE!"},null,{"$error":"#VALUE!"},{"$error":"#VALUE!"},{"$error":"#VALUE!"},{"$error":"#VALUE!"},false]
[92,92,{"$error":"#VALUE!"},{"$f":"IF(A102<=$E$2,-PMT(C102/12,IF(C102=КАЛЬКУЛЯТОР!$C$21,$E$2,$E$2-$E$3),IF(C102=КАЛЬКУЛЯТОР!$C$21,$I$10,$I$10-SUMIF($A$11:$A$370,\"<=\"&$E$3,$H$11:$H$370)),0,0),\"\")","v":{"$error":"#VALUE!"}},null,"",{"$f":"IFERROR(-IPMT((C102-'КАЛЬКУЛЯТОР 1'!$P$1)/12,B102,IF(C102=$E$5,$E$2,$E$2-$E$3),IF(C102=$E$5,$I$10,$I$10-SUMIF($A$11:$A$370,\"<=\"&$E$3,$H$11:$H$370)),0,0),\"\")","v":""},"","",{"$error":"#VALUE!"},null,{"$error":"#VALUE!"},{"$error":"#VALUE!"},{"$error":"#VALUE!"},{"$error":"#VALUE!"},false]
[93,93,{"$error":"#VALUE!"},{"$f":"IF(A103<=$E$2,-PMT(C103/12,IF(C103=КАЛЬКУЛЯТОР!$C$21,$E$2,$E$2-$E$3),IF(C103=КАЛЬКУЛЯТОР!$C$21,$I$10,$I$10-SUMIF($A$11:$A$370,\"<=\"&$E$3,$H$11:$H$370)),0,0),\"\")","v":{"$error":"#VALUE!"}},null,"",{"$f":"IFERROR(-IPMT((C103-'КАЛЬКУЛЯТОР 1'!$P$1)/12,B103,IF(C103=$E$5,$E$2,$E$2-$E$3),IF(C103=$E$5,$I$10,$I$10-SUMIF($A$11:$A$370,\"<=\"&$E$3,$H$11:$H$370)),0,0),\"\")","v":""},"","",{"$error":"#VALUE!"},null,{"$error":"#VALUE!"},{"$error":"#VALUE!"},{"$error":"#VALUE!"},{"$error":"#VALUE!"},false]
[94,94,{"$error":"#VALUE!"},{"$f":"IF(A104<=$E$2,-PMT(C104/12,IF(C104=КАЛЬКУЛЯТОР!$C$21,$E$2,$E$2-$E$3),IF(C104=КАЛЬКУЛЯТОР!$C$21,$I$10,$I$10-SUMIF($A$11:$A$370,\"<=\"&$E$3,$H$11:$H$370)),0,0),\"\")","v":{"$error":"#VALUE!"}},null,"",{"$f":"IFERROR(-IPMT((C104-'КАЛЬКУЛЯТОР 1'!$P$1)/12,B104,IF(C104=$E$5,$E$2,$E$2-$E$3),IF(C104=$E$5,$I$10,$I$10-SUMIF($A$11:$A$370,\"<=\"&$E$3,$H$11:$H$370)),0,0),\"\")","v":""},"","",{"$error":"#VALUE!"},null,{"$error":"#VALUE!"},{"$error":"#VALUE!"},{"$error":"#VALUE!"},{"$error":"#VALUE!"},false]
[95,95,{"$error":"#VALUE!"},{"$f":"IF(A105<=$E$2,-PMT(C105/12,IF(C105=КАЛЬКУЛЯТОР!$C$21,$E$2,$E$2-$E$3),IF(C105=КАЛЬКУЛЯТОР!$C$21,$I$10,$I$10-SUMIF($A$11:$A$370,\"<=\"&$E$3,$H$11:$H$370)),0,0),\"\")","v":{"$error":"#VALUE!"}},null,"",{"$f":"IFERROR(-IPMT((C105-'КАЛЬКУЛЯТОР 1'!$P$1)/12,B105,IF(C105=$E$5,$E$2,$E$2-$E$3),IF(C105=$E$5,$I$10,$I$10-SUMIF($A$11:$A$370,\"<=\"&$E$3,$H$11:$H$370)),0,0),\"\")","v":""},"","",{"$error":"#VALUE!"},null,{"$error":"#VALUE!"},{"$error":"#VALUE!"},{"$error":"#VALUE!"},{"$error":"#VALUE!"},false]
[96,96,{"$error":"#VALUE!"},{"$f":"IF(A106<=$E$2,-PMT(C106/12,IF(C106=КАЛЬКУЛЯТОР!$C$21,$E$2,$E$2-$E$3),IF(C106=КАЛЬКУЛЯТОР!$C$21,$I$10,$I$10-SUMIF($A$11:$A$370,\"<=\"&$E$3,$H$11:$H$370)),0,0),\"\")","v":{"$error":"#VALUE!"}},null,"",{"$f":"IFERROR(-IPMT((C106-'КАЛЬКУЛЯТОР 1'!$P$1)/12,B106,IF(C106=$E$5,$E$2,$E$2-$E$3),IF(C106=$E$5,$I$10,$I$10-SUMIF($A$11:$A$370,\"<=\"&$E$3,$H$11:$H$370)),0,0),\"\")","v":""},"","",{"$error":"#VALUE!"},null,{"$error":"#VALUE!"},{"$error":"#VALUE!"},{"$error":"#VALUE!"},{"$error":"#VALUE!"},false]
[97,97,{"$error":"#VALUE!"},{"$f":"IF(A107<=$E$2,-PMT(C107/12,IF(C107=КАЛЬКУЛЯТОР!$C$21,$E$2,$E$2-$E$3),IF(C107=КАЛЬКУЛЯТОР!$C$21,$I$10,$I$10-SUMIF($A$11:$A$370,\"<=\"&$E$3,$H$11:$H$370)),0,0)+E107,\"\")","v":{"$error":"#VALUE!"}},{"$f":"IF($E$2>$A106,(I106+SUM(F107:F118))*($K$4+$K$5),0)","v":{"$error":"#VALUE!"}},"",{"$f":"IFERROR(-IPMT((C107-'КАЛЬКУЛЯТОР 1'!$P$1)/12,B107,IF(C107=$E$5,$E$2,$E$2-$E$3),IF(C107=$E$5,$I$10,$I$10-SUMIF($A$11:$A$370,\"<=\"&$E$3,$H$11:$H$370)),0,0),\"\")","v":""},"","",{"$error":"#VALUE!"},{"$f":"PV($E$6/12,A107-1,0,-E107)","v":{"$error":"#VALUE!"}},{"$error":"#VALUE!"},{"$error":"#VALUE!"},{"$error":"#VALUE!"},{"$error":"#VALUE!"},false]
[98,98,{"$error":"#VALUE!"},{"$f":"IF(A108<=$E$2,-PMT(C108/12,IF(C108=КАЛЬКУЛЯТОР!$C$21,$E$2,$E$2-$E$3),IF(C108=КАЛЬКУЛЯТОР!$C$21,$I$10,$I$10-SUMIF($A$11:$A$370,\"<=\"&$E$3,$H$11:$H$370)),0,0),\"\")","v":{"$error":"#VALUE!"}},null,"",{"$f":"IFERROR(-IPMT((C108-'КАЛЬКУЛЯТОР 1'!$P$1)/12,B108,IF(C108=$E$5,$E$2,$E$2-$E$3),IF(C108=$E$5,$I$10,$I$10-SUMIF($A$11:$A$370,\"<=\"&$E$3,$H$11:$H$370)),0,0),\"\")","v":""},"","",{"$error":"#VALUE!"},null,{"$error":"#VALUE!"},{"$error":"#VALUE!"},{"$error":"#VALUE!"},{"$error":"#VALUE!"},false]
[99,99,{"$error":"#VALUE!"},{"$f":"IF(A109<=$E$2,-PMT(C109/12,IF(C109=КАЛЬКУЛЯТОР!$C$21,$E$2,$E$2-$E$3),IF(C109=КАЛЬКУЛЯТОР!$C$21,$I$10,$I$10-SUMIF($A$11:$A$370,\"<=\"&$E$3,$H$11:$H$370)),0,0),\"\")","v":{"$error":"#VALUE!"}},null,"",{"$f":"IFERROR(-IPMT((C109-'КАЛЬКУЛЯТОР 1'!$P$1)/12,B109,IF(C109=$E$5,$E$2,$E$2-$E$3),IF(C109=$E$5,$I$10,$I$10-SUMIF($A$11:$A$370,\"<=\"&$E$3,$H$11:$H$370)),0,0),\"\")","v":""},"","",{"$error":"#VALUE!"},null,{"$error":"#VALUE!"},{"$error":"#VALUE!"},{"$error":"#VALUE!"},{"$error":"#VALUE!"},false]
[100,100,{"$error":"#VALUE!"},{"$f":"IF(A110<=$E$2,-PMT(C110/12,IF(C110=КАЛЬКУЛЯТОР!$C$21,$E$2,$E$2-$E$3),IF(C110=КАЛЬКУЛЯТОР!$C$21,$I$10,$I$10-SUMIF($A$11:$A$370,\"<=\"&$E$3,$H$11:$H$370)),0,0),\"\")","v":{"$error":"#VALUE!"}},null,"",{"$f":"IFERROR(-IPMT((C110-'КАЛЬКУЛЯТОР 1'!$P$1)/12,B110,IF(C110=$E$5,$E$2,$E$2-$E$3),IF(C110=$E$5,$I$10,$I$10-SUMIF($A$11:$A$370,\"<=\"&$E$3,$H$11:$H$370)),0,0),\"\")","v":""},"","",{"$error":"#VALUE!"},null,{"$error":"#VALUE!"},{"$error":"#VALUE!"},{"$error":"#VALUE!"},{"$error":"#VALUE!"},false]
[101,101,{"$error":"#VALUE!"},{"$f":"IF(A111<=$E$2,-PMT(C111/12,IF(C111=КАЛЬКУЛЯТОР!$C$21,$E$2,$E$2-$E$3),IF(C111=КАЛЬКУЛЯТОР!$C$21,$I$10,$I$10-SUMIF($A$11:$A$370,\"<=\"&$E$3,$H$11:$H$370)),0,0),\"\")","v":{"$error":"#VALUE!"}},null,"",{"$f":"IFERROR(-IPMT((C111-'КАЛЬКУЛЯТОР 1'!$P$1)/12,B111,IF(C111=$E$5,$E$2,$E$2-$E$3),IF(C111=$E$5,$I$10,$I$10-SUMIF($A$11:$A$370,\"<=\"&$E$3,$H$11:$H$370)),0,0),\"\")","v":""},"","",{"$error":"#VALUE!"},null,{"$error":"#VALUE!"},{"$error":"#VALUE!"},{"$error":"#VALUE!"},{"$error":"#VALUE!"},false]
[102,102,{"$error":"#VALUE!"},{"$f":"IF(A112<=$E$2,-PMT(C112/12,IF(C112=КАЛЬКУЛЯТОР!$C$21,$E$2,$E$2-$E$3),IF(C112=КАЛЬКУЛЯТОР!$C$21,$I$10,$I$10-SUMIF($A$11:$A$370,\"<=\"&$E$3,$H$11:$H$370)),0,0),\"\")","v":{"$error":"#VALUE!"}},null,"",{"$f":"IFERROR(-IPMT((C112-'КАЛЬКУЛЯТОР 1'!$P$1)/12,B112,IF(C112=$E$5,$E$2,$E$2-$E$3),IF(C112=$E$5,$I$10,$I$10-SUMIF($A$11:$A$370,\"<=\"&$E$3,$H$11:$H$370)),0,0),\"\")","v":""},"","",{"$error":"#VALUE!"},null,{"$error":"#VALUE!"},{"$error":"#VALUE!"},{"$error":"#VALUE!"},{"$error":"#VALUE!"},false]
[103,103,{"$error":"#VALUE!"},{"$f":"IF(A113<=$E$2,-PMT(C113/12,IF(C113=КАЛЬКУЛЯТОР!$C$21,$E$2,$E$2-$E$3),IF(C113=КАЛЬКУЛЯТОР!$C$21,$I$10,$I$10-SUMIF($A$11:$A$370,\"<=\"&$E$3,$H$11:$H$370)),0,0),\"\")","v":{"$error":"#VALUE!"}},null,"",{"$f":"IFERROR(-IPMT((C113-'КАЛЬКУЛЯТОР 1'!$P$1)/12,B113,IF(C113=$E$5,$E$2,$E$2-$E$3),IF(C113=$E$5,$I$10,$I$10-SUMIF($A$11:$A$370,\"<=\"&$E$3,$H$11:$H$370)),0,0),\"\")","v":""},"","",{"$error":"#VALUE!"},null,{"$error":"#VALUE!"},{"$error":"#VALUE!"},{"$error":"#VALUE!"},{"$error":"#VALUE!"},false]
[104,104,{"$error":"#VALUE!"},{"$f":"IF(A114<=$E$2,-PMT(C114/12,IF(C114=КАЛЬКУЛЯТОР!$C$21,$E$2,$E$2-$E$3),IF(C114=КАЛЬКУЛЯТОР!$C$21,$I$10,$I$10-SUMIF($A$11:$A$370,\"<=\"&$E$3,$H$11:$H$370)),0,0),\"\")","v":{"$error":"#VALUE!"}},null,"",{"$f":"IFERROR(-IPMT((C114-'КАЛЬКУЛЯТОР 1'!$P$1)/12,B114,IF(C114=$E$5,$E$2,$E$2-$E$3),IF(C114=$E$5,$I$10,$I$10-SUMIF($A$11:$A$370,\"<=\"&$E$3,$H$11:$H$370)),0,0),\"\")","v":""},"","",{"$error":"#VALUE!"},null,{"$error":"#VALUE!"},{"$error":"#VALUE!"},{"$error":"#VALUE!"},{"$error":"#VALUE!"},false]
[105,105,{"$error":"#VALUE!"},{"$f":"IF(A115<=$E$2,-PMT(C115/12,IF(C115=КАЛЬКУЛЯТОР!$C$21,$E$2,$E$2-$E$3),IF(C115=КАЛЬКУЛЯТОР!$C$21,$I$10,$I$10-SUMIF($A$11:$A$370,\"<=\"&$E$3,$H$11:$H$370)),0,0),\"\")","v":{"$error":"#VALUE!"}},null,"",{"$f":"IFERROR(-IPMT((C115-'КАЛЬКУЛЯТОР 1'!$P$1)/12,B115,IF(C115=$E$5,$E$2,$E$2-$E$3),IF(C115=$E$5,$I$10,$I$10-SUMIF($A$11:$A$370,\"<=\"&$E$3,$H$11:$H$370)),0,0),\"\")","v":""},"","",{"$error":"#VALUE!"},null,{"$error":"#VALUE!"},{"$error":"#VALUE!"},{"$error":"#VALUE!"},{"$error":"#VALUE!"},false]
[106,106,{"$error":"#VALUE!"},{"$f":"IF(A116<=$E$2,-PMT(C116/12,IF(C116=КАЛЬКУЛЯТОР!$C$21,$E$2,$E$2-$E$3),IF(C116=КАЛЬКУЛЯТОР!$C$21,$I$10,$I$10-SUMIF($A$11:$A$370,\"<=\"&$E$3,$H$11:$H$370)),0,0),\"\")","v":{"$error":"#VALUE!"}},null,"",{"$f":"IFERROR(-IPMT((C116-'КАЛЬКУЛЯТОР 1'!$P$1)/12,B116,IF(C116=$E$5,$E$2,$E$2-$E$3),IF(C116=$E$5,$I$10,$I$10-SUMIF($A$11:$A$370,\"<=\"&$E$3,$H$11:$H$370)),0,0),\"\")","v":""},"","",{"$error":"#VALUE!"},null,{"$error":"#VALUE!"},{"$error":"#VALUE!"},{"$error":"#VALUE!"},{"$error":"#VALUE!"},false]
[107,107,{"$error":"#VALUE!"},{"$f":"IF(A117<=$E$2,-PMT(C117/12,IF(C117=КАЛЬКУЛЯТОР!$C$21,$E$2,$E$2-$E$3),IF(C117=КАЛЬКУЛЯТОР!$C$21,$I$10,$I$10-SUMIF($A$11:$A$370,\"<=\"&$E$3,$H$11:$H$370)),0,0),\"\")","v":{"$error":"#VALUE!"}},null,"",{"$f":"IFERROR(-IPMT((C117-'КАЛЬКУЛЯТОР 1'!$P$1)/12,B117,IF(C117=$E$5,$E$2,$E$2-$E$3),IF(C117=$E$5,$I$10,$I$10-SUMIF($A$11:$A$370,\"<=\"&$E$3,$H$11:$H$370)),0,0),\"\")","v":""},"","",{"$error":"#VALUE!"},null,{"$error":"#VALUE!"},{"$error":"#VALUE!"},{"$error":"#VALUE!"},{"$error":"#VALUE!"},false]
[108,108,{"$error":"#VALUE!"},{"$f":"IF(A118<=$E$2,-PMT(C118/12,IF(C118=КАЛЬКУЛЯТОР!$C$21,$E$2,$E$2-$E$3),IF(C118=КАЛЬКУЛЯТОР!$C$21,$I$10,$I$10-SUMIF($A$11:$A$370,\"<=\"&$E$3,$H$11:$H$370)),0,0),\"\")","v":{"$error":"#VALUE!"}},null,"",{"$f":"IFERROR(-IPMT((C118-'КАЛЬКУЛЯТОР 1'!$P$1)/12,B118,IF(C118=$E$5,$E$2,$E$2-$E$3),IF(C118=$E$5,$I$10,$I$10-SUMIF($A$11:$A$370,\"<=\"&$E$3,$H$11:$H$370)),0,0),\"\")","v":""},"","",{"$error":"#VALUE!"},null,{"$error":"#VALUE!"},{"$error":"#VALUE!"},{"$error":"#VALUE!"},{"$error":"#VALUE!"},false]
[109,109,{"$error":"#VALUE!"},{"$f":"IF(A119<=$E$2,-PMT(C119/12,IF(C119=КАЛЬКУЛЯТОР!$C$21,$E$2,$E$2-$E$3),IF(C119=КАЛЬКУЛЯТОР!$C$21,$I$10,$I$10-SUMIF($A$11:$A$370,\"<=\"&$E$3,$H$11:$H$370)),0,0)+E119,\"\")","v":{"$error":"#VALUE!"}},{"$f":"IF($E$2>$A118,(I118+SUM(F119:F130))*($K$4+$K$5),0)","v":{"$error":"#VALUE!"}},"",{"$f":"IFERROR(-IPMT((C119-'КАЛЬКУЛЯТОР 1'!$P$1)/12,B119,IF(C119=$E$5,$E$2,$E$2-$E$3),IF(C119=$E$5,$I$10,$I$10-SUMIF($A$11:$A$370,\"<=\"&$E$3,$H$11:$H$370)),0,0),\"\")","v":""},"","",{"$error":"#VALUE!"},{"$f":"PV($E$6/12,A119-1,0,-E119)","v":{"$error":"#VALUE!"}},{"$error":"#VALUE!"},{"$error":"#VALUE!"},{"$error":"#VALUE!"},{"$error":"#VALUE!"},false]
[110,110,{"$error":"#VALUE!"},{"$f":"IF(A120<=$E$2,-PMT(C120/12,IF(C120=КАЛЬКУЛЯТОР!$C$21,$E$2,$E$2-$E$3),IF(C120=КАЛЬКУЛЯТОР!$C$21,$I$10,$I$10-SUMIF($A$11:$A$370,\"<=\"&$E$3,$H$11:$H$370)),0,0),\"\")","v":{"$error":"#VALUE!"}},null,"",{"$f":"IFERROR(-IPMT((C120-'КАЛЬКУЛЯТОР 1'!$P$1)/12,B120,IF(C120=$E$5,$E$2,$E$2-$E$3),IF(C120=$E$5,$I$10,$I$10-SUMIF($A$11:$A$370,\"<=\"&$E$3,$H$11:$H$370)),0,0),\"\")","v":""},"","",{"$error":"#VALUE!"},null,{"$error":"#VALUE!"},{"$error":"#VALUE!"},{"$error":"#VALUE!"},{"$error":"#VALUE!"},false]
[111,111,{"$error":"#VALUE!"},{"$f":"IF(A121<=$E$2,-PMT(C121/12,IF(C121=КАЛЬКУЛЯТОР!$C$21,$E$2,$E$2-$E$3),IF(C121=КАЛЬКУЛЯТОР!$C$21,$I$10,$I$10-SUMIF($A$11:$A$370,\"<=\"&$E$3,$H$11:$H$370)),0,0),\"\")","v":{"$error":"#VALUE!"}},null,"",{"$f":"IFERROR(-IPMT((C121-'КАЛЬКУЛЯТОР 1'!$P$1)/12,B121,IF(C121=$E$5,$E$2,$E$2-$E$3),IF(C121=$E$5,$I$10,$I$10-SUMIF($A$11:$A$370,\"<=\"&$E$3,$H$11:$H$370)),0,0),\"\")","v":""},"","",{"$error":"#VALUE!"},null,{"$error":"#VALUE!"},{"$error":"#VALUE!"},{"$error":"#VALUE!"},{"$error":"#VALUE!"},false]
[112,112,{"$error":"#VALUE!"},{"$f":"IF(A122<=$E$2,-PMT(C122/12,IF(C122=КАЛЬКУЛЯТОР!$C$21,$E$2,$E$2-$E$3),IF(C122=КАЛЬКУЛЯТОР!$C$21,$I$10,$I$10-SUMIF($A$11:$A$370,\"<=\"&$E$3,$H$11:$H$370)),0,0),\"\")","v":{"$error":"#VALUE!"}},null,"",{"$f":"IFERROR(-IPMT((C122-'КАЛЬКУЛЯТОР 1'!$P$1)/12,B122,IF(C122=$E$5,$E$2,$E$2-$E$3),IF(C122=$E$5,$I$10,$I$10-SUMIF($A$11:$A$370,\"<=\"&$E$3,$H$11:$H$370)),0,0),\"\")","v":""},"","",{"$error":"#VALUE!"},null,{"$error":"#VALUE!"},{"$error":"#VALUE!"},{"$error":"#VALUE!"},{"$error":"#VALUE!"},false]
[113,113,{"$error":"#VALUE!"},{"$f":"IF(A123<=$E$2,-PMT(C123/12,IF(C123=КАЛЬКУЛЯТОР!$C$21,$E$2,$E$2-$E$3),IF(C123=КАЛЬКУЛЯТОР!$C$21,$I$10,$I$10-SUMIF($A$11:$A$370,\"<=\"&$E$3,$H$11:$H$370)),0,0),\"\")","v":{"$error":"#VALUE!"}},null,"",{"$f":"IFERROR(-IPMT((C123-'КАЛЬКУЛЯТОР 1'!$P$1)/12,B123,IF(C123=$E$5,$E$2,$E$2-$E$3),IF(C123=$E$5,$I$10,$I$10-SUMIF($A$11:$A$370,\"<=\"&$E$3,$H$11:$H$370)),0,0),\"\")","v":""},"","",{"$error":"#VALUE!"},null,{"$error":"#VALUE!"},{"$error":"#VALUE!"},{"$error":"#VALUE!"},{"$error":"#VALUE!"},false]
[114,114,{"$error":"#VALUE!"},{"$f":"IF(A124<=$E$2,-PMT(C124/12,IF(C124=КАЛЬКУЛЯТОР!$C$21,$E$2,$E$2-$E$3),IF(C124=КАЛЬКУЛЯТОР!$C$21,$I$10,$I$10-SUMIF($A$11:$A$370,\"<=\"&$E$3,$H$11:$H$370)),0,0),\"\")","v":{"$error":"#VALUE!"}},null,"",{"$f":"IFERROR(-IPMT((C124-'КАЛЬКУЛЯТОР 1'!$P$1)/12,B124,IF(C124=$E$5,$E$2,$E$2-$E$3),IF(C124=$E$5,$I$10,$I$10-SUMIF($A$11:$A$370,\"<=\"&$E$3,$H$11:$H$370)),0,0),\"\")","v":""},"","",{"$error":"#VALUE!"},null,{"$error":"#VALUE!"},{"$error":"#VALUE!"},{"$error":"#VALUE!"},{"$error":"#VALUE!"},false]
[115,115,{"$error":"#VALUE!"},{"$f":"IF(A125<=$E$2,-PMT(C125/12,IF(C125=КАЛЬКУЛЯТОР!$C$21,$E$2,$E$2-$E$3),IF(C125=КАЛЬКУЛЯТОР!$C$21,$I$10,$I$10-SUMIF($A$11:$A$370,\"<=\"&$E$3,$H$11:$H$370)),0,0),\"\")","v":{"$error":"#VALUE!"}},null,"",{"$f":"IFERROR(-IPMT((C125-'КАЛЬКУЛЯТОР 1'!$P$1)/12,B125,IF(C125=$E$5,$E$2,$E$2-$E$3),IF(C125=$E$5,$I$10,$I$10-SUMIF($A$11:$A$370,\"<=\"&$E$3,$H$11:$H$370)),0,0),\"\")","v":""},"","",{"$error":"#VALUE!"},null,{"$error":"#VALUE!"},{"$error":"#VALUE!"},{"$error":"#VALUE!"},{"$error":"#VALUE!"},false]
[116,116,{"$error":"#VALUE!"},{"$f":"IF(A126<=$E$2,-PMT(C126/12,IF(C126=КАЛЬКУЛЯТОР!$C$21,$E$2,$E$2-$E$3),IF(C126=КАЛЬКУЛЯТОР!$C$21,$I$10,$I$10-SUMIF($A$11:$A$370,\"<=\"&$E$3,$H$11:$H$370)),0,0),\"\")","v":{"$error":"#VALUE!"}},null,"",{"$f":"IFERROR(-IPMT((C126-'КАЛЬКУЛЯТОР 1'!$P$1)/12,B126,IF(C126=$E$5,$E$2,$E$2-$E$3),IF(C126=$E$5,$I$10,$I$10-SUMIF($A$11:$A$370,\"<=\"&$E$3,$H$11:$H$370)),0,0),\"\")","v":""},"","",{"$error":"#VALUE!"},null,{"$error":"#VALUE!"},{"$error":"#VALUE!"},{"$error":"#VALUE!"},{"$error":"#VALUE!"},false]
[117,117,{"$error":"#VALUE!"},{"$f":"IF(A127<=$E$2,-PMT(C127/12,IF(C127=КАЛЬКУЛЯТОР!$C$21,$E$2,$E$2-$E$3),IF(C127=КАЛЬКУЛЯТОР!$C$21,$I$10,$I$10-SUMIF($A$11:$A$370,\"<=\"&$E$3,$H$11:$H$370)),0,0),\"\")","v":{"$error":"#VALUE!"}},null,"",{"$f":"IFERROR(-IPMT((C127-'КАЛЬКУЛЯТОР 1'!$P$1)/12,B127,IF(C127=$E$5,$E$2,$E$2-$E$3),IF(C127=$E$5,$I$10,$I$10-SUMIF($A$11:$A$370,\"<=\"&$E$3,$H$11:$H$370)),0,0),\"\")","v":""},"","",{"$error":"#VALUE!"},null,{"$error":"#VALUE!"},{"$error":"#VALUE!"},{"$error":"#VALUE!"},{"$error":"#VALUE!"},false]
[118,118,{"$error":"#VALUE!"},{"$f":"IF(A128<=$E$2,-PMT(C128/12,IF(C128=КАЛЬКУЛЯТОР!$C$21,$E$2,$E$2-$E$3),IF(C128=КАЛЬКУЛЯТОР!$C$21,$I$10,$I$10-SUMIF($A$11:$A$370,\"<=\"&$E$3,$H$11:$H$370)),0,0),\"\")","v":{"$error":"#VALUE!"}},null,"",{"$f":"IFERROR(-IPMT((C128-'КАЛЬКУЛЯТОР 1'!$P$1)/12,B128,IF(C128=$E$5,$E$2,$E$2-$E$3),IF(C128=$E$5,$I$10,$I$10-SUMIF($A$11:$A$370,\"<=\"&$E$3,$H$11:$H$370)),0,0),\"\")","v":""},"","",{"$error":"#VALUE!"},null,{"$error":"#VALUE!"},{"$error":"#VALUE!"},{"$error":"#VALUE!"},{"$error":"#VALUE!"},false]
[119,119,{"$error":"#VALUE!"},{"$f":"IF(A129<=$E$2,-PMT(C129/12,IF(C129=КАЛЬКУЛЯТОР!$C$21,$E$2,$E$2-$E$3),IF(C129=КАЛЬКУЛЯТОР!$C$21,$I$10,$I$10-SUMIF($A$11:$A$370,\"<=\"&$E$3,$H$11:$H$370)),0,0),\"\")","v":{"$error":"#VALUE!"}},null,"",{"$f":"IFERROR(-IPMT((C129-'КАЛЬКУЛЯТОР 1'!$P$1)/12,B129,IF(C129=$E$5,$E$2,$E$2-$E$3),IF(C129=$E$5,$I$10,$I$10-SUMIF($A$11:$A$370,\"<=\"&$E$3,$H$11:$H$370)),0,0),\"\")","v":""},"","",{"$error":"#VALUE!"},null,{"$error":"#VALUE!"},{"$error":"#VALUE!"},{"$error":"#VALUE!"},{"$error":"#VALUE!"},false]
[120,120,{"$error":"#VALUE!"},{"$f":"IF(A130<=$E$2,-PMT(C130/12,IF(C130=КАЛЬКУЛЯТОР!$C$21,$E$2,$E$2-$E$3),IF(C130=КАЛЬКУЛЯТОР!$C$21,$I$10,$I$10-SUMIF($A$11:$A$370,\"<=\"&$E$3,$H$11:$H$370)),0,0),\"\")","v":{"$error":"#VALUE!"}},null,"",{"$f":"IFERROR(-IPMT((C130-'КАЛЬКУЛЯТОР 1'!$P$1)/12,B130,IF(C130=$E$5,$E$2,$E$2-$E$3),IF(C130=$E$5,$I$10,$I$10-SUMIF($A$11:$A$370,\"<=\"&$E$3,$H$11:$H$370)),0,0),\"\")","v":""},"","",{"$error":"#VALUE!"},null,{"$error":"#VALUE!"},{"$error":"#VALUE!"},{"$error":"#VALUE!"},{"$error":"#VALUE!"},false]
[121,121,{"$error":"#VALUE!"},{"$f":"IF(A131<=$E$2,-PMT(C131/12,IF(C131=КАЛЬКУЛЯТОР!$C$21,$E$2,$E$2-$E$3),IF(C131=КАЛЬКУЛЯТОР!$C$21,$I$10,$I$10-SUMIF($A$11:$A$370,\"<=\"&$E$3,$H$11:$H$370)),0,0)+E131,\"\")","v":""},{"$f":"IF($E$2>$A130,(I130+SUM(F131:F142))*($K$4+$K$5),0)","v":{"v":0,"d":"0.00"}},"",{"$f":"IFERROR(-IPMT((C131-'КАЛЬКУЛЯТОР 1'!$P$1)/12,B131,IF(C131=$E$5,$E$2,$E$2-$E$3),IF(C131=$E$5,$I$10,$I$10-SUMIF($A$11:$A$370,\"<=\"&$E$3,$H$11:$H$370)),0,0),\"\")","v":""},"","",{"$error":"#VALUE!"},{"$f":"PV($E$6/12,A131-1,0,-E131)","v":{"v":0,"d":"0.00"}},{"$error":"#VALUE!"},{"$error":"#VALUE!"},{"$error":"#VALUE!"},{"$error":"#VALUE!"},false]
[122,122,{"$error":"#VALUE!"},{"$f":"IF(A132<=$E$2,-PMT(C132/12,IF(C132=КАЛЬКУЛЯТОР!$C$21,$E$2,$E$2-$E$3),IF(C132=КАЛЬКУЛЯТОР!$C$21,$I$10,$I$10-SUMIF($A$11:$A$370,\"<=\"&$E$3,$H$11:$H$370)),0,0),\"\")","v":""},null,"",{"$f":"IFERROR(-IPMT((C132-'КАЛЬКУЛЯТОР 1'!$P$1)/12,B132,IF(C132=$E$5,$E$2,$E$2-$E$3),IF(C132=$E$5,$I$10,$I$10-SUMIF($A$11:$A$370,\"<=\"&$E$3,$H$11:$H$370)),0,0),\"\")","v":""},"","",{"$error":"#VALUE!"},null,{"$error":"#VALUE!"},{"$error":"#VALUE!"},{"$error":"#VALUE!"},{"$error":"#VALUE!"},false]
[123,123,{"$error":"#VALUE!"},{"$f":"IF(A133<=$E$2,-PMT(C133/12,IF(C133=КАЛЬКУЛЯТОР!$C$21,$E$2,$E$2-$E$3),IF(C133=КАЛЬКУЛЯТОР!$C$21,$I$10,$I$10-SUMIF($A$11:$A$370,\"<=\"&$E$3,$H$11:$H$370)),0,0),\"\")","v":""},null,"",{"$f":"IFERROR(-IPMT((C133-'КАЛЬКУЛЯТОР 1'!$P$1)/12,B133,IF(C133=$E$5,$E$2,$E$2-$E$3),IF(C133=$E$5,$I$10,$I$10-SUMIF($A$11:$A$370,\"<=\"&$E$3,$H$11:$H$370)),0,0),\"\")","v":""},"","",{"$error":"#VALUE!"},null,{"$error":"#VALUE!"},{"$error":"#VALUE!"},{"$error":"#VALUE!"},{"$error":"#VALUE!"},false]
[124,124,{"$error":"#VALUE!"},{"$f":"IF(A134<=$E$2,-PMT(C134/12,IF(C134=КАЛЬКУЛЯТОР!$C$21,$E$2,$E$2-$E$3),IF(C134=КАЛЬКУЛЯТОР!$C$21,$I$10,$I$10-SUMIF($A$11:$A$370,\"<=\"&$E$3,$H$11:$H$370)),0,0),\"\")","v":""},null,"",{"$f":"IFERROR(-IPMT((C134-'КАЛЬКУЛЯТОР 1'!$P$1)/12,B134,IF(C134=$E$5,$E$2,$E$2-$E$3),IF(C134=$E$5,$I$10,$I$10-SUMIF($A$11:$A$370,\"<=\"&$E$3,$H$11:$H$370)),0,0),\"\")","v":""},"","",{"$error":"#VALUE!"},null,{"$error":"#VALUE!"},{"$error":"#VALUE!"},{"$error":"#VALUE!"},{"$error":"#VALUE!"},false]
[125,125,{"$error":"#VALUE!"},{"$f":"IF(A135<=$E$2,-PMT(C135/12,IF(C135=КАЛЬКУЛЯТОР!$C$21,$E$2,$E$2-$E$3),IF(C135=КАЛЬКУЛЯТОР!$C$21,$I$10,$I$10-SUMIF($A$11:$A$370,\"<=\"&$E$3,$H$11:$H$370)),0,0),\"\")","v":""},null,"",{"$f":"IFERROR(-IPMT((C135-'КАЛЬКУЛЯТОР 1'!$P$1)/12,B135,IF(C135=$E$5,$E$2,$E$2-$E$3),IF(C135=$E$5,$I$10,$I$10-SUMIF($A$11:$A$370,\"<=\"&$E$3,$H$11:$H$370)),0,0),\"\")","v":""},"","",{"$error":"#VALUE!"},null,{"$error":"#VALUE!"},{"$error":"#VALUE!"},{"$error":"#VALUE!"},{"$error":"#VALUE!"},false]
[126,126,{"$error":"#VALUE!"},{"$f":"IF(A136<=$E$2,-PMT(C136/12,IF(C136=КАЛЬКУЛЯТОР!$C$21,$E$2,$E$2-$E$3),IF(C136=КАЛЬКУЛЯТОР!$C$21,$I$10,$I$10-SUMIF($A$11:$A$370,\"<=\"&$E$3,$H$11:$H$370)),0,0),\"\")","v":""},null,"",{"$f":"IFERROR(-IPMT((C136-'КАЛЬКУЛЯТОР 1'!$P$1)/12,B136,IF(C136=$E$5,$E$2,$E$2-$E$3),IF(C136=$E$5,$I$10,$I$10-SUMIF($A$11:$A$370,\"<=\"&$E$3,$H$11:$H$370)),0,0),\"\")","v":""},"","",{"$error":"#VALUE!"},null,{"$error":"#VALUE!"},{"$error":"#VALUE!"},{"$error":"#VALUE!"},{"$error":"#VALUE!"},false]
[127,127,{"$error":"#VALUE!"},{"$f":"IF(A137<=$E$2,-PMT(C137/12,IF(C137=КАЛЬКУЛЯТОР!$C$21,$E$2,$E$2-$E$3),IF(C137=КАЛЬКУЛЯТОР!$C$21,$I$10,$I$10-SUMIF($A$11:$A$370,\"<=\"&$E$3,$H$11:$H$370)),0,0),\"\")","v":""},null,"",{"$f":"IFERROR(-IPMT((C137-'КАЛЬКУЛЯТОР 1'!$P$1)/12,B137,IF(C137=$E$5,$E$2,$E$2-$E$3),IF(C137=$E$5,$I$10,$I$10-SUMIF($A$11:$A$370,\"<=\"&$E$3,$H$11:$H$370)),0,0),\"\")","v":""},"","",{"$error":"#VALUE!"},null,{"$error":"#VALUE!"},{"$error":"#VALUE!"},{"$error":"#VALUE!"},{"$error":"#VALUE!"},false]
[128,128,{"$error":"#VALUE!"},{"$f":"IF(A138<=$E$2,-PMT(C138/12,IF(C138=КАЛЬКУЛЯТОР!$C$21,$E$2,$E$2-$E$3),IF(C138=КАЛЬКУЛЯТОР!$C$21,$I$10,$I$10-SUMIF($A$11:$A$370,\"<=\"&$E$3,$H$11:$H$370)),0,0),\"\")","v":""},null,"",{"$f":"IFERROR(-IPMT((C138-'КАЛЬКУЛЯТОР 1'!$P$1)/12,B138,IF(C138=$E$5,$E$2,$E$2-$E$3),IF(C138=$E$5,$I$10,$I$10-SUMIF($A$11:$A$370,\"<=\"&$E$3,$H$11:$H$370)),0,0),\"\")","v":""},"","",{"$error":"#VALUE!"},null,{"$error":"#VALUE!"},{"$error":"#VALUE!"},{"$error":"#VALUE!"},{"$error":"#VALUE!"},false]
[129,129,{"$error":"#VALUE!"},{"$f":"IF(A139<=$E$2,-PMT(C139/12,IF(C139=КАЛЬКУЛЯТОР!$C$21,$E$2,$E$2-$E$3),IF(C139=КАЛЬКУЛЯТОР!$C$21,$I$10,$I$10-SUMIF($A$11:$A$370,\"<=\"&$E$3,$H$11:$H$370)),0,0),\"\")","v":""},null,"",{"$f":"IFERROR(-IPMT((C139-'КАЛЬКУЛЯТОР 1'!$P$1)/12,B139,IF(C139=$E$5,$E$2,$E$2-$E$3),IF(C139=$E$5,$I$10,$I$10-SUMIF($A$11:$A$370,\"<=\"&$E$3,$H$11:$H$370)),0,0),\"\")","v":""},"",{"$f":"IFERROR(I138-H139,\"\")","v":""},{"$f":"PV($E$6/12,A139-1,0,-D139)","v":{"$error":"#VALUE!"}},null,{"$f":"PV($E$6/12,A139-1,0,-F139)","v":{"$error":"#VALUE!"}},{"$f":"PV($E$6/12,A139-1,0,-G139)","v":{"$error":"#VALUE!"}},{"$f":"PV($E$6/12,A139-1,0,-H139)","v":{"$error":"#VALUE!"}},{"$f":"O138-N139","v":{"$error":"#VALUE!"}},false]
[130,{"$f":"IF(P140=$P$11,B139+1,A140-$E$3)","v":130},{"$f":"IF(AND($E$4<=$E$5,A140<=$E$3),$E$5,IF(AND(A140>$E$3,A140<=$E$2),$E$4,\"\"))","v":{"$error":"#VALUE!"}},{"$f":"IF(A140<=$E$2,-PMT(C140/12,IF(C140=КАЛЬКУЛЯТОР!$C$21,$E$2,$E$2-$E$3),IF(C140=КАЛЬКУЛЯТОР!$C$21,$I$10,$I$10-SUMIF($A$11:$A$370,\"<=\"&$E$3,$H$11:$H$370)),0,0),\"\")","v":""},null,{"$f":"IFERROR(-IPMT(C140/12,B140,IF(C140=$E$5,$E$2,$E$2-$E$3),IF(C140=$E$5,$I$10,$I$10-SUMIF($A$11:$A$370,\"<=\"&$E$3,$H$11:$H$370)),0,0),\"\")","v":""},{"$f":"IFERROR(-IPMT((C140-'КАЛЬКУЛЯТОР 1'!$P$1)/12,B140,IF(C140=$E$5,$E$2,$E$2-$E$3),IF(C140=$E$5,$I$10,$I$10-SUMIF($A$11:$A$370,\"<=\"&$E$3,$H$11:$H$370)),0,0),\"\")","v":""},{"$f":"IFERROR((-PPMT(C140/12,B140,IF(C140=$E$5,$E$2,$E$2-$E$3),IF(C140=$E$5,$I$10,$I$10-SUMIF($A$11:$A$370,\"<=\"&$E$3,$H$11:$H$370)),0,0)),\"\")","v":""},"",{"$error":"#VALUE!"},null,{"$error":"#VALUE!"},{"$error":"#VALUE!"},{"$error":"#VALUE!"},{"$error":"#VALUE!"},{"$f":"AND(A140<=$E$3)","v":false}]
[131,131,{"$error":"#VALUE!"},{"$f":"IF(A141<=$E$2,-PMT(C141/12,IF(C141=КАЛЬКУЛЯТОР!$C$21,$E$2,$E$2-$E$3),IF(C141=КАЛЬКУЛЯТОР!$C$21,$I$10,$I$10-SUMIF($A$11:$A$370,\"<=\"&$E$3,$H$11:$H$370)),0,0),\"\")","v":""},null,"",{"$f":"IFERROR(-IPMT((C141-'КАЛЬКУЛЯТОР 1'!$P$1)/12,B141,IF(C141=$E$5,$E$2,$E$2-$E$3),IF(C141=$E$5,$I$10,$I$10-SUMIF($A$11:$A$370,\"<=\"&$E$3,$H$11:$H$370)),0,0),\"\")","v":""},"","",{"$error":"#VALUE!"},null,{"$error":"#VALUE!"},{"$error":"#VALUE!"},{"$error":"#VALUE!"},{"$error":"#VALUE!"},false]
[132,132,{"$error":"#VALUE!"},{"$f":"IF(A142<=$E$2,-PMT(C142/12,IF(C142=КАЛЬКУЛЯТОР!$C$21,$E$2,$E$2-$E$3),IF(C142=КАЛЬКУЛЯТОР!$C$21,$I$10,$I$10-SUMIF($A$11:$A$370,\"<=\"&$E$3,$H$11:$H$370)),0,0),\"\")","v":""},null,"",{"$f":"IFERROR(-IPMT((C142-'КАЛЬКУЛЯТОР 1'!$P$1)/12,B142,IF(C142=$E$5,$E$2,$E$2-$E$3),IF(C142=$E$5,$I$10,$I$10-SUMIF($A$11:$A$370,\"<=\"&$E$3,$H$11:$H$370)),0,0),\"\")","v":""},"","",{"$error":"#VALUE!"},null,{"$error":"#VALUE!"},{"$error":"#VALUE!"},{"$error":"#VALUE!"},{"$error":"#VALUE!"},false]
[133,133,{"$error":"#VALUE!"},{"$f":"IF(A143<=$E$2,-PMT(C143/12,IF(C143=КАЛЬКУЛЯТОР!$C$21,$E$2,$E$2-$E$3),IF(C143=КАЛЬКУЛЯТОР!$C$21,$I$10,$I$10-SUMIF($A$11:$A$370,\"<=\"&$E$3,$H$11:$H$370)),0,0)+E143,\"\")","v":""},{"$f":"IF($E$2>$A142,(I142+SUM(F143:F154))*($K$4+$K$5),0)","v":{"v":0,"d":"0.00"}},"",{"$f":"IFERROR(-IPMT((C143-'КАЛЬКУЛЯТОР 1'!$P$1)/12,B143,IF(C143=$E$5,$E$2,$E$2-$E$3),IF(C143=$E$5,$I$10,$I$10-SUMIF($A$11:$A$370,\"<=\"&$E$3,$H$11:$H$370)),0,0),\"\")","v":""},"","",{"$error":"#VALUE!"},{"$f":"PV($E$6/12,A143-1,0,-E143)","v":{"v":0,"d":"0.00"}},{"$error":"#VALUE!"},{"$error":"#VALUE!"},{"$error":"#VALUE!"},{"$error":"#VALUE!"},false]
[134,134,{"$error":"#VALUE!"},{"$f":"IF(A144<=$E$2,-PMT(C144/12,IF(C144=КАЛЬКУЛЯТОР!$C$21,$E$2,$E$2-$E$3),IF(C144=КАЛЬКУЛЯТОР!$C$21,$I$10,$I$10-SUMIF($A$11:$A$370,\"<=\"&$E$3,$H$11:$H$370)),0,0),\"\")","v":""},null,"",{"$f":"IFERROR(-IPMT((C144-'КАЛЬКУЛЯТОР 1'!$P$1)/12,B144,IF(C144=$E$5,$E$2,$E$2-$E$3),IF(C144=$E$5,$I$10,$I$10-SUMIF($A$11:$A$370,\"<=\"&$E$3,$H$11:$H$370)),0,0),\"\")","v":""},"","",{"$error":"#VALUE!"},null,{"$error":"#VALUE!"},{"$error":"#VALUE!"},{"$error":"#VALUE!"},{"$error":"#VALUE!"},false]
[135,135,{"$error":"#VALUE!"},{"$f":"IF(A145<=$E$2,-PMT(C145/12,IF(C145=КАЛЬКУЛЯТОР!$C$21,$E$2,$E$2-$E$3),IF(C145=КАЛЬКУЛЯТОР!$C$21,$I$10,$I$10-SUMIF($A$11:$A$370,\"<=\"&$E$3,$H$11:$H$370)),0,0),\"\")","v":""},null,"",{"$f":"IFERROR(-IPMT((C145-'КАЛЬКУЛЯТОР 1'!$P$1)/12,B145,IF(C145=$E$5,$E$2,$E$2-$E$3),IF(C145=$E$5,$I$10,$I$10-SUMIF($A$11:$A$370,\"<=\"&$E$3,$H$11:$H$370)),0,0),\"\")","v":""},"","",{"$error":"#VALUE!"},null,{"$error":"#VALUE!"},{"$error":"#VALUE!"},{"$error":"#VALUE!"},{"$error":"#VALUE!"},false]
[136,136,{"$error":"#VALUE!"},{"$f":"IF(A146<=$E$2,-PMT(C146/12,IF(C146=КАЛЬКУЛЯТОР!$C$21,$E$2,$E$2-$E$3),IF(C146=КАЛЬКУЛЯТОР!$C$21,$I$10,$I$10-SUMIF($A$11:$A$370,\"<=\"&$E$3,$H$11:$H$370)),0,0),\"\")","v":""},null,"",{"$f":"IFERROR(-IPMT((C146-'КАЛЬКУЛЯТОР 1'!$P$1)/12,B146,IF(C146=$E$5,$E$2,$E$2-$E$3),IF(C146=$E$5,$I$10,$I$10-SUMIF($A$11:$A$370,\"<=\"&$E$3,$H$11:$H$370)),0,0),\"\")","v":""},"","",{"$error":"#VALUE!"},null,{"$error":"#VALUE!"},{"$error":"#VALUE!"},{"$error":"#VALUE!"},{"$error":"#VALUE!"},false]
[137,137,{"$error":"#VALUE!"},{"$f":"IF(A147<=$E$2,-PMT(C147/12,IF(C147=КАЛЬКУЛЯТОР!$C$21,$E$2,$E$2-$E$3),IF(C147=КАЛЬКУЛЯТОР!$C$21,$I$10,$I$10-SUMIF($A$11:$A$370,\"<=\"&$E$3,$H$11:$H$370)),0,0),\"\")","v":""},null,"",{"$f":"IFERROR(-IPMT((C147-'КАЛЬКУЛЯТОР 1'!$P$1)/12,B147,IF(C147=$E$5,$E$2,$E$2-$E$3),IF(C147=$E$5,$I$10,$I$10-SUMIF($A$11:$A$370,\"<=\"&$E$3,$H$11:$H$370)),0,0),\"\")","v":""},"","",{"$error":"#VALUE!"},null,{"$error":"#VALUE!"},{"$error":"#VALUE!"},{"$error":"#VALUE!"},{"$error":"#VALUE!"},false]
[138,138,{"$error":"#VALUE!"},{"$f":"IF(A148<=$E$2,-PMT(C148/12,IF(C148=КАЛЬКУЛЯТОР!$C$21,$E$2,$E$2-$E$3),IF(C148=КАЛЬКУЛЯТОР!$C$21,$I$10,$I$10-SUMIF($A$11:$A$370,\"<=\"&$E$3,$H$11:$H$370)),0,0),\"\")","v":""},null,"",{"$f":"IFERROR(-IPMT((C148-'КАЛЬКУЛЯТОР 1'!$P$1)/12,B148,IF(C148=$E$5,$E$2,$E$2-$E$3),IF(C148=$E$5,$I$10,$I$10-SUMIF($A$11:$A$370,\"<=\"&$E$3,$H$11:$H$370)),0,0),\"\")","v":""},"","",{"$error":"#VALUE!"},null,{"$error":"#VALUE!"},{"$error":"#VALUE!"},{"$error":"#VALUE!"},{"$error":"#VALUE!"},false]
[139,139,{"$error":"#VALUE!"},{"$f":"IF(A149<=$E$2,-PMT(C149/12,IF(C149=КАЛЬКУЛЯТОР!$C$21,$E$2,$E$2-$E$3),IF(C149=КАЛЬКУЛЯТОР!$C$21,$I$10,$I$10-SUMIF($A$11:$A$370,\"<=\"&$E$3,$H$11:$H$370)),0,0),\"\")","v":""},null,"",{"$f":"IFERROR(-IPMT((C149-'КАЛЬКУЛЯТОР 1'!$P$1)/12,B149,IF(C149=$E$5,$E$2,$E$2-$E$3),IF(C149=$E$5,$I$10,$I$10-SUMIF($A$11:$A$370,\"<=\"&$E$3,$H$11:$H$370)),0,0),\"\")","v":""},"","",{"$error":"#VALUE!"},null,{"$error":"#VALUE!"},{"$error":"#VALUE!"},{"$error":"#VALUE!"},{"$error":"#VALUE!"},false]
[140,140,{"$error":"#VALUE!"},{"$f":"IF(A150<=$E$2,-PMT(C150/12,IF(C150=КАЛЬКУЛЯТОР!$C$21,$E$2,$E$2-$E$3),IF(C150=КАЛЬКУЛЯТОР!$C$21,$I$10,$I$10-SUMIF($A$11:$A$370,\"<=\"&$E$3,$H$11:$H$370)),0,0),\"\")","v":""},null,"",{"$f":"IFERROR(-IPMT((C150-'КАЛЬКУЛЯТОР 1'!$P$1)/12,B150,IF(C150=$E$5,$E$2,$E$2-$E$3),IF(C150=$E$5,$I$10,$I$10-SUMIF($A$11:$A$370,\"<=\"&$E$3,$H$11:$H$370)),0,0),\"\")","v":""},"","",{"$error":"#VALUE!"},null,{"$error":"#VALUE!"},{"$error":"#VALUE!"},{"$error":"#VALUE!"},{"$error":"#VALUE!"},false]
[141,141,{"$error":"#VALUE!"},{"$f":"IF(A151<=$E$2,-PMT(C151/12,IF(C151=КАЛЬКУЛЯТОР!$C$21,$E$2,$E$2-$E$3),IF(C151=КАЛЬКУЛЯТОР!$C$21,$I$10,$I$10-SUMIF($A$11:$A$370,\"<=\"&$E$3,$H$11:$H$370)),0,0),\"\")","v":""},null,"",{"$f":"IFERROR(-IPMT((C151-'КАЛЬКУЛЯТОР 1'!$P$1)/12,B151,IF(C151=$E$5,$E$2,$E$2-$E$3),IF(C151=$E$5,$I$10,$I$10-SUMIF($A$11:$A$370,\"<=\"&$E$3,$H$11:$H$370)),0,0),\"\")","v":""},"","",{"$error":"#VALUE!"},null,{"$error":"#VALUE!"},{"$error":"#VALUE!"},{"$error":"#VALUE!"},{"$error":"#VALUE!"},false]
[142,142,{"$error":"#VALUE!"},{"$f":"IF(A152<=$E$2,-PMT(C152/12,IF(C152=КАЛЬКУЛЯТОР!$C$21,$E$2,$E$2-$E$3),IF(C152=КАЛЬКУЛЯТОР!$C$21,$I$10,$I$10-SUMIF($A$11:$A$370,\"<=\"&$E$3,$H$11:$H$370)),0,0),\"\")","v":""},null,"",{"$f":"IFERROR(-IPMT((C152-'КАЛЬКУЛЯТОР 1'!$P$1)/12,B152,IF(C152=$E$5,$E$2,$E$2-$E$3),IF(C152=$E$5,$I$10,$I$10-SUMIF($A$11:$A$370,\"<=\"&$E$3,$H$11:$H$370)),0,0),\"\")","v":""},"","",{"$error":"#VALUE!"},null,{"$error":"#VALUE!"},{"$error":"#VALUE!"},{"$error":"#VALUE!"},{"$error":"#VALUE!"},false]
[143,143,{"$error":"#VALUE!"},{"$f":"IF(A153<=$E$2,-PMT(C153/12,IF(C153=КАЛЬКУЛЯТОР!$C$21,$E$2,$E$2-$E$3),IF(C153=КАЛЬКУЛЯТОР!$C$21,$I$10,$I$10-SUMIF($A$11:$A$370,\"<=\"&$E$3,$H$11:$H$370)),0,0),\"\")","v":""},null,"",{"$f":"IFERROR(-IPMT((C153-'КАЛЬКУЛЯТОР 1'!$P$1)/12,B153,IF(C153=$E$5,$E$2,$E$2-$E$3),IF(C153=$E$5,$I$10,$I$10-SUMIF($A$11:$A$370,\"<=\"&$E$3,$H$11:$H$370)),0,0),\"\")","v":""},"","",{"$error":"#VALUE!"},null,{"$error":"#VALUE!"},{"$error":"#VALUE!"},{"$error":"#VALUE!"},{"$error":"#VALUE!"},false]
[144,144,{"$error":"#VALUE!"},{"$f":"IF(A154<=$E$2,-PMT(C154/12,IF(C154=КАЛЬКУЛЯТОР!$C$21,$E$2,$E$2-$E$3),IF(C154=КАЛЬКУЛЯТОР!$C$21,$I$10,$I$10-SUMIF($A$11:$A$370,\"<=\"&$E$3,$H$11:$H$370)),0,0),\"\")","v":""},null,"",{"$f":"IFERROR(-IPMT((C154-'КАЛЬКУЛЯТОР 1'!$P$1)/12,B154,IF(C154=$E$5,$E$2,$E$2-$E$3),IF(C154=$E$5,$I$10,$I$10-SUMIF($A$11:$A$370,\"<=\"&$E$3,$H$11:$H$370)),0,0),\"\")","v":""},"","",{"$error":"#VALUE!"},null,{"$error":"#VALUE!"},{"$error":"#VALUE!"},{"$error":"#VALUE!"},{"$error":"#VALUE!"},false]
[145,145,{"$error":"#VALUE!"},{"$f":"IF(A155<=$E$2,-PMT(C155/12,IF(C155=КАЛЬКУЛЯТОР!$C$21,$E$2,$E$2-$E$3),IF(C155=КАЛЬКУЛЯТОР!$C$21,$I$10,$I$10-SUMIF($A$11:$A$370,\"<=\"&$E$3,$H$11:$H$370)),0,0)+E155,\"\")","v":""},{"$f":"IF($E$2>$A154,(I154+SUM(F155:F166))*($K$4+$K$5),0)","v":{"v":0,"d":"0.00"}},"",{"$f":"IFERROR(-IPMT((C155-'КАЛЬКУЛЯТОР 1'!$P$1)/12,B155,IF(C155=$E$5,$E$2,$E$2-$E$3),IF(C155=$E$5,$I$10,$I$10-SUMIF($A$11:$A$370,\"<=\"&$E$3,$H$11:$H$370)),0,0),\"\")","v":""},"","",{"$error":"#VALUE!"},{"$f":"PV($E$6/12,A155-1,0,-E155)","v":{"v":0,"d":"0.00"}},{"$error":"#VALUE!"},{"$error":"#VALUE!"},{"$error":"#VALUE!"},{"$error":"#VALUE!"},false]
[146,146,{"$error":"#VALUE!"},{"$f":"IF(A156<=$E$2,-PMT(C156/12,IF(C156=КАЛЬКУЛЯТОР!$C$21,$E$2,$E$2-$E$3),IF(C156=КАЛЬКУЛЯТОР!$C$21,$I$10,$I$10-SUMIF($A$11:$A$370,\"<=\"&$E$3,$H$11:$H$370)),0,0),\"\")","v":""},null,"",{"$f":"IFERROR(-IPMT((C156-'КАЛЬКУЛЯТОР 1'!$P$1)/12,B156,IF(C156=$E$5,$E$2,$E$2-$E$3),IF(C156=$E$5,$I$10,$I$10-SUMIF($A$11:$A$370,\"<=\"&$E$3,$H$11:$H$370)),0,0),\"\")","v":""},"","",{"$error":"#VALUE!"},null,{"$error":"#VALUE!"},{"$error":"#VALUE!"},{"$error":"#VALUE!"},{"$error":"#VALUE!"},false]
[147,147,{"$error":"#VALUE!"},{"$f":"IF(A157<=$E$2,-PMT(C157/12,IF(C157=КАЛЬКУЛЯТОР!$C$21,$E$2,$E$2-$E$3),IF(C157=КАЛЬКУЛЯТОР!$C$21,$I$10,$I$10-SUMIF($A$11:$A$370,\"<=\"&$E$3,$H$11:$H$370)),0,0),\"\")","v":""},null,"",{"$f":"IFERROR(-IPMT((C157-'КАЛЬКУЛЯТОР 1'!$P$1)/12,B157,IF(C157=$E$5,$E$2,$E$2-$E$3),IF(C157=$E$5,$I$10,$I$10-SUMIF($A$11:$A$370,\"<=\"&$E$3,$H$11:$H$370)),0,0),\"\")","v":""},"","",{"$error":"#VALUE!"},null,{"$error":"#VALUE!"},{"$error":"#VALUE!"},{"$error":"#VALUE!"},{"$error":"#VALUE!"},false]
[148,148,{"$error":"#VALUE!"},{"$f":"IF(A158<=$E$2,-PMT(C158/12,IF(C158=КАЛЬКУЛЯТОР!$C$21,$E$2,$E$2-$E$3),IF(C158=КАЛЬКУЛЯТОР!$C$21,$I$10,$I$10-SUMIF($A$11:$A$370,\"<=\"&$E$3,$H$11:$H$370)),0,0),\"\")","v":""},null,"",{"$f":"IFERROR(-IPMT((C158-'КАЛЬКУЛЯТОР 1'!$P$1)/12,B158,IF(C158=$E$5,$E$2,$E$2-$E$3),IF(C158=$E$5,$I$10,$I$10-SUMIF($A$11:$A$370,\"<=\"&$E$3,$H$11:$H$370)),0,0),\"\")","v":""},"","",{"$error":"#VALUE!"},null,{"$error":"#VALUE!"},{"$error":"#VALUE!"},{"$error":"#VALUE!"},{"$error":"#VALUE!"},false]
[149,149,{"$error":"#VALUE!"},{"$f":"IF(A159<=$E$2,-PMT(C159/12,IF(C159=КАЛЬКУЛЯТОР!$C$21,$E$2,$E$2-$E$3),IF(C159=КАЛЬКУЛЯТОР!$C$21,$I$10,$I$10-SUMIF($A$11:$A$370,\"<=\"&$E$3,$H$11:$H$370)),0,0),\"\")","v":""},null,"",{"$f":"IFERROR(-IPMT((C159-'КАЛЬКУЛЯТОР 1'!$P$1)/12,B159,IF(C159=$E$5,$E$2,$E$2-$E$3),IF(C159=$E$5,$I$10,$I$10-SUMIF($A$11:$A$370,\"<=\"&$E$3,$H$11:$H$370)),0,0),\"\")","v":""},"","",{"$error":"#VALUE!"},null,{"$error":"#VALUE!"},{"$error":"#VALUE!"},{"$error":"#VALUE!"},{"$error":"#VALUE!"},false]
[150,150,{"$error":"#VALUE!"},{"$f":"IF(A160<=$E$2,-PMT(C160/12,IF(C160=КАЛЬКУЛЯТОР!$C$21,$E$2,$E$2-$E$3),IF(C160=КАЛЬКУЛЯТОР!$C$21,$I$10,$I$10-SUMIF($A$11:$A$370,\"<=\"&$E$3,$H$11:$H$370)),0,0),\"\")","v":""},null,"",{"$f":"IFERROR(-IPMT((C160-'КАЛЬКУЛЯТОР 1'!$P$1)/12,B160,IF(C160=$E$5,$E$2,$E$2-$E$3),IF(C160=$E$5,$I$10,$I$10-SUMIF($A$11:$A$370,\"<=\"&$E$3,$H$11:$H$370)),0,0),\"\")","v":""},"","",{"$error":"#VALUE!"},null,{"$error":"#VALUE!"},{"$error":"#VALUE!"},{"$error":"#VALUE!"},{"$error":"#VALUE!"},false]
[151,151,{"$error":"#VALUE!"},{"$f":"IF(A161<=$E$2,-PMT(C161/12,IF(C161=КАЛЬКУЛЯТОР!$C$21,$E$2,$E$2-$E$3),IF(C161=КАЛЬКУЛЯТОР!$C$21,$I$10,$I$10-SUMIF($A$11:$A$370,\"<=\"&$E$3,$H$11:$H$370)),0,0),\"\")","v":""},null,"",{"$f":"IFERROR(-IPMT((C161-'КАЛЬКУЛЯТОР 1'!$P$1)/12,B161,IF(C161=$E$5,$E$2,$E$2-$E$3),IF(C161=$E$5,$I$10,$I$10-SUMIF($A$11:$A$370,\"<=\"&$E$3,$H$11:$H$370)),0,0),\"\")","v":""},"","",{"$error":"#VALUE!"},null,{"$error":"#VALUE!"},{"$error":"#VALUE!"},{"$error":"#VALUE!"},{"$error":"#VALUE!"},false]
[152,152,{"$error":"#VALUE!"},{"$f":"IF(A162<=$E$2,-PMT(C162/12,IF(C162=КАЛЬКУЛЯТОР!$C$21,$E$2,$E$2-$E$3),IF(C162=КАЛЬКУЛЯТОР!$C$21,$I$10,$I$10-SUMIF($A$11:$A$370,\"<=\"&$E$3,$H$11:$H$370)),0,0),\"\")","v":""},null,"",{"$f":"IFERROR(-IPMT((C162-'КАЛЬКУЛЯТОР 1'!$P$1)/12,B162,IF(C162=$E$5,$E$2,$E$2-$E$3),IF(C162=$E$5,$I$10,$I$10-SUMIF($A$11:$A$370,\"<=\"&$E$3,$H$11:$H$370)),0,0),\"\")","v":""},"","",{"$error":"#VALUE!"},null,{"$error":"#VALUE!"},{"$error":"#VALUE!"},{"$error":"#VALUE!"},{"$error":"#VALUE!"},false]
[153,153,{"$error":"#VALUE!"},{"$f":"IF(A163<=$E$2,-PMT(C163/12,IF(C163=КАЛЬКУЛЯТОР!$C$21,$E$2,$E$2-$E$3),IF(C163=КАЛЬКУЛЯТОР!$C$21,$I$10,$I$10-SUMIF($A$11:$A$370,\"<=\"&$E$3,$H$11:$H$370)),0,0),\"\")","v":""},null,"",{"$f":"IFERROR(-IPMT((C163-'КАЛЬКУЛЯТОР 1'!$P$1)/12,B163,IF(C163=$E$5,$E$2,$E$2-$E$3),IF(C163=$E$5,$I$10,$I$10-SUMIF($A$11:$A$370,\"<=\"&$E$3,$H$11:$H$370)),0,0),\"\")","v":""},"","",{"$error":"#VALUE!"},null,{"$error":"#VALUE!"},{"$error":"#VALUE!"},{"$error":"#VALUE!"},{"$error":"#VALUE!"},false]
[154,154,{"$error":"#VALUE!"},{"$f":"IF(A164<=$E$2,-PMT(C164/12,IF(C164=КАЛЬКУЛЯТОР!$C$21,$E$2,$E$2-$E$3),IF(C164=КАЛЬКУЛЯТОР!$C$21,$I$10,$I$10-SUMIF($A$11:$A$370,\"<=\"&$E$3,$H$11:$H$370)),0,0),\"\")","v":""},null,"",{"$f":"IFERROR(-IPMT((C164-'КАЛЬКУЛЯТОР 1'!$P$1)/12,B164,IF(C164=$E$5,$E$2,$E$2-$E$3),IF(C164=$E$5,$I$10,$I$10-SUMIF($A$11:$A$370,\"<=\"&$E$3,$H$11:$H$370)),0,0),\"\")","v":""},"","",{"$error":"#VALUE!"},null,{"$error":"#VALUE!"},{"$error":"#VALUE!"},{"$error":"#VALUE!"},{"$error":"#VALUE!"},false]
[155,155,{"$error":"#VALUE!"},{"$f":"IF(A165<=$E$2,-PMT(C165/12,IF(C165=КАЛЬКУЛЯТОР!$C$21,$E$2,$E$2-$E$3),IF(C165=КАЛЬКУЛЯТОР!$C$21,$I$10,$I$10-SUMIF($A$11:$A$370,\"<=\"&$E$3,$H$11:$H$370)),0,0),\"\")","v":""},null,"",{"$f":"IFERROR(-IPMT((C165-'КАЛЬКУЛЯТОР 1'!$P$1)/12,B165,IF(C165=$E$5,$E$2,$E$2-$E$3),IF(C165=$E$5,$I$10,$I$10-SUMIF($A$11:$A$370,\"<=\"&$E$3,$H$11:$H$370)),0,0),\"\")","v":""},"","",{"$error":"#VALUE!"},null,{"$error":"#VALUE!"},{"$error":"#VALUE!"},{"$error":"#VALUE!"},{"$error":"#VALUE!"},false]
[156,156,{"$error":"#VALUE!"},{"$f":"IF(A166<=$E$2,-PMT(C166/12,IF(C166=КАЛЬКУЛЯТОР!$C$21,$E$2,$E$2-$E$3),IF(C166=КАЛЬКУЛЯТОР!$C$21,$I$10,$I$10-SUMIF($A$11:$A$370,\"<=\"&$E$3,$H$11:$H$370)),0,0),\"\")","v":""},null,"",{"$f":"IFERROR(-IPMT((C166-'КАЛЬКУЛЯТОР 1'!$P$1)/12,B166,IF(C166=$E$5,$E$2,$E$2-$E$3),IF(C166=$E$5,$I$10,$I$10-SUMIF($A$11:$A$370,\"<=\"&$E$3,$H$11:$H$370)),0,0),\"\")","v":""},"","",{"$error":"#VALUE!"},null,{"$error":"#VALUE!"},{"$error":"#VALUE!"},{"$error":"#VALUE!"},{"$error":"#VALUE!"},false]
[157,157,{"$error":"#VALUE!"},{"$f":"IF(A167<=$E$2,-PMT(C167/12,IF(C167=КАЛЬКУЛЯТОР!$C$21,$E$2,$E$2-$E$3),IF(C167=КАЛЬКУЛЯТОР!$C$21,$I$10,$I$10-SUMIF($A$11:$A$370,\"<=\"&$E$3,$H$11:$H$370)),0,0)+E167,\"\")","v":""},{"$f":"IF($E$2>$A166,(I166+SUM(F167:F178))*($K$4+$K$5),0)","v":{"v":0,"d":"0.00"}},"",{"$f":"IFERROR(-IPMT((C167-'КАЛЬКУЛЯТОР 1'!$P$1)/12,B167,IF(C167=$E$5,$E$2,$E$2-$E$3),IF(C167=$E$5,$I$10,$I$10-SUMIF($A$11:$A$370,\"<=\"&$E$3,$H$11:$H$370)),0,0),\"\")","v":""},"","",{"$error":"#VALUE!"},{"$f":"PV($E$6/12,A167-1,0,-E167)","v":{"v":0,"d":"0.00"}},{"$error":"#VALUE!"},{"$error":"#VALUE!"},{"$error":"#VALUE!"},{"$error":"#VALUE!"},false]
[158,158,{"$error":"#VALUE!"},{"$f":"IF(A168<=$E$2,-PMT(C168/12,IF(C168=КАЛЬКУЛЯТОР!$C$21,$E$2,$E$2-$E$3),IF(C168=КАЛЬКУЛЯТОР!$C$21,$I$10,$I$10-SUMIF($A$11:$A$370,\"<=\"&$E$3,$H$11:$H$370)),0,0),\"\")","v":""},null,"",{"$f":"IFERROR(-IPMT((C168-'КАЛЬКУЛЯТОР 1'!$P$1)/12,B168,IF(C168=$E$5,$E$2,$E$2-$E$3),IF(C168=$E$5,$I$10,$I$10-SUMIF($A$11:$A$370,\"<=\"&$E$3,$H$11:$H$370)),0,0),\"\")","v":""},"","",{"$error":"#VALUE!"},null,{"$error":"#VALUE!"},{"$error":"#VALUE!"},{"$error":"#VALUE!"},{"$error":"#VALUE!"},false]
[159,159,{"$error":"#VALUE!"},{"$f":"IF(A169<=$E$2,-PMT(C169/12,IF(C169=КАЛЬКУЛЯТОР!$C$21,$E$2,$E$2-$E$3),IF(C169=КАЛЬКУЛЯТОР!$C$21,$I$10,$I$10-SUMIF($A$11:$A$370,\"<=\"&$E$3,$H$11:$H$370)),0,0),\"\")","v":""},null,"",{"$f":"IFERROR(-IPMT((C169-'КАЛЬКУЛЯТОР 1'!$P$1)/12,B169,IF(C169=$E$5,$E$2,$E$2-$E$3),IF(C169=$E$5,$I$10,$I$10-SUMIF($A$11:$A$370,\"<=\"&$E$3,$H$11:$H$370)),0,0),\"\")","v":""},"","",{"$error":"#VALUE!"},null,{"$error":"#VALUE!"},{"$error":"#VALUE!"},{"$error":"#VALUE!"},{"$error":"#VALUE!"},false]
[160,160,{"$error":"#VALUE!"},{"$f":"IF(A170<=$E$2,-PMT(C170/12,IF(C170=КАЛЬКУЛЯТОР!$C$21,$E$2,$E$2-$E$3),IF(C170=КАЛЬКУЛЯТОР!$C$21,$I$10,$I$10-SUMIF($A$11:$A$370,\"<=\"&$E$3,$H$11:$H$370)),0,0),\"\")","v":""},null,"",{"$f":"IFERROR(-IPMT((C170-'КАЛЬКУЛЯТОР 1'!$P$1)/12,B170,IF(C170=$E$5,$E$2,$E$2-$E$3),IF(C170=$E$5,$I$10,$I$10-SUMIF($A$11:$A$370,\"<=\"&$E$3,$H$11:$H$370)),0,0),\"\")","v":""},"","",{"$error":"#VALUE!"},null,{"$error":"#VALUE!"},{"$error":"#VALUE!"},{"$error":"#VALUE!"},{"$error":"#VALUE!"},false]
[161,161,{"$error":"#VALUE!"},{"$f":"IF(A171<=$E$2,-PMT(C171/12,IF(C171=КАЛЬКУЛЯТОР!$C$21,$E$2,$E$2-$E$3),IF(C171=КАЛЬКУЛЯТОР!$C$21,$I$10,$I$10-SUMIF($A$11:$A$370,\"<=\"&$E$3,$H$11:$H$370)),0,0),\"\")","v":""},null,"",{"$f":"IFERROR(-IPMT((C171-'КАЛЬКУЛЯТОР 1'!$P$1)/12,B171,IF(C171=$E$5,$E$2,$E$2-$E$3),IF(C171=$E$5,$I$10,$I$10-SUMIF($A$11:$A$370,\"<=\"&$E$3,$H$11:$H$370)),0,0),\"\")","v":""},"","",{"$error":"#VALUE!"},null,{"$error":"#VALUE!"},{"$error":"#VALUE!"},{"$error":"#VALUE!"},{"$error":"#VALUE!"},false]
[162,162,{"$error":"#VALUE!"},{"$f":"IF(A172<=$E$2,-PMT(C172/12,IF(C172=КАЛЬКУЛЯТОР!$C$21,$E$2,$E$2-$E$3),IF(C172=КАЛЬКУЛЯТОР!$C$21,$I$10,$I$10-SUMIF($A$11:$A$370,\"<=\"&$E$3,$H$11:$H$370)),0,0),\"\")","v":""},null,"",{"$f":"IFERROR(-IPMT((C172-'КАЛЬКУЛЯТОР 1'!$P$1)/12,B172,IF(C172=$E$5,$E$2,$E$2-$E$3),IF(C172=$E$5,$I$10,$I$10-SUMIF($A$11:$A$370,\"<=\"&$E$3,$H$11:$H$370)),0,0),\"\")","v":""},"","",{"$error":"#VALUE!"},null,{"$error":"#VALUE!"},{"$error":"#VALUE!"},{"$error":"#VALUE!"},{"$error":"#VALUE!"},false]
[163,163,{"$error":"#VALUE!"},{"$f":"IF(A173<=$E$2,-PMT(C173/12,IF(C173=КАЛЬКУЛЯТОР!$C$21,$E$2,$E$2-$E$3),IF(C173=КАЛЬКУЛЯТОР!$C$21,$I$10,$I$10-SUMIF($A$11:$A$370,\"<=\"&$E$3,$H$11:$H$370)),0,0),\"\")","v":""},null,"",{"$f":"IFERROR(-IPMT((C173-'КАЛЬКУЛЯТОР 1'!$P$1)/12,B173,IF(C173=$E$5,$E$2,$E$2-$E$3),IF(C173=$E$5,$I$10,$I$10-SUMIF($A$11:$A$370,\"<=\"&$E$3,$H$11:$H$370)),0,0),\"\")","v":""},"","",{"$error":"#VALUE!"},null,{"$error":"#VALUE!"},{"$error":"#VALUE!"},{"$error":"#VALUE!"},{"$error":"#VALUE!"},false]
[164,164,{"$error":"#VALUE!"},{"$f":"IF(A174<=$E$2,-PMT(C174/12,IF(C174=КАЛЬКУЛЯТОР!$C$21,$E$2,$E$2-$E$3),IF(C174=КАЛЬКУЛЯТОР!$C$21,$I$10,$I$10-SUMIF($A$11:$A$370,\"<=\"&$E$3,$H$11:$H$370)),0,0),\"\")","v":""},null,"",{"$f":"IFERROR(-IPMT((C174-'КАЛЬКУЛЯТОР 1'!$P$1)/12,B174,IF(C174=$E$5,$E$2,$E$2-$E$3),IF(C174=$E$5,$I$10,$I$10-SUMIF($A$11:$A$370,\"<=\"&$E$3,$H$11:$H$370)),0,0),\"\")","v":""},"","",{"$error":"#VALUE!"},null,{"$error":"#VALUE!"},{"$error":"#VALUE!"},{"$error":"#VALUE!"},{"$error":"#VALUE!"},false]
[165,165,{"$error":"#VALUE!"},{"$f":"IF(A175<=$E$2,-PMT(C175/12,IF(C175=КАЛЬКУЛЯТОР!$C$21,$E$2,$E$2-$E$3),IF(C175=КАЛЬКУЛЯТОР!$C$21,$I$10,$I$10-SUMIF($A$11:$A$370,\"<=\"&$E$3,$H$11:$H$370)),0,0),\"\")","v":""},null,"",{"$f":"IFERROR(-IPMT((C175-'КАЛЬКУЛЯТОР 1'!$P$1)/12,B175,IF(C175=$E$5,$E$2,$E$2-$E$3),IF(C175=$E$5,$I$10,$I$10-SUMIF($A$11:$A$370,\"<=\"&$E$3,$H$11:$H$370)),0,0),\"\")","v":""},"","",{"$error":"#VALUE!"},null,{"$error":"#VALUE!"},{"$error":"#VALUE!"},{"$error":"#VALUE!"},{"$error":"#VALUE!"},false]
[166,166,{"$error":"#VALUE!"},{"$f":"IF(A176<=$E$2,-PMT(C176/12,IF(C176=КАЛЬКУЛЯТОР!$C$21,$E$2,$E$2-$E$3),IF(C176=КАЛЬКУЛЯТОР!$C$21,$I$10,$I$10-SUMIF($A$11:$A$370,\"<=\"&$E$3,$H$11:$H$370)),0,0),\"\")","v":""},null,"",{"$f":"IFERROR(-IPMT((C176-'КАЛЬКУЛЯТОР 1'!$P$1)/12,B176,IF(C176=$E$5,$E$2,$E$2-$E$3),IF(C176=$E$5,$I$10,$I$10-SUMIF($A$11:$A$370,\"<=\"&$E$3,$H$11:$H$370)),0,0),\"\")","v":""},"","",{"$error":"#VALUE!"},null,{"$error":"#VALUE!"},{"$error":"#VALUE!"},{"$error":"#VALUE!"},{"$error":"#VALUE!"},false]
[167,167,{"$error":"#VALUE!"},{"$f":"IF(A177<=$E$2,-PMT(C177/12,IF(C177=КАЛЬКУЛЯТОР!$C$21,$E$2,$E$2-$E$3),IF(C177=КАЛЬКУЛЯТОР!$C$21,$I$10,$I$10-SUMIF($A$11:$A$370,\"<=\"&$E$3,$H$11:$H$370)),0,0),\"\")","v":""},null,"",{"$f":"IFERROR(-IPMT((C177-'КАЛЬКУЛЯТОР 1'!$P$1)/12,B177,IF(C177=$E$5,$E$2,$E$2-$E$3),IF(C177=$E$5,$I$10,$I$10-SUMIF($A$11:$A$370,\"<=\"&$E$3,$H$11:$H$370)),0,0),\"\")","v":""},"","",{"$error":"#VALUE!"},null,{"$error":"#VALUE!"},{"$error":"#VALUE!"},{"$error":"#VALUE!"},{"$error":"#VALUE!"},false]
[168,168,{"$error":"#VALUE!"},{"$f":"IF(A178<=$E$2,-PMT(C178/12,IF(C178=КАЛЬКУЛЯТОР!$C$21,$E$2,$E$2-$E$3),IF(C178=КАЛЬКУЛЯТОР!$C$21,$I$10,$I$10-SUMIF($A$11:$A$370,\"<=\"&$E$3,$H$11:$H$370)),0,0),\"\")","v":""},null,"",{"$f":"IFERROR(-IPMT((C178-'КАЛЬКУЛЯТОР 1'!$P$1)/12,B178,IF(C178=$E$5,$E$2,$E$2-$E$3),IF(C178=$E$5,$I$10,$I$10-SUMIF($A$11:$A$370,\"<=\"&$E$3,$H$11:$H$370)),0,0),\"\")","v":""},"","",{"$error":"#VALUE!"},null,{"$error":"#VALUE!"},{"$error":"#VALUE!"},{"$error":"#VALUE!"},{"$error":"#VALUE!"},false]
[169,169,{"$error":"#VALUE!"},{"$f":"IF(A179<=$E$2,-PMT(C179/12,IF(C179=КАЛЬКУЛЯТОР!$C$21,$E$2,$E$2-$E$3),IF(C179=КАЛЬКУЛЯТОР!$C$21,$I$10,$I$10-SUMIF($A$11:$A$370,\"<=\"&$E$3,$H$11:$H$370)),0,0)+E179,\"\")","v":""},{"$f":"IF($E$2>$A178,(I178+SUM(F179:F190))*($K$4+$K$5),0)","v":{"v":0,"d":"0.00"}},"",{"$f":"IFERROR(-IPMT((C179-'КАЛЬКУЛЯТОР 1'!$P$1)/12,B179,IF(C179=$E$5,$E$2,$E$2-$E$3),IF(C179=$E$5,$I$10,$I$10-SUMIF($A$11:$A$370,\"<=\"&$E$3,$H$11:$H$370)),0,0),\"\")","v":""},"","",{"$error":"#VALUE!"},{"$f":"PV($E$6/12,A179-1,0,-E179)","v":{"v":0,"d":"0.00"}},{"$error":"#VALUE!"},{"$error":"#VALUE!"},{"$error":"#VALUE!"},{"$error":"#VALUE!"},false]
[170,170,{"$error":"#VALUE!"},{"$f":"IF(A180<=$E$2,-PMT(C180/12,IF(C180=КАЛЬКУЛЯТОР!$C$21,$E$2,$E$2-$E$3),IF(C180=КАЛЬКУЛЯТОР!$C$21,$I$10,$I$10-SUMIF($A$11:$A$370,\"<=\"&$E$3,$H$11:$H$370)),0,0),\"\")","v":""},null,"",{"$f":"IFERROR(-IPMT((C180-'КАЛЬКУЛЯТОР 1'!$P$1)/12,B180,IF(C180=$E$5,$E$2,$E$2-$E$3),IF(C180=$E$5,$I$10,$I$10-SUMIF($A$11:$A$370,\"<=\"&$E$3,$H$11:$H$370)),0,0),\"\")","v":""},"","",{"$error":"#VALUE!"},null,{"$error":"#VALUE!"},{"$error":"#VALUE!"},{"$error":"#VALUE!"},{"$error":"#VALUE!"},false]
[171,171,{"$error":"#VALUE!"},{"$f":"IF(A181<=$E$2,-PMT(C181/12,IF(C181=КАЛЬКУЛЯТОР!$C$21,$E$2,$E$2-$E$3),IF(C181=КАЛЬКУЛЯТОР!$C$21,$I$10,$I$10-SUMIF($A$11:$A$370,\"<=\"&$E$3,$H$11:$H$370)),0,0),\"\")","v":""},null,"",{"$f":"IFERROR(-IPMT((C181-'КАЛЬКУЛЯТОР 1'!$P$1)/12,B181,IF(C181=$E$5,$E$2,$E$2-$E$3),IF(C181=$E$5,$I$10,$I$10-SUMIF($A$11:$A$370,\"<=\"&$E$3,$H$11:$H$370)),0,0),\"\")","v":""},"","",{"$error":"#VALUE!"},null,{"$error":"#VALUE!"},{"$error":"#VALUE!"},{"$error":"#VALUE!"},{"$error":"#VALUE!"},false]
[172,172,{"$error":"#VALUE!"},{"$f":"IF(A182<=$E$2,-PMT(C182/12,IF(C182=КАЛЬКУЛЯТОР!$C$21,$E$2,$E$2-$E$3),IF(C182=КАЛЬКУЛЯТОР!$C$21,$I$10,$I$10-SUMIF($A$11:$A$370,\"<=\"&$E$3,$H$11:$H$370)),0,0),\"\")","v":""},null,"",{"$f":"IFERROR(-IPMT((C182-'КАЛЬКУЛЯТОР 1'!$P$1)/12,B182,IF(C182=$E$5,$E$2,$E$2-$E$3),IF(C182=$E$5,$I$10,$I$10-SUMIF($A$11:$A$370,\"<=\"&$E$3,$H$11:$H$370)),0,0),\"\")","v":""},"","",{"$error":"#VALUE!"},null,{"$error":"#VALUE!"},{"$error":"#VALUE!"},{"$error":"#VALUE!"},{"$error":"#VALUE!"},false]
[173,173,{"$error":"#VALUE!"},{"$f":"IF(A183<=$E$2,-PMT(C183/12,IF(C183=КАЛЬКУЛЯТОР!$C$21,$E$2,$E$2-$E$3),IF(C183=КАЛЬКУЛЯТОР!$C$21,$I$10,$I$10-SUMIF($A$11:$A$370,\"<=\"&$E$3,$H$11:$H$370)),0,0),\"\")","v":""},null,"",{"$f":"IFERROR(-IPMT((C183-'КАЛЬКУЛЯТОР 1'!$P$1)/12,B183,IF(C183=$E$5,$E$2,$E$2-$E$3),IF(C183=$E$5,$I$10,$I$10-SUMIF($A$11:$A$370,\"<=\"&$E$3,$H$11:$H$370)),0,0),\"\")","v":""},"","",{"$error":"#VALUE!"},null,{"$error":"#VALUE!"},{"$error":"#VALUE!"},{"$error":"#VALUE!"},{"$error":"#VALUE!"},false]
[174,174,{"$error":"#VALUE!"},{"$f":"IF(A184<=$E$2,-PMT(C184/12,IF(C184=КАЛЬКУЛЯТОР!$C$21,$E$2,$E$2-$E$3),IF(C184=КАЛЬКУЛЯТОР!$C$21,$I$10,$I$10-SUMIF($A$11:$A$370,\"<=\"&$E$3,$H$11:$H$370)),0,0),\"\")","v":""},null,"",{"$f":"IFERROR(-IPMT((C184-'КАЛЬКУЛЯТОР 1'!$P$1)/12,B184,IF(C184=$E$5,$E$2,$E$2-$E$3),IF(C184=$E$5,$I$10,$I$10-SUMIF($A$11:$A$370,\"<=\"&$E$3,$H$11:$H$370)),0,0),\"\")","v":""},"","",{"$error":"#VALUE!"},null,{"$error":"#VALUE!"},{"$error":"#VALUE!"},{"$error":"#VALUE!"},{"$error":"#VALUE!"},false]
[175,175,{"$error":"#VALUE!"},{"$f":"IF(A185<=$E$2,-PMT(C185/12,IF(C185=КАЛЬКУЛЯТОР!$C$21,$E$2,$E$2-$E$3),IF(C185=КАЛЬКУЛЯТОР!$C$21,$I$10,$I$10-SUMIF($A$11:$A$370,\"<=\"&$E$3,$H$11:$H$370)),0,0),\"\")","v":""},null,"",{"$f":"IFERROR(-IPMT((C185-'КАЛЬКУЛЯТОР 1'!$P$1)/12,B185,IF(C185=$E$5,$E$2,$E$2-$E$3),IF(C185=$E$5,$I$10,$I$10-SUMIF($A$11:$A$370,\"<=\"&$E$3,$H$11:$H$370)),0,0),\"\")","v":""},"","",{"$error":"#VALUE!"},null,{"$error":"#VALUE!"},{"$error":"#VALUE!"},{"$error":"#VALUE!"},{"$error":"#VALUE!"},false]
[176,176,{"$error":"#VALUE!"},{"$f":"IF(A186<=$E$2,-PMT(C186/12,IF(C186=КАЛЬКУЛЯТОР!$C$21,$E$2,$E$2-$E$3),IF(C186=КАЛЬКУЛЯТОР!$C$21,$I$10,$I$10-SUMIF($A$11:$A$370,\"<=\"&$E$3,$H$11:$H$370)),0,0),\"\")","v":""},null,"",{"$f":"IFERROR(-IPMT((C186-'КАЛЬКУЛЯТОР 1'!$P$1)/12,B186,IF(C186=$E$5,$E$2,$E$2-$E$3),IF(C186=$E$5,$I$10,$I$10-SUMIF($A$11:$A$370,\"<=\"&$E$3,$H$11:$H$370)),0,0),\"\")","v":""},"","",{"$error":"#VALUE!"},null,{"$error":"#VALUE!"},{"$error":"#VALUE!"},{"$error":"#VALUE!"},{"$error":"#VALUE!"},false]
[177,177,{"$error":"#VALUE!"},{"$f":"IF(A187<=$E$2,-PMT(C187/12,IF(C187=КАЛЬКУЛЯТОР!$C$21,$E$2,$E$2-$E$3),IF(C187=КАЛЬКУЛЯТОР!$C$21,$I$10,$I$10-SUMIF($A$11:$A$370,\"<=\"&$E$3,$H$11:$H$370)),0,0),\"\")","v":""},null,"",{"$f":"IFERROR(-IPMT((C187-'КАЛЬКУЛЯТОР 1'!$P$1)/12,B187,IF(C187=$E$5,$E$2,$E$2-$E$3),IF(C187=$E$5,$I$10,$I$10-SUMIF($A$11:$A$370,\"<=\"&$E$3,$H$11:$H$370)),0,0),\"\")","v":""},"","",{"$error":"#VALUE!"},null,{"$error":"#VALUE!"},{"$error":"#VALUE!"},{"$error":"#VALUE!"},{"$error":"#VALUE!"},false]
[178,178,{"$error":"#VALUE!"},{"$f":"IF(A188<=$E$2,-PMT(C188/12,IF(C188=КАЛЬКУЛЯТОР!$C$21,$E$2,$E$2-$E$3),IF(C188=КАЛЬКУЛЯТОР!$C$21,$I$10,$I$10-SUMIF($A$11:$A$370,\"<=\"&$E$3,$H$11:$H$370)),0,0),\"\")","v":""},null,"",{"$f":"IFERROR(-IPMT((C188-'КАЛЬКУЛЯТОР 1'!$P$1)/12,B188,IF(C188=$E$5,$E$2,$E$2-$E$3),IF(C188=$E$5,$I$10,$I$10-SUMIF($A$11:$A$370,\"<=\"&$E$3,$H$11:$H$370)),0,0),\"\")","v":""},"","",{"$error":"#VALUE!"},null,{"$error":"#VALUE!"},{"$error":"#VALUE!"},{"$error":"#VALUE!"},{"$error":"#VALUE!"},false]
[179,179,{"$error":"#VALUE!"},{"$f":"IF(A189<=$E$2,-PMT(C189/12,IF(C189=КАЛЬКУЛЯТОР!$C$21,$E$2,$E$2-$E$3),IF(C189=КАЛЬКУЛЯТОР!$C$21,$I$10,$I$10-SUMIF($A$11:$A$370,\"<=\"&$E$3,$H$11:$H$370)),0,0),\"\")","v":""},null,"",{"$f":"IFERROR(-IPMT((C189-'КАЛЬКУЛЯТОР 1'!$P$1)/12,B189,IF(C189=$E$5,$E$2,$E$2-$E$3),IF(C189=$E$5,$I$10,$I$10-SUMIF($A$11:$A$370,\"<=\"&$E$3,$H$11:$H$370)),0,0),\"\")","v":""},"","",{"$error":"#VALUE!"},null,{"$error":"#VALUE!"},{"$error":"#VALUE!"},{"$error":"#VALUE!"},{"$error":"#VALUE!"},false]
[180,180,{"$error":"#VALUE!"},{"$f":"IF(A190<=$E$2,-PMT(C190/12,IF(C190=КАЛЬКУЛЯТОР!$C$21,$E$2,$E$2-$E$3),IF(C190=КАЛЬКУЛЯТОР!$C$21,$I$10,$I$10-SUMIF($A$11:$A$370,\"<=\"&$E$3,$H$11:$H$370)),0,0),\"\")","v":""},null,"",{"$f":"IFERROR(-IPMT((C190-'КАЛЬКУЛЯТОР 1'!$P$1)/12,B190,IF(C190=$E$5,$E$2,$E$2-$E$3),IF(C190=$E$5,$I$10,$I$10-SUMIF($A$11:$A$370,\"<=\"&$E$3,$H$11:$H$370)),0,0),\"\")","v":""},"","",{"$error":"#VALUE!"},null,{"$error":"#VALUE!"},{"$error":"#VALUE!"},{"$error":"#VALUE!"},{"$error":"#VALUE!"},false]
[181,181,{"$error":"#VALUE!"},{"$f":"IF(A191<=$E$2,-PMT(C191/12,IF(C191=КАЛЬКУЛЯТОР!$C$21,$E$2,$E$2-$E$3),IF(C191=КАЛЬКУЛЯТОР!$C$21,$I$10,$I$10-SUMIF($A$11:$A$370,\"<=\"&$E$3,$H$11:$H$370)),0,0)+E191,\"\")","v":""},{"$f":"IF($E$2>$A190,(I190+SUM(F191:F202))*($K$4+$K$5),0)","v":{"v":0,"d":"0.00"}},"",{"$f":"IFERROR(-IPMT((C191-'КАЛЬКУЛЯТОР 1'!$P$1)/12,B191,IF(C191=$E$5,$E$2,$E$2-$E$3),IF(C191=$E$5,$I$10,$I$10-SUMIF($A$11:$A$370,\"<=\"&$E$3,$H$11:$H$370)),0,0),\"\")","v":""},"","",{"$error":"#VALUE!"},{"$f":"PV($E$6/12,A191-1,0,-E191)","v":{"v":0,"d":"0.00"}},{"$error":"#VALUE!"},{"$error":"#VALUE!"},{"$error":"#VALUE!"},{"$error":"#VALUE!"},false]
[182,182,{"$error":"#VALUE!"},{"$f":"IF(A192<=$E$2,-PMT(C192/12,IF(C192=КАЛЬКУЛЯТОР!$C$21,$E$2,$E$2-$E$3),IF(C192=КАЛЬКУЛЯТОР!$C$21,$I$10,$I$10-SUMIF($A$11:$A$370,\"<=\"&$E$3,$H$11:$H$370)),0,0),\"\")","v":""},null,"",{"$f":"IFERROR(-IPMT((C192-'КАЛЬКУЛЯТОР 1'!$P$1)/12,B192,IF(C192=$E$5,$E$2,$E$2-$E$3),IF(C192=$E$5,$I$10,$I$10-SUMIF($A$11:$A$370,\"<=\"&$E$3,$H$11:$H$370)),0,0),\"\")","v":""},"","",{"$error":"#VALUE!"},null,{"$error":"#VALUE!"},{"$error":"#VALUE!"},{"$error":"#VALUE!"},{"$error":"#VALUE!"},false]
[183,183,{"$error":"#VALUE!"},{"$f":"IF(A193<=$E$2,-PMT(C193/12,IF(C193=КАЛЬКУЛЯТОР!$C$21,$E$2,$E$2-$E$3),IF(C193=КАЛЬКУЛЯТОР!$C$21,$I$10,$I$10-SUMIF($A$11:$A$370,\"<=\"&$E$3,$H$11:$H$370)),0,0),\"\")","v":""},null,"",{"$f":"IFERROR(-IPMT((C193-'КАЛЬКУЛЯТОР 1'!$P$1)/12,B193,IF(C193=$E$5,$E$2,$E$2-$E$3),IF(C193=$E$5,$I$10,$I$10-SUMIF($A$11:$A$370,\"<=\"&$E$3,$H$11:$H$370)),0,0),\"\")","v":""},"","",{"$error":"#VALUE!"},null,{"$error":"#VALUE!"},{"$error":"#VALUE!"},{"$error":"#VALUE!"},{"$error":"#VALUE!"},false]
[184,184,{"$error":"#VALUE!"},{"$f":"IF(A194<=$E$2,-PMT(C194/12,IF(C194=КАЛЬКУЛЯТОР!$C$21,$E$2,$E$2-$E$3),IF(C194=КАЛЬКУЛЯТОР!$C$21,$I$10,$I$10-SUMIF($A$11:$A$370,\"<=\"&$E$3,$H$11:$H$370)),0,0),\"\")","v":""},null,"",{"$f":"IFERROR(-IPMT((C194-'КАЛЬКУЛЯТОР 1'!$P$1)/12,B194,IF(C194=$E$5,$E$2,$E$2-$E$3),IF(C194=$E$5,$I$10,$I$10-SUMIF($A$11:$A$370,\"<=\"&$E$3,$H$11:$H$370)),0,0),\"\")","v":""},"","",{"$error":"#VALUE!"},null,{"$error":"#VALUE!"},{"$error":"#VALUE!"},{"$error":"#VALUE!"},{"$error":"#VALUE!"},false]
[185,185,{"$error":"#VALUE!"},{"$f":"IF(A195<=$E$2,-PMT(C195/12,IF(C195=КАЛЬКУЛЯТОР!$C$21,$E$2,$E$2-$E$3),IF(C195=КАЛЬКУЛЯТОР!$C$21,$I$10,$I$10-SUMIF($A$11:$A$370,\"<=\"&$E$3,$H$11:$H$370)),0,0),\"\")","v":""},null,"",{"$f":"IFERROR(-IPMT((C195-'КАЛЬКУЛЯТОР 1'!$P$1)/12,B195,IF(C195=$E$5,$E$2,$E$2-$E$3),IF(C195=$E$5,$I$10,$I$10-SUMIF($A$11:$A$370,\"<=\"&$E$3,$H$11:$H$370)),0,0),\"\")","v":""},"","",{"$error":"#VALUE!"},null,{"$error":"#VALUE!"},{"$error":"#VALUE!"},{"$error":"#VALUE!"},{"$error":"#VALUE!"},false]
[186,186,{"$error":"#VALUE!"},{"$f":"IF(A196<=$E$2,-PMT(C196/12,IF(C196=КАЛЬКУЛЯТОР!$C$21,$E$2,$E$2-$E$3),IF(C196=КАЛЬКУЛЯТОР!$C$21,$I$10,$I$10-SUMIF($A$11:$A$370,\"<=\"&$E$3,$H$11:$H$370)),0,0),\"\")","v":""},null,"",{"$f":"IFERROR(-IPMT((C196-'КАЛЬКУЛЯТОР 1'!$P$1)/12,B196,IF(C196=$E$5,$E$2,$E$2-$E$3),IF(C196=$E$5,$I$10,$I$10-SUMIF($A$11:$A$370,\"<=\"&$E$3,$H$11:$H$370)),0,0),\"\")","v":""},"","",{"$error":"#VALUE!"},null,{"$error":"#VALUE!"},{"$error":"#VALUE!"},{"$error":"#VALUE!"},{"$error":"#VALUE!"},false]
[187,187,{"$error":"#VALUE!"},{"$f":"IF(A197<=$E$2,-PMT(C197/12,IF(C197=КАЛЬКУЛЯТОР!$C$21,$E$2,$E$2-$E$3),IF(C197=КАЛЬКУЛЯТОР!$C$21,$I$10,$I$10-SUMIF($A$11:$A$370,\"<=\"&$E$3,$H$11:$H$370)),0,0),\"\")","v":""},null,"",{"$f":"IFERROR(-IPMT((C197-'КАЛЬКУЛЯТОР 1'!$P$1)/12,B197,IF(C197=$E$5,$E$2,$E$2-$E$3),IF(C197=$E$5,$I$10,$I$10-SUMIF($A$11:$A$370,\"<=\"&$E$3,$H$11:$H$370)),0,0),\"\")","v":""},"","",{"$error":"#VALUE!"},null,{"$error":"#VALUE!"},{"$error":"#VALUE!"},{"$error":"#VALUE!"},{"$error":"#VALUE!"},false]
[188,188,{"$error":"#VALUE!"},{"$f":"IF(A198<=$E$2,-PMT(C198/12,IF(C198=КАЛЬКУЛЯТОР!$C$21,$E$2,$E$2-$E$3),IF(C198=КАЛЬКУЛЯТОР!$C$21,$I$10,$I$10-SUMIF($A$11:$A$370,\"<=\"&$E$3,$H$11:$H$370)),0,0),\"\")","v":""},null,"",{"$f":"IFERROR(-IPMT((C198-'КАЛЬКУЛЯТОР 1'!$P$1)/12,B198,IF(C198=$E$5,$E$2,$E$2-$E$3),IF(C198=$E$5,$I$10,$I$10-SUMIF($A$11:$A$370,\"<=\"&$E$3,$H$11:$H$370)),0,0),\"\")","v":""},"","",{"$error":"#VALUE!"},null,{"$error":"#VALUE!"},{"$error":"#VALUE!"},{"$error":"#VALUE!"},{"$error":"#VALUE!"},false]
[189,189,{"$error":"#VALUE!"},{"$f":"IF(A199<=$E$2,-PMT(C199/12,IF(C199=КАЛЬКУЛЯТОР!$C$21,$E$2,$E$2-$E$3),IF(C199=КАЛЬКУЛЯТОР!$C$21,$I$10,$I$10-SUMIF($A$11:$A$370,\"<=\"&$E$3,$H$11:$H$370)),0,0),\"\")","v":""},null,"",{"$f":"IFERROR(-IPMT((C199-'КАЛЬКУЛЯТОР 1'!$P$1)/12,B199,IF(C199=$E$5,$E$2,$E$2-$E$3),IF(C199=$E$5,$I$10,$I$10-SUMIF($A$11:$A$370,\"<=\"&$E$3,$H$11:$H$370)),0,0),\"\")","v":""},"","",{"$error":"#VALUE!"},null,{"$error":"#VALUE!"},{"$error":"#VALUE!"},{"$error":"#VALUE!"},{"$error":"#VALUE!"},false]
[190,190,{"$error":"#VALUE!"},{"$f":"IF(A200<=$E$2,-PMT(C200/12,IF(C200=КАЛЬКУЛЯТОР!$C$21,$E$2,$E$2-$E$3),IF(C200=КАЛЬКУЛЯТОР!$C$21,$I$10,$I$10-SUMIF($A$11:$A$370,\"<=\"&$E$3,$H$11:$H$370)),0,0),\"\")","v":""},null,"",{"$f":"IFERROR(-IPMT((C200-'КАЛЬКУЛЯТОР 1'!$P$1)/12,B200,IF(C200=$E$5,$E$2,$E$2-$E$3),IF(C200=$E$5,$I$10,$I$10-SUMIF($A$11:$A$370,\"<=\"&$E$3,$H$11:$H$370)),0,0),\"\")","v":""},"","",{"$error":"#VALUE!"},null,{"$error":"#VALUE!"},{"$error":"#VALUE!"},{"$error":"#VALUE!"},{"$error":"#VALUE!"},false]
[191,191,{"$error":"#VALUE!"},{"$f":"IF(A201<=$E$2,-PMT(C201/12,IF(C201=КАЛЬКУЛЯТОР!$C$21,$E$2,$E$2-$E$3),IF(C201=КАЛЬКУЛЯТОР!$C$21,$I$10,$I$10-SUMIF($A$11:$A$370,\"<=\"&$E$3,$H$11:$H$370)),0,0),\"\")","v":""},null,"",{"$f":"IFERROR(-IPMT((C201-'КАЛЬКУЛЯТОР 1'!$P$1)/12,B201,IF(C201=$E$5,$E$2,$E$2-$E$3),IF(C201=$E$5,$I$10,$I$10-SUMIF($A$11:$A$370,\"<=\"&$E$3,$H$11:$H$370)),0,0),\"\")","v":""},"","",{"$error":"#VALUE!"},null,{"$error":"#VALUE!"},{"$error":"#VALUE!"},{"$error":"#VALUE!"},{"$error":"#VALUE!"},false]
[192,192,{"$error":"#VALUE!"},{"$f":"IF(A202<=$E$2,-PMT(C202/12,IF(C202=КАЛЬКУЛЯТОР!$C$21,$E$2,$E$2-$E$3),IF(C202=КАЛЬКУЛЯТОР!$C$21,$I$10,$I$10-SUMIF($A$11:$A$370,\"<=\"&$E$3,$H$11:$H$370)),0,0),\"\")","v":""},null,"",{"$f":"IFERROR(-IPMT((C202-'КАЛЬКУЛЯТОР 1'!$P$1)/12,B202,IF(C202=$E$5,$E$2,$E$2-$E$3),IF(C202=$E$5,$I$10,$I$10-SUMIF($A$11:$A$370,\"<=\"&$E$3,$H$11:$H$370)),0,0),\"\")","v":""},"","",{"$error":"#VALUE!"},null,{"$error":"#VALUE!"},{"$error":"#VALUE!"},{"$error":"#VALUE!"},{"$error":"#VALUE!"},false]
[193,193,{"$error":"#VALUE!"},{"$f":"IF(A203<=$E$2,-PMT(C203/12,IF(C203=КАЛЬКУЛЯТОР!$C$21,$E$2,$E$2-$E$3),IF(C203=КАЛЬКУЛЯТОР!$C$21,$I$10,$I$10-SUMIF($A$11:$A$370,\"<=\"&$E$3,$H$11:$H$370)),0,0)+E203,\"\")","v":""},{"$f":"IF($E$2>$A202,(I202+SUM(F203:F214))*($K$4+$K$5),0)","v":{"v":0,"d":"0.00"}},"",{"$f":"IFERROR(-IPMT((C203-'КАЛЬКУЛЯТОР 1'!$P$1)/12,B203,IF(C203=$E$5,$E$2,$E$2-$E$3),IF(C203=$E$5,$I$10,$I$10-SUMIF($A$11:$A$370,\"<=\"&$E$3,$H$11:$H$370)),0,0),\"\")","v":""},"",{"$f":"IFERROR(I202-H203,\"\")","v":""},{"$f":"PV($E$6/12,A203-1,0,-D203)","v":{"$error":"#VALUE!"}},{"$f":"PV($E$6/12,A203-1,0,-E203)","v":{"v":0,"d":"0.00"}},{"$f":"PV($E$6/12,A203-1,0,-F203)","v":{"$error":"#VALUE!"}},{"$f":"PV($E$6/12,A203-1,0,-G203)","v":{"$error":"#VALUE!"}},{"$f":"PV($E$6/12,A203-1,0,-H203)","v":{"$error":"#VALUE!"}},{"$f":"O202-N203","v":{"$error":"#VALUE!"}},false]
[194,{"$f":"IF(P204=$P$11,B203+1,A204-$E$3)","v":194},{"$f":"IF(AND($E$4<=$E$5,A204<=$E$3),$E$5,IF(AND(A204>$E$3,A204<=$E$2),$E$4,\"\"))","v":{"$error":"#VALUE!"}},{"$f":"IF(A204<=$E$2,-PMT(C204/12,IF(C204=КАЛЬКУЛЯТОР!$C$21,$E$2,$E$2-$E$3),IF(C204=КАЛЬКУЛЯТОР!$C$21,$I$10,$I$10-SUMIF($A$11:$A$370,\"<=\"&$E$3,$H$11:$H$370)),0,0),\"\")","v":""},null,{"$f":"IFERROR(-IPMT(C204/12,B204,IF(C204=$E$5,$E$2,$E$2-$E$3),IF(C204=$E$5,$I$10,$I$10-SUMIF($A$11:$A$370,\"<=\"&$E$3,$H$11:$H$370)),0,0),\"\")","v":""},{"$f":"IFERROR(-IPMT((C204-'КАЛЬКУЛЯТОР 1'!$P$1)/12,B204,IF(C204=$E$5,$E$2,$E$2-$E$3),IF(C204=$E$5,$I$10,$I$10-SUMIF($A$11:$A$370,\"<=\"&$E$3,$H$11:$H$370)),0,0),\"\")","v":""},{"$f":"IFERROR((-PPMT(C204/12,B204,IF(C204=$E$5,$E$2,$E$2-$E$3),IF(C204=$E$5,$I$10,$I$10-SUMIF($A$11:$A$370,\"<=\"&$E$3,$H$11:$H$370)),0,0)),\"\")","v":""},"",{"$error":"#VALUE!"},null,{"$error":"#VALUE!"},{"$error":"#VALUE!"},{"$error":"#VALUE!"},{"$error":"#VALUE!"},{"$f":"AND(A204<=$E$3)","v":false}]
[195,195,{"$error":"#VALUE!"},{"$f":"IF(A205<=$E$2,-PMT(C205/12,IF(C205=КАЛЬКУЛЯТОР!$C$21,$E$2,$E$2-$E$3),IF(C205=КАЛЬКУЛЯТОР!$C$21,$I$10,$I$10-SUMIF($A$11:$A$370,\"<=\"&$E$3,$H$11:$H$370)),0,0),\"\")","v":""},null,"",{"$f":"IFERROR(-IPMT((C205-'КАЛЬКУЛЯТОР 1'!$P$1)/12,B205,IF(C205=$E$5,$E$2,$E$2-$E$3),IF(C205=$E$5,$I$10,$I$10-SUMIF($A$11:$A$370,\"<=\"&$E$3,$H$11:$H$370)),0,0),\"\")","v":""},"","",{"$error":"#VALUE!"},null,{"$error":"#VALUE!"},{"$error":"#VALUE!"},{"$error":"#VALUE!"},{"$error":"#VALUE!"},false]
[196,196,{"$error":"#VALUE!"},{"$f":"IF(A206<=$E$2,-PMT(C206/12,IF(C206=КАЛЬКУЛЯТОР!$C$21,$E$2,$E$2-$E$3),IF(C206=КАЛЬКУЛЯТОР!$C$21,$I$10,$I$10-SUMIF($A$11:$A$370,\"<=\"&$E$3,$H$11:$H$370)),0,0),\"\")","v":""},null,"",{"$f":"IFERROR(-IPMT((C206-'КАЛЬКУЛЯТОР 1'!$P$1)/12,B206,IF(C206=$E$5,$E$2,$E$2-$E$3),IF(C206=$E$5,$I$10,$I$10-SUMIF($A$11:$A$370,\"<=\"&$E$3,$H$11:$H$370)),0,0),\"\")","v":""},"","",{"$error":"#VALUE!"},null,{"$error":"#VALUE!"},{"$error":"#VALUE!"},{"$error":"#VALUE!"},{"$error":"#VALUE!"},false]
[197,197,{"$error":"#VALUE!"},{"$f":"IF(A207<=$E$2,-PMT(C207/12,IF(C207=КАЛЬКУЛЯТОР!$C$21,$E$2,$E$2-$E$3),IF(C207=КАЛЬКУЛЯТОР!$C$21,$I$10,$I$10-SUMIF($A$11:$A$370,\"<=\"&$E$3,$H$11:$H$370)),0,0),\"\")","v":""},null,"",{"$f":"IFERROR(-IPMT((C207-'КАЛЬКУЛЯТОР 1'!$P$1)/12,B207,IF(C207=$E$5,$E$2,$E$2-$E$3),IF(C207=$E$5,$I$10,$I$10-SUMIF($A$11:$A$370,\"<=\"&$E$3,$H$11:$H$370)),0,0),\"\")","v":""},"","",{"$error":"#VALUE!"},null,{"$error":"#VALUE!"},{"$error":"#VALUE!"},{"$error":"#VALUE!"},{"$error":"#VALUE!"},false]
[198,198,{"$error":"#VALUE!"},{"$f":"IF(A208<=$E$2,-PMT(C208/12,IF(C208=КАЛЬКУЛЯТОР!$C$21,$E$2,$E$2-$E$3),IF(C208=КАЛЬКУЛЯТОР!$C$21,$I$10,$I$10-SUMIF($A$11:$A$370,\"<=\"&$E$3,$H$11:$H$370)),0,0),\"\")","v":""},null,"",{"$f":"IFERROR(-IPMT((C208-'КАЛЬКУЛЯТОР 1'!$P$1)/12,B208,IF(C208=$E$5,$E$2,$E$2-$E$3),IF(C208=$E$5,$I$10,$I$10-SUMIF($A$11:$A$370,\"<=\"&$E$3,$H$11:$H$370)),0,0),\"\")","v":""},"","",{"$error":"#VALUE!"},null,{"$error":"#VALUE!"},{"$error":"#VALUE!"},{"$error":"#VALUE!"},{"$error":"#VALUE!"},false]
[199,199,{"$error":"#VALUE!"},{"$f":"IF(A209<=$E$2,-PMT(C209/12,IF(C209=КАЛЬКУЛЯТОР!$C$21,$E$2,$E$2-$E$3),IF(C209=КАЛЬКУЛЯТОР!$C$21,$I$10,$I$10-SUMIF($A$11:$A$370,\"<=\"&$E$3,$H$11:$H$370)),0,0),\"\")","v":""},null,"",{"$f":"IFERROR(-IPMT((C209-'КАЛЬКУЛЯТОР 1'!$P$1)/12,B209,IF(C209=$E$5,$E$2,$E$2-$E$3),IF(C209=$E$5,$I$10,$I$10-SUMIF($A$11:$A$370,\"<=\"&$E$3,$H$11:$H$370)),0,0),\"\")","v":""},"","",{"$error":"#VALUE!"},null,{"$error":"#VALUE!"},{"$error":"#VALUE!"},{"$error":"#VALUE!"},{"$error":"#VALUE!"},false]
[200,200,{"$error":"#VALUE!"},{"$f":"IF(A210<=$E$2,-PMT(C210/12,IF(C210=КАЛЬКУЛЯТОР!$C$21,$E$2,$E$2-$E$3),IF(C210=КАЛЬКУЛЯТОР!$C$21,$I$10,$I$10-SUMIF($A$11:$A$370,\"<=\"&$E$3,$H$11:$H$370)),0,0),\"\")","v":""},null,"",{"$f":"IFERROR(-IPMT((C210-'КАЛЬКУЛЯТОР 1'!$P$1)/12,B210,IF(C210=$E$5,$E$2,$E$2-$E$3),IF(C210=$E$5,$I$10,$I$10-SUMIF($A$11:$A$370,\"<=\"&$E$3,$H$11:$H$370)),0,0),\"\")","v":""},"","",{"$error":"#VALUE!"},null,{"$error":"#VALUE!"},{"$error":"#VALUE!"},{"$error":"#VALUE!"},{"$error":"#VALUE!"},false]
[201,201,{"$error":"#VALUE!"},{"$f":"IF(A211<=$E$2,-PMT(C211/12,IF(C211=КАЛЬКУЛЯТОР!$C$21,$E$2,$E$2-$E$3),IF(C211=КАЛЬКУЛЯТОР!$C$21,$I$10,$I$10-SUMIF($A$11:$A$370,\"<=\"&$E$3,$H$11:$H$370)),0,0),\"\")","v":""},null,"",{"$f":"IFERROR(-IPMT((C211-'КАЛЬКУЛЯТОР 1'!$P$1)/12,B211,IF(C211=$E$5,$E$2,$E$2-$E$3),IF(C211=$E$5,$I$10,$I$10-SUMIF($A$11:$A$370,\"<=\"&$E$3,$H$11:$H$370)),0,0),\"\")","v":""},"","",{"$error":"#VALUE!"},null,{"$error":"#VALUE!"},{"$error":"#VALUE!"},{"$error":"#VALUE!"},{"$error":"#VALUE!"},false]
[202,202,{"$error":"#VALUE!"},{"$f":"IF(A212<=$E$2,-PMT(C212/12,IF(C212=КАЛЬКУЛЯТОР!$C$21,$E$2,$E$2-$E$3),IF(C212=КАЛЬКУЛЯТОР!$C$21,$I$10,$I$10-SUMIF($A$11:$A$370,\"<=\"&$E$3,$H$11:$H$370)),0,0),\"\")","v":""},null,"",{"$f":"IFERROR(-IPMT((C212-'КАЛЬКУЛЯТОР 1'!$P$1)/12,B212,IF(C212=$E$5,$E$2,$E$2-$E$3),IF(C212=$E$5,$I$10,$I$10-SUMIF($A$11:$A$370,\"<=\"&$E$3,$H$11:$H$370)),0,0),\"\")","v":""},"","",{"$error":"#VALUE!"},null,{"$error":"#VALUE!"},{"$error":"#VALUE!"},{"$error":"#VALUE!"},{"$error":"#VALUE!"},false]
[203,203,{"$error":"#VALUE!"},{"$f":"IF(A213<=$E$2,-PMT(C213/12,IF(C213=КАЛЬКУЛЯТОР!$C$21,$E$2,$E$2-$E$3),IF(C213=КАЛЬКУЛЯТОР!$C$21,$I$10,$I$10-SUMIF($A$11:$A$370,\"<=\"&$E$3,$H$11:$H$370)),0,0),\"\")","v":""},null,"",{"$f":"IFERROR(-IPMT((C213-'КАЛЬКУЛЯТОР 1'!$P$1)/12,B213,IF(C213=$E$5,$E$2,$E$2-$E$3),IF(C213=$E$5,$I$10,$I$10-SUMIF($A$11:$A$370,\"<=\"&$E$3,$H$11:$H$370)),0,0),\"\")","v":""},"","",{"$error":"#VALUE!"},null,{"$error":"#VALUE!"},{"$error":"#VALUE!"},{"$error":"#VALUE!"},{"$error":"#VALUE!"},false]
[204,204,{"$error":"#VALUE!"},{"$f":"IF(A214<=$E$2,-PMT(C214/12,IF(C214=КАЛЬКУЛЯТОР!$C$21,$E$2,$E$2-$E$3),IF(C214=КАЛЬКУЛЯТОР!$C$21,$I$10,$I$10-SUMIF($A$11:$A$370,\"<=\"&$E$3,$H$11:$H$370)),0,0),\"\")","v":""},null,"",{"$f":"IFERROR(-IPMT((C214-'КАЛЬКУЛЯТОР 1'!$P$1)/12,B214,IF(C214=$E$5,$E$2,$E$2-$E$3),IF(C214=$E$5,$I$10,$I$10-SUMIF($A$11:$A$370,\"<=\"&$E$3,$H$11:$H$370)),0,0),\"\")","v":""},"","",{"$error":"#VALUE!"},null,{"$error":"#VALUE!"},{"$error":"#VALUE!"},{"$error":"#VALUE!"},{"$error":"#VALUE!"},false]
[205,205,{"$error":"#VALUE!"},{"$f":"IF(A215<=$E$2,-PMT(C215/12,IF(C215=КАЛЬКУЛЯТОР!$C$21,$E$2,$E$2-$E$3),IF(C215=КАЛЬКУЛЯТОР!$C$21,$I$10,$I$10-SUMIF($A$11:$A$370,\"<=\"&$E$3,$H$11:$H$370)),0,0)+E215,\"\")","v":""},{"$f":"IF($E$2>$A214,(I214+SUM(F215:F226))*($K$4+$K$5),0)","v":{"v":0,"d":"0.00"}},"",{"$f":"IFERROR(-IPMT((C215-'КАЛЬКУЛЯТОР 1'!$P$1)/12,B215,IF(C215=$E$5,$E$2,$E$2-$E$3),IF(C215=$E$5,$I$10,$I$10-SUMIF($A$11:$A$370,\"<=\"&$E$3,$H$11:$H$370)),0,0),\"\")","v":""},"","",{"$error":"#VALUE!"},{"$f":"PV($E$6/12,A215-1,0,-E215)","v":{"v":0,"d":"0.00"}},{"$error":"#VALUE!"},{"$error":"#VALUE!"},{"$error":"#VALUE!"},{"$error":"#VALUE!"},false]
[206,206,{"$error":"#VALUE!"},{"$f":"IF(A216<=$E$2,-PMT(C216/12,IF(C216=КАЛЬКУЛЯТОР!$C$21,$E$2,$E$2-$E$3),IF(C216=КАЛЬКУЛЯТОР!$C$21,$I$10,$I$10-SUMIF($A$11:$A$370,\"<=\"&$E$3,$H$11:$H$370)),0,0),\"\")","v":""},null,"",{"$f":"IFERROR(-IPMT((C216-'КАЛЬКУЛЯТОР 1'!$P$1)/12,B216,IF(C216=$E$5,$E$2,$E$2-$E$3),IF(C216=$E$5,$I$10,$I$10-SUMIF($A$11:$A$370,\"<=\"&$E$3,$H$11:$H$370)),0,0),\"\")","v":""},"","",{"$error":"#VALUE!"},null,{"$error":"#VALUE!"},{"$error":"#VALUE!"},{"$error":"#VALUE!"},{"$error":"#VALUE!"},false]
[207,207,{"$error":"#VALUE!"},{"$f":"IF(A217<=$E$2,-PMT(C217/12,IF(C217=КАЛЬКУЛЯТОР!$C$21,$E$2,$E$2-$E$3),IF(C217=КАЛЬКУЛЯТОР!$C$21,$I$10,$I$10-SUMIF($A$11:$A$370,\"<=\"&$E$3,$H$11:$H$370)),0,0),\"\")","v":""},null,"",{"$f":"IFERROR(-IPMT((C217-'КАЛЬКУЛЯТОР 1'!$P$1)/12,B217,IF(C217=$E$5,$E$2,$E$2-$E$3),IF(C217=$E$5,$I$10,$I$10-SUMIF($A$11:$A$370,\"<=\"&$E$3,$H$11:$H$370)),0,0),\"\")","v":""},"","",{"$error":"#VALUE!"},null,{"$error":"#VALUE!"},{"$error":"#VALUE!"},{"$error":"#VALUE!"},{"$error":"#VALUE!"},false]
[208,208,{"$error":"#VALUE!"},{"$f":"IF(A218<=$E$2,-PMT(C218/12,IF(C218=КАЛЬКУЛЯТОР!$C$21,$E$2,$E$2-$E$3),IF(C218=КАЛЬКУЛЯТОР!$C$21,$I$10,$I$10-SUMIF($A$11:$A$370,\"<=\"&$E$3,$H$11:$H$370)),0,0),\"\")","v":""},null,"",{"$f":"IFERROR(-IPMT((C218-'КАЛЬКУЛЯТОР 1'!$P$1)/12,B218,IF(C218=$E$5,$E$2,$E$2-$E$3),IF(C218=$E$5,$I$10,$I$10-SUMIF($A$11:$A$370,\"<=\"&$E$3,$H$11:$H$370)),0,0),\"\")","v":""},"","",{"$error":"#VALUE!"},null,{"$error":"#VALUE!"},{"$error":"#VALUE!"},{"$error":"#VALUE!"},{"$error":"#VALUE!"},false]
[209,209,{"$error":"#VALUE!"},{"$f":"IF(A219<=$E$2,-PMT(C219/12,IF(C219=КАЛЬКУЛЯТОР!$C$21,$E$2,$E$2-$E$3),IF(C219=КАЛЬКУЛЯТОР!$C$21,$I$10,$I$10-SUMIF($A$11:$A$370,\"<=\"&$E$3,$H$11:$H$370)),0,0),\"\")","v":""},null,"",{"$f":"IFERROR(-IPMT((C219-'КАЛЬКУЛЯТОР 1'!$P$1)/12,B219,IF(C219=$E$5,$E$2,$E$2-$E$3),IF(C219=$E$5,$I$10,$I$10-SUMIF($A$11:$A$370,\"<=\"&$E$3,$H$11:$H$370)),0,0),\"\")","v":""},"","",{"$error":"#VALUE!"},null,{"$error":"#VALUE!"},{"$error":"#VALUE!"},{"$error":"#VALUE!"},{"$error":"#VALUE!"},false]
[210,210,{"$error":"#VALUE!"},{"$f":"IF(A220<=$E$2,-PMT(C220/12,IF(C220=КАЛЬКУЛЯТОР!$C$21,$E$2,$E$2-$E$3),IF(C220=КАЛЬКУЛЯТОР!$C$21,$I$10,$I$10-SUMIF($A$11:$A$370,\"<=\"&$E$3,$H$11:$H$370)),0,0),\"\")","v":""},null,"",{"$f":"IFERROR(-IPMT((C220-'КАЛЬКУЛЯТОР 1'!$P$1)/12,B220,IF(C220=$E$5,$E$2,$E$2-$E$3),IF(C220=$E$5,$I$10,$I$10-SUMIF($A$11:$A$370,\"<=\"&$E$3,$H$11:$H$370)),0,0),\"\")","v":""},"","",{"$error":"#VALUE!"},null,{"$error":"#VALUE!"},{"$error":"#VALUE!"},{"$error":"#VALUE!"},{"$error":"#VALUE!"},false]
[211,211,{"$error":"#VALUE!"},{"$f":"IF(A221<=$E$2,-PMT(C221/12,IF(C221=КАЛЬКУЛЯТОР!$C$21,$E$2,$E$2-$E$3),IF(C221=КАЛЬКУЛЯТОР!$C$21,$I$10,$I$10-SUMIF($A$11:$A$370,\"<=\"&$E$3,$H$11:$H$370)),0,0),\"\")","v":""},null,"",{"$f":"IFERROR(-IPMT((C221-'КАЛЬКУЛЯТОР 1'!$P$1)/12,B221,IF(C221=$E$5,$E$2,$E$2-$E$3),IF(C221=$E$5,$I$10,$I$10-SUMIF($A$11:$A$370,\"<=\"&$E$3,$H$11:$H$370)),0,0),\"\")","v":""},"","",{"$error":"#VALUE!"},null,{"$error":"#VALUE!"},{"$error":"#VALUE!"},{"$error":"#VALUE!"},{"$error":"#VALUE!"},false]
[212,212,{"$error":"#VALUE!"},{"$f":"IF(A222<=$E$2,-PMT(C222/12,IF(C222=КАЛЬКУЛЯТОР!$C$21,$E$2,$E$2-$E$3),IF(C222=КАЛЬКУЛЯТОР!$C$21,$I$10,$I$10-SUMIF($A$11:$A$370,\"<=\"&$E$3,$H$11:$H$370)),0,0),\"\")","v":""},null,"",{"$f":"IFERROR(-IPMT((C222-'КАЛЬКУЛЯТОР 1'!$P$1)/12,B222,IF(C222=$E$5,$E$2,$E$2-$E$3),IF(C222=$E$5,$I$10,$I$10-SUMIF($A$11:$A$370,\"<=\"&$E$3,$H$11:$H$370)),0,0),\"\")","v":""},"","",{"$error":"#VALUE!"},null,{"$error":"#VALUE!"},{"$error":"#VALUE!"},{"$error":"#VALUE!"},{"$error":"#VALUE!"},false]
[213,213,{"$error":"#VALUE!"},{"$f":"IF(A223<=$E$2,-PMT(C223/12,IF(C223=КАЛЬКУЛЯТОР!$C$21,$E$2,$E$2-$E$3),IF(C223=КАЛЬКУЛЯТОР!$C$21,$I$10,$I$10-SUMIF($A$11:$A$370,\"<=\"&$E$3,$H$11:$H$370)),0,0),\"\")","v":""},null,"",{"$f":"IFERROR(-IPMT((C223-'КАЛЬКУЛЯТОР 1'!$P$1)/12,B223,IF(C223=$E$5,$E$2,$E$2-$E$3),IF(C223=$E$5,$I$10,$I$10-SUMIF($A$11:$A$370,\"<=\"&$E$3,$H$11:$H$370)),0,0),\"\")","v":""},"","",{"$error":"#VALUE!"},null,{"$error":"#VALUE!"},{"$error":"#VALUE!"},{"$error":"#VALUE!"},{"$error":"#VALUE!"},false]
[214,214,{"$error":"#VALUE!"},{"$f":"IF(A224<=$E$2,-PMT(C224/12,IF(C224=КАЛЬКУЛЯТОР!$C$21,$E$2,$E$2-$E$3),IF(C224=КАЛЬКУЛЯТОР!$C$21,$I$10,$I$10-SUMIF($A$11:$A$370,\"<=\"&$E$3,$H$11:$H$370)),0,0),\"\")","v":""},null,"",{"$f":"IFERROR(-IPMT((C224-'КАЛЬКУЛЯТОР 1'!$P$1)/12,B224,IF(C224=$E$5,$E$2,$E$2-$E$3),IF(C224=$E$5,$I$10,$I$10-SUMIF($A$11:$A$370,\"<=\"&$E$3,$H$11:$H$370)),0,0),\"\")","v":""},"","",{"$error":"#VALUE!"},null,{"$error":"#VALUE!"},{"$error":"#VALUE!"},{"$error":"#VALUE!"},{"$error":"#VALUE!"},false]
[215,215,{"$error":"#VALUE!"},{"$f":"IF(A225<=$E$2,-PMT(C225/12,IF(C225=КАЛЬКУЛЯТОР!$C$21,$E$2,$E$2-$E$3),IF(C225=КАЛЬКУЛЯТОР!$C$21,$I$10,$I$10-SUMIF($A$11:$A$370,\"<=\"&$E$3,$H$11:$H$370)),0,0),\"\")","v":""},null,"",{"$f":"IFERROR(-IPMT((C225-'КАЛЬКУЛЯТОР 1'!$P$1)/12,B225,IF(C225=$E$5,$E$2,$E$2-$E$3),IF(C225=$E$5,$I$10,$I$10-SUMIF($A$11:$A$370,\"<=\"&$E$3,$H$11:$H$370)),0,0),\"\")","v":""},"","",{"$error":"#VALUE!"},null,{"$error":"#VALUE!"},{"$error":"#VALUE!"},{"$error":"#VALUE!"},{"$error":"#VALUE!"},false]
[216,216,{"$error":"#VALUE!"},{"$f":"IF(A226<=$E$2,-PMT(C226/12,IF(C226=КАЛЬКУЛЯТОР!$C$21,$E$2,$E$2-$E$3),IF(C226=КАЛЬКУЛЯТОР!$C$21,$I$10,$I$10-SUMIF($A$11:$A$370,\"<=\"&$E$3,$H$11:$H$370)),0,0),\"\")","v":""},null,"",{"$f":"IFERROR(-IPMT((C226-'КАЛЬКУЛЯТОР 1'!$P$1)/12,B226,IF(C226=$E$5,$E$2,$E$2-$E$3),IF(C226=$E$5,$I$10,$I$10-SUMIF($A$11:$A$370,\"<=\"&$E$3,$H$11:$H$370)),0,0),\"\")","v":""},"","",{"$error":"#VALUE!"},null,{"$error":"#VALUE!"},{"$error":"#VALUE!"},{"$error":"#VALUE!"},{"$error":"#VALUE!"},false]
[217,217,{"$error":"#VALUE!"},{"$f":"IF(A227<=$E$2,-PMT(C227/12,IF(C227=КАЛЬКУЛЯТОР!$C$21,$E$2,$E$2-$E$3),IF(C227=КАЛЬКУЛЯТОР!$C$21,$I$10,$I$10-SUMIF($A$11:$A$370,\"<=\"&$E$3,$H$11:$H$370)),0,0)+E227,\"\")","v":""},{"$f":"IF($E$2>$A226,(I226+SUM(F227:F238))*($K$4+$K$5),0)","v":{"v":0,"d":"0.00"}},"",{"$f":"IFERROR(-IPMT((C227-'КАЛЬКУЛЯТОР 1'!$P$1)/12,B227,IF(C227=$E$5,$E$2,$E$2-$E$3),IF(C227=$E$5,$I$10,$I$10-SUMIF($A$11:$A$370,\"<=\"&$E$3,$H$11:$H$370)),0,0),\"\")","v":""},"","",{"$error":"#VALUE!"},{"$f":"PV($E$6/12,A227-1,0,-E227)","v":{"v":0,"d":"0.00"}},{"$error":"#VALUE!"},{"$error":"#VALUE!"},{"$error":"#VALUE!"},{"$error":"#VALUE!"},false]
[218,218,{"$error":"#VALUE!"},{"$f":"IF(A228<=$E$2,-PMT(C228/12,IF(C228=КАЛЬКУЛЯТОР!$C$21,$E$2,$E$2-$E$3),IF(C228=КАЛЬКУЛЯТОР!$C$21,$I$10,$I$10-SUMIF($A$11:$A$370,\"<=\"&$E$3,$H$11:$H$370)),0,0),\"\")","v":""},null,"",{"$f":"IFERROR(-IPMT((C228-'КАЛЬКУЛЯТОР 1'!$P$1)/12,B228,IF(C228=$E$5,$E$2,$E$2-$E$3),IF(C228=$E$5,$I$10,$I$10-SUMIF($A$11:$A$370,\"<=\"&$E$3,$H$11:$H$370)),0,0),\"\")","v":""},"","",{"$error":"#VALUE!"},null,{"$error":"#VALUE!"},{"$error":"#VALUE!"},{"$error":"#VALUE!"},{"$error":"#VALUE!"},false]
[219,219,{"$error":"#VALUE!"},{"$f":"IF(A229<=$E$2,-PMT(C229/12,IF(C229=КАЛЬКУЛЯТОР!$C$21,$E$2,$E$2-$E$3),IF(C229=КАЛЬКУЛЯТОР!$C$21,$I$10,$I$10-SUMIF($A$11:$A$370,\"<=\"&$E$3,$H$11:$H$370)),0,0),\"\")","v":""},null,"",{"$f":"IFERROR(-IPMT((C229-'КАЛЬКУЛЯТОР 1'!$P$1)/12,B229,IF(C229=$E$5,$E$2,$E$2-$E$3),IF(C229=$E$5,$I$10,$I$10-SUMIF($A$11:$A$370,\"<=\"&$E$3,$H$11:$H$370)),0,0),\"\")","v":""},"","",{"$error":"#VALUE!"},null,{"$error":"#VALUE!"},{"$error":"#VALUE!"},{"$error":"#VALUE!"},{"$error":"#VALUE!"},false]
[220,220,{"$error":"#VALUE!"},{"$f":"IF(A230<=$E$2,-PMT(C230/12,IF(C230=КАЛЬКУЛЯТОР!$C$21,$E$2,$E$2-$E$3),IF(C230=КАЛЬКУЛЯТОР!$C$21,$I$10,$I$10-SUMIF($A$11:$A$370,\"<=\"&$E$3,$H$11:$H$370)),0,0),\"\")","v":""},null,"",{"$f":"IFERROR(-IPMT((C230-'КАЛЬКУЛЯТОР 1'!$P$1)/12,B230,IF(C230=$E$5,$E$2,$E$2-$E$3),IF(C230=$E$5,$I$10,$I$10-SUMIF($A$11:$A$370,\"<=\"&$E$3,$H$11:$H$370)),0,0),\"\")","v":""},"","",{"$error":"#VALUE!"},null,{"$error":"#VALUE!"},{"$error":"#VALUE!"},{"$error":"#VALUE!"},{"$error":"#VALUE!"},false]
[221,221,{"$error":"#VALUE!"},{"$f":"IF(A231<=$E$2,-PMT(C231/12,IF(C231=КАЛЬКУЛЯТОР!$C$21,$E$2,$E$2-$E$3),IF(C231=КАЛЬКУЛЯТОР!$C$21,$I$10,$I$10-SUMIF($A$11:$A$370,\"<=\"&$E$3,$H$11:$H$370)),0,0),\"\")","v":""},null,"",{"$f":"IFERROR(-IPMT((C231-'КАЛЬКУЛЯТОР 1'!$P$1)/12,B231,IF(C231=$E$5,$E$2,$E$2-$E$3),IF(C231=$E$5,$I$10,$I$10-SUMIF($A$11:$A$370,\"<=\"&$E$3,$H$11:$H$370)),0,0),\"\")","v":""},"","",{"$error":"#VALUE!"},null,{"$error":"#VALUE!"},{"$error":"#VALUE!"},{"$error":"#VALUE!"},{"$error":"#VALUE!"},false]
[222,222,{"$error":"#VALUE!"},{"$f":"IF(A232<=$E$2,-PMT(C232/12,IF(C232=КАЛЬКУЛЯТОР!$C$21,$E$2,$E$2-$E$3),IF(C232=КАЛЬКУЛЯТОР!$C$21,$I$10,$I$10-SUMIF($A$11:$A$370,\"<=\"&$E$3,$H$11:$H$370)),0,0),\"\")","v":""},null,"",{"$f":"IFERROR(-IPMT((C232-'КАЛЬКУЛЯТОР 1'!$P$1)/12,B232,IF(C232=$E$5,$E$2,$E$2-$E$3),IF(C232=$E$5,$I$10,$I$10-SUMIF($A$11:$A$370,\"<=\"&$E$3,$H$11:$H$370)),0,0),\"\")","v":""},"","",{"$error":"#VALUE!"},null,{"$error":"#VALUE!"},{"$error":"#VALUE!"},{"$error":"#VALUE!"},{"$error":"#VALUE!"},false]
[223,223,{"$error":"#VALUE!"},{"$f":"IF(A233<=$E$2,-PMT(C233/12,IF(C233=КАЛЬКУЛЯТОР!$C$21,$E$2,$E$2-$E$3),IF(C233=КАЛЬКУЛЯТОР!$C$21,$I$10,$I$10-SUMIF($A$11:$A$370,\"<=\"&$E$3,$H$11:$H$370)),0,0),\"\")","v":""},null,"",{"$f":"IFERROR(-IPMT((C233-'КАЛЬКУЛЯТОР 1'!$P$1)/12,B233,IF(C233=$E$5,$E$2,$E$2-$E$3),IF(C233=$E$5,$I$10,$I$10-SUMIF($A$11:$A$370,\"<=\"&$E$3,$H$11:$H$370)),0,0),\"\")","v":""},"","",{"$error":"#VALUE!"},null,{"$error":"#VALUE!"},{"$error":"#VALUE!"},{"$error":"#VALUE!"},{"$error":"#VALUE!"},false]
[224,224,{"$error":"#VALUE!"},{"$f":"IF(A234<=$E$2,-PMT(C234/12,IF(C234=КАЛЬКУЛЯТОР!$C$21,$E$2,$E$2-$E$3),IF(C234=КАЛЬКУЛЯТОР!$C$21,$I$10,$I$10-SUMIF($A$11:$A$370,\"<=\"&$E$3,$H$11:$H$370)),0,0),\"\")","v":""},null,"",{"$f":"IFERROR(-IPMT((C234-'КАЛЬКУЛЯТОР 1'!$P$1)/12,B234,IF(C234=$E$5,$E$2,$E$2-$E$3),IF(C234=$E$5,$I$10,$I$10-SUMIF($A$11:$A$370,\"<=\"&$E$3,$H$11:$H$370)),0,0),\"\")","v":""},"","",{"$error":"#VALUE!"},null,{"$error":"#VALUE!"},{"$error":"#VALUE!"},{"$error":"#VALUE!"},{"$error":"#VALUE!"},false]
[225,225,{"$error":"#VALUE!"},{"$f":"IF(A235<=$E$2,-PMT(C235/12,IF(C235=КАЛЬКУЛЯТОР!$C$21,$E$2,$E$2-$E$3),IF(C235=КАЛЬКУЛЯТОР!$C$21,$I$10,$I$10-SUMIF($A$11:$A$370,\"<=\"&$E$3,$H$11:$H$370)),0,0),\"\")","v":""},null,"",{"$f":"IFERROR(-IPMT((C235-'КАЛЬКУЛЯТОР 1'!$P$1)/12,B235,IF(C235=$E$5,$E$2,$E$2-$E$3),IF(C235=$E$5,$I$10,$I$10-SUMIF($A$11:$A$370,\"<=\"&$E$3,$H$11:$H$370)),0,0),\"\")","v":""},"","",{"$error":"#VALUE!"},null,{"$error":"#VALUE!"},{"$error":"#VALUE!"},{"$error":"#VALUE!"},{"$error":"#VALUE!"},false]
[226,226,{"$error":"#VALUE!"},{"$f":"IF(A236<=$E$2,-PMT(C236/12,IF(C236=КАЛЬКУЛЯТОР!$C$21,$E$2,$E$2-$E$3),IF(C236=КАЛЬКУЛЯТОР!$C$21,$I$10,$I$10-SUMIF($A$11:$A$370,\"<=\"&$E$3,$H$11:$H$370)),0,0),\"\")","v":""},null,"",{"$f":"IFERROR(-IPMT((C236-'КАЛЬКУЛЯТОР 1'!$P$1)/12,B236,IF(C236=$E$5,$E$2,$E$2-$E$3),IF(C236=$E$5,$I$10,$I$10-SUMIF($A$11:$A$370,\"<=\"&$E$3,$H$11:$H$370)),0,0),\"\")","v":""},"","",{"$error":"#VALUE!"},null,{"$error":"#VALUE!"},{"$error":"#VALUE!"},{"$error":"#VALUE!"},{"$error":"#VALUE!"},false]
[227,227,{"$error":"#VALUE!"},{"$f":"IF(A237<=$E$2,-PMT(C237/12,IF(C237=КАЛЬКУЛЯТОР!$C$21,$E$2,$E$2-$E$3),IF(C237=КАЛЬКУЛЯТОР!$C$21,$I$10,$I$10-SUMIF($A$11:$A$370,\"<=\"&$E$3,$H$11:$H$370)),0,0),\"\")","v":""},null,"",{"$f":"IFERROR(-IPMT((C237-'КАЛЬКУЛЯТОР 1'!$P$1)/12,B237,IF(C237=$E$5,$E$2,$E$2-$E$3),IF(C237=$E$5,$I$10,$I$10-SUMIF($A$11:$A$370,\"<=\"&$E$3,$H$11:$H$370)),0,0),\"\")","v":""},"","",{"$error":"#VALUE!"},null,{"$error":"#VALUE!"},{"$error":"#VALUE!"},{"$error":"#VALUE!"},{"$error":"#VALUE!"},false]
[228,228,{"$error":"#VALUE!"},{"$f":"IF(A238<=$E$2,-PMT(C238/12,IF(C238=КАЛЬКУЛЯТОР!$C$21,$E$2,$E$2-$E$3),IF(C238=КАЛЬКУЛЯТОР!$C$21,$I$10,$I$10-SUMIF($A$11:$A$370,\"<=\"&$E$3,$H$11:$H$370)),0,0),\"\")","v":""},null,"",{"$f":"IFERROR(-IPMT((C238-'КАЛЬКУЛЯТОР 1'!$P$1)/12,B238,IF(C238=$E$5,$E$2,$E$2-$E$3),IF(C238=$E$5,$I$10,$I$10-SUMIF($A$11:$A$370,\"<=\"&$E$3,$H$11:$H$370)),0,0),\"\")","v":""},"","",{"$error":"#VALUE!"},null,{"$error":"#VALUE!"},{"$error":"#VALUE!"},{"$error":"#VALUE!"},{"$error":"#VALUE!"},false]
[229,229,{"$error":"#VALUE!"},{"$f":"IF(A239<=$E$2,-PMT(C239/12,IF(C239=КАЛЬКУЛЯТОР!$C$21,$E$2,$E$2-$E$3),IF(C239=КАЛЬКУЛЯТОР!$C$21,$I$10,$I$10-SUMIF($A$11:$A$370,\"<=\"&$E$3,$H$11:$H$370)),0,0)+E239,\"\")","v":""},{"$f":"IF($E$2>$A238,(I238+SUM(F239:F250))*($K$4+$K$5),0)","v":{"v":0,"d":"0.00"}},"",{"$f":"IFERROR(-IPMT((C239-'КАЛЬКУЛЯТОР 1'!$P$1)/12,B239,IF(C239=$E$5,$E$2,$E$2-$E$3),IF(C239=$E$5,$I$10,$I$10-SUMIF($A$11:$A$370,\"<=\"&$E$3,$H$11:$H$370)),0,0),\"\")","v":""},"","",{"$error":"#VALUE!"},{"$f":"PV($E$6/12,A239-1,0,-E239)","v":{"v":0,"d":"0.00"}},{"$error":"#VALUE!"},{"$error":"#VALUE!"},{"$error":"#VALUE!"},{"$error":"#VALUE!"},false]
[230,230,{"$error":"#VALUE!"},{"$f":"IF(A240<=$E$2,-PMT(C240/12,IF(C240=КАЛЬКУЛЯТОР!$C$21,$E$2,$E$2-$E$3),IF(C240=КАЛЬКУЛЯТОР!$C$21,$I$10,$I$10-SUMIF($A$11:$A$370,\"<=\"&$E$3,$H$11:$H$370)),0,0),\"\")","v":""},null,"",{"$f":"IFERROR(-IPMT((C240-'КАЛЬКУЛЯТОР 1'!$P$1)/12,B240,IF(C240=$E$5,$E$2,$E$2-$E$3),IF(C240=$E$5,$I$10,$I$10-SUMIF($A$11:$A$370,\"<=\"&$E$3,$H$11:$H$370)),0,0),\"\")","v":""},"","",{"$error":"#VALUE!"},null,{"$error":"#VALUE!"},{"$error":"#VALUE!"},{"$error":"#VALUE!"},{"$error":"#VALUE!"},false]
[231,231,{"$error":"#VALUE!"},{"$f":"IF(A241<=$E$2,-PMT(C241/12,IF(C241=КАЛЬКУЛЯТОР!$C$21,$E$2,$E$2-$E$3),IF(C241=КАЛЬКУЛЯТОР!$C$21,$I$10,$I$10-SUMIF($A$11:$A$370,\"<=\"&$E$3,$H$11:$H$370)),0,0),\"\")","v":""},null,"",{"$f":"IFERROR(-IPMT((C241-'КАЛЬКУЛЯТОР 1'!$P$1)/12,B241,IF(C241=$E$5,$E$2,$E$2-$E$3),IF(C241=$E$5,$I$10,$I$10-SUMIF($A$11:$A$370,\"<=\"&$E$3,$H$11:$H$370)),0,0),\"\")","v":""},"","",{"$error":"#VALUE!"},null,{"$error":"#VALUE!"},{"$error":"#VALUE!"},{"$error":"#VALUE!"},{"$error":"#VALUE!"},false]
[232,232,{"$error":"#VALUE!"},{"$f":"IF(A242<=$E$2,-PMT(C242/12,IF(C242=КАЛЬКУЛЯТОР!$C$21,$E$2,$E$2-$E$3),IF(C242=КАЛЬКУЛЯТОР!$C$21,$I$10,$I$10-SUMIF($A$11:$A$370,\"<=\"&$E$3,$H$11:$H$370)),0,0),\"\")","v":""},null,"",{"$f":"IFERROR(-IPMT((C242-'КАЛЬКУЛЯТОР 1'!$P$1)/12,B242,IF(C242=$E$5,$E$2,$E$2-$E$3),IF(C242=$E$5,$I$10,$I$10-SUMIF($A$11:$A$370,\"<=\"&$E$3,$H$11:$H$370)),0,0),\"\")","v":""},"","",{"$error":"#VALUE!"},null,{"$error":"#VALUE!"},{"$error":"#VALUE!"},{"$error":"#VALUE!"},{"$error":"#VALUE!"},false]
[233,233,{"$error":"#VALUE!"},{"$f":"IF(A243<=$E$2,-PMT(C243/12,IF(C243=КАЛЬКУЛЯТОР!$C$21,$E$2,$E$2-$E$3),IF(C243=КАЛЬКУЛЯТОР!$C$21,$I$10,$I$10-SUMIF($A$11:$A$370,\"<=\"&$E$3,$H$11:$H$370)),0,0),\"\")","v":""},null,"",{"$f":"IFERROR(-IPMT((C243-'КАЛЬКУЛЯТОР 1'!$P$1)/12,B243,IF(C243=$E$5,$E$2,$E$2-$E$3),IF(C243=$E$5,$I$10,$I$10-SUMIF($A$11:$A$370,\"<=\"&$E$3,$H$11:$H$370)),0,0),\"\")","v":""},"","",{"$error":"#VALUE!"},null,{"$error":"#VALUE!"},{"$error":"#VALUE!"},{"$error":"#VALUE!"},{"$error":"#VALUE!"},false]
[234,234,{"$error":"#VALUE!"},{"$f":"IF(A244<=$E$2,-PMT(C244/12,IF(C244=КАЛЬКУЛЯТОР!$C$21,$E$2,$E$2-$E$3),IF(C244=КАЛЬКУЛЯТОР!$C$21,$I$10,$I$10-SUMIF($A$11:$A$370,\"<=\"&$E$3,$H$11:$H$370)),0,0),\"\")","v":""},null,"",{"$f":"IFERROR(-IPMT((C244-'КАЛЬКУЛЯТОР 1'!$P$1)/12,B244,IF(C244=$E$5,$E$2,$E$2-$E$3),IF(C244=$E$5,$I$10,$I$10-SUMIF($A$11:$A$370,\"<=\"&$E$3,$H$11:$H$370)),0,0),\"\")","v":""},"","",{"$error":"#VALUE!"},null,{"$error":"#VALUE!"},{"$error":"#VALUE!"},{"$error":"#VALUE!"},{"$error":"#VALUE!"},false]
[235,235,{"$error":"#VALUE!"},{"$f":"IF(A245<=$E$2,-PMT(C245/12,IF(C245=КАЛЬКУЛЯТОР!$C$21,$E$2,$E$2-$E$3),IF(C245=КАЛЬКУЛЯТОР!$C$21,$I$10,$I$10-SUMIF($A$11:$A$370,\"<=\"&$E$3,$H$11:$H$370)),0,0),\"\")","v":""},null,"",{"$f":"IFERROR(-IPMT((C245-'КАЛЬКУЛЯТОР 1'!$P$1)/12,B245,IF(C245=$E$5,$E$2,$E$2-$E$3),IF(C245=$E$5,$I$10,$I$10-SUMIF($A$11:$A$370,\"<=\"&$E$3,$H$11:$H$370)),0,0),\"\")","v":""},"","",{"$error":"#VALUE!"},null,{"$error":"#VALUE!"},{"$error":"#VALUE!"},{"$error":"#VALUE!"},{"$error":"#VALUE!"},false]
[236,236,{"$error":"#VALUE!"},{"$f":"IF(A246<=$E$2,-PMT(C246/12,IF(C246=КАЛЬКУЛЯТОР!$C$21,$E$2,$E$2-$E$3),IF(C246=КАЛЬКУЛЯТОР!$C$21,$I$10,$I$10-SUMIF($A$11:$A$370,\"<=\"&$E$3,$H$11:$H$370)),0,0),\"\")","v":""},null,"",{"$f":"IFERROR(-IPMT((C246-'КАЛЬКУЛЯТОР 1'!$P$1)/12,B246,IF(C246=$E$5,$E$2,$E$2-$E$3),IF(C246=$E$5,$I$10,$I$10-SUMIF($A$11:$A$370,\"<=\"&$E$3,$H$11:$H$370)),0,0),\"\")","v":""},"","",{"$error":"#VALUE!"},null,{"$error":"#VALUE!"},{"$error":"#VALUE!"},{"$error":"#VALUE!"},{"$error":"#VALUE!"},false]
[237,237,{"$error":"#VALUE!"},{"$f":"IF(A247<=$E$2,-PMT(C247/12,IF(C247=КАЛЬКУЛЯТОР!$C$21,$E$2,$E$2-$E$3),IF(C247=КАЛЬКУЛЯТОР!$C$21,$I$10,$I$10-SUMIF($A$11:$A$370,\"<=\"&$E$3,$H$11:$H$370)),0,0),\"\")","v":""},null,"",{"$f":"IFERROR(-IPMT((C247-'КАЛЬКУЛЯТОР 1'!$P$1)/12,B247,IF(C247=$E$5,$E$2,$E$2-$E$3),IF(C247=$E$5,$I$10,$I$10-SUMIF($A$11:$A$370,\"<=\"&$E$3,$H$11:$H$370)),0,0),\"\")","v":""},"","",{"$error":"#VALUE!"},null,{"$error":"#VALUE!"},{"$error":"#VALUE!"},{"$error":"#VALUE!"},{"$error":"#VALUE!"},false]
[238,238,{"$error":"#VALUE!"},{"$f":"IF(A248<=$E$2,-PMT(C248/12,IF(C248=КАЛЬКУЛЯТОР!$C$21,$E$2,$E$2-$E$3),IF(C248=КАЛЬКУЛЯТОР!$C$21,$I$10,$I$10-SUMIF($A$11:$A$370,\"<=\"&$E$3,$H$11:$H$370)),0,0),\"\")","v":""},null,"",{"$f":"IFERROR(-IPMT((C248-'КАЛЬКУЛЯТОР 1'!$P$1)/12,B248,IF(C248=$E$5,$E$2,$E$2-$E$3),IF(C248=$E$5,$I$10,$I$10-SUMIF($A$11:$A$370,\"<=\"&$E$3,$H$11:$H$370)),0,0),\"\")","v":""},"","",{"$error":"#VALUE!"},null,{"$error":"#VALUE!"},{"$error":"#VALUE!"},{"$error":"#VALUE!"},{"$error":"#VALUE!"},false]
[239,239,{"$error":"#VALUE!"},{"$f":"IF(A249<=$E$2,-PMT(C249/12,IF(C249=КАЛЬКУЛЯТОР!$C$21,$E$2,$E$2-$E$3),IF(C249=КАЛЬКУЛЯТОР!$C$21,$I$10,$I$10-SUMIF($A$11:$A$370,\"<=\"&$E$3,$H$11:$H$370)),0,0),\"\")","v":""},null,"",{"$f":"IFERROR(-IPMT((C249-'КАЛЬКУЛЯТОР 1'!$P$1)/12,B249,IF(C249=$E$5,$E$2,$E$2-$E$3),IF(C249=$E$5,$I$10,$I$10-SUMIF($A$11:$A$370,\"<=\"&$E$3,$H$11:$H$370)),0,0),\"\")","v":""},"","",{"$error":"#VALUE!"},null,{"$error":"#VALUE!"},{"$error":"#VALUE!"},{"$error":"#VALUE!"},{"$error":"#VALUE!"},false]
[240,240,{"$error":"#VALUE!"},{"$f":"IF(A250<=$E$2,-PMT(C250/12,IF(C250=КАЛЬКУЛЯТОР!$C$21,$E$2,$E$2-$E$3),IF(C250=КАЛЬКУЛЯТОР!$C$21,$I$10,$I$10-SUMIF($A$11:$A$370,\"<=\"&$E$3,$H$11:$H$370)),0,0),\"\")","v":""},null,"",{"$f":"IFERROR(-IPMT((C250-'КАЛЬКУЛЯТОР 1'!$P$1)/12,B250,IF(C250=$E$5,$E$2,$E$2-$E$3),IF(C250=$E$5,$I$10,$I$10-SUMIF($A$11:$A$370,\"<=\"&$E$3,$H$11:$H$370)),0,0),\"\")","v":""},"","",{"$error":"#VALUE!"},null,{"$error":"#VALUE!"},{"$error":"#VALUE!"},{"$error":"#VALUE!"},{"$error":"#VALUE!"},false]
[241,241,{"$error":"#VALUE!"},{"$f":"IF(A251<=$E$2,-PMT(C251/12,IF(C251=КАЛЬКУЛЯТОР!$C$21,$E$2,$E$2-$E$3),IF(C251=КАЛЬКУЛЯТОР!$C$21,$I$10,$I$10-SUMIF($A$11:$A$370,\"<=\"&$E$3,$H$11:$H$370)),0,0)+E251,\"\")","v":""},{"$f":"IF($E$2>$A250,(I250+SUM(F251:F262))*($K$4+$K$5),0)","v":{"v":0,"d":"0.00"}},"",{"$f":"IFERROR(-IPMT((C251-'КАЛЬКУЛЯТОР 1'!$P$1)/12,B251,IF(C251=$E$5,$E$2,$E$2-$E$3),IF(C251=$E$5,$I$10,$I$10-SUMIF($A$11:$A$370,\"<=\"&$E$3,$H$11:$H$370)),0,0),\"\")","v":""},"","",{"$error":"#VALUE!"},{"$f":"PV($E$6/12,A251-1,0,-E251)","v":{"v":0,"d":"0.00"}},{"$error":"#VALUE!"},{"$error":"#VALUE!"},{"$error":"#VALUE!"},{"$error":"#VALUE!"},false]
[242,242,{"$error":"#VALUE!"},{"$f":"IF(A252<=$E$2,-PMT(C252/12,IF(C252=КАЛЬКУЛЯТОР!$C$21,$E$2,$E$2-$E$3),IF(C252=КАЛЬКУЛЯТОР!$C$21,$I$10,$I$10-SUMIF($A$11:$A$370,\"<=\"&$E$3,$H$11:$H$370)),0,0),\"\")","v":""},null,"",{"$f":"IFERROR(-IPMT((C252-'КАЛЬКУЛЯТОР 1'!$P$1)/12,B252,IF(C252=$E$5,$E$2,$E$2-$E$3),IF(C252=$E$5,$I$10,$I$10-SUMIF($A$11:$A$370,\"<=\"&$E$3,$H$11:$H$370)),0,0),\"\")","v":""},"","",{"$error":"#VALUE!"},null,{"$error":"#VALUE!"},{"$error":"#VALUE!"},{"$error":"#VALUE!"},{"$error":"#VALUE!"},false]
[243,243,{"$error":"#VALUE!"},{"$f":"IF(A253<=$E$2,-PMT(C253/12,IF(C253=КАЛЬКУЛЯТОР!$C$21,$E$2,$E$2-$E$3),IF(C253=КАЛЬКУЛЯТОР!$C$21,$I$10,$I$10-SUMIF($A$11:$A$370,\"<=\"&$E$3,$H$11:$H$370)),0,0),\"\")","v":""},null,"",{"$f":"IFERROR(-IPMT((C253-'КАЛЬКУЛЯТОР 1'!$P$1)/12,B253,IF(C253=$E$5,$E$2,$E$2-$E$3),IF(C253=$E$5,$I$10,$I$10-SUMIF($A$11:$A$370,\"<=\"&$E$3,$H$11:$H$370)),0,0),\"\")","v":""},"","",{"$error":"#VALUE!"},null,{"$error":"#VALUE!"},{"$error":"#VALUE!"},{"$error":"#VALUE!"},{"$error":"#VALUE!"},false]
[244,244,{"$error":"#VALUE!"},{"$f":"IF(A254<=$E$2,-PMT(C254/12,IF(C254=КАЛЬКУЛЯТОР!$C$21,$E$2,$E$2-$E$3),IF(C254=КАЛЬКУЛЯТОР!$C$21,$I$10,$I$10-SUMIF($A$11:$A$370,\"<=\"&$E$3,$H$11:$H$370)),0,0),\"\")","v":""},null,"",{"$f":"IFERROR(-IPMT((C254-'КАЛЬКУЛЯТОР 1'!$P$1)/12,B254,IF(C254=$E$5,$E$2,$E$2-$E$3),IF(C254=$E$5,$I$10,$I$10-SUMIF($A$11:$A$370,\"<=\"&$E$3,$H$11:$H$370)),0,0),\"\")","v":""},"","",{"$error":"#VALUE!"},null,{"$error":"#VALUE!"},{"$error":"#VALUE!"},{"$error":"#VALUE!"},{"$error":"#VALUE!"},false]
[245,245,{"$error":"#VALUE!"},{"$f":"IF(A255<=$E$2,-PMT(C255/12,IF(C255=КАЛЬКУЛЯТОР!$C$21,$E$2,$E$2-$E$3),IF(C255=КАЛЬКУЛЯТОР!$C$21,$I$10,$I$10-SUMIF($A$11:$A$370,\"<=\"&$E$3,$H$11:$H$370)),0,0),\"\")","v":""},null,"",{"$f":"IFERROR(-IPMT((C255-'КАЛЬКУЛЯТОР 1'!$P$1)/12,B255,IF(C255=$E$5,$E$2,$E$2-$E$3),IF(C255=$E$5,$I$10,$I$10-SUMIF($A$11:$A$370,\"<=\"&$E$3,$H$11:$H$370)),0,0),\"\")","v":""},"","",{"$error":"#VALUE!"},null,{"$error":"#VALUE!"},{"$error":"#VALUE!"},{"$error":"#VALUE!"},{"$error":"#VALUE!"},false]
[246,246,{"$error":"#VALUE!"},{"$f":"IF(A256<=$E$2,-PMT(C256/12,IF(C256=КАЛЬКУЛЯТОР!$C$21,$E$2,$E$2-$E$3),IF(C256=КАЛЬКУЛЯТОР!$C$21,$I$10,$I$10-SUMIF($A$11:$A$370,\"<=\"&$E$3,$H$11:$H$370)),0,0),\"\")","v":""},null,"",{"$f":"IFERROR(-IPMT((C256-'КАЛЬКУЛЯТОР 1'!$P$1)/12,B256,IF(C256=$E$5,$E$2,$E$2-$E$3),IF(C256=$E$5,$I$10,$I$10-SUMIF($A$11:$A$370,\"<=\"&$E$3,$H$11:$H$370)),0,0),\"\")","v":""},"","",{"$error":"#VALUE!"},null,{"$error":"#VALUE!"},{"$error":"#VALUE!"},{"$error":"#VALUE!"},{"$error":"#VALUE!"},false]
[247,247,{"$error":"#VALUE!"},{"$f":"IF(A257<=$E$2,-PMT(C257/12,IF(C257=КАЛЬКУЛЯТОР!$C$21,$E$2,$E$2-$E$3),IF(C257=КАЛЬКУЛЯТОР!$C$21,$I$10,$I$10-SUMIF($A$11:$A$370,\"<=\"&$E$3,$H$11:$H$370)),0,0),\"\")","v":""},null,"",{"$f":"IFERROR(-IPMT((C257-'КАЛЬКУЛЯТОР 1'!$P$1)/12,B257,IF(C257=$E$5,$E$2,$E$2-$E$3),IF(C257=$E$5,$I$10,$I$10-SUMIF($A$11:$A$370,\"<=\"&$E$3,$H$11:$H$370)),0,0),\"\")","v":""},"","",{"$error":"#VALUE!"},null,{"$error":"#VALUE!"},{"$error":"#VALUE!"},{"$error":"#VALUE!"},{"$error":"#VALUE!"},false]
[248,248,{"$error":"#VALUE!"},{"$f":"IF(A258<=$E$2,-PMT(C258/12,IF(C258=КАЛЬКУЛЯТОР!$C$21,$E$2,$E$2-$E$3),IF(C258=КАЛЬКУЛЯТОР!$C$21,$I$10,$I$10-SUMIF($A$11:$A$370,\"<=\"&$E$3,$H$11:$H$370)),0,0),\"\")","v":""},null,"",{"$f":"IFERROR(-IPMT((C258-'КАЛЬКУЛЯТОР 1'!$P$1)/12,B258,IF(C258=$E$5,$E$2,$E$2-$E$3),IF(C258=$E$5,$I$10,$I$10-SUMIF($A$11:$A$370,\"<=\"&$E$3,$H$11:$H$370)),0,0),\"\")","v":""},"","",{"$error":"#VALUE!"},null,{"$error":"#VALUE!"},{"$error":"#VALUE!"},{"$error":"#VALUE!"},{"$error":"#VALUE!"},false]
[249,249,{"$error":"#VALUE!"},{"$f":"IF(A259<=$E$2,-PMT(C259/12,IF(C259=КАЛЬКУЛЯТОР!$C$21,$E$2,$E$2-$E$3),IF(C259=КАЛЬКУЛЯТОР!$C$21,$I$10,$I$10-SUMIF($A$11:$A$370,\"<=\"&$E$3,$H$11:$H$370)),0,0),\"\")","v":""},null,"",{"$f":"IFERROR(-IPMT((C259-'КАЛЬКУЛЯТОР 1'!$P$1)/12,B259,IF(C259=$E$5,$E$2,$E$2-$E$3),IF(C259=$E$5,$I$10,$I$10-SUMIF($A$11:$A$370,\"<=\"&$E$3,$H$11:$H$370)),0,0),\"\")","v":""},"","",{"$error":"#VALUE!"},null,{"$error":"#VALUE!"},{"$error":"#VALUE!"},{"$error":"#VALUE!"},{"$error":"#VALUE!"},false]
[250,250,{"$error":"#VALUE!"},{"$f":"IF(A260<=$E$2,-PMT(C260/12,IF(C260=КАЛЬКУЛЯТОР!$C$21,$E$2,$E$2-$E$3),IF(C260=КАЛЬКУЛЯТОР!$C$21,$I$10,$I$10-SUMIF($A$11:$A$370,\"<=\"&$E$3,$H$11:$H$370)),0,0),\"\")","v":""},null,"",{"$f":"IFERROR(-IPMT((C260-'КАЛЬКУЛЯТОР 1'!$P$1)/12,B260,IF(C260=$E$5,$E$2,$E$2-$E$3),IF(C260=$E$5,$I$10,$I$10-SUMIF($A$11:$A$370,\"<=\"&$E$3,$H$11:$H$370)),0,0),\"\")","v":""},"","",{"$error":"#VALUE!"},null,{"$error":"#VALUE!"},{"$error":"#VALUE!"},{"$error":"#VALUE!"},{"$error":"#VALUE!"},false]
[251,251,{"$error":"#VALUE!"},{"$f":"IF(A261<=$E$2,-PMT(C261/12,IF(C261=КАЛЬКУЛЯТОР!$C$21,$E$2,$E$2-$E$3),IF(C261=КАЛЬКУЛЯТОР!$C$21,$I$10,$I$10-SUMIF($A$11:$A$370,\"<=\"&$E$3,$H$11:$H$370)),0,0),\"\")","v":""},null,"",{"$f":"IFERROR(-IPMT((C261-'КАЛЬКУЛЯТОР 1'!$P$1)/12,B261,IF(C261=$E$5,$E$2,$E$2-$E$3),IF(C261=$E$5,$I$10,$I$10-SUMIF($A$11:$A$370,\"<=\"&$E$3,$H$11:$H$370)),0,0),\"\")","v":""},"","",{"$error":"#VALUE!"},null,{"$error":"#VALUE!"},{"$error":"#VALUE!"},{"$error":"#VALUE!"},{"$error":"#VALUE!"},false]
[252,252,{"$error":"#VALUE!"},{"$f":"IF(A262<=$E$2,-PMT(C262/12,IF(C262=КАЛЬКУЛЯТОР!$C$21,$E$2,$E$2-$E$3),IF(C262=КАЛЬКУЛЯТОР!$C$21,$I$10,$I$10-SUMIF($A$11:$A$370,\"<=\"&$E$3,$H$11:$H$370)),0,0),\"\")","v":""},null,"",{"$f":"IFERROR(-IPMT((C262-'КАЛЬКУЛЯТОР 1'!$P$1)/12,B262,IF(C262=$E$5,$E$2,$E$2-$E$3),IF(C262=$E$5,$I$10,$I$10-SUMIF($A$11:$A$370,\"<=\"&$E$3,$H$11:$H$370)),0,0),\"\")","v":""},"","",{"$error":"#VALUE!"},null,{"$error":"#VALUE!"},{"$error":"#VALUE!"},{"$error":"#VALUE!"},{"$error":"#VALUE!"},false]
[253,253,{"$error":"#VALUE!"},{"$f":"IF(A263<=$E$2,-PMT(C263/12,IF(C263=КАЛЬКУЛЯТОР!$C$21,$E$2,$E$2-$E$3),IF(C263=КАЛЬКУЛЯТОР!$C$21,$I$10,$I$10-SUMIF($A$11:$A$370,\"<=\"&$E$3,$H$11:$H$370)),0,0)+E263,\"\")","v":""},{"$f":"IF($E$2>$A262,(I262+SUM(F263:F274))*($K$4+$K$5),0)","v":{"v":0,"d":"0.00"}},"",{"$f":"IFERROR(-IPMT((C263-'КАЛЬКУЛЯТОР 1'!$P$1)/12,B263,IF(C263=$E$5,$E$2,$E$2-$E$3),IF(C263=$E$5,$I$10,$I$10-SUMIF($A$11:$A$370,\"<=\"&$E$3,$H$11:$H$370)),0,0),\"\")","v":""},"","",{"$error":"#VALUE!"},{"$f":"PV($E$6/12,A263-1,0,-E263)","v":{"v":0,"d":"0.00"}},{"$error":"#VALUE!"},{"$error":"#VALUE!"},{"$error":"#VALUE!"},{"$error":"#VALUE!"},false]
[254,254,{"$error":"#VALUE!"},{"$f":"IF(A264<=$E$2,-PMT(C264/12,IF(C264=КАЛЬКУЛЯТОР!$C$21,$E$2,$E$2-$E$3),IF(C264=КАЛЬКУЛЯТОР!$C$21,$I$10,$I$10-SUMIF($A$11:$A$370,\"<=\"&$E$3,$H$11:$H$370)),0,0),\"\")","v":""},null,"",{"$f":"IFERROR(-IPMT((C264-'КАЛЬКУЛЯТОР 1'!$P$1)/12,B264,IF(C264=$E$5,$E$2,$E$2-$E$3),IF(C264=$E$5,$I$10,$I$10-SUMIF($A$11:$A$370,\"<=\"&$E$3,$H$11:$H$370)),0,0),\"\")","v":""},"","",{"$error":"#VALUE!"},null,{"$error":"#VALUE!"},{"$error":"#VALUE!"},{"$error":"#VALUE!"},{"$error":"#VALUE!"},false]
[255,255,{"$error":"#VALUE!"},{"$f":"IF(A265<=$E$2,-PMT(C265/12,IF(C265=КАЛЬКУЛЯТОР!$C$21,$E$2,$E$2-$E$3),IF(C265=КАЛЬКУЛЯТОР!$C$21,$I$10,$I$10-SUMIF($A$11:$A$370,\"<=\"&$E$3,$H$11:$H$370)),0,0),\"\")","v":""},null,"",{"$f":"IFERROR(-IPMT((C265-'КАЛЬКУЛЯТОР 1'!$P$1)/12,B265,IF(C265=$E$5,$E$2,$E$2-$E$3),IF(C265=$E$5,$I$10,$I$10-SUMIF($A$11:$A$370,\"<=\"&$E$3,$H$11:$H$370)),0,0),\"\")","v":""},"","",{"$error":"#VALUE!"},null,{"$error":"#VALUE!"},{"$error":"#VALUE!"},{"$error":"#VALUE!"},{"$error":"#VALUE!"},false]
[256,256,{"$error":"#VALUE!"},{"$f":"IF(A266<=$E$2,-PMT(C266/12,IF(C266=КАЛЬКУЛЯТОР!$C$21,$E$2,$E$2-$E$3),IF(C266=КАЛЬКУЛЯТОР!$C$21,$I$10,$I$10-SUMIF($A$11:$A$370,\"<=\"&$E$3,$H$11:$H$370)),0,0),\"\")","v":""},null,"",{"$f":"IFERROR(-IPMT((C266-'КАЛЬКУЛЯТОР 1'!$P$1)/12,B266,IF(C266=$E$5,$E$2,$E$2-$E$3),IF(C266=$E$5,$I$10,$I$10-SUMIF($A$11:$A$370,\"<=\"&$E$3,$H$11:$H$370)),0,0),\"\")","v":""},"","",{"$error":"#VALUE!"},null,{"$error":"#VALUE!"},{"$error":"#VALUE!"},{"$error":"#VALUE!"},{"$error":"#VALUE!"},false]
[257,257,{"$error":"#VALUE!"},{"$f":"IF(A267<=$E$2,-PMT(C267/12,IF(C267=КАЛЬКУЛЯТОР!$C$21,$E$2,$E$2-$E$3),IF(C267=КАЛЬКУЛЯТОР!$C$21,$I$10,$I$10-SUMIF($A$11:$A$370,\"<=\"&$E$3,$H$11:$H$370)),0,0),\"\")","v":""},null,"",{"$f":"IFERROR(-IPMT((C267-'КАЛЬКУЛЯТОР 1'!$P$1)/12,B267,IF(C267=$E$5,$E$2,$E$2-$E$3),IF(C267=$E$5,$I$10,$I$10-SUMIF($A$11:$A$370,\"<=\"&$E$3,$H$11:$H$370)),0,0),\"\")","v":""},"",{"$f":"IFERROR(I266-H267,\"\")","v":""},{"$f":"PV($E$6/12,A267-1,0,-D267)","v":{"$error":"#VALUE!"}},null,{"$f":"PV($E$6/12,A267-1,0,-F267)","v":{"$error":"#VALUE!"}},{"$f":"PV($E$6/12,A267-1,0,-G267)","v":{"$error":"#VALUE!"}},{"$f":"PV($E$6/12,A267-1,0,-H267)","v":{"$error":"#VALUE!"}},{"$f":"O266-N267","v":{"$error":"#VALUE!"}},false]
[258,{"$f":"IF(P268=$P$11,B267+1,A268-$E$3)","v":258},{"$f":"IF(AND($E$4<=$E$5,A268<=$E$3),$E$5,IF(AND(A268>$E$3,A268<=$E$2),$E$4,\"\"))","v":{"$error":"#VALUE!"}},{"$f":"IF(A268<=$E$2,-PMT(C268/12,IF(C268=КАЛЬКУЛЯТОР!$C$21,$E$2,$E$2-$E$3),IF(C268=КАЛЬКУЛЯТОР!$C$21,$I$10,$I$10-SUMIF($A$11:$A$370,\"<=\"&$E$3,$H$11:$H$370)),0,0),\"\")","v":""},null,{"$f":"IFERROR(-IPMT(C268/12,B268,IF(C268=$E$5,$E$2,$E$2-$E$3),IF(C268=$E$5,$I$10,$I$10-SUMIF($A$11:$A$370,\"<=\"&$E$3,$H$11:$H$370)),0,0),\"\")","v":""},{"$f":"IFERROR(-IPMT((C268-'КАЛЬКУЛЯТОР 1'!$P$1)/12,B268,IF(C268=$E$5,$E$2,$E$2-$E$3),IF(C268=$E$5,$I$10,$I$10-SUMIF($A$11:$A$370,\"<=\"&$E$3,$H$11:$H$370)),0,0),\"\")","v":""},{"$f":"IFERROR((-PPMT(C268/12,B268,IF(C268=$E$5,$E$2,$E$2-$E$3),IF(C268=$E$5,$I$10,$I$10-SUMIF($A$11:$A$370,\"<=\"&$E$3,$H$11:$H$370)),0,0)),\"\")","v":""},"",{"$error":"#VALUE!"},null,{"$error":"#VALUE!"},{"$error":"#VALUE!"},{"$error":"#VALUE!"},{"$error":"#VALUE!"},{"$f":"AND(A268<=$E$3)","v":false}]
[259,259,{"$error":"#VALUE!"},{"$f":"IF(A269<=$E$2,-PMT(C269/12,IF(C269=КАЛЬКУЛЯТОР!$C$21,$E$2,$E$2-$E$3),IF(C269=КАЛЬКУЛЯТОР!$C$21,$I$10,$I$10-SUMIF($A$11:$A$370,\"<=\"&$E$3,$H$11:$H$370)),0,0),\"\")","v":""},null,"",{"$f":"IFERROR(-IPMT((C269-'КАЛЬКУЛЯТОР 1'!$P$1)/12,B269,IF(C269=$E$5,$E$2,$E$2-$E$3),IF(C269=$E$5,$I$10,$I$10-SUMIF($A$11:$A$370,\"<=\"&$E$3,$H$11:$H$370)),0,0),\"\")","v":""},"","",{"$error":"#VALUE!"},null,{"$error":"#VALUE!"},{"$error":"#VALUE!"},{"$error":"#VALUE!"},{"$error":"#VALUE!"},false]
[260,260,{"$error":"#VALUE!"},{"$f":"IF(A270<=$E$2,-PMT(C270/12,IF(C270=КАЛЬКУЛЯТОР!$C$21,$E$2,$E$2-$E$3),IF(C270=КАЛЬКУЛЯТОР!$C$21,$I$10,$I$10-SUMIF($A$11:$A$370,\"<=\"&$E$3,$H$11:$H$370)),0,0),\"\")","v":""},null,"",{"$f":"IFERROR(-IPMT((C270-'КАЛЬКУЛЯТОР 1'!$P$1)/12,B270,IF(C270=$E$5,$E$2,$E$2-$E$3),IF(C270=$E$5,$I$10,$I$10-SUMIF($A$11:$A$370,\"<=\"&$E$3,$H$11:$H$370)),0,0),\"\")","v":""},"","",{"$error":"#VALUE!"},null,{"$error":"#VALUE!"},{"$error":"#VALUE!"},{"$error":"#VALUE!"},{"$error":"#VALUE!"},false]
[261,261,{"$error":"#VALUE!"},{"$f":"IF(A271<=$E$2,-PMT(C271/12,IF(C271=КАЛЬКУЛЯТОР!$C$21,$E$2,$E$2-$E$3),IF(C271=КАЛЬКУЛЯТОР!$C$21,$I$10,$I$10-SUMIF($A$11:$A$370,\"<=\"&$E$3,$H$11:$H$370)),0,0),\"\")","v":""},null,"",{"$f":"IFERROR(-IPMT((C271-'КАЛЬКУЛЯТОР 1'!$P$1)/12,B271,IF(C271=$E$5,$E$2,$E$2-$E$3),IF(C271=$E$5,$I$10,$I$10-SUMIF($A$11:$A$370,\"<=\"&$E$3,$H$11:$H$370)),0,0),\"\")","v":""},"","",{"$error":"#VALUE!"},null,{"$error":"#VALUE!"},{"$error":"#VALUE!"},{"$error":"#VALUE!"},{"$error":"#VALUE!"},false]
[262,262,{"$error":"#VALUE!"},{"$f":"IF(A272<=$E$2,-PMT(C272/12,IF(C272=КАЛЬКУЛЯТОР!$C$21,$E$2,$E$2-$E$3),IF(C272=КАЛЬКУЛЯТОР!$C$21,$I$10,$I$10-SUMIF($A$11:$A$370,\"<=\"&$E$3,$H$11:$H$370)),0,0),\"\")","v":""},null,"",{"$f":"IFERROR(-IPMT((C272-'КАЛЬКУЛЯТОР 1'!$P$1)/12,B272,IF(C272=$E$5,$E$2,$E$2-$E$3),IF(C272=$E$5,$I$10,$I$10-SUMIF($A$11:$A$370,\"<=\"&$E$3,$H$11:$H$370)),0,0),\"\")","v":""},"","",{"$error":"#VALUE!"},null,{"$error":"#VALUE!"},{"$error":"#VALUE!"},{"$error":"#VALUE!"},{"$error":"#VALUE!"},false]
[263,263,{"$error":"#VALUE!"},{"$f":"IF(A273<=$E$2,-PMT(C273/12,IF(C273=КАЛЬКУЛЯТОР!$C$21,$E$2,$E$2-$E$3),IF(C273=КАЛЬКУЛЯТОР!$C$21,$I$10,$I$10-SUMIF($A$11:$A$370,\"<=\"&$E$3,$H$11:$H$370)),0,0),\"\")","v":""},null,"",{"$f":"IFERROR(-IPMT((C273-'КАЛЬКУЛЯТОР 1'!$P$1)/12,B273,IF(C273=$E$5,$E$2,$E$2-$E$3),IF(C273=$E$5,$I$10,$I$10-SUMIF($A$11:$A$370,\"<=\"&$E$3,$H$11:$H$370)),0,0),\"\")","v":""},"","",{"$error":"#VALUE!"},null,{"$error":"#VALUE!"},{"$error":"#VALUE!"},{"$error":"#VALUE!"},{"$error":"#VALUE!"},false]
[264,264,{"$error":"#VALUE!"},{"$f":"IF(A274<=$E$2,-PMT(C274/12,IF(C274=КАЛЬКУЛЯТОР!$C$21,$E$2,$E$2-$E$3),IF(C274=КАЛЬКУЛЯТОР!$C$21,$I$10,$I$10-SUMIF($A$11:$A$370,\"<=\"&$E$3,$H$11:$H$370)),0,0),\"\")","v":""},null,"",{"$f":"IFERROR(-IPMT((C274-'КАЛЬКУЛЯТОР 1'!$P$1)/12,B274,IF(C274=$E$5,$E$2,$E$2-$E$3),IF(C274=$E$5,$I$10,$I$10-SUMIF($A$11:$A$370,\"<=\"&$E$3,$H$11:$H$370)),0,0),\"\")","v":""},"","",{"$error":"#VALUE!"},null,{"$error":"#VALUE!"},{"$error":"#VALUE!"},{"$error":"#VALUE!"},{"$error":"#VALUE!"},false]
[265,265,{"$error":"#VALUE!"},{"$f":"IF(A275<=$E$2,-PMT(C275/12,IF(C275=КАЛЬКУЛЯТОР!$C$21,$E$2,$E$2-$E$3),IF(C275=КАЛЬКУЛЯТОР!$C$21,$I$10,$I$10-SUMIF($A$11:$A$370,\"<=\"&$E$3,$H$11:$H$370)),0,0)+E275,\"\")","v":""},{"$f":"IF($E$2>$A274,(I274+SUM(F275:F286))*($K$4+$K$5),0)","v":{"v":0,"d":"0.00"}},"",{"$f":"IFERROR(-IPMT((C275-'КАЛЬКУЛЯТОР 1'!$P$1)/12,B275,IF(C275=$E$5,$E$2,$E$2-$E$3),IF(C275=$E$5,$I$10,$I$10-SUMIF($A$11:$A$370,\"<=\"&$E$3,$H$11:$H$370)),0,0),\"\")","v":""},"","",{"$error":"#VALUE!"},{"$f":"PV($E$6/12,A275-1,0,-E275)","v":{"v":0,"d":"0.00"}},{"$error":"#VALUE!"},{"$error":"#VALUE!"},{"$error":"#VALUE!"},{"$error":"#VALUE!"},false]
[266,266,{"$error":"#VALUE!"},{"$f":"IF(A276<=$E$2,-PMT(C276/12,IF(C276=КАЛЬКУЛЯТОР!$C$21,$E$2,$E$2-$E$3),IF(C276=КАЛЬКУЛЯТОР!$C$21,$I$10,$I$10-SUMIF($A$11:$A$370,\"<=\"&$E$3,$H$11:$H$370)),0,0),\"\")","v":""},null,"",{"$f":"IFERROR(-IPMT((C276-'КАЛЬКУЛЯТОР 1'!$P$1)/12,B276,IF(C276=$E$5,$E$2,$E$2-$E$3),IF(C276=$E$5,$I$10,$I$10-SUMIF($A$11:$A$370,\"<=\"&$E$3,$H$11:$H$370)),0,0),\"\")","v":""},"","",{"$error":"#VALUE!"},null,{"$error":"#VALUE!"},{"$error":"#VALUE!"},{"$error":"#VALUE!"},{"$error":"#VALUE!"},false]
[267,267,{"$error":"#VALUE!"},{"$f":"IF(A277<=$E$2,-PMT(C277/12,IF(C277=КАЛЬКУЛЯТОР!$C$21,$E$2,$E$2-$E$3),IF(C277=КАЛЬКУЛЯТОР!$C$21,$I$10,$I$10-SUMIF($A$11:$A$370,\"<=\"&$E$3,$H$11:$H$370)),0,0),\"\")","v":""},null,"",{"$f":"IFERROR(-IPMT((C277-'КАЛЬКУЛЯТОР 1'!$P$1)/12,B277,IF(C277=$E$5,$E$2,$E$2-$E$3),IF(C277=$E$5,$I$10,$I$10-SUMIF($A$11:$A$370,\"<=\"&$E$3,$H$11:$H$370)),0,0),\"\")","v":""},"","",{"$error":"#VALUE!"},null,{"$error":"#VALUE!"},{"$error":"#VALUE!"},{"$error":"#VALUE!"},{"$error":"#VALUE!"},false]
[268,268,{"$error":"#VALUE!"},{"$f":"IF(A278<=$E$2,-PMT(C278/12,IF(C278=КАЛЬКУЛЯТОР!$C$21,$E$2,$E$2-$E$3),IF(C278=КАЛЬКУЛЯТОР!$C$21,$I$10,$I$10-SUMIF($A$11:$A$370,\"<=\"&$E$3,$H$11:$H$370)),0,0),\"\")","v":""},null,"",{"$f":"IFERROR(-IPMT((C278-'КАЛЬКУЛЯТОР 1'!$P$1)/12,B278,IF(C278=$E$5,$E$2,$E$2-$E$3),IF(C278=$E$5,$I$10,$I$10-SUMIF($A$11:$A$370,\"<=\"&$E$3,$H$11:$H$370)),0,0),\"\")","v":""},"","",{"$error":"#VALUE!"},null,{"$error":"#VALUE!"},{"$error":"#VALUE!"},{"$error":"#VALUE!"},{"$error":"#VALUE!"},false]
[269,269,{"$error":"#VALUE!"},{"$f":"IF(A279<=$E$2,-PMT(C279/12,IF(C279=КАЛЬКУЛЯТОР!$C$21,$E$2,$E$2-$E$3),IF(C279=КАЛЬКУЛЯТОР!$C$21,$I$10,$I$10-SUMIF($A$11:$A$370,\"<=\"&$E$3,$H$11:$H$370)),0,0),\"\")","v":""},null,"",{"$f":"IFERROR(-IPMT((C279-'КАЛЬКУЛЯТОР 1'!$P$1)/12,B279,IF(C279=$E$5,$E$2,$E$2-$E$3),IF(C279=$E$5,$I$10,$I$10-SUMIF($A$11:$A$370,\"<=\"&$E$3,$H$11:$H$370)),0,0),\"\")","v":""},"","",{"$error":"#VALUE!"},null,{"$error":"#VALUE!"},{"$error":"#VALUE!"},{"$error":"#VALUE!"},{"$error":"#VALUE!"},false]
[270,270,{"$error":"#VALUE!"},{"$f":"IF(A280<=$E$2,-PMT(C280/12,IF(C280=КАЛЬКУЛЯТОР!$C$21,$E$2,$E$2-$E$3),IF(C280=КАЛЬКУЛЯТОР!$C$21,$I$10,$I$10-SUMIF($A$11:$A$370,\"<=\"&$E$3,$H$11:$H$370)),0,0),\"\")","v":""},null,"",{"$f":"IFERROR(-IPMT((C280-'КАЛЬКУЛЯТОР 1'!$P$1)/12,B280,IF(C280=$E$5,$E$2,$E$2-$E$3),IF(C280=$E$5,$I$10,$I$10-SUMIF($A$11:$A$370,\"<=\"&$E$3,$H$11:$H$370)),0,0),\"\")","v":""},"","",{"$error":"#VALUE!"},null,{"$error":"#VALUE!"},{"$error":"#VALUE!"},{"$error":"#VALUE!"},{"$error":"#VALUE!"},false]
[271,271,{"$error":"#VALUE!"},{"$f":"IF(A281<=$E$2,-PMT(C281/12,IF(C281=КАЛЬКУЛЯТОР!$C$21,$E$2,$E$2-$E$3),IF(C281=КАЛЬКУЛЯТОР!$C$21,$I$10,$I$10-SUMIF($A$11:$A$370,\"<=\"&$E$3,$H$11:$H$370)),0,0),\"\")","v":""},null,"",{"$f":"IFERROR(-IPMT((C281-'КАЛЬКУЛЯТОР 1'!$P$1)/12,B281,IF(C281=$E$5,$E$2,$E$2-$E$3),IF(C281=$E$5,$I$10,$I$10-SUMIF($A$11:$A$370,\"<=\"&$E$3,$H$11:$H$370)),0,0),\"\")","v":""},"","",{"$error":"#VALUE!"},null,{"$error":"#VALUE!"},{"$error":"#VALUE!"},{"$error":"#VALUE!"},{"$error":"#VALUE!"},false]
[272,272,{"$error":"#VALUE!"},{"$f":"IF(A282<=$E$2,-PMT(C282/12,IF(C282=КАЛЬКУЛЯТОР!$C$21,$E$2,$E$2-$E$3),IF(C282=КАЛЬКУЛЯТОР!$C$21,$I$10,$I$10-SUMIF($A$11:$A$370,\"<=\"&$E$3,$H$11:$H$370)),0,0),\"\")","v":""},null,"",{"$f":"IFERROR(-IPMT((C282-'КАЛЬКУЛЯТОР 1'!$P$1)/12,B282,IF(C282=$E$5,$E$2,$E$2-$E$3),IF(C282=$E$5,$I$10,$I$10-SUMIF($A$11:$A$370,\"<=\"&$E$3,$H$11:$H$370)),0,0),\"\")","v":""},"","",{"$error":"#VALUE!"},null,{"$error":"#VALUE!"},{"$error":"#VALUE!"},{"$error":"#VALUE!"},{"$error":"#VALUE!"},false]
[273,273,{"$error":"#VALUE!"},{"$f":"IF(A283<=$E$2,-PMT(C283/12,IF(C283=КАЛЬКУЛЯТОР!$C$21,$E$2,$E$2-$E$3),IF(C283=КАЛЬКУЛЯТОР!$C$21,$I$10,$I$10-SUMIF($A$11:$A$370,\"<=\"&$E$3,$H$11:$H$370)),0,0),\"\")","v":""},null,"",{"$f":"IFERROR(-IPMT((C283-'КАЛЬКУЛЯТОР 1'!$P$1)/12,B283,IF(C283=$E$5,$E$2,$E$2-$E$3),IF(C283=$E$5,$I$10,$I$10-SUMIF($A$11:$A$370,\"<=\"&$E$3,$H$11:$H$370)),0,0),\"\")","v":""},"","",{"$error":"#VALUE!"},null,{"$error":"#VALUE!"},{"$error":"#VALUE!"},{"$error":"#VALUE!"},{"$error":"#VALUE!"},false]
[274,274,{"$error":"#VALUE!"},{"$f":"IF(A284<=$E$2,-PMT(C284/12,IF(C284=КАЛЬКУЛЯТОР!$C$21,$E$2,$E$2-$E$3),IF(C284=КАЛЬКУЛЯТОР!$C$21,$I$10,$I$10-SUMIF($A$11:$A$370,\"<=\"&$E$3,$H$11:$H$370)),0,0),\"\")","v":""},null,"",{"$f":"IFERROR(-IPMT((C284-'КАЛЬКУЛЯТОР 1'!$P$1)/12,B284,IF(C284=$E$5,$E$2,$E$2-$E$3),IF(C284=$E$5,$I$10,$I$10-SUMIF($A$11:$A$370,\"<=\"&$E$3,$H$11:$H$370)),0,0),\"\")","v":""},"","",{"$error":"#VALUE!"},null,{"$error":"#VALUE!"},{"$error":"#VALUE!"},{"$error":"#VALUE!"},{"$error":"#VALUE!"},false]
[275,275,{"$error":"#VALUE!"},{"$f":"IF(A285<=$E$2,-PMT(C285/12,IF(C285=КАЛЬКУЛЯТОР!$C$21,$E$2,$E$2-$E$3),IF(C285=КАЛЬКУЛЯТОР!$C$21,$I$10,$I$10-SUMIF($A$11:$A$370,\"<=\"&$E$3,$H$11:$H$370)),0,0),\"\")","v":""},null,"",{"$f":"IFERROR(-IPMT((C285-'КАЛЬКУЛЯТОР 1'!$P$1)/12,B285,IF(C285=$E$5,$E$2,$E$2-$E$3),IF(C285=$E$5,$I$10,$I$10-SUMIF($A$11:$A$370,\"<=\"&$E$3,$H$11:$H$370)),0,0),\"\")","v":""},"","",{"$error":"#VALUE!"},null,{"$error":"#VALUE!"},{"$error":"#VALUE!"},{"$error":"#VALUE!"},{"$error":"#VALUE!"},false]
[276,276,{"$error":"#VALUE!"},{"$f":"IF(A286<=$E$2,-PMT(C286/12,IF(C286=КАЛЬКУЛЯТОР!$C$21,$E$2,$E$2-$E$3),IF(C286=КАЛЬКУЛЯТОР!$C$21,$I$10,$I$10-SUMIF($A$11:$A$370,\"<=\"&$E$3,$H$11:$H$370)),0,0),\"\")","v":""},null,"",{"$f":"IFERROR(-IPMT((C286-'КАЛЬКУЛЯТОР 1'!$P$1)/12,B286,IF(C286=$E$5,$E$2,$E$2-$E$3),IF(C286=$E$5,$I$10,$I$10-SUMIF($A$11:$A$370,\"<=\"&$E$3,$H$11:$H$370)),0,0),\"\")","v":""},"","",{"$error":"#VALUE!"},null,{"$error":"#VALUE!"},{"$error":"#VALUE!"},{"$error":"#VALUE!"},{"$error":"#VALUE!"},false]
[277,277,{"$error":"#VALUE!"},{"$f":"IF(A287<=$E$2,-PMT(C287/12,IF(C287=КАЛЬКУЛЯТОР!$C$21,$E$2,$E$2-$E$3),IF(C287=КАЛЬКУЛЯТОР!$C$21,$I$10,$I$10-SUMIF($A$11:$A$370,\"<=\"&$E$3,$H$11:$H$370)),0,0)+E287,\"\")","v":""},{"$f":"IF($E$2>$A286,(I286+SUM(F287:F298))*($K$4+$K$5),0)","v":{"v":0,"d":"0.00"}},"",{"$f":"IFERROR(-IPMT((C287-'КАЛЬКУЛЯТОР 1'!$P$1)/12,B287,IF(C287=$E$5,$E$2,$E$2-$E$3),IF(C287=$E$5,$I$10,$I$10-SUMIF($A$11:$A$370,\"<=\"&$E$3,$H$11:$H$370)),0,0),\"\")","v":""},"","",{"$error":"#VALUE!"},{"$f":"PV($E$6/12,A287-1,0,-E287)","v":{"v":0,"d":"0.00"}},{"$error":"#VALUE!"},{"$error":"#VALUE!"},{"$error":"#VALUE!"},{"$error":"#VALUE!"},false]
[278,278,{"$error":"#VALUE!"},{"$f":"IF(A288<=$E$2,-PMT(C288/12,IF(C288=КАЛЬКУЛЯТОР!$C$21,$E$2,$E$2-$E$3),IF(C288=КАЛЬКУЛЯТОР!$C$21,$I$10,$I$10-SUMIF($A$11:$A$370,\"<=\"&$E$3,$H$11:$H$370)),0,0),\"\")","v":""},null,"",{"$f":"IFERROR(-IPMT((C288-'КАЛЬКУЛЯТОР 1'!$P$1)/12,B288,IF(C288=$E$5,$E$2,$E$2-$E$3),IF(C288=$E$5,$I$10,$I$10-SUMIF($A$11:$A$370,\"<=\"&$E$3,$H$11:$H$370)),0,0),\"\")","v":""},"","",{"$error":"#VALUE!"},null,{"$error":"#VALUE!"},{"$error":"#VALUE!"},{"$error":"#VALUE!"},{"$error":"#VALUE!"},false]
[279,279,{"$error":"#VALUE!"},{"$f":"IF(A289<=$E$2,-PMT(C289/12,IF(C289=КАЛЬКУЛЯТОР!$C$21,$E$2,$E$2-$E$3),IF(C289=КАЛЬКУЛЯТОР!$C$21,$I$10,$I$10-SUMIF($A$11:$A$370,\"<=\"&$E$3,$H$11:$H$370)),0,0),\"\")","v":""},null,"",{"$f":"IFERROR(-IPMT((C289-'КАЛЬКУЛЯТОР 1'!$P$1)/12,B289,IF(C289=$E$5,$E$2,$E$2-$E$3),IF(C289=$E$5,$I$10,$I$10-SUMIF($A$11:$A$370,\"<=\"&$E$3,$H$11:$H$370)),0,0),\"\")","v":""},"","",{"$error":"#VALUE!"},null,{"$error":"#VALUE!"},{"$error":"#VALUE!"},{"$error":"#VALUE!"},{"$error":"#VALUE!"},false]
[280,280,{"$error":"#VALUE!"},{"$f":"IF(A290<=$E$2,-PMT(C290/12,IF(C290=КАЛЬКУЛЯТОР!$C$21,$E$2,$E$2-$E$3),IF(C290=КАЛЬКУЛЯТОР!$C$21,$I$10,$I$10-SUMIF($A$11:$A$370,\"<=\"&$E$3,$H$11:$H$370)),0,0),\"\")","v":""},null,"",{"$f":"IFERROR(-IPMT((C290-'КАЛЬКУЛЯТОР 1'!$P$1)/12,B290,IF(C290=$E$5,$E$2,$E$2-$E$3),IF(C290=$E$5,$I$10,$I$10-SUMIF($A$11:$A$370,\"<=\"&$E$3,$H$11:$H$370)),0,0),\"\")","v":""},"","",{"$error":"#VALUE!"},null,{"$error":"#VALUE!"},{"$error":"#VALUE!"},{"$error":"#VALUE!"},{"$error":"#VALUE!"},false]
[281,281,{"$error":"#VALUE!"},{"$f":"IF(A291<=$E$2,-PMT(C291/12,IF(C291=КАЛЬКУЛЯТОР!$C$21,$E$2,$E$2-$E$3),IF(C291=КАЛЬКУЛЯТОР!$C$21,$I$10,$I$10-SUMIF($A$11:$A$370,\"<=\"&$E$3,$H$11:$H$370)),0,0),\"\")","v":""},null,"",{"$f":"IFERROR(-IPMT((C291-'КАЛЬКУЛЯТОР 1'!$P$1)/12,B291,IF(C291=$E$5,$E$2,$E$2-$E$3),IF(C291=$E$5,$I$10,$I$10-SUMIF($A$11:$A$370,\"<=\"&$E$3,$H$11:$H$370)),0,0),\"\")","v":""},"","",{"$error":"#VALUE!"},null,{"$error":"#VALUE!"},{"$error":"#VALUE!"},{"$error":"#VALUE!"},{"$error":"#VALUE!"},false]
[282,282,{"$error":"#VALUE!"},{"$f":"IF(A292<=$E$2,-PMT(C292/12,IF(C292=КАЛЬКУЛЯТОР!$C$21,$E$2,$E$2-$E$3),IF(C292=КАЛЬКУЛЯТОР!$C$21,$I$10,$I$10-SUMIF($A$11:$A$370,\"<=\"&$E$3,$H$11:$H$370)),0,0),\"\")","v":""},null,"",{"$f":"IFERROR(-IPMT((C292-'КАЛЬКУЛЯТОР 1'!$P$1)/12,B292,IF(C292=$E$5,$E$2,$E$2-$E$3),IF(C292=$E$5,$I$10,$I$10-SUMIF($A$11:$A$370,\"<=\"&$E$3,$H$11:$H$370)),0,0),\"\")","v":""},"","",{"$error":"#VALUE!"},null,{"$error":"#VALUE!"},{"$error":"#VALUE!"},{"$error":"#VALUE!"},{"$error":"#VALUE!"},false]
[283,283,{"$error":"#VALUE!"},{"$f":"IF(A293<=$E$2,-PMT(C293/12,IF(C293=КАЛЬКУЛЯТОР!$C$21,$E$2,$E$2-$E$3),IF(C293=КАЛЬКУЛЯТОР!$C$21,$I$10,$I$10-SUMIF($A$11:$A$370,\"<=\"&$E$3,$H$11:$H$370)),0,0),\"\")","v":""},null,"",{"$f":"IFERROR(-IPMT((C293-'КАЛЬКУЛЯТОР 1'!$P$1)/12,B293,IF(C293=$E$5,$E$2,$E$2-$E$3),IF(C293=$E$5,$I$10,$I$10-SUMIF($A$11:$A$370,\"<=\"&$E$3,$H$11:$H$370)),0,0),\"\")","v":""},"","",{"$error":"#VALUE!"},null,{"$error":"#VALUE!"},{"$error":"#VALUE!"},{"$error":"#VALUE!"},{"$error":"#VALUE!"},false]
[284,284,{"$error":"#VALUE!"},{"$f":"IF(A294<=$E$2,-PMT(C294/12,IF(C294=КАЛЬКУЛЯТОР!$C$21,$E$2,$E$2-$E$3),IF(C294=КАЛЬКУЛЯТОР!$C$21,$I$10,$I$10-SUMIF($A$11:$A$370,\"<=\"&$E$3,$H$11:$H$370)),0,0),\"\")","v":""},null,"",{"$f":"IFERROR(-IPMT((C294-'КАЛЬКУЛЯТОР 1'!$P$1)/12,B294,IF(C294=$E$5,$E$2,$E$2-$E$3),IF(C294=$E$5,$I$10,$I$10-SUMIF($A$11:$A$370,\"<=\"&$E$3,$H$11:$H$370)),0,0),\"\")","v":""},"","",{"$error":"#VALUE!"},null,{"$error":"#VALUE!"},{"$error":"#VALUE!"},{"$error":"#VALUE!"},{"$error":"#VALUE!"},false]
[285,285,{"$error":"#VALUE!"},{"$f":"IF(A295<=$E$2,-PMT(C295/12,IF(C295=КАЛЬКУЛЯТОР!$C$21,$E$2,$E$2-$E$3),IF(C295=КАЛЬКУЛЯТОР!$C$21,$I$10,$I$10-SUMIF($A$11:$A$370,\"<=\"&$E$3,$H$11:$H$370)),0,0),\"\")","v":""},null,"",{"$f":"IFERROR(-IPMT((C295-'КАЛЬКУЛЯТОР 1'!$P$1)/12,B295,IF(C295=$E$5,$E$2,$E$2-$E$3),IF(C295=$E$5,$I$10,$I$10-SUMIF($A$11:$A$370,\"<=\"&$E$3,$H$11:$H$370)),0,0),\"\")","v":""},"","",{"$error":"#VALUE!"},null,{"$error":"#VALUE!"},{"$error":"#VALUE!"},{"$error":"#VALUE!"},{"$error":"#VALUE!"},false]
[286,286,{"$error":"#VALUE!"},{"$f":"IF(A296<=$E$2,-PMT(C296/12,IF(C296=КАЛЬКУЛЯТОР!$C$21,$E$2,$E$2-$E$3),IF(C296=КАЛЬКУЛЯТОР!$C$21,$I$10,$I$10-SUMIF($A$11:$A$370,\"<=\"&$E$3,$H$11:$H$370)),0,0),\"\")","v":""},null,"",{"$f":"IFERROR(-IPMT((C296-'КАЛЬКУЛЯТОР 1'!$P$1)/12,B296,IF(C296=$E$5,$E$2,$E$2-$E$3),IF(C296=$E$5,$I$10,$I$10-SUMIF($A$11:$A$370,\"<=\"&$E$3,$H$11:$H$370)),0,0),\"\")","v":""},"","",{"$error":"#VALUE!"},null,{"$error":"#VALUE!"},{"$error":"#VALUE!"},{"$error":"#VALUE!"},{"$error":"#VALUE!"},false]
[287,287,{"$error":"#VALUE!"},{"$f":"IF(A297<=$E$2,-PMT(C297/12,IF(C297=КАЛЬКУЛЯТОР!$C$21,$E$2,$E$2-$E$3),IF(C297=КАЛЬКУЛЯТОР!$C$21,$I$10,$I$10-SUMIF($A$11:$A$370,\"<=\"&$E$3,$H$11:$H$370)),0,0),\"\")","v":""},null,"",{"$f":"IFERROR(-IPMT((C297-'КАЛЬКУЛЯТОР 1'!$P$1)/12,B297,IF(C297=$E$5,$E$2,$E$2-$E$3),IF(C297=$E$5,$I$10,$I$10-SUMIF($A$11:$A$370,\"<=\"&$E$3,$H$11:$H$370)),0,0),\"\")","v":""},"","",{"$error":"#VALUE!"},null,{"$error":"#VALUE!"},{"$error":"#VALUE!"},{"$error":"#VALUE!"},{"$error":"#VALUE!"},false]
[288,288,{"$error":"#VALUE!"},{"$f":"IF(A298<=$E$2,-PMT(C298/12,IF(C298=КАЛЬКУЛЯТОР!$C$21,$E$2,$E$2-$E$3),IF(C298=КАЛЬКУЛЯТОР!$C$21,$I$10,$I$10-SUMIF($A$11:$A$370,\"<=\"&$E$3,$H$11:$H$370)),0,0),\"\")","v":""},null,"",{"$f":"IFERROR(-IPMT((C298-'КАЛЬКУЛЯТОР 1'!$P$1)/12,B298,IF(C298=$E$5,$E$2,$E$2-$E$3),IF(C298=$E$5,$I$10,$I$10-SUMIF($A$11:$A$370,\"<=\"&$E$3,$H$11:$H$370)),0,0),\"\")","v":""},"","",{"$error":"#VALUE!"},null,{"$error":"#VALUE!"},{"$error":"#VALUE!"},{"$error":"#VALUE!"},{"$error":"#VALUE!"},false]
[289,289,{"$error":"#VALUE!"},{"$f":"IF(A299<=$E$2,-PMT(C299/12,IF(C299=КАЛЬКУЛЯТОР!$C$21,$E$2,$E$2-$E$3),IF(C299=КАЛЬКУЛЯТОР!$C$21,$I$10,$I$10-SUMIF($A$11:$A$370,\"<=\"&$E$3,$H$11:$H$370)),0,0)+E299,\"\")","v":""},{"$f":"IF($E$2>$A298,(I298+SUM(F299:F310))*($K$4+$K$5),0)","v":{"v":0,"d":"0.00"}},"",{"$f":"IFERROR(-IPMT((C299-'КАЛЬКУЛЯТОР 1'!$P$1)/12,B299,IF(C299=$E$5,$E$2,$E$2-$E$3),IF(C299=$E$5,$I$10,$I$10-SUMIF($A$11:$A$370,\"<=\"&$E$3,$H$11:$H$370)),0,0),\"\")","v":""},"","",{"$error":"#VALUE!"},{"$f":"PV($E$6/12,A299-1,0,-E299)","v":{"v":0,"d":"0.00"}},{"$error":"#VALUE!"},{"$error":"#VALUE!"},{"$error":"#VALUE!"},{"$error":"#VALUE!"},false]
[290,290,{"$error":"#VALUE!"},{"$f":"IF(A300<=$E$2,-PMT(C300/12,IF(C300=КАЛЬКУЛЯТОР!$C$21,$E$2,$E$2-$E$3),IF(C300=КАЛЬКУЛЯТОР!$C$21,$I$10,$I$10-SUMIF($A$11:$A$370,\"<=\"&$E$3,$H$11:$H$370)),0,0),\"\")","v":""},null,"",{"$f":"IFERROR(-IPMT((C300-'КАЛЬКУЛЯТОР 1'!$P$1)/12,B300,IF(C300=$E$5,$E$2,$E$2-$E$3),IF(C300=$E$5,$I$10,$I$10-SUMIF($A$11:$A$370,\"<=\"&$E$3,$H$11:$H$370)),0,0),\"\")","v":""},"","",{"$error":"#VALUE!"},null,{"$error":"#VALUE!"},{"$error":"#VALUE!"},{"$error":"#VALUE!"},{"$error":"#VALUE!"},false]
[291,291,{"$error":"#VALUE!"},{"$f":"IF(A301<=$E$2,-PMT(C301/12,IF(C301=КАЛЬКУЛЯТОР!$C$21,$E$2,$E$2-$E$3),IF(C301=КАЛЬКУЛЯТОР!$C$21,$I$10,$I$10-SUMIF($A$11:$A$370,\"<=\"&$E$3,$H$11:$H$370)),0,0),\"\")","v":""},null,"",{"$f":"IFERROR(-IPMT((C301-'КАЛЬКУЛЯТОР 1'!$P$1)/12,B301,IF(C301=$E$5,$E$2,$E$2-$E$3),IF(C301=$E$5,$I$10,$I$10-SUMIF($A$11:$A$370,\"<=\"&$E$3,$H$11:$H$370)),0,0),\"\")","v":""},"","",{"$error":"#VALUE!"},null,{"$error":"#VALUE!"},{"$error":"#VALUE!"},{"$error":"#VALUE!"},{"$error":"#VALUE!"},false]
[292,292,{"$error":"#VALUE!"},{"$f":"IF(A302<=$E$2,-PMT(C302/12,IF(C302=КАЛЬКУЛЯТОР!$C$21,$E$2,$E$2-$E$3),IF(C302=КАЛЬКУЛЯТОР!$C$21,$I$10,$I$10-SUMIF($A$11:$A$370,\"<=\"&$E$3,$H$11:$H$370)),0,0),\"\")","v":""},null,"",{"$f":"IFERROR(-IPMT((C302-'КАЛЬКУЛЯТОР 1'!$P$1)/12,B302,IF(C302=$E$5,$E$2,$E$2-$E$3),IF(C302=$E$5,$I$10,$I$10-SUMIF($A$11:$A$370,\"<=\"&$E$3,$H$11:$H$370)),0,0),\"\")","v":""},"","",{"$error":"#VALUE!"},null,{"$error":"#VALUE!"},{"$error":"#VALUE!"},{"$error":"#VALUE!"},{"$error":"#VALUE!"},false]
[293,293,{"$error":"#VALUE!"},{"$f":"IF(A303<=$E$2,-PMT(C303/12,IF(C303=КАЛЬКУЛЯТОР!$C$21,$E$2,$E$2-$E$3),IF(C303=КАЛЬКУЛЯТОР!$C$21,$I$10,$I$10-SUMIF($A$11:$A$370,\"<=\"&$E$3,$H$11:$H$370)),0,0),\"\")","v":""},null,"",{"$f":"IFERROR(-IPMT((C303-'КАЛЬКУЛЯТОР 1'!$P$1)/12,B303,IF(C303=$E$5,$E$2,$E$2-$E$3),IF(C303=$E$5,$I$10,$I$10-SUMIF($A$11:$A$370,\"<=\"&$E$3,$H$11:$H$370)),0,0),\"\")","v":""},"","",{"$error":"#VALUE!"},null,{"$error":"#VALUE!"},{"$error":"#VALUE!"},{"$error":"#VALUE!"},{"$error":"#VALUE!"},false]
[294,294,{"$error":"#VALUE!"},{"$f":"IF(A304<=$E$2,-PMT(C304/12,IF(C304=КАЛЬКУЛЯТОР!$C$21,$E$2,$E$2-$E$3),IF(C304=КАЛЬКУЛЯТОР!$C$21,$I$10,$I$10-SUMIF($A$11:$A$370,\"<=\"&$E$3,$H$11:$H$370)),0,0),\"\")","v":""},null,"",{"$f":"IFERROR(-IPMT((C304-'КАЛЬКУЛЯТОР 1'!$P$1)/12,B304,IF(C304=$E$5,$E$2,$E$2-$E$3),IF(C304=$E$5,$I$10,$I$10-SUMIF($A$11:$A$370,\"<=\"&$E$3,$H$11:$H$370)),0,0),\"\")","v":""},"","",{"$error":"#VALUE!"},null,{"$error":"#VALUE!"},{"$error":"#VALUE!"},{"$error":"#VALUE!"},{"$error":"#VALUE!"},false]
[295,295,{"$error":"#VALUE!"},{"$f":"IF(A305<=$E$2,-PMT(C305/12,IF(C305=КАЛЬКУЛЯТОР!$C$21,$E$2,$E$2-$E$3),IF(C305=КАЛЬКУЛЯТОР!$C$21,$I$10,$I$10-SUMIF($A$11:$A$370,\"<=\"&$E$3,$H$11:$H$370)),0,0),\"\")","v":""},null,"",{"$f":"IFERROR(-IPMT((C305-'КАЛЬКУЛЯТОР 1'!$P$1)/12,B305,IF(C305=$E$5,$E$2,$E$2-$E$3),IF(C305=$E$5,$I$10,$I$10-SUMIF($A$11:$A$370,\"<=\"&$E$3,$H$11:$H$370)),0,0),\"\")","v":""},"","",{"$error":"#VALUE!"},null,{"$error":"#VALUE!"},{"$error":"#VALUE!"},{"$error":"#VALUE!"},{"$error":"#VALUE!"},false]
[296,296,{"$error":"#VALUE!"},{"$f":"IF(A306<=$E$2,-PMT(C306/12,IF(C306=КАЛЬКУЛЯТОР!$C$21,$E$2,$E$2-$E$3),IF(C306=КАЛЬКУЛЯТОР!$C$21,$I$10,$I$10-SUMIF($A$11:$A$370,\"<=\"&$E$3,$H$11:$H$370)),0,0),\"\")","v":""},null,"",{"$f":"IFERROR(-IPMT((C306-'КАЛЬКУЛЯТОР 1'!$P$1)/12,B306,IF(C306=$E$5,$E$2,$E$2-$E$3),IF(C306=$E$5,$I$10,$I$10-SUMIF($A$11:$A$370,\"<=\"&$E$3,$H$11:$H$370)),0,0),\"\")","v":""},"","",{"$error":"#VALUE!"},null,{"$error":"#VALUE!"},{"$error":"#VALUE!"},{"$error":"#VALUE!"},{"$error":"#VALUE!"},false]
[297,297,{"$error":"#VALUE!"},{"$f":"IF(A307<=$E$2,-PMT(C307/12,IF(C307=КАЛЬКУЛЯТОР!$C$21,$E$2,$E$2-$E$3),IF(C307=КАЛЬКУЛЯТОР!$C$21,$I$10,$I$10-SUMIF($A$11:$A$370,\"<=\"&$E$3,$H$11:$H$370)),0,0),\"\")","v":""},null,"",{"$f":"IFERROR(-IPMT((C307-'КАЛЬКУЛЯТОР 1'!$P$1)/12,B307,IF(C307=$E$5,$E$2,$E$2-$E$3),IF(C307=$E$5,$I$10,$I$10-SUMIF($A$11:$A$370,\"<=\"&$E$3,$H$11:$H$370)),0,0),\"\")","v":""},"","",{"$error":"#VALUE!"},null,{"$error":"#VALUE!"},{"$error":"#VALUE!"},{"$error":"#VALUE!"},{"$error":"#VALUE!"},false]
[298,298,{"$error":"#VALUE!"},{"$f":"IF(A308<=$E$2,-PMT(C308/12,IF(C308=КАЛЬКУЛЯТОР!$C$21,$E$2,$E$2-$E$3),IF(C308=КАЛЬКУЛЯТОР!$C$21,$I$10,$I$10-SUMIF($A$11:$A$370,\"<=\"&$E$3,$H$11:$H$370)),0,0),\"\")","v":""},null,"",{"$f":"IFERROR(-IPMT((C308-'КАЛЬКУЛЯТОР 1'!$P$1)/12,B308,IF(C308=$E$5,$E$2,$E$2-$E$3),IF(C308=$E$5,$I$10,$I$10-SUMIF($A$11:$A$370,\"<=\"&$E$3,$H$11:$H$370)),0,0),\"\")","v":""},"","",{"$error":"#VALUE!"},null,{"$error":"#VALUE!"},{"$error":"#VALUE!"},{"$error":"#VALUE!"},{"$error":"#VALUE!"},false]
[299,299,{"$error":"#VALUE!"},{"$f":"IF(A309<=$E$2,-PMT(C309/12,IF(C309=КАЛЬКУЛЯТОР!$C$21,$E$2,$E$2-$E$3),IF(C309=КАЛЬКУЛЯТОР!$C$21,$I$10,$I$10-SUMIF($A$11:$A$370,\"<=\"&$E$3,$H$11:$H$370)),0,0),\"\")","v":""},null,"",{"$f":"IFERROR(-IPMT((C309-'КАЛЬКУЛЯТОР 1'!$P$1)/12,B309,IF(C309=$E$5,$E$2,$E$2-$E$3),IF(C309=$E$5,$I$10,$I$10-SUMIF($A$11:$A$370,\"<=\"&$E$3,$H$11:$H$370)),0,0),\"\")","v":""},"","",{"$error":"#VALUE!"},null,{"$error":"#VALUE!"},{"$error":"#VALUE!"},{"$error":"#VALUE!"},{"$error":"#VALUE!"},false]
[300,300,{"$error":"#VALUE!"},{"$f":"IF(A310<=$E$2,-PMT(C310/12,IF(C310=КАЛЬКУЛЯТОР!$C$21,$E$2,$E$2-$E$3),IF(C310=КАЛЬКУЛЯТОР!$C$21,$I$10,$I$10-SUMIF($A$11:$A$370,\"<=\"&$E$3,$H$11:$H$370)),0,0),\"\")","v":""},null,"",{"$f":"IFERROR(-IPMT((C310-'КАЛЬКУЛЯТОР 1'!$P$1)/12,B310,IF(C310=$E$5,$E$2,$E$2-$E$3),IF(C310=$E$5,$I$10,$I$10-SUMIF($A$11:$A$370,\"<=\"&$E$3,$H$11:$H$370)),0,0),\"\")","v":""},"","",{"$error":"#VALUE!"},null,{"$error":"#VALUE!"},{"$error":"#VALUE!"},{"$error":"#VALUE!"},{"$error":"#VALUE!"},false]
[301,301,{"$error":"#VALUE!"},{"$f":"IF(A311<=$E$2,-PMT(C311/12,IF(C311=КАЛЬКУЛЯТОР!$C$21,$E$2,$E$2-$E$3),IF(C311=КАЛЬКУЛЯТОР!$C$21,$I$10,$I$10-SUMIF($A$11:$A$370,\"<=\"&$E$3,$H$11:$H$370)),0,0),\"\")","v":""},{"$f":"IF($E$2>$A310,(I310+SUM(F311:F322))*($K$4+$K$5),0)","v":{"v":0,"d":"0.00"}},"",{"$f":"IFERROR(-IPMT((C311-'КАЛЬКУЛЯТОР 1'!$P$1)/12,B311,IF(C311=$E$5,$E$2,$E$2-$E$3),IF(C311=$E$5,$I$10,$I$10-SUMIF($A$11:$A$370,\"<=\"&$E$3,$H$11:$H$370)),0,0),\"\")","v":""},"","",{"$error":"#VALUE!"},{"$f":"PV($E$6/12,A311-1,0,-E311)","v":{"v":0,"d":"0.00"}},{"$error":"#VALUE!"},{"$error":"#VALUE!"},{"$error":"#VALUE!"},{"$error":"#VALUE!"},false]
[302,302,{"$error":"#VALUE!"},{"$f":"IF(A312<=$E$2,-PMT(C312/12,IF(C312=КАЛЬКУЛЯТОР!$C$21,$E$2,$E$2-$E$3),IF(C312=КАЛЬКУЛЯТОР!$C$21,$I$10,$I$10-SUMIF($A$11:$A$370,\"<=\"&$E$3,$H$11:$H$370)),0,0),\"\")","v":""},null,"",{"$f":"IFERROR(-IPMT((C312-'КАЛЬКУЛЯТОР 1'!$P$1)/12,B312,IF(C312=$E$5,$E$2,$E$2-$E$3),IF(C312=$E$5,$I$10,$I$10-SUMIF($A$11:$A$370,\"<=\"&$E$3,$H$11:$H$370)),0,0),\"\")","v":""},"","",{"$error":"#VALUE!"},null,{"$error":"#VALUE!"},{"$error":"#VALUE!"},{"$error":"#VALUE!"},{"$error":"#VALUE!"},false]
[303,303,{"$error":"#VALUE!"},{"$f":"IF(A313<=$E$2,-PMT(C313/12,IF(C313=КАЛЬКУЛЯТОР!$C$21,$E$2,$E$2-$E$3),IF(C313=КАЛЬКУЛЯТОР!$C$21,$I$10,$I$10-SUMIF($A$11:$A$370,\"<=\"&$E$3,$H$11:$H$370)),0,0),\"\")","v":""},null,"",{"$f":"IFERROR(-IPMT((C313-'КАЛЬКУЛЯТОР 1'!$P$1)/12,B313,IF(C313=$E$5,$E$2,$E$2-$E$3),IF(C313=$E$5,$I$10,$I$10-SUMIF($A$11:$A$370,\"<=\"&$E$3,$H$11:$H$370)),0,0),\"\")","v":""},"","",{"$error":"#VALUE!"},null,{"$error":"#VALUE!"},{"$error":"#VALUE!"},{"$error":"#VALUE!"},{"$error":"#VALUE!"},false]
[304,304,{"$error":"#VALUE!"},{"$f":"IF(A314<=$E$2,-PMT(C314/12,IF(C314=КАЛЬКУЛЯТОР!$C$21,$E$2,$E$2-$E$3),IF(C314=КАЛЬКУЛЯТОР!$C$21,$I$10,$I$10-SUMIF($A$11:$A$370,\"<=\"&$E$3,$H$11:$H$370)),0,0),\"\")","v":""},null,"",{"$f":"IFERROR(-IPMT((C314-'КАЛЬКУЛЯТОР 1'!$P$1)/12,B314,IF(C314=$E$5,$E$2,$E$2-$E$3),IF(C314=$E$5,$I$10,$I$10-SUMIF($A$11:$A$370,\"<=\"&$E$3,$H$11:$H$370)),0,0),\"\")","v":""},"","",{"$error":"#VALUE!"},null,{"$error":"#VALUE!"},{"$error":"#VALUE!"},{"$error":"#VALUE!"},{"$error":"#VALUE!"},false]
[305,305,{"$error":"#VALUE!"},{"$f":"IF(A315<=$E$2,-PMT(C315/12,IF(C315=КАЛЬКУЛЯТОР!$C$21,$E$2,$E$2-$E$3),IF(C315=КАЛЬКУЛЯТОР!$C$21,$I$10,$I$10-SUMIF($A$11:$A$370,\"<=\"&$E$3,$H$11:$H$370)),0,0),\"\")","v":""},null,"",{"$f":"IFERROR(-IPMT((C315-'КАЛЬКУЛЯТОР 1'!$P$1)/12,B315,IF(C315=$E$5,$E$2,$E$2-$E$3),IF(C315=$E$5,$I$10,$I$10-SUMIF($A$11:$A$370,\"<=\"&$E$3,$H$11:$H$370)),0,0),\"\")","v":""},"","",{"$error":"#VALUE!"},null,{"$error":"#VALUE!"},{"$error":"#VALUE!"},{"$error":"#VALUE!"},{"$error":"#VALUE!"},false]
[306,306,{"$error":"#VALUE!"},{"$f":"IF(A316<=$E$2,-PMT(C316/12,IF(C316=КАЛЬКУЛЯТОР!$C$21,$E$2,$E$2-$E$3),IF(C316=КАЛЬКУЛЯТОР!$C$21,$I$10,$I$10-SUMIF($A$11:$A$370,\"<=\"&$E$3,$H$11:$H$370)),0,0),\"\")","v":""},null,"",{"$f":"IFERROR(-IPMT((C316-'КАЛЬКУЛЯТОР 1'!$P$1)/12,B316,IF(C316=$E$5,$E$2,$E$2-$E$3),IF(C316=$E$5,$I$10,$I$10-SUMIF($A$11:$A$370,\"<=\"&$E$3,$H$11:$H$370)),0,0),\"\")","v":""},"","",{"$error":"#VALUE!"},null,{"$error":"#VALUE!"},{"$error":"#VALUE!"},{"$error":"#VALUE!"},{"$error":"#VALUE!"},false]
[307,307,{"$error":"#VALUE!"},{"$f":"IF(A317<=$E$2,-PMT(C317/12,IF(C317=КАЛЬКУЛЯТОР!$C$21,$E$2,$E$2-$E$3),IF(C317=КАЛЬКУЛЯТОР!$C$21,$I$10,$I$10-SUMIF($A$11:$A$370,\"<=\"&$E$3,$H$11:$H$370)),0,0),\"\")","v":""},null,"",{"$f":"IFERROR(-IPMT((C317-'КАЛЬКУЛЯТОР 1'!$P$1)/12,B317,IF(C317=$E$5,$E$2,$E$2-$E$3),IF(C317=$E$5,$I$10,$I$10-SUMIF($A$11:$A$370,\"<=\"&$E$3,$H$11:$H$370)),0,0),\"\")","v":""},"","",{"$error":"#VALUE!"},null,{"$error":"#VALUE!"},{"$error":"#VALUE!"},{"$error":"#VALUE!"},{"$error":"#VALUE!"},false]
[308,308,{"$error":"#VALUE!"},{"$f":"IF(A318<=$E$2,-PMT(C318/12,IF(C318=КАЛЬКУЛЯТОР!$C$21,$E$2,$E$2-$E$3),IF(C318=КАЛЬКУЛЯТОР!$C$21,$I$10,$I$10-SUMIF($A$11:$A$370,\"<=\"&$E$3,$H$11:$H$370)),0,0),\"\")","v":""},null,"",{"$f":"IFERROR(-IPMT((C318-'КАЛЬКУЛЯТОР 1'!$P$1)/12,B318,IF(C318=$E$5,$E$2,$E$2-$E$3),IF(C318=$E$5,$I$10,$I$10-SUMIF($A$11:$A$370,\"<=\"&$E$3,$H$11:$H$370)),0,0),\"\")","v":""},"","",{"$error":"#VALUE!"},null,{"$error":"#VALUE!"},{"$error":"#VALUE!"},{"$error":"#VALUE!"},{"$error":"#VALUE!"},false]
[309,309,{"$error":"#VALUE!"},{"$f":"IF(A319<=$E$2,-PMT(C319/12,IF(C319=КАЛЬКУЛЯТОР!$C$21,$E$2,$E$2-$E$3),IF(C319=КАЛЬКУЛЯТОР!$C$21,$I$10,$I$10-SUMIF($A$11:$A$370,\"<=\"&$E$3,$H$11:$H$370)),0,0),\"\")","v":""},null,"",{"$f":"IFERROR(-IPMT((C319-'КАЛЬКУЛЯТОР 1'!$P$1)/12,B319,IF(C319=$E$5,$E$2,$E$2-$E$3),IF(C319=$E$5,$I$10,$I$10-SUMIF($A$11:$A$370,\"<=\"&$E$3,$H$11:$H$370)),0,0),\"\")","v":""},"","",{"$error":"#VALUE!"},null,{"$error":"#VALUE!"},{"$error":"#VALUE!"},{"$error":"#VALUE!"},{"$error":"#VALUE!"},false]
[310,310,{"$error":"#VALUE!"},{"$f":"IF(A320<=$E$2,-PMT(C320/12,IF(C320=КАЛЬКУЛЯТОР!$C$21,$E$2,$E$2-$E$3),IF(C320=КАЛЬКУЛЯТОР!$C$21,$I$10,$I$10-SUMIF($A$11:$A$370,\"<=\"&$E$3,$H$11:$H$370)),0,0),\"\")","v":""},null,"",{"$f":"IFERROR(-IPMT((C320-'КАЛЬКУЛЯТОР 1'!$P$1)/12,B320,IF(C320=$E$5,$E$2,$E$2-$E$3),IF(C320=$E$5,$I$10,$I$10-SUMIF($A$11:$A$370,\"<=\"&$E$3,$H$11:$H$370)),0,0),\"\")","v":""},"","",{"$error":"#VALUE!"},null,{"$error":"#VALUE!"},{"$error":"#VALUE!"},{"$error":"#VALUE!"},{"$error":"#VALUE!"},false]
[311,311,{"$error":"#VALUE!"},{"$f":"IF(A321<=$E$2,-PMT(C321/12,IF(C321=КАЛЬКУЛЯТОР!$C$21,$E$2,$E$2-$E$3),IF(C321=КАЛЬКУЛЯТОР!$C$21,$I$10,$I$10-SUMIF($A$11:$A$370,\"<=\"&$E$3,$H$11:$H$370)),0,0),\"\")","v":""},null,"",{"$f":"IFERROR(-IPMT((C321-'КАЛЬКУЛЯТОР 1'!$P$1)/12,B321,IF(C321=$E$5,$E$2,$E$2-$E$3),IF(C321=$E$5,$I$10,$I$10-SUMIF($A$11:$A$370,\"<=\"&$E$3,$H$11:$H$370)),0,0),\"\")","v":""},"","",{"$error":"#VALUE!"},null,{"$error":"#VALUE!"},{"$error":"#VALUE!"},{"$error":"#VALUE!"},{"$error":"#VALUE!"},false]
[312,312,{"$error":"#VALUE!"},{"$f":"IF(A322<=$E$2,-PMT(C322/12,IF(C322=КАЛЬКУЛЯТОР!$C$21,$E$2,$E$2-$E$3),IF(C322=КАЛЬКУЛЯТОР!$C$21,$I$10,$I$10-SUMIF($A$11:$A$370,\"<=\"&$E$3,$H$11:$H$370)),0,0),\"\")","v":""},null,"",{"$f":"IFERROR(-IPMT((C322-'КАЛЬКУЛЯТОР 1'!$P$1)/12,B322,IF(C322=$E$5,$E$2,$E$2-$E$3),IF(C322=$E$5,$I$10,$I$10-SUMIF($A$11:$A$370,\"<=\"&$E$3,$H$11:$H$370)),0,0),\"\")","v":""},"","",{"$error":"#VALUE!"},null,{"$error":"#VALUE!"},{"$error":"#VALUE!"},{"$error":"#VALUE!"},{"$error":"#VALUE!"},false]
[313,313,{"$error":"#VALUE!"},{"$f":"IF(A323<=$E$2,-PMT(C323/12,IF(C323=КАЛЬКУЛЯТОР!$C$21,$E$2,$E$2-$E$3),IF(C323=КАЛЬКУЛЯТОР!$C$21,$I$10,$I$10-SUMIF($A$11:$A$370,\"<=\"&$E$3,$H$11:$H$370)),0,0)+E323,\"\")","v":""},{"$f":"IF($E$2>$A322,(I322+SUM(F323:F334))*($K$4+$K$5),0)","v":{"v":0,"d":"0.00"}},"",{"$f":"IFERROR(-IPMT((C323-'КАЛЬКУЛЯТОР 1'!$P$1)/12,B323,IF(C323=$E$5,$E$2,$E$2-$E$3),IF(C323=$E$5,$I$10,$I$10-SUMIF($A$11:$A$370,\"<=\"&$E$3,$H$11:$H$370)),0,0),\"\")","v":""},"","",{"$error":"#VALUE!"},{"$f":"PV($E$6/12,A323-1,0,-E323)","v":{"v":0,"d":"0.00"}},{"$error":"#VALUE!"},{"$error":"#VALUE!"},{"$error":"#VALUE!"},{"$error":"#VALUE!"},false]
[314,314,{"$error":"#VALUE!"},{"$f":"IF(A324<=$E$2,-PMT(C324/12,IF(C324=КАЛЬКУЛЯТОР!$C$21,$E$2,$E$2-$E$3),IF(C324=КАЛЬКУЛЯТОР!$C$21,$I$10,$I$10-SUMIF($A$11:$A$370,\"<=\"&$E$3,$H$11:$H$370)),0,0),\"\")","v":""},null,"",{"$f":"IFERROR(-IPMT((C324-'КАЛЬКУЛЯТОР 1'!$P$1)/12,B324,IF(C324=$E$5,$E$2,$E$2-$E$3),IF(C324=$E$5,$I$10,$I$10-SUMIF($A$11:$A$370,\"<=\"&$E$3,$H$11:$H$370)),0,0),\"\")","v":""},"","",{"$error":"#VALUE!"},null,{"$error":"#VALUE!"},{"$error":"#VALUE!"},{"$error":"#VALUE!"},{"$error":"#VALUE!"},false]
[315,315,{"$error":"#VALUE!"},{"$f":"IF(A325<=$E$2,-PMT(C325/12,IF(C325=КАЛЬКУЛЯТОР!$C$21,$E$2,$E$2-$E$3),IF(C325=КАЛЬКУЛЯТОР!$C$21,$I$10,$I$10-SUMIF($A$11:$A$370,\"<=\"&$E$3,$H$11:$H$370)),0,0),\"\")","v":""},null,"",{"$f":"IFERROR(-IPMT((C325-'КАЛЬКУЛЯТОР 1'!$P$1)/12,B325,IF(C325=$E$5,$E$2,$E$2-$E$3),IF(C325=$E$5,$I$10,$I$10-SUMIF($A$11:$A$370,\"<=\"&$E$3,$H$11:$H$370)),0,0),\"\")","v":""},"","",{"$error":"#VALUE!"},null,{"$error":"#VALUE!"},{"$error":"#VALUE!"},{"$error":"#VALUE!"},{"$error":"#VALUE!"},false]
[316,316,{"$error":"#VALUE!"},{"$f":"IF(A326<=$E$2,-PMT(C326/12,IF(C326=КАЛЬКУЛЯТОР!$C$21,$E$2,$E$2-$E$3),IF(C326=КАЛЬКУЛЯТОР!$C$21,$I$10,$I$10-SUMIF($A$11:$A$370,\"<=\"&$E$3,$H$11:$H$370)),0,0),\"\")","v":""},null,"",{"$f":"IFERROR(-IPMT((C326-'КАЛЬКУЛЯТОР 1'!$P$1)/12,B326,IF(C326=$E$5,$E$2,$E$2-$E$3),IF(C326=$E$5,$I$10,$I$10-SUMIF($A$11:$A$370,\"<=\"&$E$3,$H$11:$H$370)),0,0),\"\")","v":""},"","",{"$error":"#VALUE!"},null,{"$error":"#VALUE!"},{"$error":"#VALUE!"},{"$error":"#VALUE!"},{"$error":"#VALUE!"},false]
[317,317,{"$error":"#VALUE!"},{"$f":"IF(A327<=$E$2,-PMT(C327/12,IF(C327=КАЛЬКУЛЯТОР!$C$21,$E$2,$E$2-$E$3),IF(C327=КАЛЬКУЛЯТОР!$C$21,$I$10,$I$10-SUMIF($A$11:$A$370,\"<=\"&$E$3,$H$11:$H$370)),0,0),\"\")","v":""},null,"",{"$f":"IFERROR(-IPMT((C327-'КАЛЬКУЛЯТОР 1'!$P$1)/12,B327,IF(C327=$E$5,$E$2,$E$2-$E$3),IF(C327=$E$5,$I$10,$I$10-SUMIF($A$11:$A$370,\"<=\"&$E$3,$H$11:$H$370)),0,0),\"\")","v":""},"","",{"$error":"#VALUE!"},null,{"$error":"#VALUE!"},{"$error":"#VALUE!"},{"$error":"#VALUE!"},{"$error":"#VALUE!"},false]
[318,318,{"$error":"#VALUE!"},{"$f":"IF(A328<=$E$2,-PMT(C328/12,IF(C328=КАЛЬКУЛЯТОР!$C$21,$E$2,$E$2-$E$3),IF(C328=КАЛЬКУЛЯТОР!$C$21,$I$10,$I$10-SUMIF($A$11:$A$370,\"<=\"&$E$3,$H$11:$H$370)),0,0),\"\")","v":""},null,"",{"$f":"IFERROR(-IPMT((C328-'КАЛЬКУЛЯТОР 1'!$P$1)/12,B328,IF(C328=$E$5,$E$2,$E$2-$E$3),IF(C328=$E$5,$I$10,$I$10-SUMIF($A$11:$A$370,\"<=\"&$E$3,$H$11:$H$370)),0,0),\"\")","v":""},"","",{"$error":"#VALUE!"},null,{"$error":"#VALUE!"},{"$error":"#VALUE!"},{"$error":"#VALUE!"},{"$error":"#VALUE!"},false]
[319,319,{"$error":"#VALUE!"},{"$f":"IF(A329<=$E$2,-PMT(C329/12,IF(C329=КАЛЬКУЛЯТОР!$C$21,$E$2,$E$2-$E$3),IF(C329=КАЛЬКУЛЯТОР!$C$21,$I$10,$I$10-SUMIF($A$11:$A$370,\"<=\"&$E$3,$H$11:$H$370)),0,0),\"\")","v":""},null,"",{"$f":"IFERROR(-IPMT((C329-'КАЛЬКУЛЯТОР 1'!$P$1)/12,B329,IF(C329=$E$5,$E$2,$E$2-$E$3),IF(C329=$E$5,$I$10,$I$10-SUMIF($A$11:$A$370,\"<=\"&$E$3,$H$11:$H$370)),0,0),\"\")","v":""},"","",{"$error":"#VALUE!"},null,{"$error":"#VALUE!"},{"$error":"#VALUE!"},{"$error":"#VALUE!"},{"$error":"#VALUE!"},false]
[320,320,{"$error":"#VALUE!"},{"$f":"IF(A330<=$E$2,-PMT(C330/12,IF(C330=КАЛЬКУЛЯТОР!$C$21,$E$2,$E$2-$E$3),IF(C330=КАЛЬКУЛЯТОР!$C$21,$I$10,$I$10-SUMIF($A$11:$A$370,\"<=\"&$E$3,$H$11:$H$370)),0,0),\"\")","v":""},null,"",{"$f":"IFERROR(-IPMT((C330-'КАЛЬКУЛЯТОР 1'!$P$1)/12,B330,IF(C330=$E$5,$E$2,$E$2-$E$3),IF(C330=$E$5,$I$10,$I$10-SUMIF($A$11:$A$370,\"<=\"&$E$3,$H$11:$H$370)),0,0),\"\")","v":""},"","",{"$error":"#VALUE!"},null,{"$error":"#VALUE!"},{"$error":"#VALUE!"},{"$error":"#VALUE!"},{"$error":"#VALUE!"},false]
[321,321,{"$error":"#VALUE!"},{"$f":"IF(A331<=$E$2,-PMT(C331/12,IF(C331=КАЛЬКУЛЯТОР!$C$21,$E$2,$E$2-$E$3),IF(C331=КАЛЬКУЛЯТОР!$C$21,$I$10,$I$10-SUMIF($A$11:$A$370,\"<=\"&$E$3,$H$11:$H$370)),0,0),\"\")","v":""},null,"",{"$f":"IFERROR(-IPMT((C331-'КАЛЬКУЛЯТОР 1'!$P$1)/12,B331,IF(C331=$E$5,$E$2,$E$2-$E$3),IF(C331=$E$5,$I$10,$I$10-SUMIF($A$11:$A$370,\"<=\"&$E$3,$H$11:$H$370)),0,0),\"\")","v":""},"",{"$f":"IFERROR(I330-H331,\"\")","v":""},{"$f":"PV($E$6/12,A331-1,0,-D331)","v":{"$error":"#VALUE!"}},null,{"$f":"PV($E$6/12,A331-1,0,-F331)","v":{"$error":"#VALUE!"}},{"$f":"PV($E$6/12,A331-1,0,-G331)","v":{"$error":"#VALUE!"}},{"$f":"PV($E$6/12,A331-1,0,-H331)","v":{"$error":"#VALUE!"}},{"$f":"O330-N331","v":{"$error":"#VALUE!"}},false]
[322,{"$f":"IF(P332=$P$11,B331+1,A332-$E$3)","v":322},{"$f":"IF(AND($E$4<=$E$5,A332<=$E$3),$E$5,IF(AND(A332>$E$3,A332<=$E$2),$E$4,\"\"))","v":{"$error":"#VALUE!"}},{"$f":"IF(A332<=$E$2,-PMT(C332/12,IF(C332=КАЛЬКУЛЯТОР!$C$21,$E$2,$E$2-$E$3),IF(C332=КАЛЬКУЛЯТОР!$C$21,$I$10,$I$10-SUMIF($A$11:$A$370,\"<=\"&$E$3,$H$11:$H$370)),0,0),\"\")","v":""},null,{"$f":"IFERROR(-IPMT(C332/12,B332,IF(C332=$E$5,$E$2,$E$2-$E$3),IF(C332=$E$5,$I$10,$I$10-SUMIF($A$11:$A$370,\"<=\"&$E$3,$H$11:$H$370)),0,0),\"\")","v":""},{"$f":"IFERROR(-IPMT((C332-'КАЛЬКУЛЯТОР 1'!$P$1)/12,B332,IF(C332=$E$5,$E$2,$E$2-$E$3),IF(C332=$E$5,$I$10,$I$10-SUMIF($A$11:$A$370,\"<=\"&$E$3,$H$11:$H$370)),0,0),\"\")","v":""},{"$f":"IFERROR((-PPMT(C332/12,B332,IF(C332=$E$5,$E$2,$E$2-$E$3),IF(C332=$E$5,$I$10,$I$10-SUMIF($A$11:$A$370,\"<=\"&$E$3,$H$11:$H$370)),0,0)),\"\")","v":""},"",{"$error":"#VALUE!"},null,{"$error":"#VALUE!"},{"$error":"#VALUE!"},{"$error":"#VALUE!"},{"$error":"#VALUE!"},{"$f":"AND(A332<=$E$3)","v":false}]
[323,323,{"$error":"#VALUE!"},{"$f":"IF(A333<=$E$2,-PMT(C333/12,IF(C333=КАЛЬКУЛЯТОР!$C$21,$E$2,$E$2-$E$3),IF(C333=КАЛЬКУЛЯТОР!$C$21,$I$10,$I$10-SUMIF($A$11:$A$370,\"<=\"&$E$3,$H$11:$H$370)),0,0),\"\")","v":""},null,"",{"$f":"IFERROR(-IPMT((C333-'КАЛЬКУЛЯТОР 1'!$P$1)/12,B333,IF(C333=$E$5,$E$2,$E$2-$E$3),IF(C333=$E$5,$I$10,$I$10-SUMIF($A$11:$A$370,\"<=\"&$E$3,$H$11:$H$370)),0,0),\"\")","v":""},"","",{"$error":"#VALUE!"},null,{"$error":"#VALUE!"},{"$error":"#VALUE!"},{"$error":"#VALUE!"},{"$error":"#VALUE!"},false]
[324,324,{"$error":"#VALUE!"},{"$f":"IF(A334<=$E$2,-PMT(C334/12,IF(C334=КАЛЬКУЛЯТОР!$C$21,$E$2,$E$2-$E$3),IF(C334=КАЛЬКУЛЯТОР!$C$21,$I$10,$I$10-SUMIF($A$11:$A$370,\"<=\"&$E$3,$H$11:$H$370)),0,0),\"\")","v":""},null,"",{"$f":"IFERROR(-IPMT((C334-'КАЛЬКУЛЯТОР 1'!$P$1)/12,B334,IF(C334=$E$5,$E$2,$E$2-$E$3),IF(C334=$E$5,$I$10,$I$10-SUMIF($A$11:$A$370,\"<=\"&$E$3,$H$11:$H$370)),0,0),\"\")","v":""},"","",{"$error":"#VALUE!"},null,{"$error":"#VALUE!"},{"$error":"#VALUE!"},{"$error":"#VALUE!"},{"$error":"#VALUE!"},false]
[325,325,{"$error":"#VALUE!"},{"$f":"IF(A335<=$E$2,-PMT(C335/12,IF(C335=КАЛЬКУЛЯТОР!$C$21,$E$2,$E$2-$E$3),IF(C335=КАЛЬКУЛЯТОР!$C$21,$I$10,$I$10-SUMIF($A$11:$A$370,\"<=\"&$E$3,$H$11:$H$370)),0,0)+E335,\"\")","v":""},{"$f":"IF($E$2>$A334,(I334+SUM(F335:F346))*($K$4+$K$5),0)","v":{"v":0,"d":"0.00"}},"",{"$f":"IFERROR(-IPMT((C335-'КАЛЬКУЛЯТОР 1'!$P$1)/12,B335,IF(C335=$E$5,$E$2,$E$2-$E$3),IF(C335=$E$5,$I$10,$I$10-SUMIF($A$11:$A$370,\"<=\"&$E$3,$H$11:$H$370)),0,0),\"\")","v":""},"","",{"$error":"#VALUE!"},{"$f":"PV($E$6/12,A335-1,0,-E335)","v":{"v":0,"d":"0.00"}},{"$error":"#VALUE!"},{"$error":"#VALUE!"},{"$error":"#VALUE!"},{"$error":"#VALUE!"},false]
[326,326,{"$error":"#VALUE!"},{"$f":"IF(A336<=$E$2,-PMT(C336/12,IF(C336=КАЛЬКУЛЯТОР!$C$21,$E$2,$E$2-$E$3),IF(C336=КАЛЬКУЛЯТОР!$C$21,$I$10,$I$10-SUMIF($A$11:$A$370,\"<=\"&$E$3,$H$11:$H$370)),0,0),\"\")","v":""},null,"",{"$f":"IFERROR(-IPMT((C336-'КАЛЬКУЛЯТОР 1'!$P$1)/12,B336,IF(C336=$E$5,$E$2,$E$2-$E$3),IF(C336=$E$5,$I$10,$I$10-SUMIF($A$11:$A$370,\"<=\"&$E$3,$H$11:$H$370)),0,0),\"\")","v":""},"","",{"$error":"#VALUE!"},null,{"$error":"#VALUE!"},{"$error":"#VALUE!"},{"$error":"#VALUE!"},{"$error":"#VALUE!"},false]
[327,327,{"$error":"#VALUE!"},{"$f":"IF(A337<=$E$2,-PMT(C337/12,IF(C337=КАЛЬКУЛЯТОР!$C$21,$E$2,$E$2-$E$3),IF(C337=КАЛЬКУЛЯТОР!$C$21,$I$10,$I$10-SUMIF($A$11:$A$370,\"<=\"&$E$3,$H$11:$H$370)),0,0),\"\")","v":""},null,"",{"$f":"IFERROR(-IPMT((C337-'КАЛЬКУЛЯТОР 1'!$P$1)/12,B337,IF(C337=$E$5,$E$2,$E$2-$E$3),IF(C337=$E$5,$I$10,$I$10-SUMIF($A$11:$A$370,\"<=\"&$E$3,$H$11:$H$370)),0,0),\"\")","v":""},"","",{"$error":"#VALUE!"},null,{"$error":"#VALUE!"},{"$error":"#VALUE!"},{"$error":"#VALUE!"},{"$error":"#VALUE!"},false]
[328,328,{"$error":"#VALUE!"},{"$f":"IF(A338<=$E$2,-PMT(C338/12,IF(C338=КАЛЬКУЛЯТОР!$C$21,$E$2,$E$2-$E$3),IF(C338=КАЛЬКУЛЯТОР!$C$21,$I$10,$I$10-SUMIF($A$11:$A$370,\"<=\"&$E$3,$H$11:$H$370)),0,0),\"\")","v":""},null,"",{"$f":"IFERROR(-IPMT((C338-'КАЛЬКУЛЯТОР 1'!$P$1)/12,B338,IF(C338=$E$5,$E$2,$E$2-$E$3),IF(C338=$E$5,$I$10,$I$10-SUMIF($A$11:$A$370,\"<=\"&$E$3,$H$11:$H$370)),0,0),\"\")","v":""},"","",{"$error":"#VALUE!"},null,{"$error":"#VALUE!"},{"$error":"#VALUE!"},{"$error":"#VALUE!"},{"$error":"#VALUE!"},false]
[329,329,{"$error":"#VALUE!"},{"$f":"IF(A339<=$E$2,-PMT(C339/12,IF(C339=КАЛЬКУЛЯТОР!$C$21,$E$2,$E$2-$E$3),IF(C339=КАЛЬКУЛЯТОР!$C$21,$I$10,$I$10-SUMIF($A$11:$A$370,\"<=\"&$E$3,$H$11:$H$370)),0,0),\"\")","v":""},null,"",{"$f":"IFERROR(-IPMT((C339-'КАЛЬКУЛЯТОР 1'!$P$1)/12,B339,IF(C339=$E$5,$E$2,$E$2-$E$3),IF(C339=$E$5,$I$10,$I$10-SUMIF($A$11:$A$370,\"<=\"&$E$3,$H$11:$H$370)),0,0),\"\")","v":""},"","",{"$error":"#VALUE!"},null,{"$error":"#VALUE!"},{"$error":"#VALUE!"},{"$error":"#VALUE!"},{"$error":"#VALUE!"},false]
[330,330,{"$error":"#VALUE!"},{"$f":"IF(A340<=$E$2,-PMT(C340/12,IF(C340=КАЛЬКУЛЯТОР!$C$21,$E$2,$E$2-$E$3),IF(C340=КАЛЬКУЛЯТОР!$C$21,$I$10,$I$10-SUMIF($A$11:$A$370,\"<=\"&$E$3,$H$11:$H$370)),0,0),\"\")","v":""},null,"",{"$f":"IFERROR(-IPMT((C340-'КАЛЬКУЛЯТОР 1'!$P$1)/12,B340,IF(C340=$E$5,$E$2,$E$2-$E$3),IF(C340=$E$5,$I$10,$I$10-SUMIF($A$11:$A$370,\"<=\"&$E$3,$H$11:$H$370)),0,0),\"\")","v":""},"","",{"$error":"#VALUE!"},null,{"$error":"#VALUE!"},{"$error":"#VALUE!"},{"$error":"#VALUE!"},{"$error":"#VALUE!"},false]
[331,331,{"$error":"#VALUE!"},{"$f":"IF(A341<=$E$2,-PMT(C341/12,IF(C341=КАЛЬКУЛЯТОР!$C$21,$E$2,$E$2-$E$3),IF(C341=КАЛЬКУЛЯТОР!$C$21,$I$10,$I$10-SUMIF($A$11:$A$370,\"<=\"&$E$3,$H$11:$H$370)),0,0),\"\")","v":""},null,"",{"$f":"IFERROR(-IPMT((C341-'КАЛЬКУЛЯТОР 1'!$P$1)/12,B341,IF(C341=$E$5,$E$2,$E$2-$E$3),IF(C341=$E$5,$I$10,$I$10-SUMIF($A$11:$A$370,\"<=\"&$E$3,$H$11:$H$370)),0,0),\"\")","v":""},"","",{"$error":"#VALUE!"},null,{"$error":"#VALUE!"},{"$error":"#VALUE!"},{"$error":"#VALUE!"},{"$error":"#VALUE!"},false]
[332,332,{"$error":"#VALUE!"},{"$f":"IF(A342<=$E$2,-PMT(C342/12,IF(C342=КАЛЬКУЛЯТОР!$C$21,$E$2,$E$2-$E$3),IF(C342=КАЛЬКУЛЯТОР!$C$21,$I$10,$I$10-SUMIF($A$11:$A$370,\"<=\"&$E$3,$H$11:$H$370)),0,0),\"\")","v":""},null,"",{"$f":"IFERROR(-IPMT((C342-'КАЛЬКУЛЯТОР 1'!$P$1)/12,B342,IF(C342=$E$5,$E$2,$E$2-$E$3),IF(C342=$E$5,$I$10,$I$10-SUMIF($A$11:$A$370,\"<=\"&$E$3,$H$11:$H$370)),0,0),\"\")","v":""},"","",{"$error":"#VALUE!"},null,{"$error":"#VALUE!"},{"$error":"#VALUE!"},{"$error":"#VALUE!"},{"$error":"#VALUE!"},false]
[333,333,{"$error":"#VALUE!"},{"$f":"IF(A343<=$E$2,-PMT(C343/12,IF(C343=КАЛЬКУЛЯТОР!$C$21,$E$2,$E$2-$E$3),IF(C343=КАЛЬКУЛЯТОР!$C$21,$I$10,$I$10-SUMIF($A$11:$A$370,\"<=\"&$E$3,$H$11:$H$370)),0,0),\"\")","v":""},null,"",{"$f":"IFERROR(-IPMT((C343-'КАЛЬКУЛЯТОР 1'!$P$1)/12,B343,IF(C343=$E$5,$E$2,$E$2-$E$3),IF(C343=$E$5,$I$10,$I$10-SUMIF($A$11:$A$370,\"<=\"&$E$3,$H$11:$H$370)),0,0),\"\")","v":""},"","",{"$error":"#VALUE!"},null,{"$error":"#VALUE!"},{"$error":"#VALUE!"},{"$error":"#VALUE!"},{"$error":"#VALUE!"},false]
[334,334,{"$error":"#VALUE!"},{"$f":"IF(A344<=$E$2,-PMT(C344/12,IF(C344=КАЛЬКУЛЯТОР!$C$21,$E$2,$E$2-$E$3),IF(C344=КАЛЬКУЛЯТОР!$C$21,$I$10,$I$10-SUMIF($A$11:$A$370,\"<=\"&$E$3,$H$11:$H$370)),0,0),\"\")","v":""},null,"",{"$f":"IFERROR(-IPMT((C344-'КАЛЬКУЛЯТОР 1'!$P$1)/12,B344,IF(C344=$E$5,$E$2,$E$2-$E$3),IF(C344=$E$5,$I$10,$I$10-SUMIF($A$11:$A$370,\"<=\"&$E$3,$H$11:$H$370)),0,0),\"\")","v":""},"","",{"$error":"#VALUE!"},null,{"$error":"#VALUE!"},{"$error":"#VALUE!"},{"$error":"#VALUE!"},{"$error":"#VALUE!"},false]
[335,335,{"$error":"#VALUE!"},{"$f":"IF(A345<=$E$2,-PMT(C345/12,IF(C345=КАЛЬКУЛЯТОР!$C$21,$E$2,$E$2-$E$3),IF(C345=КАЛЬКУЛЯТОР!$C$21,$I$10,$I$10-SUMIF($A$11:$A$370,\"<=\"&$E$3,$H$11:$H$370)),0,0),\"\")","v":""},null,"",{"$f":"IFERROR(-IPMT((C345-'КАЛЬКУЛЯТОР 1'!$P$1)/12,B345,IF(C345=$E$5,$E$2,$E$2-$E$3),IF(C345=$E$5,$I$10,$I$10-SUMIF($A$11:$A$370,\"<=\"&$E$3,$H$11:$H$370)),0,0),\"\")","v":""},"","",{"$error":"#VALUE!"},null,{"$error":"#VALUE!"},{"$error":"#VALUE!"},{"$error":"#VALUE!"},{"$error":"#VALUE!"},false]
[336,336,{"$error":"#VALUE!"},{"$f":"IF(A346<=$E$2,-PMT(C346/12,IF(C346=КАЛЬКУЛЯТОР!$C$21,$E$2,$E$2-$E$3),IF(C346=КАЛЬКУЛЯТОР!$C$21,$I$10,$I$10-SUMIF($A$11:$A$370,\"<=\"&$E$3,$H$11:$H$370)),0,0),\"\")","v":""},null,"",{"$f":"IFERROR(-IPMT((C346-'КАЛЬКУЛЯТОР 1'!$P$1)/12,B346,IF(C346=$E$5,$E$2,$E$2-$E$3),IF(C346=$E$5,$I$10,$I$10-SUMIF($A$11:$A$370,\"<=\"&$E$3,$H$11:$H$370)),0,0),\"\")","v":""},"","",{"$error":"#VALUE!"},null,{"$error":"#VALUE!"},{"$error":"#VALUE!"},{"$error":"#VALUE!"},{"$error":"#VALUE!"},false]
[337,337,{"$error":"#VALUE!"},{"$f":"IF(A347<=$E$2,-PMT(C347/12,IF(C347=КАЛЬКУЛЯТОР!$C$21,$E$2,$E$2-$E$3),IF(C347=КАЛЬКУЛЯТОР!$C$21,$I$10,$I$10-SUMIF($A$11:$A$370,\"<=\"&$E$3,$H$11:$H$370)),0,0)+E347,\"\")","v":""},{"$f":"IF($E$2>$A346,(I346+SUM(F347:F358))*($K$4+$K$5),0)","v":{"v":0,"d":"0.00"}},"",{"$f":"IFERROR(-IPMT((C347-'КАЛЬКУЛЯТОР 1'!$P$1)/12,B347,IF(C347=$E$5,$E$2,$E$2-$E$3),IF(C347=$E$5,$I$10,$I$10-SUMIF($A$11:$A$370,\"<=\"&$E$3,$H$11:$H$370)),0,0),\"\")","v":""},"","",{"$error":"#VALUE!"},{"$f":"PV($E$6/12,A347-1,0,-E347)","v":{"v":0,"d":"0.00"}},{"$error":"#VALUE!"},{"$error":"#VALUE!"},{"$error":"#VALUE!"},{"$error":"#VALUE!"},false]
[338,338,{"$error":"#VALUE!"},{"$f":"IF(A348<=$E$2,-PMT(C348/12,IF(C348=КАЛЬКУЛЯТОР!$C$21,$E$2,$E$2-$E$3),IF(C348=КАЛЬКУЛЯТОР!$C$21,$I$10,$I$10-SUMIF($A$11:$A$370,\"<=\"&$E$3,$H$11:$H$370)),0,0),\"\")","v":""},null,"",{"$f":"IFERROR(-IPMT((C348-'КАЛЬКУЛЯТОР 1'!$P$1)/12,B348,IF(C348=$E$5,$E$2,$E$2-$E$3),IF(C348=$E$5,$I$10,$I$10-SUMIF($A$11:$A$370,\"<=\"&$E$3,$H$11:$H$370)),0,0),\"\")","v":""},"","",{"$error":"#VALUE!"},null,{"$error":"#VALUE!"},{"$error":"#VALUE!"},{"$error":"#VALUE!"},{"$error":"#VALUE!"},false]
[339,339,{"$error":"#VALUE!"},{"$f":"IF(A349<=$E$2,-PMT(C349/12,IF(C349=КАЛЬКУЛЯТОР!$C$21,$E$2,$E$2-$E$3),IF(C349=КАЛЬКУЛЯТОР!$C$21,$I$10,$I$10-SUMIF($A$11:$A$370,\"<=\"&$E$3,$H$11:$H$370)),0,0),\"\")","v":""},null,"",{"$f":"IFERROR(-IPMT((C349-'КАЛЬКУЛЯТОР 1'!$P$1)/12,B349,IF(C349=$E$5,$E$2,$E$2-$E$3),IF(C349=$E$5,$I$10,$I$10-SUMIF($A$11:$A$370,\"<=\"&$E$3,$H$11:$H$370)),0,0),\"\")","v":""},"","",{"$error":"#VALUE!"},null,{"$error":"#VALUE!"},{"$error":"#VALUE!"},{"$error":"#VALUE!"},{"$error":"#VALUE!"},false]
[340,340,{"$error":"#VALUE!"},{"$f":"IF(A350<=$E$2,-PMT(C350/12,IF(C350=КАЛЬКУЛЯТОР!$C$21,$E$2,$E$2-$E$3),IF(C350=КАЛЬКУЛЯТОР!$C$21,$I$10,$I$10-SUMIF($A$11:$A$370,\"<=\"&$E$3,$H$11:$H$370)),0,0),\"\")","v":""},null,"",{"$f":"IFERROR(-IPMT((C350-'КАЛЬКУЛЯТОР 1'!$P$1)/12,B350,IF(C350=$E$5,$E$2,$E$2-$E$3),IF(C350=$E$5,$I$10,$I$10-SUMIF($A$11:$A$370,\"<=\"&$E$3,$H$11:$H$370)),0,0),\"\")","v":""},"","",{"$error":"#VALUE!"},null,{"$error":"#VALUE!"},{"$error":"#VALUE!"},{"$error":"#VALUE!"},{"$error":"#VALUE!"},false]
[341,341,{"$error":"#VALUE!"},{"$f":"IF(A351<=$E$2,-PMT(C351/12,IF(C351=КАЛЬКУЛЯТОР!$C$21,$E$2,$E$2-$E$3),IF(C351=КАЛЬКУЛЯТОР!$C$21,$I$10,$I$10-SUMIF($A$11:$A$370,\"<=\"&$E$3,$H$11:$H$370)),0,0),\"\")","v":""},null,"",{"$f":"IFERROR(-IPMT((C351-'КАЛЬКУЛЯТОР 1'!$P$1)/12,B351,IF(C351=$E$5,$E$2,$E$2-$E$3),IF(C351=$E$5,$I$10,$I$10-SUMIF($A$11:$A$370,\"<=\"&$E$3,$H$11:$H$370)),0,0),\"\")","v":""},"","",{"$error":"#VALUE!"},null,{"$error":"#VALUE!"},{"$error":"#VALUE!"},{"$error":"#VALUE!"},{"$error":"#VALUE!"},false]
[342,342,{"$error":"#VALUE!"},{"$f":"IF(A352<=$E$2,-PMT(C352/12,IF(C352=КАЛЬКУЛЯТОР!$C$21,$E$2,$E$2-$E$3),IF(C352=КАЛЬКУЛЯТОР!$C$21,$I$10,$I$10-SUMIF($A$11:$A$370,\"<=\"&$E$3,$H$11:$H$370)),0,0),\"\")","v":""},null,"",{"$f":"IFERROR(-IPMT((C352-'КАЛЬКУЛЯТОР 1'!$P$1)/12,B352,IF(C352=$E$5,$E$2,$E$2-$E$3),IF(C352=$E$5,$I$10,$I$10-SUMIF($A$11:$A$370,\"<=\"&$E$3,$H$11:$H$370)),0,0),\"\")","v":""},"","",{"$error":"#VALUE!"},null,{"$error":"#VALUE!"},{"$error":"#VALUE!"},{"$error":"#VALUE!"},{"$error":"#VALUE!"},false]
[343,343,{"$error":"#VALUE!"},{"$f":"IF(A353<=$E$2,-PMT(C353/12,IF(C353=КАЛЬКУЛЯТОР!$C$21,$E$2,$E$2-$E$3),IF(C353=КАЛЬКУЛЯТОР!$C$21,$I$10,$I$10-SUMIF($A$11:$A$370,\"<=\"&$E$3,$H$11:$H$370)),0,0),\"\")","v":""},null,"",{"$f":"IFERROR(-IPMT((C353-'КАЛЬКУЛЯТОР 1'!$P$1)/12,B353,IF(C353=$E$5,$E$2,$E$2-$E$3),IF(C353=$E$5,$I$10,$I$10-SUMIF($A$11:$A$370,\"<=\"&$E$3,$H$11:$H$370)),0,0),\"\")","v":""},"","",{"$error":"#VALUE!"},null,{"$error":"#VALUE!"},{"$error":"#VALUE!"},{"$error":"#VALUE!"},{"$error":"#VALUE!"},false]
[344,344,{"$error":"#VALUE!"},{"$f":"IF(A354<=$E$2,-PMT(C354/12,IF(C354=КАЛЬКУЛЯТОР!$C$21,$E$2,$E$2-$E$3),IF(C354=КАЛЬКУЛЯТОР!$C$21,$I$10,$I$10-SUMIF($A$11:$A$370,\"<=\"&$E$3,$H$11:$H$370)),0,0),\"\")","v":""},null,"",{"$f":"IFERROR(-IPMT((C354-'КАЛЬКУЛЯТОР 1'!$P$1)/12,B354,IF(C354=$E$5,$E$2,$E$2-$E$3),IF(C354=$E$5,$I$10,$I$10-SUMIF($A$11:$A$370,\"<=\"&$E$3,$H$11:$H$370)),0,0),\"\")","v":""},"","",{"$error":"#VALUE!"},null,{"$error":"#VALUE!"},{"$error":"#VALUE!"},{"$error":"#VALUE!"},{"$error":"#VALUE!"},false]
[345,345,{"$error":"#VALUE!"},{"$f":"IF(A355<=$E$2,-PMT(C355/12,IF(C355=КАЛЬКУЛЯТОР!$C$21,$E$2,$E$2-$E$3),IF(C355=КАЛЬКУЛЯТОР!$C$21,$I$10,$I$10-SUMIF($A$11:$A$370,\"<=\"&$E$3,$H$11:$H$370)),0,0),\"\")","v":""},null,"",{"$f":"IFERROR(-IPMT((C355-'КАЛЬКУЛЯТОР 1'!$P$1)/12,B355,IF(C355=$E$5,$E$2,$E$2-$E$3),IF(C355=$E$5,$I$10,$I$10-SUMIF($A$11:$A$370,\"<=\"&$E$3,$H$11:$H$370)),0,0),\"\")","v":""},"","",{"$error":"#VALUE!"},null,{"$error":"#VALUE!"},{"$error":"#VALUE!"},{"$error":"#VALUE!"},{"$error":"#VALUE!"},false]
[346,346,{"$error":"#VALUE!"},{"$f":"IF(A356<=$E$2,-PMT(C356/12,IF(C356=КАЛЬКУЛЯТОР!$C$21,$E$2,$E$2-$E$3),IF(C356=КАЛЬКУЛЯТОР!$C$21,$I$10,$I$10-SUMIF($A$11:$A$370,\"<=\"&$E$3,$H$11:$H$370)),0,0),\"\")","v":""},null,"",{"$f":"IFERROR(-IPMT((C356-'КАЛЬКУЛЯТОР 1'!$P$1)/12,B356,IF(C356=$E$5,$E$2,$E$2-$E$3),IF(C356=$E$5,$I$10,$I$10-SUMIF($A$11:$A$370,\"<=\"&$E$3,$H$11:$H$370)),0,0),\"\")","v":""},"","",{"$error":"#VALUE!"},null,{"$error":"#VALUE!"},{"$error":"#VALUE!"},{"$error":"#VALUE!"},{"$error":"#VALUE!"},false]
[347,347,{"$error":"#VALUE!"},{"$f":"IF(A357<=$E$2,-PMT(C357/12,IF(C357=КАЛЬКУЛЯТОР!$C$21,$E$2,$E$2-$E$3),IF(C357=КАЛЬКУЛЯТОР!$C$21,$I$10,$I$10-SUMIF($A$11:$A$370,\"<=\"&$E$3,$H$11:$H$370)),0,0),\"\")","v":""},null,"",{"$f":"IFERROR(-IPMT((C357-'КАЛЬКУЛЯТОР 1'!$P$1)/12,B357,IF(C357=$E$5,$E$2,$E$2-$E$3),IF(C357=$E$5,$I$10,$I$10-SUMIF($A$11:$A$370,\"<=\"&$E$3,$H$11:$H$370)),0,0),\"\")","v":""},"","",{"$error":"#VALUE!"},null,{"$error":"#VALUE!"},{"$error":"#VALUE!"},{"$error":"#VALUE!"},{"$error":"#VALUE!"},false]
[348,348,{"$error":"#VALUE!"},{"$f":"IF(A358<=$E$2,-PMT(C358/12,IF(C358=КАЛЬКУЛЯТОР!$C$21,$E$2,$E$2-$E$3),IF(C358=КАЛЬКУЛЯТОР!$C$21,$I$10,$I$10-SUMIF($A$11:$A$370,\"<=\"&$E$3,$H$11:$H$370)),0,0),\"\")","v":""},null,"",{"$f":"IFERROR(-IPMT((C358-'КАЛЬКУЛЯТОР 1'!$P$1)/12,B358,IF(C358=$E$5,$E$2,$E$2-$E$3),IF(C358=$E$5,$I$10,$I$10-SUMIF($A$11:$A$370,\"<=\"&$E$3,$H$11:$H$370)),0,0),\"\")","v":""},"","",{"$error":"#VALUE!"},null,{"$error":"#VALUE!"},{"$error":"#VALUE!"},{"$error":"#VALUE!"},{"$error":"#VALUE!"},false]
[349,349,{"$error":"#VALUE!"},{"$f":"IF(A359<=$E$2,-PMT(C359/12,IF(C359=КАЛЬКУЛЯТОР!$C$21,$E$2,$E$2-$E$3),IF(C359=КАЛЬКУЛЯТОР!$C$21,$I$10,$I$10-SUMIF($A$11:$A$370,\"<=\"&$E$3,$H$11:$H$370)),0,0)+E359,\"\")","v":""},{"$f":"IF($E$2>$A358,(I358+SUM(F359:F370))*($K$4+$K$5),0)","v":{"v":0,"d":"0.00"}},"",{"$f":"IFERROR(-IPMT((C359-'КАЛЬКУЛЯТОР 1'!$P$1)/12,B359,IF(C359=$E$5,$E$2,$E$2-$E$3),IF(C359=$E$5,$I$10,$I$10-SUMIF($A$11:$A$370,\"<=\"&$E$3,$H$11:$H$370)),0,0),\"\")","v":""},"","",{"$error":"#VALUE!"},{"$f":"PV($E$6/12,A359-1,0,-E359)","v":{"v":0,"d":"0.00"}},{"$error":"#VALUE!"},{"$error":"#VALUE!"},{"$error":"#VALUE!"},{"$error":"#VALUE!"},false]
[350,350,{"$error":"#VALUE!"},{"$f":"IF(A360<=$E$2,-PMT(C360/12,IF(C360=КАЛЬКУЛЯТОР!$C$21,$E$2,$E$2-$E$3),IF(C360=КАЛЬКУЛЯТОР!$C$21,$I$10,$I$10-SUMIF($A$11:$A$370,\"<=\"&$E$3,$H$11:$H$370)),0,0),\"\")","v":""},null,"",{"$f":"IFERROR(-IPMT((C360-'КАЛЬКУЛЯТОР 1'!$P$1)/12,B360,IF(C360=$E$5,$E$2,$E$2-$E$3),IF(C360=$E$5,$I$10,$I$10-SUMIF($A$11:$A$370,\"<=\"&$E$3,$H$11:$H$370)),0,0),\"\")","v":""},"","",{"$error":"#VALUE!"},null,{"$error":"#VALUE!"},{"$error":"#VALUE!"},{"$error":"#VALUE!"},{"$error":"#VALUE!"},false]
[351,351,{"$error":"#VALUE!"},{"$f":"IF(A361<=$E$2,-PMT(C361/12,IF(C361=КАЛЬКУЛЯТОР!$C$21,$E$2,$E$2-$E$3),IF(C361=КАЛЬКУЛЯТОР!$C$21,$I$10,$I$10-SUMIF($A$11:$A$370,\"<=\"&$E$3,$H$11:$H$370)),0,0),\"\")","v":""},null,"",{"$f":"IFERROR(-IPMT((C361-'КАЛЬКУЛЯТОР 1'!$P$1)/12,B361,IF(C361=$E$5,$E$2,$E$2-$E$3),IF(C361=$E$5,$I$10,$I$10-SUMIF($A$11:$A$370,\"<=\"&$E$3,$H$11:$H$370)),0,0),\"\")","v":""},"","",{"$error":"#VALUE!"},null,{"$error":"#VALUE!"},{"$error":"#VALUE!"},{"$error":"#VALUE!"},{"$error":"#VALUE!"},false]
[352,352,{"$error":"#VALUE!"},{"$f":"IF(A362<=$E$2,-PMT(C362/12,IF(C362=КАЛЬКУЛЯТОР!$C$21,$E$2,$E$2-$E$3),IF(C362=КАЛЬКУЛЯТОР!$C$21,$I$10,$I$10-SUMIF($A$11:$A$370,\"<=\"&$E$3,$H$11:$H$370)),0,0),\"\")","v":""},null,"",{"$f":"IFERROR(-IPMT((C362-'КАЛЬКУЛЯТОР 1'!$P$1)/12,B362,IF(C362=$E$5,$E$2,$E$2-$E$3),IF(C362=$E$5,$I$10,$I$10-SUMIF($A$11:$A$370,\"<=\"&$E$3,$H$11:$H$370)),0,0),\"\")","v":""},"","",{"$error":"#VALUE!"},null,{"$error":"#VALUE!"},{"$error":"#VALUE!"},{"$error":"#VALUE!"},{"$error":"#VALUE!"},false]
[353,353,{"$error":"#VALUE!"},{"$f":"IF(A363<=$E$2,-PMT(C363/12,IF(C363=КАЛЬКУЛЯТОР!$C$21,$E$2,$E$2-$E$3),IF(C363=КАЛЬКУЛЯТОР!$C$21,$I$10,$I$10-SUMIF($A$11:$A$370,\"<=\"&$E$3,$H$11:$H$370)),0,0),\"\")","v":""},null,"",{"$f":"IFERROR(-IPMT((C363-'КАЛЬКУЛЯТОР 1'!$P$1)/12,B363,IF(C363=$E$5,$E$2,$E$2-$E$3),IF(C363=$E$5,$I$10,$I$10-SUMIF($A$11:$A$370,\"<=\"&$E$3,$H$11:$H$370)),0,0),\"\")","v":""},"","",{"$error":"#VALUE!"},null,{"$error":"#VALUE!"},{"$error":"#VALUE!"},{"$error":"#VALUE!"},{"$error":"#VALUE!"},false]
[354,354,{"$error":"#VALUE!"},{"$f":"IF(A364<=$E$2,-PMT(C364/12,IF(C364=КАЛЬКУЛЯТОР!$C$21,$E$2,$E$2-$E$3),IF(C364=КАЛЬКУЛЯТОР!$C$21,$I$10,$I$10-SUMIF($A$11:$A$370,\"<=\"&$E$3,$H$11:$H$370)),0,0),\"\")","v":""},null,"",{"$f":"IFERROR(-IPMT((C364-'КАЛЬКУЛЯТОР 1'!$P$1)/12,B364,IF(C364=$E$5,$E$2,$E$2-$E$3),IF(C364=$E$5,$I$10,$I$10-SUMIF($A$11:$A$370,\"<=\"&$E$3,$H$11:$H$370)),0,0),\"\")","v":""},"","",{"$error":"#VALUE!"},null,{"$error":"#VALUE!"},{"$error":"#VALUE!"},{"$error":"#VALUE!"},{"$error":"#VALUE!"},false]
[355,355,{"$error":"#VALUE!"},{"$f":"IF(A365<=$E$2,-PMT(C365/12,IF(C365=КАЛЬКУЛЯТОР!$C$21,$E$2,$E$2-$E$3),IF(C365=КАЛЬКУЛЯТОР!$C$21,$I$10,$I$10-SUMIF($A$11:$A$370,\"<=\"&$E$3,$H$11:$H$370)),0,0),\"\")","v":""},null,"",{"$f":"IFERROR(-IPMT((C365-'КАЛЬКУЛЯТОР 1'!$P$1)/12,B365,IF(C365=$E$5,$E$2,$E$2-$E$3),IF(C365=$E$5,$I$10,$I$10-SUMIF($A$11:$A$370,\"<=\"&$E$3,$H$11:$H$370)),0,0),\"\")","v":""},"","",{"$error":"#VALUE!"},null,{"$error":"#VALUE!"},{"$error":"#VALUE!"},{"$error":"#VALUE!"},{"$error":"#VALUE!"},false]
[356,356,{"$error":"#VALUE!"},{"$f":"IF(A366<=$E$2,-PMT(C366/12,IF(C366=КАЛЬКУЛЯТОР!$C$21,$E$2,$E$2-$E$3),IF(C366=КАЛЬКУЛЯТОР!$C$21,$I$10,$I$10-SUMIF($A$11:$A$370,\"<=\"&$E$3,$H$11:$H$370)),0,0),\"\")","v":""},null,"",{"$f":"IFERROR(-IPMT((C366-'КАЛЬКУЛЯТОР 1'!$P$1)/12,B366,IF(C366=$E$5,$E$2,$E$2-$E$3),IF(C366=$E$5,$I$10,$I$10-SUMIF($A$11:$A$370,\"<=\"&$E$3,$H$11:$H$370)),0,0),\"\")","v":""},"","",{"$error":"#VALUE!"},null,{"$error":"#VALUE!"},{"$error":"#VALUE!"},{"$error":"#VALUE!"},{"$error":"#VALUE!"},false]
[357,357,{"$error":"#VALUE!"},{"$f":"IF(A367<=$E$2,-PMT(C367/12,IF(C367=КАЛЬКУЛЯТОР!$C$21,$E$2,$E$2-$E$3),IF(C367=КАЛЬКУЛЯТОР!$C$21,$I$10,$I$10-SUMIF($A$11:$A$370,\"<=\"&$E$3,$H$11:$H$370)),0,0),\"\")","v":""},null,"",{"$f":"IFERROR(-IPMT((C367-'КАЛЬКУЛЯТОР 1'!$P$1)/12,B367,IF(C367=$E$5,$E$2,$E$2-$E$3),IF(C367=$E$5,$I$10,$I$10-SUMIF($A$11:$A$370,\"<=\"&$E$3,$H$11:$H$370)),0,0),\"\")","v":""},"","",{"$error":"#VALUE!"},null,{"$error":"#VALUE!"},{"$error":"#VALUE!"},{"$error":"#VALUE!"},{"$error":"#VALUE!"},false]
[358,358,{"$error":"#VALUE!"},{"$f":"IF(A368<=$E$2,-PMT(C368/12,IF(C368=КАЛЬКУЛЯТОР!$C$21,$E$2,$E$2-$E$3),IF(C368=КАЛЬКУЛЯТОР!$C$21,$I$10,$I$10-SUMIF($A$11:$A$370,\"<=\"&$E$3,$H$11:$H$370)),0,0),\"\")","v":""},null,"",{"$f":"IFERROR(-IPMT((C368-'КАЛЬКУЛЯТОР 1'!$P$1)/12,B368,IF(C368=$E$5,$E$2,$E$2-$E$3),IF(C368=$E$5,$I$10,$I$10-SUMIF($A$11:$A$370,\"<=\"&$E$3,$H$11:$H$370)),0,0),\"\")","v":""},"","",{"$error":"#VALUE!"},null,{"$error":"#VALUE!"},{"$error":"#VALUE!"},{"$error":"#VALUE!"},{"$error":"#VALUE!"},false]
[359,359,{"$error":"#VALUE!"},{"$f":"IF(A369<=$E$2,-PMT(C369/12,IF(C369=КАЛЬКУЛЯТОР!$C$21,$E$2,$E$2-$E$3),IF(C369=КАЛЬКУЛЯТОР!$C$21,$I$10,$I$10-SUMIF($A$11:$A$370,\"<=\"&$E$3,$H$11:$H$370)),0,0),\"\")","v":""},null,"",{"$f":"IFERROR(-IPMT((C369-'КАЛЬКУЛЯТОР 1'!$P$1)/12,B369,IF(C369=$E$5,$E$2,$E$2-$E$3),IF(C369=$E$5,$I$10,$I$10-SUMIF($A$11:$A$370,\"<=\"&$E$3,$H$11:$H$370)),0,0),\"\")","v":""},"","",{"$error":"#VALUE!"},null,{"$error":"#VALUE!"},{"$error":"#VALUE!"},{"$error":"#VALUE!"},{"$error":"#VALUE!"},false]
[360,360,{"$error":"#VALUE!"},{"$f":"IF(A370<=$E$2,-PMT(C370/12,IF(C370=КАЛЬКУЛЯТОР!$C$21,$E$2,$E$2-$E$3),IF(C370=КАЛЬКУЛЯТОР!$C$21,$I$10,$I$10-SUMIF($A$11:$A$370,\"<=\"&$E$3,$H$11:$H$370)),0,0),\"\")","v":""},null,"",{"$f":"IFERROR(-IPMT((C370-'КАЛЬКУЛЯТОР 1'!$P$1)/12,B370,IF(C370=$E$5,$E$2,$E$2-$E$3),IF(C370=$E$5,$I$10,$I$10-SUMIF($A$11:$A$370,\"<=\"&$E$3,$H$11:$H$370)),0,0),\"\")","v":""},"","",{"$error":"#VALUE!"},null,{"$error":"#VALUE!"},{"$error":"#VALUE!"},{"$error":"#VALUE!"},{"$error":"#VALUE!"},false]

{"sheet":"КАЛЬКУЛЯТОР 2","index":6,"n_rows":371,"n_cols":16,"rows_kept":371,"hidden":true,"merged":[[0,0,0,3],[1,0,1,3],[4,0,4,3],[5,0,5,3],[6,0,6,3],[7,9,7,14],[8,3,8,4]]}
[{"$f":"КАЛЬКУЛЯТОР!A9","v":"Сумма кредита (основной долг), руб.:"},{"$nulls":3},{"$f":"КАЛЬКУЛЯТОР!$C$9","v":0},null,null,"1. КОМИССИЯ ЗА ОТКР. АККРЕДИТИВА",null,null,{"$f":"'КАЛЬКУЛЯТОР 1'!$K$1","v":{"v":7000,"d":"7,000.00 ₽"}}]
["Срок кредита по договору, в мес.:",{"$nulls":3},{"$f":"КАЛЬКУЛЯТОР!$C$12","v":0},null,null,"2. КОМИССИЯ ЗА ЭРС",null,null,{"$f":"'КАЛЬКУЛЯТОР 1'!$K$2","v":{"v":8300,"d":"8,300.00 ₽"}}]
["Срок льготного периода, в мес.:",{"$nulls":3},{"$f":"IF(КАЛЬКУЛЯТОР!$C$19=\"Весь срок кредитования\",КАЛЬКУЛЯТОР!$C$12,КАЛЬКУЛЯТОР!$C$20)","v":0},null,null,"3. ПЛАТА ЗА ОЦЕНКУ НЕДВ.ИМУЩЕСТВА",null,null,{"$f":"'КАЛЬКУЛЯТОР 1'!$K$3","v":{"v":3000,"d":"3,000.00 ₽"}}]
[{"$f":"КАЛЬКУЛЯТОР!$A$17","v":"ИТОГО размер процентной ставки по комбо-ипотеке, % годовых:"},{"$nulls":3},{"$f":"КАЛЬКУЛЯТОР!$C$24","v":""},null,null,"4. СТРАХОВАНИЕ ЖИЗНИ",null,null,{"$f":"'КАЛЬКУЛЯТОР 1'!$K$4","v":{"v":0.006,"d":"0.60%"}}]
["Инфляция IP, % годовых",{"$nulls":3},{"$f":"КАЛЬКУЛЯТОР!$C$25","v":{"v":0.09,"d":"9.00%"}},null,null,"5. СТРАХОВАНИЕ ИМУЩЕСТВА",null,null,{"$f":"'КАЛЬКУЛЯТОР 1'!$K$5","v":{"v":1E-3,"d":"0.10%"}}]
["Доходность операций БФР, % годовых",{"$nulls":3},{"v":0.16332368592467403,"d":"16.33%"}]
["Доход Банка от реинвестирования субсидии, руб./год",{"$nulls":3},{"$f":"(КАЛЬКУЛЯТОР!$C$9*КАЛЬКУЛЯТОР!$C$26)*$E$6*(100%-КАЛЬКУЛЯТОР!$C$25)","v":{"$error":"#VALUE!"}}]
[{"$nulls":9},"С УЧЕТОМ ВЛИЯНИЯ ИНФЛЯЦИИ"]
["ИТОГО:",null,null,{"$f":"SUMIF(A12:A371,\"<=\"&E2,D12:D371)","v":{"v":0,"d":"0.00"}},null,{"$f":"SUMIF($A$12:$A$371,\"<=\"&$E$2,F12:F371)","v":{"v":0,"d":"0.00"}},{"$f":"SUMIF($A$12:$A$371,\"<=\"&$E$2,G12:G371)","v":{"v":0,"d":"0.00"}},{"$f":"SUMIF(A12:A371,\"<=\"&E2,H12:H371)","v":{"v":0,"d":"0.00"}},null,{"$f":"SUMIF(A12:A371,\"<=\"&E2,J12:J371)","v":{"v":0,"d":"0.00"}},{"$f":"SUMIF(A12:A371,\"<=\"&E2,K11:K371)","v":{"v":0,"d":"0.00"}},{"$f":"SUMIF($A$12:$A$371,\"<=\"&$E$2,L12:L371)","v":{"v":0,"d":"0.00"}},{"$f":"SUMIF($A$12:$A$371,\"<=\"&$E$2,M12:M371)","v":{"v":0,"d":"0.00"}},{"$f":"SUMIF(A12:A371,\"<=\"&E2,N12:N371)","v":{"v":0,"d":"0.00"}}]
["Месяцы \nплатежа","Период \nплатежа","Процентная \nставка","Ежемесячный платеж","Доп. платежи","Процентные \nплатежи","ЧПД Банка","Основной \nдолг","Остаток ссудной задолженности","Ежемесячный платеж","Доп. платежи","Процентные \nплатежи","ЧПД Банка","Основной \nдолг","Остаток ссудной задолженности"]
[0,null,null,{"$f":"-КАЛЬКУЛЯТОР!C9","v":{"v":0,"d":"0.00"}},{"$nulls":4},{"$f":"$E$1","v":{"v":0,"d":"0.00"}},{"$f":"-КАЛЬКУЛЯТОР!C9","v":{"v":0,"d":"0.00"}},{"$nulls":4},{"$f":"I11","v":{"v":0,"d":"0.00"}}]
[1,1,{"$f":"IF(A12<=$E$3,КАЛЬКУЛЯТОР!$C$21,IF(AND(A12>$E$3,A12<=$E$2),$E$4,\"\"))","v":""},{"$f":"IF(A12<=$E$2,-PMT(C12/12,IF(C12=КАЛЬКУЛЯТОР!$C$21,$E$2,$E$2-$E$3),IF(C12=КАЛЬКУЛЯТОР!$C$21,$I$11,$I$11-SUMIF($A$12:$A$371,\"<=\"&$E$3,$H$12:$H$371)),0,0)+E12,\"\")","v":""},{"$f":"K1+K2+K3+((I11+SUM(F12:F23))*($K$4+$K$5))","v":{"v":18300,"d":"18,300.00"}},{"$f":"IFERROR((-IPMT(C12/12,B12,IF(C12=КАЛЬКУЛЯТОР!$C$21,$E$2,$E$2-$E$3),IF(C12=КАЛЬКУЛЯТОР!$C$21,$I$11,$I$11-SUMIF($A$12:$A$371,\"<=\"&$E$3,$H$12:$H$371)),0,0)),\"\")","v":""},{"$f":"IFERROR((-IPMT((C12-'КАЛЬКУЛЯТОР 1'!$P$1)/12,B12,IF(C12=КАЛЬКУЛЯТОР!$C$21,$E$2,$E$2-$E$3),IF(C12=КАЛЬКУЛЯТОР!$C$21,$I$11,$I$11-SUMIF($A$12:$A$371,\"<=\"&$E$3,$H$12:$H$371)),0,0)),\"\")","v":""},{"$f":"IFERROR((-PPMT(C12/12,B12,IF(C12=КАЛЬКУЛЯТОР!$C$21,$E$2,$E$2-$E$3),IF(C12=КАЛЬКУЛЯТОР!$C$21,$I$11,$I$11-SUMIF($A$12:$A$371,\"<=\"&$E$3,$H$12:$H$371)),0,0)),\"\")","v":""},{"$f":"IFERROR(I11-H12,\"\")","v":""},{"$f":"PV($E$5/12,A12-1,0,-D12)","v":{"$error":"#VALUE!"}},{"$f":"PV($E$5/12,A12-1,0,-E12)","v":{"v":18300,"d":"18,300.00"}},{"$f":"PV($E$5/12,A12-1,0,-F12)","v":{"$error":"#VALUE!"}},{"$f":"PV($E$5/12,A12-1,0,-G12)","v":{"$error":"#VALUE!"}},{"$f":"PV($E$5/12,A12-1,0,-H12)","v":{"$error":"#VALUE!"}},{"$f":"O11-N12","v":{"$error":"#VALUE!"}},{"$f":"AND(A12<=$E$3)","v":false}]
[2,{"$f":"ROUND(IF(P13=$P$12,B12+1,A13-$E$3),0)","v":2},{"$f":"IF(A13<=$E$3,КАЛЬКУЛЯТОР!$C$21,IF(AND(A13>$E$3,A13<=$E$2),$E$4,\"\"))","v":""},{"$f":"IF(A13<=$E$2,-PMT(C13/12,IF(C13=КАЛЬКУЛЯТОР!$C$21,$E$2,$E$2-$E$3),IF(C13=КАЛЬКУЛЯТОР!$C$21,$I$11,$I$11-SUMIF($A$12:$A$371,\"<=\"&$E$3,$H$12:$H$371)),0,0),\"\")","v":""},null,{"$f":"IFERROR((-IPMT(C13/12,B13,IF(C13=КАЛЬКУЛЯТОР!$C$21,$E$2,$E$2-$E$3),IF(C13=КАЛЬКУЛЯТОР!$C$21,$I$11,$I$11-SUMIF($A$12:$A$371,\"<=\"&$E$3,$H$12:$H$371)),0,0)),\"\")","v":""},{"$f":"IFERROR((-IPMT((C13-'КАЛЬКУЛЯТОР 1'!$P$1)/12,B13,IF(C13=КАЛЬКУЛЯТОР!$C$21,$E$2,$E$2-$E$3),IF(C13=КАЛЬКУЛЯТОР!$C$21,$I$11,$I$11-SUMIF($A$12:$A$371,\"<=\"&$E$3,$H$12:$H$371)),0,0)),\"\")","v":""},{"$f":"IFERROR((-PPMT(C13/12,B13,IF(C13=КАЛЬКУЛЯТОР!$C$21,$E$2,$E$2-$E$3),IF(C13=КАЛЬКУЛЯТОР!$C$21,$I$11,$I$11-SUMIF($A$12:$A$371,\"<=\"&$E$3,$H$12:$H$371)),0,0)),\"\")","v":""},"",{"$f":"PV($E$5/12,A13-1,0,-D13)","v":{"$error":"#VALUE!"}},null,{"$f":"PV($E$5/12,A13-1,0,-F13)","v":{"$error":"#VALUE!"}},{"$f":"PV($E$5/12,A13-1,0,-G13)","v":{"$error":"#VALUE!"}},{"$error":"#VALUE!"},{"$error":"#VALUE!"},false]
[3,3,{"$f":"IF(A14<=$E$3,КАЛЬКУЛЯТОР!$C$21,IF(AND(A14>$E$3,A14<=$E$2),$E$4,\"\"))","v":""},{"$f":"IF(A14<=$E$2,-PMT(C14/12,IF(C14=КАЛЬКУЛЯТОР!$C$21,$E$2,$E$2-$E$3),IF(C14=КАЛЬКУЛЯТОР!$C$21,$I$11,$I$11-SUMIF($A$12:$A$371,\"<=\"&$E$3,$H$12:$H$371)),0,0),\"\")","v":""},null,{"$f":"IFERROR((-IPMT(C14/12,B14,IF(C14=КАЛЬКУЛЯТОР!$C$21,$E$2,$E$2-$E$3),IF(C14=КАЛЬКУЛЯТОР!$C$21,$I$11,$I$11-SUMIF($A$12:$A$371,\"<=\"&$E$3,$H$12:$H$371)),0,0)),\"\")","v":""},{"$f":"IFERROR((-IPMT((C14-'КАЛЬКУЛЯТОР 1'!$P$1)/12,B14,IF(C14=КАЛЬКУЛЯТОР!$C$21,$E$2,$E$2-$E$3),IF(C14=КАЛЬКУЛЯТОР!$C$21,$I$11,$I$11-SUMIF($A$12:$A$371,\"<=\"&$E$3,$H$12:$H$371)),0,0)),\"\")","v":""},{"$f":"IFERROR((-PPMT(C14/12,B14,IF(C14=КАЛЬКУЛЯТОР!$C$21,$E$2,$E$2-$E$3),IF(C14=КАЛЬКУЛЯТОР!$C$21,$I$11,$I$11-SUMIF($A$12:$A$371,\"<=\"&$E$3,$H$12:$H$371)),0,0)),\"\")","v":""},"",{"$error":"#VALUE!"},null,{"$error":"#VALUE!"},{"$error":"#VALUE!"},{"$error":"#VALUE!"},{"$error":"#VALUE!"},false]
[4,4,{"$f":"IF(A15<=$E$3,КАЛЬКУЛЯТОР!$C$21,IF(AND(A15>$E$3,A15<=$E$2),$E$4,\"\"))","v":""},{"$f":"IF(A15<=$E$2,-PMT(C15/12,IF(C15=КАЛЬКУЛЯТОР!$C$21,$E$2,$E$2-$E$3),IF(C15=КАЛЬКУЛЯТОР!$C$21,$I$11,$I$11-SUMIF($A$12:$A$371,\"<=\"&$E$3,$H$12:$H$371)),0,0),\"\")","v":""},null,{"$f":"IFERROR((-IPMT(C15/12,B15,IF(C15=КАЛЬКУЛЯТОР!$C$21,$E$2,$E$2-$E$3),IF(C15=КАЛЬКУЛЯТОР!$C$21,$I$11,$I$11-SUMIF($A$12:$A$371,\"<=\"&$E$3,$H$12:$H$371)),0,0)),\"\")","v":""},{"$f":"IFERROR((-IPMT((C15-'КАЛЬКУЛЯТОР 1'!$P$1)/12,B15,IF(C15=КАЛЬКУЛЯТОР!$C$21,$E$2,$E$2-$E$3),IF(C15=КАЛЬКУЛЯТОР!$C$21,$I$11,$I$11-SUMIF($A$12:$A$371,\"<=\"&$E$3,$H$12:$H$371)),0,0)),\"\")","v":""},{"$f":"IFERROR((-PPMT(C15/12,B15,IF(C15=КАЛЬКУЛЯТОР!$C$21,$E$2,$E$2-$E$3),IF(C15=КАЛЬКУЛЯТОР!$C$21,$I$11,$I$11-SUMIF($A$12:$A$371,\"<=\"&$E$3,$H$12:$H$371)),0,0)),\"\")","v":""},"",{"$error":"#VALUE!"},null,{"$error":"#VALUE!"},{"$error":"#VALUE!"},{"$error":"#VALUE!"},{"$error":"#VALUE!"},false]
[5,5,{"$f":"IF(A16<=$E$3,КАЛЬКУЛЯТОР!$C$21,IF(AND(A16>$E$3,A16<=$E$2),$E$4,\"\"))","v":""},{"$f":"IF(A16<=$E$2,-PMT(C16/12,IF(C16=КАЛЬКУЛЯТОР!$C$21,$E$2,$E$2-$E$3),IF(C16=КАЛЬКУЛЯТОР!$C$21,$I$11,$I$11-SUMIF($A$12:$A$371,\"<=\"&$E$3,$H$12:$H$371)),0,0),\"\")","v":""},null,{"$f":"IFERROR((-IPMT(C16/12,B16,IF(C16=КАЛЬКУЛЯТОР!$C$21,$E$2,$E$2-$E$3),IF(C16=КАЛЬКУЛЯТОР!$C$21,$I$11,$I$11-SUMIF($A$12:$A$371,\"<=\"&$E$3,$H$12:$H$371)),0,0)),\"\")","v":""},{"$f":"IFERROR((-IPMT((C16-'КАЛЬКУЛЯТОР 1'!$P$1)/12,B16,IF(C16=КАЛЬКУЛЯТОР!$C$21,$E$2,$E$2-$E$3),IF(C16=КАЛЬКУЛЯТОР!$C$21,$I$11,$I$11-SUMIF($A$12:$A$371,\"<=\"&$E$3,$H$12:$H$371)),0,0)),\"\")","v":""},{"$f":"IFERROR((-PPMT(C16/12,B16,IF(C16=КАЛЬКУЛЯТОР!$C$21,$E$2,$E$2-$E$3),IF(C16=КАЛЬКУЛЯТОР!$C$21,$I$11,$I$11-SUMIF($A$12:$A$371,\"<=\"&$E$3,$H$12:$H$371)),0,0)),\"\")","v":""},"",{"$error":"#VALUE!"},null,{"$error":"#VALUE!"},{"$error":"#VALUE!"},{"$error":"#VALUE!"},{"$error":"#VALUE!"},false]
[6,6,{"$f":"IF(A17<=$E$3,КАЛЬКУЛЯТОР!$C$21,IF(AND(A17>$E$3,A17<=$E$2),$E$4,\"\"))","v":""},{"$f":"IF(A17<=$E$2,-PMT(C17/12,IF(C17=КАЛЬКУЛЯТОР!$C$21,$E$2,$E$2-$E$3),IF(C17=КАЛЬКУЛЯТОР!$C$21,$I$11,$I$11-SUMIF($A$12:$A$371,\"<=\"&$E$3,$H$12:$H$371)),0,0),\"\")","v":""},null,{"$f":"IFERROR((-IPMT(C17/12,B17,IF(C17=КАЛЬКУЛЯТОР!$C$21,$E$2,$E$2-$E$3),IF(C17=КАЛЬКУЛЯТОР!$C$21,$I$11,$I$11-SUMIF($A$12:$A$371,\"<=\"&$E$3,$H$12:$H$371)),0,0)),\"\")","v":""},{"$f":"IFERROR((-IPMT((C17-'КАЛЬКУЛЯТОР 1'!$P$1)/12,B17,IF(C17=КАЛЬКУЛЯТОР!$C$21,$E$2,$E$2-$E$3),IF(C17=КАЛЬКУЛЯТОР!$C$21,$I$11,$I$11-SUMIF($A$12:$A$371,\"<=\"&$E$3,$H$12:$H$371)),0,0)),\"\")","v":""},{"$f":"IFERROR((-PPMT(C17/12,B17,IF(C17=КАЛЬКУЛЯТОР!$C$21,$E$2,$E$2-$E$3),IF(C17=КАЛЬКУЛЯТОР!$C$21,$I$11,$I$11-SUMIF($A$12:$A$371,\"<=\"&$E$3,$H$12:$H$371)),0,0)),\"\")","v":""},"",{"$error":"#VALUE!"},null,{"$error":"#VALUE!"},{"$error":"#VALUE!"},{"$error":"#VALUE!"},{"$error":"#VALUE!"},false]
[7,7,{"$f":"IF(A18<=$E$3,КАЛЬКУЛЯТОР!$C$21,IF(AND(A18>$E$3,A18<=$E$2),$E$4,\"\"))","v":""},{"$f":"IF(A18<=$E$2,-PMT(C18/12,IF(C18=КАЛЬКУЛЯТОР!$C$21,$E$2,$E$2-$E$3),IF(C18=КАЛЬКУЛЯТОР!$C$21,$I$11,$I$11-SUMIF($A$12:$A$371,\"<=\"&$E$3,$H$12:$H$371)),0,0),\"\")","v":""},null,{"$f":"IFERROR((-IPMT(C18/12,B18,IF(C18=КАЛЬКУЛЯТОР!$C$21,$E$2,$E$2-$E$3),IF(C18=КАЛЬКУЛЯТОР!$C$21,$I$11,$I$11-SUMIF($A$12:$A$371,\"<=\"&$E$3,$H$12:$H$371)),0,0)),\"\")","v":""},{"$f":"IFERROR((-IPMT((C18-'КАЛЬКУЛЯТОР 1'!$P$1)/12,B18,IF(C18=КАЛЬКУЛЯТОР!$C$21,$E$2,$E$2-$E$3),IF(C18=КАЛЬКУЛЯТОР!$C$21,$I$11,$I$11-SUMIF($A$12:$A$371,\"<=\"&$E$3,$H$12:$H$371)),0,0)),\"\")","v":""},{"$f":"IFERROR((-PPMT(C18/12,B18,IF(C18=КАЛЬКУЛЯТОР!$C$21,$E$2,$E$2-$E$3),IF(C18=КАЛЬКУЛЯТОР!$C$21,$I$11,$I$11-SUMIF($A$12:$A$371,\"<=\"&$E$3,$H$12:$H$371)),0,0)),\"\")","v":""},"",{"$error":"#VALUE!"},null,{"$error":"#VALUE!"},{"$error":"#VALUE!"},{"$error":"#VALUE!"},{"$error":"#VALUE!"},false]
[8,8,{"$f":"IF(A19<=$E$3,КАЛЬКУЛЯТОР!$C$21,IF(AND(A19>$E$3,A19<=$E$2),$E$4,\"\"))","v":""},{"$f":"IF(A19<=$E$2,-PMT(C19/12,IF(C19=КАЛЬКУЛЯТОР!$C$21,$E$2,$E$2-$E$3),IF(C19=КАЛЬКУЛЯТОР!$C$21,$I$11,$I$11-SUMIF($A$12:$A$371,\"<=\"&$E$3,$H$12:$H$371)),0,0),\"\")","v":""},null,{"$f":"IFERROR((-IPMT(C19/12,B19,IF(C19=КАЛЬКУЛЯТОР!$C$21,$E$2,$E$2-$E$3),IF(C19=КАЛЬКУЛЯТОР!$C$21,$I$11,$I$11-SUMIF($A$12:$A$371,\"<=\"&$E$3,$H$12:$H$371)),0,0)),\"\")","v":""},{"$f":"IFERROR((-IPMT((C19-'КАЛЬКУЛЯТОР 1'!$P$1)/12,B19,IF(C19=КАЛЬКУЛЯТОР!$C$21,$E$2,$E$2-$E$3),IF(C19=КАЛЬКУЛЯТОР!$C$21,$I$11,$I$11-SUMIF($A$12:$A$371,\"<=\"&$E$3,$H$12:$H$371)),0,0)),\"\")","v":""},{"$f":"IFERROR((-PPMT(C19/12,B19,IF(C19=КАЛЬКУЛЯТОР!$C$21,$E$2,$E$2-$E$3),IF(C19=КАЛЬКУЛЯТОР!$C$21,$I$11,$I$11-SUMIF($A$12:$A$371,\"<=\"&$E$3,$H$12:$H$371)),0,0)),\"\")","v":""},"",{"$error":"#VALUE!"},null,{"$error":"#VALUE!"},{"$error":"#VALUE!"},{"$error":"#VALUE!"},{"$error":"#VALUE!"},false]
[9,9,{"$f":"IF(A20<=$E$3,КАЛЬКУЛЯТОР!$C$21,IF(AND(A20>$E$3,A20<=$E$2),$E$4,\"\"))","v":""},{"$f":"IF(A20<=$E$2,-PMT(C20/12,IF(C20=КАЛЬКУЛЯТОР!$C$21,$E$2,$E$2-$E$3),IF(C20=КАЛЬКУЛЯТОР!$C$21,$I$11,$I$11-SUMIF($A$12:$A$371,\"<=\"&$E$3,$H$12:$H$371)),0,0),\"\")","v":""},null,{"$f":"IFERROR((-IPMT(C20/12,B20,IF(C20=КАЛЬКУЛЯТОР!$C$21,$E$2,$E$2-$E$3),IF(C20=КАЛЬКУЛЯТОР!$C$21,$I$11,$I$11-SUMIF($A$12:$A$371,\"<=\"&$E$3,$H$12:$H$371)),0,0)),\"\")","v":""},{"$f":"IFERROR((-IPMT((C20-'КАЛЬКУЛЯТОР 1'!$P$1)/12,B20,IF(C20=КАЛЬКУЛЯТОР!$C$21,$E$2,$E$2-$E$3),IF(C20=КАЛЬКУЛЯТОР!$C$21,$I$11,$I$11-SUMIF($A$12:$A$371,\"<=\"&$E$3,$H$12:$H$371)),0,0)),\"\")","v":""},{"$f":"IFERROR((-PPMT(C20/12,B20,IF(C20=КАЛЬКУЛЯТОР!$C$21,$E$2,$E$2-$E$3),IF(C20=КАЛЬКУЛЯТОР!$C$21,$I$11,$I$11-SUMIF($A$12:$A$371,\"<=\"&$E$3,$H$12:$H$371)),0,0)),\"\")","v":""},"",{"$error":"#VALUE!"},null,{"$error":"#VALUE!"},{"$error":"#VALUE!"},{"$error":"#VALUE!"},{"$error":"#VALUE!"},false]
[10,10,{"$f":"IF(A21<=$E$3,КАЛЬКУЛЯТОР!$C$21,IF(AND(A21>$E$3,A21<=$E$2),$E$4,\"\"))","v":""},{"$f":"IF(A21<=$E$2,-PMT(C21/12,IF(C21=КАЛЬКУЛЯТОР!$C$21,$E$2,$E$2-$E$3),IF(C21=КАЛЬКУЛЯТОР!$C$21,$I$11,$I$11-SUMIF($A$12:$A$371,\"<=\"&$E$3,$H$12:$H$371)),0,0),\"\")","v":""},null,{"$f":"IFERROR((-IPMT(C21/12,B21,IF(C21=КАЛЬКУЛЯТОР!$C$21,$E$2,$E$2-$E$3),IF(C21=КАЛЬКУЛЯТОР!$C$21,$I$11,$I$11-SUMIF($A$12:$A$371,\"<=\"&$E$3,$H$12:$H$371)),0,0)),\"\")","v":""},{"$f":"IFERROR((-IPMT((C21-'КАЛЬКУЛЯТОР 1'!$P$1)/12,B21,IF(C21=КАЛЬКУЛЯТОР!$C$21,$E$2,$E$2-$E$3),IF(C21=КАЛЬКУЛЯТОР!$C$21,$I$11,$I$11-SUMIF($A$12:$A$371,\"<=\"&$E$3,$H$12:$H$371)),0,0)),\"\")","v":""},{"$f":"IFERROR((-PPMT(C21/12,B21,IF(C21=КАЛЬКУЛЯТОР!$C$21,$E$2,$E$2-$E$3),IF(C21=КАЛЬКУЛЯТОР!$C$21,$I$11,$I$11-SUMIF($A$12:$A$371,\"<=\"&$E$3,$H$12:$H$371)),0,0)),\"\")","v":""},"",{"$error":"#VALUE!"},null,{"$error":"#VALUE!"},{"$error":"#VALUE!"},{"$error":"#VALUE!"},{"$error":"#VALUE!"},false]
[11,11,{"$f":"IF(A22<=$E$3,КАЛЬКУЛЯТОР!$C$21,IF(AND(A22>$E$3,A22<=$E$2),$E$4,\"\"))","v":""},{"$f":"IF(A22<=$E$2,-PMT(C22/12,IF(C22=КАЛЬКУЛЯТОР!$C$21,$E$2,$E$2-$E$3),IF(C22=КАЛЬКУЛЯТОР!$C$21,$I$11,$I$11-SUMIF($A$12:$A$371,\"<=\"&$E$3,$H$12:$H$371)),0,0),\"\")","v":""},null,{"$f":"IFERROR((-IPMT(C22/12,B22,IF(C22=КАЛЬКУЛЯТОР!$C$21,$E$2,$E$2-$E$3),IF(C22=КАЛЬКУЛЯТОР!$C$21,$I$11,$I$11-SUMIF($A$12:$A$371,\"<=\"&$E$3,$H$12:$H$371)),0,0)),\"\")","v":""},{"$f":"IFERROR((-IPMT((C22-'КАЛЬКУЛЯТОР 1'!$P$1)/12,B22,IF(C22=КАЛЬКУЛЯТОР!$C$21,$E$2,$E$2-$E$3),IF(C22=КАЛЬКУЛЯТОР!$C$21,$I$11,$I$11-SUMIF($A$12:$A$371,\"<=\"&$E$3,$H$12:$H$371)),0,0)),\"\")","v":""},{"$f":"IFERROR((-PPMT(C22/12,B22,IF(C22=КАЛЬКУЛЯТОР!$C$21,$E$2,$E$2-$E$3),IF(C22=КАЛЬКУЛЯТОР!$C$21,$I$11,$I$11-SUMIF($A$12:$A$371,\"<=\"&$E$3,$H$12:$H$371)),0,0)),\"\")","v":""},"",{"$error":"#VALUE!"},null,{"$error":"#VALUE!"},{"$error":"#VALUE!"},{"$error":"#VALUE!"},{"$error":"#VALUE!"},false]
[12,12,{"$f":"IF(A23<=$E$3,КАЛЬКУЛЯТОР!$C$21,IF(AND(A23>$E$3,A23<=$E$2),$E$4,\"\"))","v":""},{"$f":"IF(A23<=$E$2,-PMT(C23/12,IF(C23=КАЛЬКУЛЯТОР!$C$21,$E$2,$E$2-$E$3),IF(C23=КАЛЬКУЛЯТОР!$C$21,$I$11,$I$11-SUMIF($A$12:$A$371,\"<=\"&$E$3,$H$12:$H$371)),0,0),\"\")","v":""},null,{"$f":"IFERROR((-IPMT(C23/12,B23,IF(C23=КАЛЬКУЛЯТОР!$C$21,$E$2,$E$2-$E$3),IF(C23=КАЛЬКУЛЯТОР!$C$21,$I$11,$I$11-SUMIF($A$12:$A$371,\"<=\"&$E$3,$H$12:$H$371)),0,0)),\"\")","v":""},{"$f":"IFERROR((-IPMT((C23-'КАЛЬКУЛЯТОР 1'!$P$1)/12,B23,IF(C23=КАЛЬКУЛЯТОР!$C$21,$E$2,$E$2-$E$3),IF(C23=КАЛЬКУЛЯТОР!$C$21,$I$11,$I$11-SUMIF($A$12:$A$371,\"<=\"&$E$3,$H$12:$H$371)),0,0)),\"\")","v":""},{"$f":"IFERROR((-PPMT(C23/12,B23,IF(C23=КАЛЬКУЛЯТОР!$C$21,$E$2,$E$2-$E$3),IF(C23=КАЛЬКУЛЯТОР!$C$21,$I$11,$I$11-SUMIF($A$12:$A$371,\"<=\"&$E$3,$H$12:$H$371)),0,0)),\"\")","v":""},"",{"$error":"#VALUE!"},null,{"$error":"#VALUE!"},{"$error":"#VALUE!"},{"$error":"#VALUE!"},{"$error":"#VALUE!"},false]
[13,13,{"$f":"IF(A24<=$E$3,КАЛЬКУЛЯТОР!$C$21,IF(AND(A24>$E$3,A24<=$E$2),$E$4,\"\"))","v":""},{"$f":"IF(A24<=$E$2,-PMT(C24/12,IF(C24=КАЛЬКУЛЯТОР!$C$21,$E$2,$E$2-$E$3),IF(C24=КАЛЬКУЛЯТОР!$C$21,$I$11,$I$11-SUMIF($A$12:$A$371,\"<=\"&$E$3,$H$12:$H$371)),0,0)+E24,\"\")","v":""},{"$f":"IF($E$2>$A23,(I23+SUM(F24:F35))*($K$4+$K$5),0)","v":{"v":0,"d":"0.00"}},{"$f":"IFERROR((-IPMT(C24/12,B24,IF(C24=КАЛЬКУЛЯТОР!$C$21,$E$2,$E$2-$E$3),IF(C24=КАЛЬКУЛЯТОР!$C$21,$I$11,$I$11-SUMIF($A$12:$A$371,\"<=\"&$E$3,$H$12:$H$371)),0,0)),\"\")","v":""},{"$f":"IFERROR((-IPMT((C24-'КАЛЬКУЛЯТОР 1'!$P$1)/12,B24,IF(C24=КАЛЬКУЛЯТОР!$C$21,$E$2,$E$2-$E$3),IF(C24=КАЛЬКУЛЯТОР!$C$21,$I$11,$I$11-SUMIF($A$12:$A$371,\"<=\"&$E$3,$H$12:$H$371)),0,0)),\"\")","v":""},{"$f":"IFERROR((-PPMT(C24/12,B24,IF(C24=КАЛЬКУЛЯТОР!$C$21,$E$2,$E$2-$E$3),IF(C24=КАЛЬКУЛЯТОР!$C$21,$I$11,$I$11-SUMIF($A$12:$A$371,\"<=\"&$E$3,$H$12:$H$371)),0,0)),\"\")","v":""},"",{"$error":"#VALUE!"},{"$f":"PV($E$5/12,A24-1,0,-E24)","v":{"v":0,"d":"0.00"}},{"$error":"#VALUE!"},{"$error":"#VALUE!"},{"$error":"#VALUE!"},{"$error":"#VALUE!"},false]
[14,14,{"$f":"IF(A25<=$E$3,КАЛЬКУЛЯТОР!$C$21,IF(AND(A25>$E$3,A25<=$E$2),$E$4,\"\"))","v":""},{"$f":"IF(A25<=$E$2,-PMT(C25/12,IF(C25=КАЛЬКУЛЯТОР!$C$21,$E$2,$E$2-$E$3),IF(C25=КАЛЬКУЛЯТОР!$C$21,$I$11,$I$11-SUMIF($A$12:$A$371,\"<=\"&$E$3,$H$12:$H$371)),0,0),\"\")","v":""},null,{"$f":"IFERROR((-IPMT(C25/12,B25,IF(C25=КАЛЬКУЛЯТОР!$C$21,$E$2,$E$2-$E$3),IF(C25=КАЛЬКУЛЯТОР!$C$21,$I$11,$I$11-SUMIF($A$12:$A$371,\"<=\"&$E$3,$H$12:$H$371)),0,0)),\"\")","v":""},{"$f":"IFERROR((-IPMT((C25-'КАЛЬКУЛЯТОР 1'!$P$1)/12,B25,IF(C25=КАЛЬКУЛЯТОР!$C$21,$E$2,$E$2-$E$3),IF(C25=КАЛЬКУЛЯТОР!$C$21,$I$11,$I$11-SUMIF($A$12:$A$371,\"<=\"&$E$3,$H$12:$H$371)),0,0)),\"\")","v":""},{"$f":"IFERROR((-PPMT(C25/12,B25,IF(C25=КАЛЬКУЛЯТОР!$C$21,$E$2,$E$2-$E$3),IF(C25=КАЛЬКУЛЯТОР!$C$21,$I$11,$I$11-SUMIF($A$12:$A$371,\"<=\"&$E$3,$H$12:$H$371)),0,0)),\"\")","v":""},"",{"$error":"#VALUE!"},null,{"$error":"#VALUE!"},{"$error":"#VALUE!"},{"$error":"#VALUE!"},{"$error":"#VALUE!"},false]
[15,15,{"$f":"IF(A26<=$E$3,КАЛЬКУЛЯТОР!$C$21,IF(AND(A26>$E$3,A26<=$E$2),$E$4,\"\"))","v":""},{"$f":"IF(A26<=$E$2,-PMT(C26/12,IF(C26=КАЛЬКУЛЯТОР!$C$21,$E$2,$E$2-$E$3),IF(C26=КАЛЬКУЛЯТОР!$C$21,$I$11,$I$11-SUMIF($A$12:$A$371,\"<=\"&$E$3,$H$12:$H$371)),0,0),\"\")","v":""},null,{"$f":"IFERROR((-IPMT(C26/12,B26,IF(C26=КАЛЬКУЛЯТОР!$C$21,$E$2,$E$2-$E$3),IF(C26=КАЛЬКУЛЯТОР!$C$21,$I$11,$I$11-SUMIF($A$12:$A$371,\"<=\"&$E$3,$H$12:$H$371)),0,0)),\"\")","v":""},{"$f":"IFERROR((-IPMT((C26-'КАЛЬКУЛЯТОР 1'!$P$1)/12,B26,IF(C26=КАЛЬКУЛЯТОР!$C$21,$E$2,$E$2-$E$3),IF(C26=КАЛЬКУЛЯТОР!$C$21,$I$11,$I$11-SUMIF($A$12:$A$371,\"<=\"&$E$3,$H$12:$H$371)),0,0)),\"\")","v":""},{"$f":"IFERROR((-PPMT(C26/12,B26,IF(C26=КАЛЬКУЛЯТОР!$C$21,$E$2,$E$2-$E$3),IF(C26=КАЛЬКУЛЯТОР!$C$21,$I$11,$I$11-SUMIF($A$12:$A$371,\"<=\"&$E$3,$H$12:$H$371)),0,0)),\"\")","v":""},"",{"$error":"#VALUE!"},null,{"$error":"#VALUE!"},{"$error":"#VALUE!"},{"$error":"#VALUE!"},{"$error":"#VALUE!"},false]
[16,16,{"$f":"IF(A27<=$E$3,КАЛЬКУЛЯТОР!$C$21,IF(AND(A27>$E$3,A27<=$E$2),$E$4,\"\"))","v":""},{"$f":"IF(A27<=$E$2,-PMT(C27/12,IF(C27=КАЛЬКУЛЯТОР!$C$21,$E$2,$E$2-$E$3),IF(C27=КАЛЬКУЛЯТОР!$C$21,$I$11,$I$11-SUMIF($A$12:$A$371,\"<=\"&$E$3,$H$12:$H$371)),0,0),\"\")","v":""},null,{"$f":"IFERROR((-IPMT(C27/12,B27,IF(C27=КАЛЬКУЛЯТОР!$C$21,$E$2,$E$2-$E$3),IF(C27=КАЛЬКУЛЯТОР!$C$21,$I$11,$I$11-SUMIF($A$12:$A$371,\"<=\"&$E$3,$H$12:$H$371)),0,0)),\"\")","v":""},{"$f":"IFERROR((-IPMT((C27-'КАЛЬКУЛЯТОР 1'!$P$1)/12,B27,IF(C27=КАЛЬКУЛЯТОР!$C$21,$E$2,$E$2-$E$3),IF(C27=КАЛЬКУЛЯТОР!$C$21,$I$11,$I$11-SUMIF($A$12:$A$371,\"<=\"&$E$3,$H$12:$H$371)),0,0)),\"\")","v":""},{"$f":"IFERROR((-PPMT(C27/12,B27,IF(C27=КАЛЬКУЛЯТОР!$C$21,$E$2,$E$2-$E$3),IF(C27=КАЛЬКУЛЯТОР!$C$21,$I$11,$I$11-SUMIF($A$12:$A$371,\"<=\"&$E$3,$H$12:$H$371)),0,0)),\"\")","v":""},"",{"$error":"#VALUE!"},null,{"$error":"#VALUE!"},{"$error":"#VALUE!"},{"$error":"#VALUE!"},{"$error":"#VALUE!"},false]
[17,17,{"$f":"IF(A28<=$E$3,КАЛЬКУЛЯТОР!$C$21,IF(AND(A28>$E$3,A28<=$E$2),$E$4,\"\"))","v":""},{"$f":"IF(A28<=$E$2,-PMT(C28/12,IF(C28=КАЛЬКУЛЯТОР!$C$21,$E$2,$E$2-$E$3),IF(C28=КАЛЬКУЛЯТОР!$C$21,$I$11,$I$11-SUMIF($A$12:$A$371,\"<=\"&$E$3,$H$12:$H$371)),0,0),\"\")","v":""},null,{"$f":"IFERROR((-IPMT(C28/12,B28,IF(C28=КАЛЬКУЛЯТОР!$C$21,$E$2,$E$2-$E$3),IF(C28=КАЛЬКУЛЯТОР!$C$21,$I$11,$I$11-SUMIF($A$12:$A$371,\"<=\"&$E$3,$H$12:$H$371)),0,0)),\"\")","v":""},{"$f":"IFERROR((-IPMT((C28-'КАЛЬКУЛЯТОР 1'!$P$1)/12,B28,IF(C28=КАЛЬКУЛЯТОР!$C$21,$E$2,$E$2-$E$3),IF(C28=КАЛЬКУЛЯТОР!$C$21,$I$11,$I$11-SUMIF($A$12:$A$371,\"<=\"&$E$3,$H$12:$H$371)),0,0)),\"\")","v":""},{"$f":"IFERROR((-PPMT(C28/12,B28,IF(C28=КАЛЬКУЛЯТОР!$C$21,$E$2,$E$2-$E$3),IF(C28=КАЛЬКУЛЯТОР!$C$21,$I$11,$I$11-SUMIF($A$12:$A$371,\"<=\"&$E$3,$H$12:$H$371)),0,0)),\"\")","v":""},"",{"$error":"#VALUE!"},null,{"$error":"#VALUE!"},{"$error":"#VALUE!"},{"$error":"#VALUE!"},{"$error":"#VALUE!"},false]
[18,18,{"$f":"IF(A29<=$E$3,КАЛЬКУЛЯТОР!$C$21,IF(AND(A29>$E$3,A29<=$E$2),$E$4,\"\"))","v":""},{"$f":"IF(A29<=$E$2,-PMT(C29/12,IF(C29=КАЛЬКУЛЯТОР!$C$21,$E$2,$E$2-$E$3),IF(C29=КАЛЬКУЛЯТОР!$C$21,$I$11,$I$11-SUMIF($A$12:$A$371,\"<=\"&$E$3,$H$12:$H$371)),0,0),\"\")","v":""},null,{"$f":"IFERROR((-IPMT(C29/12,B29,IF(C29=КАЛЬКУЛЯТОР!$C$21,$E$2,$E$2-$E$3),IF(C29=КАЛЬКУЛЯТОР!$C$21,$I$11,$I$11-SUMIF($A$12:$A$371,\"<=\"&$E$3,$H$12:$H$371)),0,0)),\"\")","v":""},{"$f":"IFERROR((-IPMT((C29-'КАЛЬКУЛЯТОР 1'!$P$1)/12,B29,IF(C29=КАЛЬКУЛЯТОР!$C$21,$E$2,$E$2-$E$3),IF(C29=КАЛЬКУЛЯТОР!$C$21,$I$11,$I$11-SUMIF($A$12:$A$371,\"<=\"&$E$3,$H$12:$H$371)),0,0)),\"\")","v":""},{"$f":"IFERROR((-PPMT(C29/12,B29,IF(C29=КАЛЬКУЛЯТОР!$C$21,$E$2,$E$2-$E$3),IF(C29=КАЛЬКУЛЯТОР!$C$21,$I$11,$I$11-SUMIF($A$12:$A$371,\"<=\"&$E$3,$H$12:$H$371)),0,0)),\"\")","v":""},"",{"$error":"#VALUE!"},null,{"$error":"#VALUE!"},{"$error":"#VALUE!"},{"$error":"#VALUE!"},{"$error":"#VALUE!"},false]
[19,19,{"$f":"IF(A30<=$E$3,КАЛЬКУЛЯТОР!$C$21,IF(AND(A30>$E$3,A30<=$E$2),$E$4,\"\"))","v":""},{"$f":"IF(A30<=$E$2,-PMT(C30/12,IF(C30=КАЛЬКУЛЯТОР!$C$21,$E$2,$E$2-$E$3),IF(C30=КАЛЬКУЛЯТОР!$C$21,$I$11,$I$11-SUMIF($A$12:$A$371,\"<=\"&$E$3,$H$12:$H$371)),0,0),\"\")","v":""},null,{"$f":"IFERROR((-IPMT(C30/12,B30,IF(C30=КАЛЬКУЛЯТОР!$C$21,$E$2,$E$2-$E$3),IF(C30=КАЛЬКУЛЯТОР!$C$21,$I$11,$I$11-SUMIF($A$12:$A$371,\"<=\"&$E$3,$H$12:$H$371)),0,0)),\"\")","v":""},{"$f":"IFERROR((-IPMT((C30-'КАЛЬКУЛЯТОР 1'!$P$1)/12,B30,IF(C30=КАЛЬКУЛЯТОР!$C$21,$E$2,$E$2-$E$3),IF(C30=КАЛЬКУЛЯТОР!$C$21,$I$11,$I$11-SUMIF($A$12:$A$371,\"<=\"&$E$3,$H$12:$H$371)),0,0)),\"\")","v":""},{"$f":"IFERROR((-PPMT(C30/12,B30,IF(C30=КАЛЬКУЛЯТОР!$C$21,$E$2,$E$2-$E$3),IF(C30=КАЛЬКУЛЯТОР!$C$21,$I$11,$I$11-SUMIF($A$12:$A$371,\"<=\"&$E$3,$H$12:$H$371)),0,0)),\"\")","v":""},"",{"$error":"#VALUE!"},null,{"$error":"#VALUE!"},{"$error":"#VALUE!"},{"$error":"#VALUE!"},{"$error":"#VALUE!"},false]
[20,20,{"$f":"IF(A31<=$E$3,КАЛЬКУЛЯТОР!$C$21,IF(AND(A31>$E$3,A31<=$E$2),$E$4,\"\"))","v":""},{"$f":"IF(A31<=$E$2,-PMT(C31/12,IF(C31=КАЛЬКУЛЯТОР!$C$21,$E$2,$E$2-$E$3),IF(C31=КАЛЬКУЛЯТОР!$C$21,$I$11,$I$11-SUMIF($A$12:$A$371,\"<=\"&$E$3,$H$12:$H$371)),0,0),\"\")","v":""},null,{"$f":"IFERROR((-IPMT(C31/12,B31,IF(C31=КАЛЬКУЛЯТОР!$C$21,$E$2,$E$2-$E$3),IF(C31=КАЛЬКУЛЯТОР!$C$21,$I$11,$I$11-SUMIF($A$12:$A$371,\"<=\"&$E$3,$H$12:$H$371)),0,0)),\"\")","v":""},{"$f":"IFERROR((-IPMT((C31-'КАЛЬКУЛЯТОР 1'!$P$1)/12,B31,IF(C31=КАЛЬКУЛЯТОР!$C$21,$E$2,$E$2-$E$3),IF(C31=КАЛЬКУЛЯТОР!$C$21,$I$11,$I$11-SUMIF($A$12:$A$371,\"<=\"&$E$3,$H$12:$H$371)),0,0)),\"\")","v":""},{"$f":"IFERROR((-PPMT(C31/12,B31,IF(C31=КАЛЬКУЛЯТОР!$C$21,$E$2,$E$2-$E$3),IF(C31=КАЛЬКУЛЯТОР!$C$21,$I$11,$I$11-SUMIF($A$12:$A$371,\"<=\"&$E$3,$H$12:$H$371)),0,0)),\"\")","v":""},"",{"$error":"#VALUE!"},null,{"$error":"#VALUE!"},{"$error":"#VALUE!"},{"$error":"#VALUE!"},{"$error":"#VALUE!"},false]
[21,21,{"$f":"IF(A32<=$E$3,КАЛЬКУЛЯТОР!$C$21,IF(AND(A32>$E$3,A32<=$E$2),$E$4,\"\"))","v":""},{"$f":"IF(A32<=$E$2,-PMT(C32/12,IF(C32=КАЛЬКУЛЯТОР!$C$21,$E$2,$E$2-$E$3),IF(C32=КАЛЬКУЛЯТОР!$C$21,$I$11,$I$11-SUMIF($A$12:$A$371,\"<=\"&$E$3,$H$12:$H$371)),0,0),\"\")","v":""},null,{"$f":"IFERROR((-IPMT(C32/12,B32,IF(C32=КАЛЬКУЛЯТОР!$C$21,$E$2,$E$2-$E$3),IF(C32=КАЛЬКУЛЯТОР!$C$21,$I$11,$I$11-SUMIF($A$12:$A$371,\"<=\"&$E$3,$H$12:$H$371)),0,0)),\"\")","v":""},{"$f":"IFERROR((-IPMT((C32-'КАЛЬКУЛЯТОР 1'!$P$1)/12,B32,IF(C32=КАЛЬКУЛЯТОР!$C$21,$E$2,$E$2-$E$3),IF(C32=КАЛЬКУЛЯТОР!$C$21,$I$11,$I$11-SUMIF($A$12:$A$371,\"<=\"&$E$3,$H$12:$H$371)),0,0)),\"\")","v":""},{"$f":"IFERROR((-PPMT(C32/12,B32,IF(C32=КАЛЬКУЛЯТОР!$C$21,$E$2,$E$2-$E$3),IF(C32=КАЛЬКУЛЯТОР!$C$21,$I$11,$I$11-SUMIF($A$12:$A$371,\"<=\"&$E$3,$H$12:$H$371)),0,0)),\"\")","v":""},"",{"$error":"#VALUE!"},null,{"$error":"#VALUE!"},{"$error":"#VALUE!"},{"$error":"#VALUE!"},{"$error":"#VALUE!"},false]
[22,22,{"$f":"IF(A33<=$E$3,КАЛЬКУЛЯТОР!$C$21,IF(AND(A33>$E$3,A33<=$E$2),$E$4,\"\"))","v":""},{"$f":"IF(A33<=$E$2,-PMT(C33/12,IF(C33=КАЛЬКУЛЯТОР!$C$21,$E$2,$E$2-$E$3),IF(C33=КАЛЬКУЛЯТОР!$C$21,$I$11,$I$11-SUMIF($A$12:$A$371,\"<=\"&$E$3,$H$12:$H$371)),0,0),\"\")","v":""},null,{"$f":"IFERROR((-IPMT(C33/12,B33,IF(C33=КАЛЬКУЛЯТОР!$C$21,$E$2,$E$2-$E$3),IF(C33=КАЛЬКУЛЯТОР!$C$21,$I$11,$I$11-SUMIF($A$12:$A$371,\"<=\"&$E$3,$H$12:$H$371)),0,0)),\"\")","v":""},{"$f":"IFERROR((-IPMT((C33-'КАЛЬКУЛЯТОР 1'!$P$1)/12,B33,IF(C33=КАЛЬКУЛЯТОР!$C$21,$E$2,$E$2-$E$3),IF(C33=КАЛЬКУЛЯТОР!$C$21,$I$11,$I$11-SUMIF($A$12:$A$371,\"<=\"&$E$3,$H$12:$H$371)),0,0)),\"\")","v":""},{"$f":"IFERROR((-PPMT(C33/12,B33,IF(C33=КАЛЬКУЛЯТОР!$C$21,$E$2,$E$2-$E$3),IF(C33=КАЛЬКУЛЯТОР!$C$21,$I$11,$I$11-SUMIF($A$12:$A$371,\"<=\"&$E$3,$H$12:$H$371)),0,0)),\"\")","v":""},"",{"$error":"#VALUE!"},null,{"$error":"#VALUE!"},{"$error":"#VALUE!"},{"$error":"#VALUE!"},{"$error":"#VALUE!"},false]
[23,23,{"$f":"IF(A34<=$E$3,КАЛЬКУЛЯТОР!$C$21,IF(AND(A34>$E$3,A34<=$E$2),$E$4,\"\"))","v":""},{"$f":"IF(A34<=$E$2,-PMT(C34/12,IF(C34=КАЛЬКУЛЯТОР!$C$21,$E$2,$E$2-$E$3),IF(C34=КАЛЬКУЛЯТОР!$C$21,$I$11,$I$11-SUMIF($A$12:$A$371,\"<=\"&$E$3,$H$12:$H$371)),0,0),\"\")","v":""},null,{"$f":"IFERROR((-IPMT(C34/12,B34,IF(C34=КАЛЬКУЛЯТОР!$C$21,$E$2,$E$2-$E$3),IF(C34=КАЛЬКУЛЯТОР!$C$21,$I$11,$I$11-SUMIF($A$12:$A$371,\"<=\"&$E$3,$H$12:$H$371)),0,0)),\"\")","v":""},{"$f":"IFERROR((-IPMT((C34-'КАЛЬКУЛЯТОР 1'!$P$1)/12,B34,IF(C34=КАЛЬКУЛЯТОР!$C$21,$E$2,$E$2-$E$3),IF(C34=КАЛЬКУЛЯТОР!$C$21,$I$11,$I$11-SUMIF($A$12:$A$371,\"<=\"&$E$3,$H$12:$H$371)),0,0)),\"\")","v":""},{"$f":"IFERROR((-PPMT(C34/12,B34,IF(C34=КАЛЬКУЛЯТОР!$C$21,$E$2,$E$2-$E$3),IF(C34=КАЛЬКУЛЯТОР!$C$21,$I$11,$I$11-SUMIF($A$12:$A$371,\"<=\"&$E$3,$H$12:$H$371)),0,0)),\"\")","v":""},"",{"$error":"#VALUE!"},null,{"$error":"#VALUE!"},{"$error":"#VALUE!"},{"$error":"#VALUE!"},{"$error":"#VALUE!"},false]
[24,24,{"$f":"IF(A35<=$E$3,КАЛЬКУЛЯТОР!$C$21,IF(AND(A35>$E$3,A35<=$E$2),$E$4,\"\"))","v":""},{"$f":"IF(A35<=$E$2,-PMT(C35/12,IF(C35=КАЛЬКУЛЯТОР!$C$21,$E$2,$E$2-$E$3),IF(C35=КАЛЬКУЛЯТОР!$C$21,$I$11,$I$11-SUMIF($A$12:$A$371,\"<=\"&$E$3,$H$12:$H$371)),0,0),\"\")","v":""},null,{"$f":"IFERROR((-IPMT(C35/12,B35,IF(C35=КАЛЬКУЛЯТОР!$C$21,$E$2,$E$2-$E$3),IF(C35=КАЛЬКУЛЯТОР!$C$21,$I$11,$I$11-SUMIF($A$12:$A$371,\"<=\"&$E$3,$H$12:$H$371)),0,0)),\"\")","v":""},{"$f":"IFERROR((-IPMT((C35-'КАЛЬКУЛЯТОР 1'!$P$1)/12,B35,IF(C35=КАЛЬКУЛЯТОР!$C$21,$E$2,$E$2-$E$3),IF(C35=КАЛЬКУЛЯТОР!$C$21,$I$11,$I$11-SUMIF($A$12:$A$371,\"<=\"&$E$3,$H$12:$H$371)),0,0)),\"\")","v":""},{"$f":"IFERROR((-PPMT(C35/12,B35,IF(C35=КАЛЬКУЛЯТОР!$C$21,$E$2,$E$2-$E$3),IF(C35=КАЛЬКУЛЯТОР!$C$21,$I$11,$I$11-SUMIF($A$12:$A$371,\"<=\"&$E$3,$H$12:$H$371)),0,0)),\"\")","v":""},"",{"$error":"#VALUE!"},null,{"$error":"#VALUE!"},{"$error":"#VALUE!"},{"$error":"#VALUE!"},{"$error":"#VALUE!"},false]
[25,25,{"$f":"IF(A36<=$E$3,КАЛЬКУЛЯТОР!$C$21,IF(AND(A36>$E$3,A36<=$E$2),$E$4,\"\"))","v":""},{"$f":"IF(A36<=$E$2,-PMT(C36/12,IF(C36=КАЛЬКУЛЯТОР!$C$21,$E$2,$E$2-$E$3),IF(C36=КАЛЬКУЛЯТОР!$C$21,$I$11,$I$11-SUMIF($A$12:$A$371,\"<=\"&$E$3,$H$12:$H$371)),0,0)+E36,\"\")","v":""},{"$f":"IF($E$2>$A35,(I35+SUM(F36:F47))*($K$4+$K$5),0)","v":{"v":0,"d":"0.00"}},{"$f":"IFERROR((-IPMT(C36/12,B36,IF(C36=КАЛЬКУЛЯТОР!$C$21,$E$2,$E$2-$E$3),IF(C36=КАЛЬКУЛЯТОР!$C$21,$I$11,$I$11-SUMIF($A$12:$A$371,\"<=\"&$E$3,$H$12:$H$371)),0,0)),\"\")","v":""},{"$f":"IFERROR((-IPMT((C36-'КАЛЬКУЛЯТОР 1'!$P$1)/12,B36,IF(C36=КАЛЬКУЛЯТОР!$C$21,$E$2,$E$2-$E$3),IF(C36=КАЛЬКУЛЯТОР!$C$21,$I$11,$I$11-SUMIF($A$12:$A$371,\"<=\"&$E$3,$H$12:$H$371)),0,0)),\"\")","v":""},{"$f":"IFERROR((-PPMT(C36/12,B36,IF(C36=КАЛЬКУЛЯТОР!$C$21,$E$2,$E$2-$E$3),IF(C36=КАЛЬКУЛЯТОР!$C$21,$I$11,$I$11-SUMIF($A$12:$A$371,\"<=\"&$E$3,$H$12:$H$371)),0,0)),\"\")","v":""},"",{"$error":"#VALUE!"},{"$f":"PV($E$5/12,A36-1,0,-E36)","v":{"v":0,"d":"0.00"}},{"$error":"#VALUE!"},{"$error":"#VALUE!"},{"$error":"#VALUE!"},{"$error":"#VALUE!"},false]
[26,26,{"$f":"IF(A37<=$E$3,КАЛЬКУЛЯТОР!$C$21,IF(AND(A37>$E$3,A37<=$E$2),$E$4,\"\"))","v":""},{"$f":"IF(A37<=$E$2,-PMT(C37/12,IF(C37=КАЛЬКУЛЯТОР!$C$21,$E$2,$E$2-$E$3),IF(C37=КАЛЬКУЛЯТОР!$C$21,$I$11,$I$11-SUMIF($A$12:$A$371,\"<=\"&$E$3,$H$12:$H$371)),0,0),\"\")","v":""},null,{"$f":"IFERROR((-IPMT(C37/12,B37,IF(C37=КАЛЬКУЛЯТОР!$C$21,$E$2,$E$2-$E$3),IF(C37=КАЛЬКУЛЯТОР!$C$21,$I$11,$I$11-SUMIF($A$12:$A$371,\"<=\"&$E$3,$H$12:$H$371)),0,0)),\"\")","v":""},{"$f":"IFERROR((-IPMT((C37-'КАЛЬКУЛЯТОР 1'!$P$1)/12,B37,IF(C37=КАЛЬКУЛЯТОР!$C$21,$E$2,$E$2-$E$3),IF(C37=КАЛЬКУЛЯТОР!$C$21,$I$11,$I$11-SUMIF($A$12:$A$371,\"<=\"&$E$3,$H$12:$H$371)),0,0)),\"\")","v":""},{"$f":"IFERROR((-PPMT(C37/12,B37,IF(C37=КАЛЬКУЛЯТОР!$C$21,$E$2,$E$2-$E$3),IF(C37=КАЛЬКУЛЯТОР!$C$21,$I$11,$I$11-SUMIF($A$12:$A$371,\"<=\"&$E$3,$H$12:$H$371)),0,0)),\"\")","v":""},"",{"$error":"#VALUE!"},null,{"$error":"#VALUE!"},{"$error":"#VALUE!"},{"$error":"#VALUE!"},{"$error":"#VALUE!"},false]
[27,27,{"$f":"IF(A38<=$E$3,КАЛЬКУЛЯТОР!$C$21,IF(AND(A38>$E$3,A38<=$E$2),$E$4,\"\"))","v":""},{"$f":"IF(A38<=$E$2,-PMT(C38/12,IF(C38=КАЛЬКУЛЯТОР!$C$21,$E$2,$E$2-$E$3),IF(C38=КАЛЬКУЛЯТОР!$C$21,$I$11,$I$11-SUMIF($A$12:$A$371,\"<=\"&$E$3,$H$12:$H$371)),0,0),\"\")","v":""},null,{"$f":"IFERROR((-IPMT(C38/12,B38,IF(C38=КАЛЬКУЛЯТОР!$C$21,$E$2,$E$2-$E$3),IF(C38=КАЛЬКУЛЯТОР!$C$21,$I$11,$I$11-SUMIF($A$12:$A$371,\"<=\"&$E$3,$H$12:$H$371)),0,0)),\"\")","v":""},{"$f":"IFERROR((-IPMT((C38-'КАЛЬКУЛЯТОР 1'!$P$1)/12,B38,IF(C38=КАЛЬКУЛЯТОР!$C$21,$E$2,$E$2-$E$3),IF(C38=КАЛЬКУЛЯТОР!$C$21,$I$11,$I$11-SUMIF($A$12:$A$371,\"<=\"&$E$3,$H$12:$H$371)),0,0)),\"\")","v":""},{"$f":"IFERROR((-PPMT(C38/12,B38,IF(C38=КАЛЬКУЛЯТОР!$C$21,$E$2,$E$2-$E$3),IF(C38=КАЛЬКУЛЯТОР!$C$21,$I$11,$I$11-SUMIF($A$12:$A$371,\"<=\"&$E$3,$H$12:$H$371)),0,0)),\"\")","v":""},"",{"$error":"#VALUE!"},null,{"$error":"#VALUE!"},{"$error":"#VALUE!"},{"$error":"#VALUE!"},{"$error":"#VALUE!"},false]
[28,28,{"$f":"IF(A39<=$E$3,КАЛЬКУЛЯТОР!$C$21,IF(AND(A39>$E$3,A39<=$E$2),$E$4,\"\"))","v":""},{"$f":"IF(A39<=$E$2,-PMT(C39/12,IF(C39=КАЛЬКУЛЯТОР!$C$21,$E$2,$E$2-$E$3),IF(C39=КАЛЬКУЛЯТОР!$C$21,$I$11,$I$11-SUMIF($A$12:$A$371,\"<=\"&$E$3,$H$12:$H$371)),0,0),\"\")","v":""},null,{"$f":"IFERROR((-IPMT(C39/12,B39,IF(C39=КАЛЬКУЛЯТОР!$C$21,$E$2,$E$2-$E$3),IF(C39=КАЛЬКУЛЯТОР!$C$21,$I$11,$I$11-SUMIF($A$12:$A$371,\"<=\"&$E$3,$H$12:$H$371)),0,0)),\"\")","v":""},{"$f":"IFERROR((-IPMT((C39-'КАЛЬКУЛЯТОР 1'!$P$1)/12,B39,IF(C39=КАЛЬКУЛЯТОР!$C$21,$E$2,$E$2-$E$3),IF(C39=КАЛЬКУЛЯТОР!$C$21,$I$11,$I$11-SUMIF($A$12:$A$371,\"<=\"&$E$3,$H$12:$H$371)),0,0)),\"\")","v":""},{"$f":"IFERROR((-PPMT(C39/12,B39,IF(C39=КАЛЬКУЛЯТОР!$C$21,$E$2,$E$2-$E$3),IF(C39=КАЛЬКУЛЯТОР!$C$21,$I$11,$I$11-SUMIF($A$12:$A$371,\"<=\"&$E$3,$H$12:$H$371)),0,0)),\"\")","v":""},"",{"$error":"#VALUE!"},null,{"$error":"#VALUE!"},{"$error":"#VALUE!"},{"$error":"#VALUE!"},{"$error":"#VALUE!"},false]
[29,29,{"$f":"IF(A40<=$E$3,КАЛЬКУЛЯТОР!$C$21,IF(AND(A40>$E$3,A40<=$E$2),$E$4,\"\"))","v":""},{"$f":"IF(A40<=$E$2,-PMT(C40/12,IF(C40=КАЛЬКУЛЯТОР!$C$21,$E$2,$E$2-$E$3),IF(C40=КАЛЬКУЛЯТОР!$C$21,$I$11,$I$11-SUMIF($A$12:$A$371,\"<=\"&$E$3,$H$12:$H$371)),0,0),\"\")","v":""},null,{"$f":"IFERROR((-IPMT(C40/12,B40,IF(C40=КАЛЬКУЛЯТОР!$C$21,$E$2,$E$2-$E$3),IF(C40=КАЛЬКУЛЯТОР!$C$21,$I$11,$I$11-SUMIF($A$12:$A$371,\"<=\"&$E$3,$H$12:$H$371)),0,0)),\"\")","v":""},{"$f":"IFERROR((-IPMT((C40-'КАЛЬКУЛЯТОР 1'!$P$1)/12,B40,IF(C40=КАЛЬКУЛЯТОР!$C$21,$E$2,$E$2-$E$3),IF(C40=КАЛЬКУЛЯТОР!$C$21,$I$11,$I$11-SUMIF($A$12:$A$371,\"<=\"&$E$3,$H$12:$H$371)),0,0)),\"\")","v":""},{"$f":"IFERROR((-PPMT(C40/12,B40,IF(C40=КАЛЬКУЛЯТОР!$C$21,$E$2,$E$2-$E$3),IF(C40=КАЛЬКУЛЯТОР!$C$21,$I$11,$I$11-SUMIF($A$12:$A$371,\"<=\"&$E$3,$H$12:$H$371)),0,0)),\"\")","v":""},"",{"$error":"#VALUE!"},null,{"$error":"#VALUE!"},{"$error":"#VALUE!"},{"$error":"#VALUE!"},{"$error":"#VALUE!"},false]
[30,30,{"$f":"IF(A41<=$E$3,КАЛЬКУЛЯТОР!$C$21,IF(AND(A41>$E$3,A41<=$E$2),$E$4,\"\"))","v":""},{"$f":"IF(A41<=$E$2,-PMT(C41/12,IF(C41=КАЛЬКУЛЯТОР!$C$21,$E$2,$E$2-$E$3),IF(C41=КАЛЬКУЛЯТОР!$C$21,$I$11,$I$11-SUMIF($A$12:$A$371,\"<=\"&$E$3,$H$12:$H$371)),0,0),\"\")","v":""},null,{"$f":"IFERROR((-IPMT(C41/12,B41,IF(C41=КАЛЬКУЛЯТОР!$C$21,$E$2,$E$2-$E$3),IF(C41=КАЛЬКУЛЯТОР!$C$21,$I$11,$I$11-SUMIF($A$12:$A$371,\"<=\"&$E$3,$H$12:$H$371)),0,0)),\"\")","v":""},{"$f":"IFERROR((-IPMT((C41-'КАЛЬКУЛЯТОР 1'!$P$1)/12,B41,IF(C41=КАЛЬКУЛЯТОР!$C$21,$E$2,$E$2-$E$3),IF(C41=КАЛЬКУЛЯТОР!$C$21,$I$11,$I$11-SUMIF($A$12:$A$371,\"<=\"&$E$3,$H$12:$H$371)),0,0)),\"\")","v":""},{"$f":"IFERROR((-PPMT(C41/12,B41,IF(C41=КАЛЬКУЛЯТОР!$C$21,$E$2,$E$2-$E$3),IF(C41=КАЛЬКУЛЯТОР!$C$21,$I$11,$I$11-SUMIF($A$12:$A$371,\"<=\"&$E$3,$H$12:$H$371)),0,0)),\"\")","v":""},"",{"$error":"#VALUE!"},null,{"$error":"#VALUE!"},{"$error":"#VALUE!"},{"$error":"#VALUE!"},{"$error":"#VALUE!"},false]
[31,31,{"$f":"IF(A42<=$E$3,КАЛЬКУЛЯТОР!$C$21,IF(AND(A42>$E$3,A42<=$E$2),$E$4,\"\"))","v":""},{"$f":"IF(A42<=$E$2,-PMT(C42/12,IF(C42=КАЛЬКУЛЯТОР!$C$21,$E$2,$E$2-$E$3),IF(C42=КАЛЬКУЛЯТОР!$C$21,$I$11,$I$11-SUMIF($A$12:$A$371,\"<=\"&$E$3,$H$12:$H$371)),0,0),\"\")","v":""},null,{"$f":"IFERROR((-IPMT(C42/12,B42,IF(C42=КАЛЬКУЛЯТОР!$C$21,$E$2,$E$2-$E$3),IF(C42=КАЛЬКУЛЯТОР!$C$21,$I$11,$I$11-SUMIF($A$12:$A$371,\"<=\"&$E$3,$H$12:$H$371)),0,0)),\"\")","v":""},{"$f":"IFERROR((-IPMT((C42-'КАЛЬКУЛЯТОР 1'!$P$1)/12,B42,IF(C42=КАЛЬКУЛЯТОР!$C$21,$E$2,$E$2-$E$3),IF(C42=КАЛЬКУЛЯТОР!$C$21,$I$11,$I$11-SUMIF($A$12:$A$371,\"<=\"&$E$3,$H$12:$H$371)),0,0)),\"\")","v":""},{"$f":"IFERROR((-PPMT(C42/12,B42,IF(C42=КАЛЬКУЛЯТОР!$C$21,$E$2,$E$2-$E$3),IF(C42=КАЛЬКУЛЯТОР!$C$21,$I$11,$I$11-SUMIF($A$12:$A$371,\"<=\"&$E$3,$H$12:$H$371)),0,0)),\"\")","v":""},"",{"$error":"#VALUE!"},null,{"$error":"#VALUE!"},{"$error":"#VALUE!"},{"$error":"#VALUE!"},{"$error":"#VALUE!"},false]
[32,32,{"$f":"IF(A43<=$E$3,КАЛЬКУЛЯТОР!$C$21,IF(AND(A43>$E$3,A43<=$E$2),$E$4,\"\"))","v":""},{"$f":"IF(A43<=$E$2,-PMT(C43/12,IF(C43=КАЛЬКУЛЯТОР!$C$21,$E$2,$E$2-$E$3),IF(C43=КАЛЬКУЛЯТОР!$C$21,$I$11,$I$11-SUMIF($A$12:$A$371,\"<=\"&$E$3,$H$12:$H$371)),0,0),\"\")","v":""},null,{"$f":"IFERROR((-IPMT(C43/12,B43,IF(C43=КАЛЬКУЛЯТОР!$C$21,$E$2,$E$2-$E$3),IF(C43=КАЛЬКУЛЯТОР!$C$21,$I$11,$I$11-SUMIF($A$12:$A$371,\"<=\"&$E$3,$H$12:$H$371)),0,0)),\"\")","v":""},{"$f":"IFERROR((-IPMT((C43-'КАЛЬКУЛЯТОР 1'!$P$1)/12,B43,IF(C43=КАЛЬКУЛЯТОР!$C$21,$E$2,$E$2-$E$3),IF(C43=КАЛЬКУЛЯТОР!$C$21,$I$11,$I$11-SUMIF($A$12:$A$371,\"<=\"&$E$3,$H$12:$H$371)),0,0)),\"\")","v":""},{"$f":"IFERROR((-PPMT(C43/12,B43,IF(C43=КАЛЬКУЛЯТОР!$C$21,$E$2,$E$2-$E$3),IF(C43=КАЛЬКУЛЯТОР!$C$21,$I$11,$I$11-SUMIF($A$12:$A$371,\"<=\"&$E$3,$H$12:$H$371)),0,0)),\"\")","v":""},"",{"$error":"#VALUE!"},null,{"$error":"#VALUE!"},{"$error":"#VALUE!"},{"$error":"#VALUE!"},{"$error":"#VALUE!"},false]
[33,33,{"$f":"IF(A44<=$E$3,КАЛЬКУЛЯТОР!$C$21,IF(AND(A44>$E$3,A44<=$E$2),$E$4,\"\"))","v":""},{"$f":"IF(A44<=$E$2,-PMT(C44/12,IF(C44=КАЛЬКУЛЯТОР!$C$21,$E$2,$E$2-$E$3),IF(C44=КАЛЬКУЛЯТОР!$C$21,$I$11,$I$11-SUMIF($A$12:$A$371,\"<=\"&$E$3,$H$12:$H$371)),0,0),\"\")","v":""},null,{"$f":"IFERROR((-IPMT(C44/12,B44,IF(C44=КАЛЬКУЛЯТОР!$C$21,$E$2,$E$2-$E$3),IF(C44=КАЛЬКУЛЯТОР!$C$21,$I$11,$I$11-SUMIF($A$12:$A$371,\"<=\"&$E$3,$H$12:$H$371)),0,0)),\"\")","v":""},{"$f":"IFERROR((-IPMT((C44-'КАЛЬКУЛЯТОР 1'!$P$1)/12,B44,IF(C44=КАЛЬКУЛЯТОР!$C$21,$E$2,$E$2-$E$3),IF(C44=КАЛЬКУЛЯТОР!$C$21,$I$11,$I$11-SUMIF($A$12:$A$371,\"<=\"&$E$3,$H$12:$H$371)),0,0)),\"\")","v":""},{"$f":"IFERROR((-PPMT(C44/12,B44,IF(C44=КАЛЬКУЛЯТОР!$C$21,$E$2,$E$2-$E$3),IF(C44=КАЛЬКУЛЯТОР!$C$21,$I$11,$I$11-SUMIF($A$12:$A$371,\"<=\"&$E$3,$H$12:$H$371)),0,0)),\"\")","v":""},"",{"$error":"#VALUE!"},null,{"$error":"#VALUE!"},{"$error":"#VALUE!"},{"$error":"#VALUE!"},{"$error":"#VALUE!"},false]
[34,34,{"$f":"IF(A45<=$E$3,КАЛЬКУЛЯТОР!$C$21,IF(AND(A45>$E$3,A45<=$E$2),$E$4,\"\"))","v":""},{"$f":"IF(A45<=$E$2,-PMT(C45/12,IF(C45=КАЛЬКУЛЯТОР!$C$21,$E$2,$E$2-$E$3),IF(C45=КАЛЬКУЛЯТОР!$C$21,$I$11,$I$11-SUMIF($A$12:$A$371,\"<=\"&$E$3,$H$12:$H$371)),0,0),\"\")","v":""},null,{"$f":"IFERROR((-IPMT(C45/12,B45,IF(C45=КАЛЬКУЛЯТОР!$C$21,$E$2,$E$2-$E$3),IF(C45=КАЛЬКУЛЯТОР!$C$21,$I$11,$I$11-SUMIF($A$12:$A$371,\"<=\"&$E$3,$H$12:$H$371)),0,0)),\"\")","v":""},{"$f":"IFERROR((-IPMT((C45-'КАЛЬКУЛЯТОР 1'!$P$1)/12,B45,IF(C45=КАЛЬКУЛЯТОР!$C$21,$E$2,$E$2-$E$3),IF(C45=КАЛЬКУЛЯТОР!$C$21,$I$11,$I$11-SUMIF($A$12:$A$371,\"<=\"&$E$3,$H$12:$H$371)),0,0)),\"\")","v":""},{"$f":"IFERROR((-PPMT(C45/12,B45,IF(C45=КАЛЬКУЛЯТОР!$C$21,$E$2,$E$2-$E$3),IF(C45=КАЛЬКУЛЯТОР!$C$21,$I$11,$I$11-SUMIF($A$12:$A$371,\"<=\"&$E$3,$H$12:$H$371)),0,0)),\"\")","v":""},"",{"$error":"#VALUE!"},null,{"$error":"#VALUE!"},{"$error":"#VALUE!"},{"$error":"#VALUE!"},{"$error":"#VALUE!"},false]
[35,35,{"$f":"IF(A46<=$E$3,КАЛЬКУЛЯТОР!$C$21,IF(AND(A46>$E$3,A46<=$E$2),$E$4,\"\"))","v":""},{"$f":"IF(A46<=$E$2,-PMT(C46/12,IF(C46=КАЛЬКУЛЯТОР!$C$21,$E$2,$E$2-$E$3),IF(C46=КАЛЬКУЛЯТОР!$C$21,$I$11,$I$11-SUMIF($A$12:$A$371,\"<=\"&$E$3,$H$12:$H$371)),0,0),\"\")","v":""},null,{"$f":"IFERROR((-IPMT(C46/12,B46,IF(C46=КАЛЬКУЛЯТОР!$C$21,$E$2,$E$2-$E$3),IF(C46=КАЛЬКУЛЯТОР!$C$21,$I$11,$I$11-SUMIF($A$12:$A$371,\"<=\"&$E$3,$H$12:$H$371)),0,0)),\"\")","v":""},{"$f":"IFERROR((-IPMT((C46-'КАЛЬКУЛЯТОР 1'!$P$1)/12,B46,IF(C46=КАЛЬКУЛЯТОР!$C$21,$E$2,$E$2-$E$3),IF(C46=КАЛЬКУЛЯТОР!$C$21,$I$11,$I$11-SUMIF($A$12:$A$371,\"<=\"&$E$3,$H$12:$H$371)),0,0)),\"\")","v":""},{"$f":"IFERROR((-PPMT(C46/12,B46,IF(C46=КАЛЬКУЛЯТОР!$C$21,$E$2,$E$2-$E$3),IF(C46=КАЛЬКУЛЯТОР!$C$21,$I$11,$I$11-SUMIF($A$12:$A$371,\"<=\"&$E$3,$H$12:$H$371)),0,0)),\"\")","v":""},"",{"$error":"#VALUE!"},null,{"$error":"#VALUE!"},{"$error":"#VALUE!"},{"$error":"#VALUE!"},{"$error":"#VALUE!"},false]
[36,36,{"$f":"IF(A47<=$E$3,КАЛЬКУЛЯТОР!$C$21,IF(AND(A47>$E$3,A47<=$E$2),$E$4,\"\"))","v":""},{"$f":"IF(A47<=$E$2,-PMT(C47/12,IF(C47=КАЛЬКУЛЯТОР!$C$21,$E$2,$E$2-$E$3),IF(C47=КАЛЬКУЛЯТОР!$C$21,$I$11,$I$11-SUMIF($A$12:$A$371,\"<=\"&$E$3,$H$12:$H$371)),0,0),\"\")","v":""},null,{"$f":"IFERROR((-IPMT(C47/12,B47,IF(C47=КАЛЬКУЛЯТОР!$C$21,$E$2,$E$2-$E$3),IF(C47=КАЛЬКУЛЯТОР!$C$21,$I$11,$I$11-SUMIF($A$12:$A$371,\"<=\"&$E$3,$H$12:$H$371)),0,0)),\"\")","v":""},{"$f":"IFERROR((-IPMT((C47-'КАЛЬКУЛЯТОР 1'!$P$1)/12,B47,IF(C47=КАЛЬКУЛЯТОР!$C$21,$E$2,$E$2-$E$3),IF(C47=КАЛЬКУЛЯТОР!$C$21,$I$11,$I$11-SUMIF($A$12:$A$371,\"<=\"&$E$3,$H$12:$H$371)),0,0)),\"\")","v":""},{"$f":"IFERROR((-PPMT(C47/12,B47,IF(C47=КАЛЬКУЛЯТОР!$C$21,$E$2,$E$2-$E$3),IF(C47=КАЛЬКУЛЯТОР!$C$21,$I$11,$I$11-SUMIF($A$12:$A$371,\"<=\"&$E$3,$H$12:$H$371)),0,0)),\"\")","v":""},"",{"$error":"#VALUE!"},null,{"$error":"#VALUE!"},{"$error":"#VALUE!"},{"$error":"#VALUE!"},{"$error":"#VALUE!"},false]
[37,37,{"$f":"IF(A48<=$E$3,КАЛЬКУЛЯТОР!$C$21,IF(AND(A48>$E$3,A48<=$E$2),$E$4,\"\"))","v":""},{"$f":"IF(A48<=$E$2,-PMT(C48/12,IF(C48=КАЛЬКУЛЯТОР!$C$21,$E$2,$E$2-$E$3),IF(C48=КАЛЬКУЛЯТОР!$C$21,$I$11,$I$11-SUMIF($A$12:$A$371,\"<=\"&$E$3,$H$12:$H$371)),0,0)+E48,\"\")","v":""},{"$f":"IF($E$2>$A47,(I47+SUM(F48:F59))*($K$4+$K$5),0)","v":{"v":0,"d":"0.00"}},{"$f":"IFERROR((-IPMT(C48/12,B48,IF(C48=КАЛЬКУЛЯТОР!$C$21,$E$2,$E$2-$E$3),IF(C48=КАЛЬКУЛЯТОР!$C$21,$I$11,$I$11-SUMIF($A$12:$A$371,\"<=\"&$E$3,$H$12:$H$371)),0,0)),\"\")","v":""},{"$f":"IFERROR((-IPMT((C48-'КАЛЬКУЛЯТОР 1'!$P$1)/12,B48,IF(C48=КАЛЬКУЛЯТОР!$C$21,$E$2,$E$2-$E$3),IF(C48=КАЛЬКУЛЯТОР!$C$21,$I$11,$I$11-SUMIF($A$12:$A$371,\"<=\"&$E$3,$H$12:$H$371)),0,0)),\"\")","v":""},{"$f":"IFERROR((-PPMT(C48/12,B48,IF(C48=КАЛЬКУЛЯТОР!$C$21,$E$2,$E$2-$E$3),IF(C48=КАЛЬКУЛЯТОР!$C$21,$I$11,$I$11-SUMIF($A$12:$A$371,\"<=\"&$E$3,$H$12:$H$371)),0,0)),\"\")","v":""},"",{"$error":"#VALUE!"},{"$f":"PV($E$5/12,A48-1,0,-E48)","v":{"v":0,"d":"0.00"}},{"$error":"#VALUE!"},{"$error":"#VALUE!"},{"$error":"#VALUE!"},{"$error":"#VALUE!"},false]
[38,38,{"$f":"IF(A49<=$E$3,КАЛЬКУЛЯТОР!$C$21,IF(AND(A49>$E$3,A49<=$E$2),$E$4,\"\"))","v":""},{"$f":"IF(A49<=$E$2,-PMT(C49/12,IF(C49=КАЛЬКУЛЯТОР!$C$21,$E$2,$E$2-$E$3),IF(C49=КАЛЬКУЛЯТОР!$C$21,$I$11,$I$11-SUMIF($A$12:$A$371,\"<=\"&$E$3,$H$12:$H$371)),0,0),\"\")","v":""},null,{"$f":"IFERROR((-IPMT(C49/12,B49,IF(C49=КАЛЬКУЛЯТОР!$C$21,$E$2,$E$2-$E$3),IF(C49=КАЛЬКУЛЯТОР!$C$21,$I$11,$I$11-SUMIF($A$12:$A$371,\"<=\"&$E$3,$H$12:$H$371)),0,0)),\"\")","v":""},{"$f":"IFERROR((-IPMT((C49-'КАЛЬКУЛЯТОР 1'!$P$1)/12,B49,IF(C49=КАЛЬКУЛЯТОР!$C$21,$E$2,$E$2-$E$3),IF(C49=КАЛЬКУЛЯТОР!$C$21,$I$11,$I$11-SUMIF($A$12:$A$371,\"<=\"&$E$3,$H$12:$H$371)),0,0)),\"\")","v":""},{"$f":"IFERROR((-PPMT(C49/12,B49,IF(C49=КАЛЬКУЛЯТОР!$C$21,$E$2,$E$2-$E$3),IF(C49=КАЛЬКУЛЯТОР!$C$21,$I$11,$I$11-SUMIF($A$12:$A$371,\"<=\"&$E$3,$H$12:$H$371)),0,0)),\"\")","v":""},"",{"$error":"#VALUE!"},null,{"$error":"#VALUE!"},{"$error":"#VALUE!"},{"$error":"#VALUE!"},{"$error":"#VALUE!"},false]
[39,39,{"$f":"IF(A50<=$E$3,КАЛЬКУЛЯТОР!$C$21,IF(AND(A50>$E$3,A50<=$E$2),$E$4,\"\"))","v":""},{"$f":"IF(A50<=$E$2,-PMT(C50/12,IF(C50=КАЛЬКУЛЯТОР!$C$21,$E$2,$E$2-$E$3),IF(C50=КАЛЬКУЛЯТОР!$C$21,$I$11,$I$11-SUMIF($A$12:$A$371,\"<=\"&$E$3,$H$12:$H$371)),0,0),\"\")","v":""},null,{"$f":"IFERROR((-IPMT(C50/12,B50,IF(C50=КАЛЬКУЛЯТОР!$C$21,$E$2,$E$2-$E$3),IF(C50=КАЛЬКУЛЯТОР!$C$21,$I$11,$I$11-SUMIF($A$12:$A$371,\"<=\"&$E$3,$H$12:$H$371)),0,0)),\"\")","v":""},{"$f":"IFERROR((-IPMT((C50-'КАЛЬКУЛЯТОР 1'!$P$1)/12,B50,IF(C50=КАЛЬКУЛЯТОР!$C$21,$E$2,$E$2-$E$3),IF(C50=КАЛЬКУЛЯТОР!$C$21,$I$11,$I$11-SUMIF($A$12:$A$371,\"<=\"&$E$3,$H$12:$H$371)),0,0)),\"\")","v":""},{"$f":"IFERROR((-PPMT(C50/12,B50,IF(C50=КАЛЬКУЛЯТОР!$C$21,$E$2,$E$2-$E$3),IF(C50=КАЛЬКУЛЯТОР!$C$21,$I$11,$I$11-SUMIF($A$12:$A$371,\"<=\"&$E$3,$H$12:$H$371)),0,0)),\"\")","v":""},"",{"$error":"#VALUE!"},null,{"$error":"#VALUE!"},{"$error":"#VALUE!"},{"$error":"#VALUE!"},{"$error":"#VALUE!"},false]
[40,40,{"$f":"IF(A51<=$E$3,КАЛЬКУЛЯТОР!$C$21,IF(AND(A51>$E$3,A51<=$E$2),$E$4,\"\"))","v":""},{"$f":"IF(A51<=$E$2,-PMT(C51/12,IF(C51=КАЛЬКУЛЯТОР!$C$21,$E$2,$E$2-$E$3),IF(C51=КАЛЬКУЛЯТОР!$C$21,$I$11,$I$11-SUMIF($A$12:$A$371,\"<=\"&$E$3,$H$12:$H$371)),0,0),\"\")","v":""},null,{"$f":"IFERROR((-IPMT(C51/12,B51,IF(C51=КАЛЬКУЛЯТОР!$C$21,$E$2,$E$2-$E$3),IF(C51=КАЛЬКУЛЯТОР!$C$21,$I$11,$I$11-SUMIF($A$12:$A$371,\"<=\"&$E$3,$H$12:$H$371)),0,0)),\"\")","v":""},{"$f":"IFERROR((-IPMT((C51-'КАЛЬКУЛЯТОР 1'!$P$1)/12,B51,IF(C51=КАЛЬКУЛЯТОР!$C$21,$E$2,$E$2-$E$3),IF(C51=КАЛЬКУЛЯТОР!$C$21,$I$11,$I$11-SUMIF($A$12:$A$371,\"<=\"&$E$3,$H$12:$H$371)),0,0)),\"\")","v":""},{"$f":"IFERROR((-PPMT(C51/12,B51,IF(C51=КАЛЬКУЛЯТОР!$C$21,$E$2,$E$2-$E$3),IF(C51=КАЛЬКУЛЯТОР!$C$21,$I$11,$I$11-SUMIF($A$12:$A$371,\"<=\"&$E$3,$H$12:$H$371)),0,0)),\"\")","v":""},"",{"$error":"#VALUE!"},null,{"$error":"#VALUE!"},{"$error":"#VALUE!"},{"$error":"#VALUE!"},{"$error":"#VALUE!"},false]
[41,41,{"$f":"IF(A52<=$E$3,КАЛЬКУЛЯТОР!$C$21,IF(AND(A52>$E$3,A52<=$E$2),$E$4,\"\"))","v":""},{"$f":"IF(A52<=$E$2,-PMT(C52/12,IF(C52=КАЛЬКУЛЯТОР!$C$21,$E$2,$E$2-$E$3),IF(C52=КАЛЬКУЛЯТОР!$C$21,$I$11,$I$11-SUMIF($A$12:$A$371,\"<=\"&$E$3,$H$12:$H$371)),0,0),\"\")","v":""},null,{"$f":"IFERROR((-IPMT(C52/12,B52,IF(C52=КАЛЬКУЛЯТОР!$C$21,$E$2,$E$2-$E$3),IF(C52=КАЛЬКУЛЯТОР!$C$21,$I$11,$I$11-SUMIF($A$12:$A$371,\"<=\"&$E$3,$H$12:$H$371)),0,0)),\"\")","v":""},{"$f":"IFERROR((-IPMT((C52-'КАЛЬКУЛЯТОР 1'!$P$1)/12,B52,IF(C52=КАЛЬКУЛЯТОР!$C$21,$E$2,$E$2-$E$3),IF(C52=КАЛЬКУЛЯТОР!$C$21,$I$11,$I$11-SUMIF($A$12:$A$371,\"<=\"&$E$3,$H$12:$H$371)),0,0)),\"\")","v":""},{"$f":"IFERROR((-PPMT(C52/12,B52,IF(C52=КАЛЬКУЛЯТОР!$C$21,$E$2,$E$2-$E$3),IF(C52=КАЛЬКУЛЯТОР!$C$21,$I$11,$I$11-SUMIF($A$12:$A$371,\"<=\"&$E$3,$H$12:$H$371)),0,0)),\"\")","v":""},"",{"$error":"#VALUE!"},null,{"$error":"#VALUE!"},{"$error":"#VALUE!"},{"$error":"#VALUE!"},{"$error":"#VALUE!"},false]
[42,42,{"$f":"IF(A53<=$E$3,КАЛЬКУЛЯТОР!$C$21,IF(AND(A53>$E$3,A53<=$E$2),$E$4,\"\"))","v":""},{"$f":"IF(A53<=$E$2,-PMT(C53/12,IF(C53=КАЛЬКУЛЯТОР!$C$21,$E$2,$E$2-$E$3),IF(C53=КАЛЬКУЛЯТОР!$C$21,$I$11,$I$11-SUMIF($A$12:$A$371,\"<=\"&$E$3,$H$12:$H$371)),0,0),\"\")","v":""},null,{"$f":"IFERROR((-IPMT(C53/12,B53,IF(C53=КАЛЬКУЛЯТОР!$C$21,$E$2,$E$2-$E$3),IF(C53=КАЛЬКУЛЯТОР!$C$21,$I$11,$I$11-SUMIF($A$12:$A$371,\"<=\"&$E$3,$H$12:$H$371)),0,0)),\"\")","v":""},{"$f":"IFERROR((-IPMT((C53-'КАЛЬКУЛЯТОР 1'!$P$1)/12,B53,IF(C53=КАЛЬКУЛЯТОР!$C$21,$E$2,$E$2-$E$3),IF(C53=КАЛЬКУЛЯТОР!$C$21,$I$11,$I$11-SUMIF($A$12:$A$371,\"<=\"&$E$3,$H$12:$H$371)),0,0)),\"\")","v":""},{"$f":"IFERROR((-PPMT(C53/12,B53,IF(C53=КАЛЬКУЛЯТОР!$C$21,$E$2,$E$2-$E$3),IF(C53=КАЛЬКУЛЯТОР!$C$21,$I$11,$I$11-SUMIF($A$12:$A$371,\"<=\"&$E$3,$H$12:$H$371)),0,0)),\"\")","v":""},"",{"$error":"#VALUE!"},null,{"$error":"#VALUE!"},{"$error":"#VALUE!"},{"$error":"#VALUE!"},{"$error":"#VALUE!"},false]
[43,43,{"$f":"IF(A54<=$E$3,КАЛЬКУЛЯТОР!$C$21,IF(AND(A54>$E$3,A54<=$E$2),$E$4,\"\"))","v":""},{"$f":"IF(A54<=$E$2,-PMT(C54/12,IF(C54=КАЛЬКУЛЯТОР!$C$21,$E$2,$E$2-$E$3),IF(C54=КАЛЬКУЛЯТОР!$C$21,$I$11,$I$11-SUMIF($A$12:$A$371,\"<=\"&$E$3,$H$12:$H$371)),0,0),\"\")","v":""},null,{"$f":"IFERROR((-IPMT(C54/12,B54,IF(C54=КАЛЬКУЛЯТОР!$C$21,$E$2,$E$2-$E$3),IF(C54=КАЛЬКУЛЯТОР!$C$21,$I$11,$I$11-SUMIF($A$12:$A$371,\"<=\"&$E$3,$H$12:$H$371)),0,0)),\"\")","v":""},{"$f":"IFERROR((-IPMT((C54-'КАЛЬКУЛЯТОР 1'!$P$1)/12,B54,IF(C54=КАЛЬКУЛЯТОР!$C$21,$E$2,$E$2-$E$3),IF(C54=КАЛЬКУЛЯТОР!$C$21,$I$11,$I$11-SUMIF($A$12:$A$371,\"<=\"&$E$3,$H$12:$H$371)),0,0)),\"\")","v":""},{"$f":"IFERROR((-PPMT(C54/12,B54,IF(C54=КАЛЬКУЛЯТОР!$C$21,$E$2,$E$2-$E$3),IF(C54=КАЛЬКУЛЯТОР!$C$21,$I$11,$I$11-SUMIF($A$12:$A$371,\"<=\"&$E$3,$H$12:$H$371)),0,0)),\"\")","v":""},"",{"$error":"#VALUE!"},null,{"$error":"#VALUE!"},{"$error":"#VALUE!"},{"$error":"#VALUE!"},{"$error":"#VALUE!"},false]
[44,44,{"$f":"IF(A55<=$E$3,КАЛЬКУЛЯТОР!$C$21,IF(AND(A55>$E$3,A55<=$E$2),$E$4,\"\"))","v":""},{"$f":"IF(A55<=$E$2,-PMT(C55/12,IF(C55=КАЛЬКУЛЯТОР!$C$21,$E$2,$E$2-$E$3),IF(C55=КАЛЬКУЛЯТОР!$C$21,$I$11,$I$11-SUMIF($A$12:$A$371,\"<=\"&$E$3,$H$12:$H$371)),0,0),\"\")","v":""},null,{"$f":"IFERROR((-IPMT(C55/12,B55,IF(C55=КАЛЬКУЛЯТОР!$C$21,$E$2,$E$2-$E$3),IF(C55=КАЛЬКУЛЯТОР!$C$21,$I$11,$I$11-SUMIF($A$12:$A$371,\"<=\"&$E$3,$H$12:$H$371)),0,0)),\"\")","v":""},{"$f":"IFERROR((-IPMT((C55-'КАЛЬКУЛЯТОР 1'!$P$1)/12,B55,IF(C55=КАЛЬКУЛЯТОР!$C$21,$E$2,$E$2-$E$3),IF(C55=КАЛЬКУЛЯТОР!$C$21,$I$11,$I$11-SUMIF($A$12:$A$371,\"<=\"&$E$3,$H$12:$H$371)),0,0)),\"\")","v":""},{"$f":"IFERROR((-PPMT(C55/12,B55,IF(C55=КАЛЬКУЛЯТОР!$C$21,$E$2,$E$2-$E$3),IF(C55=КАЛЬКУЛЯТОР!$C$21,$I$11,$I$11-SUMIF($A$12:$A$371,\"<=\"&$E$3,$H$12:$H$371)),0,0)),\"\")","v":""},"",{"$error":"#VALUE!"},null,{"$error":"#VALUE!"},{"$error":"#VALUE!"},{"$error":"#VALUE!"},{"$error":"#VALUE!"},false]
[45,45,{"$f":"IF(A56<=$E$3,КАЛЬКУЛЯТОР!$C$21,IF(AND(A56>$E$3,A56<=$E$2),$E$4,\"\"))","v":""},{"$f":"IF(A56<=$E$2,-PMT(C56/12,IF(C56=КАЛЬКУЛЯТОР!$C$21,$E$2,$E$2-$E$3),IF(C56=КАЛЬКУЛЯТОР!$C$21,$I$11,$I$11-SUMIF($A$12:$A$371,\"<=\"&$E$3,$H$12:$H$371)),0,0),\"\")","v":""},null,{"$f":"IFERROR((-IPMT(C56/12,B56,IF(C56=КАЛЬКУЛЯТОР!$C$21,$E$2,$E$2-$E$3),IF(C56=КАЛЬКУЛЯТОР!$C$21,$I$11,$I$11-SUMIF($A$12:$A$371,\"<=\"&$E$3,$H$12:$H$371)),0,0)),\"\")","v":""},{"$f":"IFERROR((-IPMT((C56-'КАЛЬКУЛЯТОР 1'!$P$1)/12,B56,IF(C56=КАЛЬКУЛЯТОР!$C$21,$E$2,$E$2-$E$3),IF(C56=КАЛЬКУЛЯТОР!$C$21,$I$11,$I$11-SUMIF($A$12:$A$371,\"<=\"&$E$3,$H$12:$H$371)),0,0)),\"\")","v":""},{"$f":"IFERROR((-PPMT(C56/12,B56,IF(C56=КАЛЬКУЛЯТОР!$C$21,$E$2,$E$2-$E$3),IF(C56=КАЛЬКУЛЯТОР!$C$21,$I$11,$I$11-SUMIF($A$12:$A$371,\"<=\"&$E$3,$H$12:$H$371)),0,0)),\"\")","v":""},"",{"$error":"#VALUE!"},null,{"$error":"#VALUE!"},{"$error":"#VALUE!"},{"$error":"#VALUE!"},{"$error":"#VALUE!"},false]
[46,46,{"$f":"IF(A57<=$E$3,КАЛЬКУЛЯТОР!$C$21,IF(AND(A57>$E$3,A57<=$E$2),$E$4,\"\"))","v":""},{"$f":"IF(A57<=$E$2,-PMT(C57/12,IF(C57=КАЛЬКУЛЯТОР!$C$21,$E$2,$E$2-$E$3),IF(C57=КАЛЬКУЛЯТОР!$C$21,$I$11,$I$11-SUMIF($A$12:$A$371,\"<=\"&$E$3,$H$12:$H$371)),0,0),\"\")","v":""},null,{"$f":"IFERROR((-IPMT(C57/12,B57,IF(C57=КАЛЬКУЛЯТОР!$C$21,$E$2,$E$2-$E$3),IF(C57=КАЛЬКУЛЯТОР!$C$21,$I$11,$I$11-SUMIF($A$12:$A$371,\"<=\"&$E$3,$H$12:$H$371)),0,0)),\"\")","v":""},{"$f":"IFERROR((-IPMT((C57-'КАЛЬКУЛЯТОР 1'!$P$1)/12,B57,IF(C57=КАЛЬКУЛЯТОР!$C$21,$E$2,$E$2-$E$3),IF(C57=КАЛЬКУЛЯТОР!$C$21,$I$11,$I$11-SUMIF($A$12:$A$371,\"<=\"&$E$3,$H$12:$H$371)),0,0)),\"\")","v":""},{"$f":"IFERROR((-PPMT(C57/12,B57,IF(C57=КАЛЬКУЛЯТОР!$C$21,$E$2,$E$2-$E$3),IF(C57=КАЛЬКУЛЯТОР!$C$21,$I$11,$I$11-SUMIF($A$12:$A$371,\"<=\"&$E$3,$H$12:$H$371)),0,0)),\"\")","v":""},"",{"$error":"#VALUE!"},null,{"$error":"#VALUE!"},{"$error":"#VALUE!"},{"$error":"#VALUE!"},{"$error":"#VALUE!"},false]
[47,47,{"$f":"IF(A58<=$E$3,КАЛЬКУЛЯТОР!$C$21,IF(AND(A58>$E$3,A58<=$E$2),$E$4,\"\"))","v":""},{"$f":"IF(A58<=$E$2,-PMT(C58/12,IF(C58=КАЛЬКУЛЯТОР!$C$21,$E$2,$E$2-$E$3),IF(C58=КАЛЬКУЛЯТОР!$C$21,$I$11,$I$11-SUMIF($A$12:$A$371,\"<=\"&$E$3,$H$12:$H$371)),0,0),\"\")","v":""},null,{"$f":"IFERROR((-IPMT(C58/12,B58,IF(C58=КАЛЬКУЛЯТОР!$C$21,$E$2,$E$2-$E$3),IF(C58=КАЛЬКУЛЯТОР!$C$21,$I$11,$I$11-SUMIF($A$12:$A$371,\"<=\"&$E$3,$H$12:$H$371)),0,0)),\"\")","v":""},{"$f":"IFERROR((-IPMT((C58-'КАЛЬКУЛЯТОР 1'!$P$1)/12,B58,IF(C58=КАЛЬКУЛЯТОР!$C$21,$E$2,$E$2-$E$3),IF(C58=КАЛЬКУЛЯТОР!$C$21,$I$11,$I$11-SUMIF($A$12:$A$371,\"<=\"&$E$3,$H$12:$H$371)),0,0)),\"\")","v":""},{"$f":"IFERROR((-PPMT(C58/12,B58,IF(C58=КАЛЬКУЛЯТОР!$C$21,$E$2,$E$2-$E$3),IF(C58=КАЛЬКУЛЯТОР!$C$21,$I$11,$I$11-SUMIF($A$12:$A$371,\"<=\"&$E$3,$H$12:$H$371)),0,0)),\"\")","v":""},"",{"$error":"#VALUE!"},null,{"$error":"#VALUE!"},{"$error":"#VALUE!"},{"$error":"#VALUE!"},{"$error":"#VALUE!"},false]
[48,48,{"$f":"IF(A59<=$E$3,КАЛЬКУЛЯТОР!$C$21,IF(AND(A59>$E$3,A59<=$E$2),$E$4,\"\"))","v":""},{"$f":"IF(A59<=$E$2,-PMT(C59/12,IF(C59=КАЛЬКУЛЯТОР!$C$21,$E$2,$E$2-$E$3),IF(C59=КАЛЬКУЛЯТОР!$C$21,$I$11,$I$11-SUMIF($A$12:$A$371,\"<=\"&$E$3,$H$12:$H$371)),0,0),\"\")","v":""},null,{"$f":"IFERROR((-IPMT(C59/12,B59,IF(C59=КАЛЬКУЛЯТОР!$C$21,$E$2,$E$2-$E$3),IF(C59=КАЛЬКУЛЯТОР!$C$21,$I$11,$I$11-SUMIF($A$12:$A$371,\"<=\"&$E$3,$H$12:$H$371)),0,0)),\"\")","v":""},{"$f":"IFERROR((-IPMT((C59-'КАЛЬКУЛЯТОР 1'!$P$1)/12,B59,IF(C59=КАЛЬКУЛЯТОР!$C$21,$E$2,$E$2-$E$3),IF(C59=КАЛЬКУЛЯТОР!$C$21,$I$11,$I$11-SUMIF($A$12:$A$371,\"<=\"&$E$3,$H$12:$H$371)),0,0)),\"\")","v":""},{"$f":"IFERROR((-PPMT(C59/12,B59,IF(C59=КАЛЬКУЛЯТОР!$C$21,$E$2,$E$2-$E$3),IF(C59=КАЛЬКУЛЯТОР!$C$21,$I$11,$I$11-SUMIF($A$12:$A$371,\"<=\"&$E$3,$H$12:$H$371)),0,0)),\"\")","v":""},"",{"$error":"#VALUE!"},null,{"$error":"#VALUE!"},{"$error":"#VALUE!"},{"$error":"#VALUE!"},{"$error":"#VALUE!"},false]
[49,49,{"$f":"IF(A60<=$E$3,КАЛЬКУЛЯТОР!$C$21,IF(AND(A60>$E$3,A60<=$E$2),$E$4,\"\"))","v":""},{"$f":"IF(A60<=$E$2,-PMT(C60/12,IF(C60=КАЛЬКУЛЯТОР!$C$21,$E$2,$E$2-$E$3),IF(C60=КАЛЬКУЛЯТОР!$C$21,$I$11,$I$11-SUMIF($A$12:$A$371,\"<=\"&$E$3,$H$12:$H$371)),0,0)+E60,\"\")","v":""},{"$f":"IF($E$2>$A59,(I59+SUM(F60:F71))*($K$4+$K$5),0)","v":{"v":0,"d":"0.00"}},{"$f":"IFERROR((-IPMT(C60/12,B60,IF(C60=КАЛЬКУЛЯТОР!$C$21,$E$2,$E$2-$E$3),IF(C60=КАЛЬКУЛЯТОР!$C$21,$I$11,$I$11-SUMIF($A$12:$A$371,\"<=\"&$E$3,$H$12:$H$371)),0,0)),\"\")","v":""},{"$f":"IFERROR((-IPMT((C60-'КАЛЬКУЛЯТОР 1'!$P$1)/12,B60,IF(C60=КАЛЬКУЛЯТОР!$C$21,$E$2,$E$2-$E$3),IF(C60=КАЛЬКУЛЯТОР!$C$21,$I$11,$I$11-SUMIF($A$12:$A$371,\"<=\"&$E$3,$H$12:$H$371)),0,0)),\"\")","v":""},{"$f":"IFERROR((-PPMT(C60/12,B60,IF(C60=КАЛЬКУЛЯТОР!$C$21,$E$2,$E$2-$E$3),IF(C60=КАЛЬКУЛЯТОР!$C$21,$I$11,$I$11-SUMIF($A$12:$A$371,\"<=\"&$E$3,$H$12:$H$371)),0,0)),\"\")","v":""},"",{"$error":"#VALUE!"},{"$f":"PV($E$5/12,A60-1,0,-E60)","v":{"v":0,"d":"0.00"}},{"$error":"#VALUE!"},{"$error":"#VALUE!"},{"$error":"#VALUE!"},{"$error":"#VALUE!"},false]
[50,50,{"$f":"IF(A61<=$E$3,КАЛЬКУЛЯТОР!$C$21,IF(AND(A61>$E$3,A61<=$E$2),$E$4,\"\"))","v":""},{"$f":"IF(A61<=$E$2,-PMT(C61/12,IF(C61=КАЛЬКУЛЯТОР!$C$21,$E$2,$E$2-$E$3),IF(C61=КАЛЬКУЛЯТОР!$C$21,$I$11,$I$11-SUMIF($A$12:$A$371,\"<=\"&$E$3,$H$12:$H$371)),0,0),\"\")","v":""},null,{"$f":"IFERROR((-IPMT(C61/12,B61,IF(C61=КАЛЬКУЛЯТОР!$C$21,$E$2,$E$2-$E$3),IF(C61=КАЛЬКУЛЯТОР!$C$21,$I$11,$I$11-SUMIF($A$12:$A$371,\"<=\"&$E$3,$H$12:$H$371)),0,0)),\"\")","v":""},{"$f":"IFERROR((-IPMT((C61-'КАЛЬКУЛЯТОР 1'!$P$1)/12,B61,IF(C61=КАЛЬКУЛЯТОР!$C$21,$E$2,$E$2-$E$3),IF(C61=КАЛЬКУЛЯТОР!$C$21,$I$11,$I$11-SUMIF($A$12:$A$371,\"<=\"&$E$3,$H$12:$H$371)),0,0)),\"\")","v":""},{"$f":"IFERROR((-PPMT(C61/12,B61,IF(C61=КАЛЬКУЛЯТОР!$C$21,$E$2,$E$2-$E$3),IF(C61=КАЛЬКУЛЯТОР!$C$21,$I$11,$I$11-SUMIF($A$12:$A$371,\"<=\"&$E$3,$H$12:$H$371)),0,0)),\"\")","v":""},"",{"$error":"#VALUE!"},null,{"$error":"#VALUE!"},{"$error":"#VALUE!"},{"$error":"#VALUE!"},{"$error":"#VALUE!"},false]
[51,51,{"$f":"IF(A62<=$E$3,КАЛЬКУЛЯТОР!$C$21,IF(AND(A62>$E$3,A62<=$E$2),$E$4,\"\"))","v":""},{"$f":"IF(A62<=$E$2,-PMT(C62/12,IF(C62=КАЛЬКУЛЯТОР!$C$21,$E$2,$E$2-$E$3),IF(C62=КАЛЬКУЛЯТОР!$C$21,$I$11,$I$11-SUMIF($A$12:$A$371,\"<=\"&$E$3,$H$12:$H$371)),0,0),\"\")","v":""},null,{"$f":"IFERROR((-IPMT(C62/12,B62,IF(C62=КАЛЬКУЛЯТОР!$C$21,$E$2,$E$2-$E$3),IF(C62=КАЛЬКУЛЯТОР!$C$21,$I$11,$I$11-SUMIF($A$12:$A$371,\"<=\"&$E$3,$H$12:$H$371)),0,0)),\"\")","v":""},{"$f":"IFERROR((-IPMT((C62-'КАЛЬКУЛЯТОР 1'!$P$1)/12,B62,IF(C62=КАЛЬКУЛЯТОР!$C$21,$E$2,$E$2-$E$3),IF(C62=КАЛЬКУЛЯТОР!$C$21,$I$11,$I$11-SUMIF($A$12:$A$371,\"<=\"&$E$3,$H$12:$H$371)),0,0)),\"\")","v":""},{"$f":"IFERROR((-PPMT(C62/12,B62,IF(C62=КАЛЬКУЛЯТОР!$C$21,$E$2,$E$2-$E$3),IF(C62=КАЛЬКУЛЯТОР!$C$21,$I$11,$I$11-SUMIF($A$12:$A$371,\"<=\"&$E$3,$H$12:$H$371)),0,0)),\"\")","v":""},"",{"$error":"#VALUE!"},null,{"$error":"#VALUE!"},{"$error":"#VALUE!"},{"$error":"#VALUE!"},{"$error":"#VALUE!"},false]
[52,52,{"$f":"IF(A63<=$E$3,КАЛЬКУЛЯТОР!$C$21,IF(AND(A63>$E$3,A63<=$E$2),$E$4,\"\"))","v":""},{"$f":"IF(A63<=$E$2,-PMT(C63/12,IF(C63=КАЛЬКУЛЯТОР!$C$21,$E$2,$E$2-$E$3),IF(C63=КАЛЬКУЛЯТОР!$C$21,$I$11,$I$11-SUMIF($A$12:$A$371,\"<=\"&$E$3,$H$12:$H$371)),0,0),\"\")","v":""},null,{"$f":"IFERROR((-IPMT(C63/12,B63,IF(C63=КАЛЬКУЛЯТОР!$C$21,$E$2,$E$2-$E$3),IF(C63=КАЛЬКУЛЯТОР!$C$21,$I$11,$I$11-SUMIF($A$12:$A$371,\"<=\"&$E$3,$H$12:$H$371)),0,0)),\"\")","v":""},{"$f":"IFERROR((-IPMT((C63-'КАЛЬКУЛЯТОР 1'!$P$1)/12,B63,IF(C63=КАЛЬКУЛЯТОР!$C$21,$E$2,$E$2-$E$3),IF(C63=КАЛЬКУЛЯТОР!$C$21,$I$11,$I$11-SUMIF($A$12:$A$371,\"<=\"&$E$3,$H$12:$H$371)),0,0)),\"\")","v":""},{"$f":"IFERROR((-PPMT(C63/12,B63,IF(C63=КАЛЬКУЛЯТОР!$C$21,$E$2,$E$2-$E$3),IF(C63=КАЛЬКУЛЯТОР!$C$21,$I$11,$I$11-SUMIF($A$12:$A$371,\"<=\"&$E$3,$H$12:$H$371)),0,0)),\"\")","v":""},"",{"$error":"#VALUE!"},null,{"$error":"#VALUE!"},{"$error":"#VALUE!"},{"$error":"#VALUE!"},{"$error":"#VALUE!"},false]
[53,53,{"$f":"IF(A64<=$E$3,КАЛЬКУЛЯТОР!$C$21,IF(AND(A64>$E$3,A64<=$E$2),$E$4,\"\"))","v":""},{"$f":"IF(A64<=$E$2,-PMT(C64/12,IF(C64=КАЛЬКУЛЯТОР!$C$21,$E$2,$E$2-$E$3),IF(C64=КАЛЬКУЛЯТОР!$C$21,$I$11,$I$11-SUMIF($A$12:$A$371,\"<=\"&$E$3,$H$12:$H$371)),0,0),\"\")","v":""},null,{"$f":"IFERROR((-IPMT(C64/12,B64,IF(C64=КАЛЬКУЛЯТОР!$C$21,$E$2,$E$2-$E$3),IF(C64=КАЛЬКУЛЯТОР!$C$21,$I$11,$I$11-SUMIF($A$12:$A$371,\"<=\"&$E$3,$H$12:$H$371)),0,0)),\"\")","v":""},{"$f":"IFERROR((-IPMT((C64-'КАЛЬКУЛЯТОР 1'!$P$1)/12,B64,IF(C64=КАЛЬКУЛЯТОР!$C$21,$E$2,$E$2-$E$3),IF(C64=КАЛЬКУЛЯТОР!$C$21,$I$11,$I$11-SUMIF($A$12:$A$371,\"<=\"&$E$3,$H$12:$H$371)),0,0)),\"\")","v":""},{"$f":"IFERROR((-PPMT(C64/12,B64,IF(C64=КАЛЬКУЛЯТОР!$C$21,$E$2,$E$2-$E$3),IF(C64=КАЛЬКУЛЯТОР!$C$21,$I$11,$I$11-SUMIF($A$12:$A$371,\"<=\"&$E$3,$H$12:$H$371)),0,0)),\"\")","v":""},"",{"$error":"#VALUE!"},null,{"$error":"#VALUE!"},{"$error":"#VALUE!"},{"$error":"#VALUE!"},{"$error":"#VALUE!"},false]
[54,54,{"$f":"IF(A65<=$E$3,КАЛЬКУЛЯТОР!$C$21,IF(AND(A65>$E$3,A65<=$E$2),$E$4,\"\"))","v":""},{"$f":"IF(A65<=$E$2,-PMT(C65/12,IF(C65=КАЛЬКУЛЯТОР!$C$21,$E$2,$E$2-$E$3),IF(C65=КАЛЬКУЛЯТОР!$C$21,$I$11,$I$11-SUMIF($A$12:$A$371,\"<=\"&$E$3,$H$12:$H$371)),0,0),\"\")","v":""},null,{"$f":"IFERROR((-IPMT(C65/12,B65,IF(C65=КАЛЬКУЛЯТОР!$C$21,$E$2,$E$2-$E$3),IF(C65=КАЛЬКУЛЯТОР!$C$21,$I$11,$I$11-SUMIF($A$12:$A$371,\"<=\"&$E$3,$H$12:$H$371)),0,0)),\"\")","v":""},{"$f":"IFERROR((-IPMT((C65-'КАЛЬКУЛЯТОР 1'!$P$1)/12,B65,IF(C65=КАЛЬКУЛЯТОР!$C$21,$E$2,$E$2-$E$3),IF(C65=КАЛЬКУЛЯТОР!$C$21,$I$11,$I$11-SUMIF($A$12:$A$371,\"<=\"&$E$3,$H$12:$H$371)),0,0)),\"\")","v":""},{"$f":"IFERROR((-PPMT(C65/12,B65,IF(C65=КАЛЬКУЛЯТОР!$C$21,$E$2,$E$2-$E$3),IF(C65=КАЛЬКУЛЯТОР!$C$21,$I$11,$I$11-SUMIF($A$12:$A$371,\"<=\"&$E$3,$H$12:$H$371)),0,0)),\"\")","v":""},"",{"$error":"#VALUE!"},null,{"$error":"#VALUE!"},{"$error":"#VALUE!"},{"$error":"#VALUE!"},{"$error":"#VALUE!"},false]
[55,55,{"$f":"IF(A66<=$E$3,КАЛЬКУЛЯТОР!$C$21,IF(AND(A66>$E$3,A66<=$E$2),$E$4,\"\"))","v":""},{"$f":"IF(A66<=$E$2,-PMT(C66/12,IF(C66=КАЛЬКУЛЯТОР!$C$21,$E$2,$E$2-$E$3),IF(C66=КАЛЬКУЛЯТОР!$C$21,$I$11,$I$11-SUMIF($A$12:$A$371,\"<=\"&$E$3,$H$12:$H$371)),0,0),\"\")","v":""},null,{"$f":"IFERROR((-IPMT(C66/12,B66,IF(C66=КАЛЬКУЛЯТОР!$C$21,$E$2,$E$2-$E$3),IF(C66=КАЛЬКУЛЯТОР!$C$21,$I$11,$I$11-SUMIF($A$12:$A$371,\"<=\"&$E$3,$H$12:$H$371)),0,0)),\"\")","v":""},{"$f":"IFERROR((-IPMT((C66-'КАЛЬКУЛЯТОР 1'!$P$1)/12,B66,IF(C66=КАЛЬКУЛЯТОР!$C$21,$E$2,$E$2-$E$3),IF(C66=КАЛЬКУЛЯТОР!$C$21,$I$11,$I$11-SUMIF($A$12:$A$371,\"<=\"&$E$3,$H$12:$H$371)),0,0)),\"\")","v":""},{"$f":"IFERROR((-PPMT(C66/12,B66,IF(C66=КАЛЬКУЛЯТОР!$C$21,$E$2,$E$2-$E$3),IF(C66=КАЛЬКУЛЯТОР!$C$21,$I$11,$I$11-SUMIF($A$12:$A$371,\"<=\"&$E$3,$H$12:$H$371)),0,0)),\"\")","v":""},"",{"$error":"#VALUE!"},null,{"$error":"#VALUE!"},{"$error":"#VALUE!"},{"$error":"#VALUE!"},{"$error":"#VALUE!"},false]
[56,56,{"$f":"IF(A67<=$E$3,КАЛЬКУЛЯТОР!$C$21,IF(AND(A67>$E$3,A67<=$E$2),$E$4,\"\"))","v":""},{"$f":"IF(A67<=$E$2,-PMT(C67/12,IF(C67=КАЛЬКУЛЯТОР!$C$21,$E$2,$E$2-$E$3),IF(C67=КАЛЬКУЛЯТОР!$C$21,$I$11,$I$11-SUMIF($A$12:$A$371,\"<=\"&$E$3,$H$12:$H$371)),0,0),\"\")","v":""},null,{"$f":"IFERROR((-IPMT(C67/12,B67,IF(C67=КАЛЬКУЛЯТОР!$C$21,$E$2,$E$2-$E$3),IF(C67=КАЛЬКУЛЯТОР!$C$21,$I$11,$I$11-SUMIF($A$12:$A$371,\"<=\"&$E$3,$H$12:$H$371)),0,0)),\"\")","v":""},{"$f":"IFERROR((-IPMT((C67-'КАЛЬКУЛЯТОР 1'!$P$1)/12,B67,IF(C67=КАЛЬКУЛЯТОР!$C$21,$E$2,$E$2-$E$3),IF(C67=КАЛЬКУЛЯТОР!$C$21,$I$11,$I$11-SUMIF($A$12:$A$371,\"<=\"&$E$3,$H$12:$H$371)),0,0)),\"\")","v":""},{"$f":"IFERROR((-PPMT(C67/12,B67,IF(C67=КАЛЬКУЛЯТОР!$C$21,$E$2,$E$2-$E$3),IF(C67=КАЛЬКУЛЯТОР!$C$21,$I$11,$I$11-SUMIF($A$12:$A$371,\"<=\"&$E$3,$H$12:$H$371)),0,0)),\"\")","v":""},"",{"$error":"#VALUE!"},null,{"$error":"#VALUE!"},{"$error":"#VALUE!"},{"$error":"#VALUE!"},{"$error":"#VALUE!"},false]
[57,57,{"$f":"IF(A68<=$E$3,КАЛЬКУЛЯТОР!$C$21,IF(AND(A68>$E$3,A68<=$E$2),$E$4,\"\"))","v":""},{"$f":"IF(A68<=$E$2,-PMT(C68/12,IF(C68=КАЛЬКУЛЯТОР!$C$21,$E$2,$E$2-$E$3),IF(C68=КАЛЬКУЛЯТОР!$C$21,$I$11,$I$11-SUMIF($A$12:$A$371,\"<=\"&$E$3,$H$12:$H$371)),0,0),\"\")","v":""},null,{"$f":"IFERROR((-IPMT(C68/12,B68,IF(C68=КАЛЬКУЛЯТОР!$C$21,$E$2,$E$2-$E$3),IF(C68=КАЛЬКУЛЯТОР!$C$21,$I$11,$I$11-SUMIF($A$12:$A$371,\"<=\"&$E$3,$H$12:$H$371)),0,0)),\"\")","v":""},{"$f":"IFERROR((-IPMT((C68-'КАЛЬКУЛЯТОР 1'!$P$1)/12,B68,IF(C68=КАЛЬКУЛЯТОР!$C$21,$E$2,$E$2-$E$3),IF(C68=КАЛЬКУЛЯТОР!$C$21,$I$11,$I$11-SUMIF($A$12:$A$371,\"<=\"&$E$3,$H$12:$H$371)),0,0)),\"\")","v":""},{"$f":"IFERROR((-PPMT(C68/12,B68,IF(C68=КАЛЬКУЛЯТОР!$C$21,$E$2,$E$2-$E$3),IF(C68=КАЛЬКУЛЯТОР!$C$21,$I$11,$I$11-SUMIF($A$12:$A$371,\"<=\"&$E$3,$H$12:$H$371)),0,0)),\"\")","v":""},"",{"$error":"#VALUE!"},null,{"$error":"#VALUE!"},{"$error":"#VALUE!"},{"$error":"#VALUE!"},{"$error":"#VALUE!"},false]
[58,58,{"$f":"IF(A69<=$E$3,КАЛЬКУЛЯТОР!$C$21,IF(AND(A69>$E$3,A69<=$E$2),$E$4,\"\"))","v":""},{"$f":"IF(A69<=$E$2,-PMT(C69/12,IF(C69=КАЛЬКУЛЯТОР!$C$21,$E$2,$E$2-$E$3),IF(C69=КАЛЬКУЛЯТОР!$C$21,$I$11,$I$11-SUMIF($A$12:$A$371,\"<=\"&$E$3,$H$12:$H$371)),0,0),\"\")","v":""},null,{"$f":"IFERROR((-IPMT(C69/12,B69,IF(C69=КАЛЬКУЛЯТОР!$C$21,$E$2,$E$2-$E$3),IF(C69=КАЛЬКУЛЯТОР!$C$21,$I$11,$I$11-SUMIF($A$12:$A$371,\"<=\"&$E$3,$H$12:$H$371)),0,0)),\"\")","v":""},{"$f":"IFERROR((-IPMT((C69-'КАЛЬКУЛЯТОР 1'!$P$1)/12,B69,IF(C69=КАЛЬКУЛЯТОР!$C$21,$E$2,$E$2-$E$3),IF(C69=КАЛЬКУЛЯТОР!$C$21,$I$11,$I$11-SUMIF($A$12:$A$371,\"<=\"&$E$3,$H$12:$H$371)),0,0)),\"\")","v":""},{"$f":"IFERROR((-PPMT(C69/12,B69,IF(C69=КАЛЬКУЛЯТОР!$C$21,$E$2,$E$2-$E$3),IF(C69=КАЛЬКУЛЯТОР!$C$21,$I$11,$I$11-SUMIF($A$12:$A$371,\"<=\"&$E$3,$H$12:$H$371)),0,0)),\"\")","v":""},"",{"$error":"#VALUE!"},null,{"$error":"#VALUE!"},{"$error":"#VALUE!"},{"$error":"#VALUE!"},{"$error":"#VALUE!"},false]
[59,59,{"$f":"IF(A70<=$E$3,КАЛЬКУЛЯТОР!$C$21,IF(AND(A70>$E$3,A70<=$E$2),$E$4,\"\"))","v":""},{"$f":"IF(A70<=$E$2,-PMT(C70/12,IF(C70=КАЛЬКУЛЯТОР!$C$21,$E$2,$E$2-$E$3),IF(C70=КАЛЬКУЛЯТОР!$C$21,$I$11,$I$11-SUMIF($A$12:$A$371,\"<=\"&$E$3,$H$12:$H$371)),0,0),\"\")","v":""},null,{"$f":"IFERROR((-IPMT(C70/12,B70,IF(C70=КАЛЬКУЛЯТОР!$C$21,$E$2,$E$2-$E$3),IF(C70=КАЛЬКУЛЯТОР!$C$21,$I$11,$I$11-SUMIF($A$12:$A$371,\"<=\"&$E$3,$H$12:$H$371)),0,0)),\"\")","v":""},{"$f":"IFERROR((-IPMT((C70-'КАЛЬКУЛЯТОР 1'!$P$1)/12,B70,IF(C70=КАЛЬКУЛЯТОР!$C$21,$E$2,$E$2-$E$3),IF(C70=КАЛЬКУЛЯТОР!$C$21,$I$11,$I$11-SUMIF($A$12:$A$371,\"<=\"&$E$3,$H$12:$H$371)),0,0)),\"\")","v":""},{"$f":"IFERROR((-PPMT(C70/12,B70,IF(C70=КАЛЬКУЛЯТОР!$C$21,$E$2,$E$2-$E$3),IF(C70=КАЛЬКУЛЯТОР!$C$21,$I$11,$I$11-SUMIF($A$12:$A$371,\"<=\"&$E$3,$H$12:$H$371)),0,0)),\"\")","v":""},"",{"$error":"#VALUE!"},null,{"$error":"#VALUE!"},{"$error":"#VALUE!"},{"$error":"#VALUE!"},{"$error":"#VALUE!"},false]
[60,60,{"$f":"IF(A71<=$E$3,КАЛЬКУЛЯТОР!$C$21,IF(AND(A71>$E$3,A71<=$E$2),$E$4,\"\"))","v":""},{"$f":"IF(A71<=$E$2,-PMT(C71/12,IF(C71=КАЛЬКУЛЯТОР!$C$21,$E$2,$E$2-$E$3),IF(C71=КАЛЬКУЛЯТОР!$C$21,$I$11,$I$11-SUMIF($A$12:$A$371,\"<=\"&$E$3,$H$12:$H$371)),0,0),\"\")","v":""},null,{"$f":"IFERROR((-IPMT(C71/12,B71,IF(C71=КАЛЬКУЛЯТОР!$C$21,$E$2,$E$2-$E$3),IF(C71=КАЛЬКУЛЯТОР!$C$21,$I$11,$I$11-SUMIF($A$12:$A$371,\"<=\"&$E$3,$H$12:$H$371)),0,0)),\"\")","v":""},{"$f":"IFERROR((-IPMT((C71-'КАЛЬКУЛЯТОР 1'!$P$1)/12,B71,IF(C71=КАЛЬКУЛЯТОР!$C$21,$E$2,$E$2-$E$3),IF(C71=КАЛЬКУЛЯТОР!$C$21,$I$11,$I$11-SUMIF($A$12:$A$371,\"<=\"&$E$3,$H$12:$H$371)),0,0)),\"\")","v":""},{"$f":"IFERROR((-PPMT(C71/12,B71,IF(C71=КАЛЬКУЛЯТОР!$C$21,$E$2,$E$2-$E$3),IF(C71=КАЛЬКУЛЯТОР!$C$21,$I$11,$I$11-SUMIF($A$12:$A$371,\"<=\"&$E$3,$H$12:$H$371)),0,0)),\"\")","v":""},"",{"$error":"#VALUE!"},null,{"$error":"#VALUE!"},{"$error":"#VALUE!"},{"$error":"#VALUE!"},{"$error":"#VALUE!"},false]
[61,61,{"$f":"IF(A72<=$E$3,КАЛЬКУЛЯТОР!$C$21,IF(AND(A72>$E$3,A72<=$E$2),$E$4,\"\"))","v":""},{"$f":"IF(A72<=$E$2,-PMT(C72/12,IF(C72=КАЛЬКУЛЯТОР!$C$21,$E$2,$E$2-$E$3),IF(C72=КАЛЬКУЛЯТОР!$C$21,$I$11,$I$11-SUMIF($A$12:$A$371,\"<=\"&$E$3,$H$12:$H$371)),0,0)+E72,\"\")","v":""},{"$f":"IF($E$2>$A71,(I71+SUM(F72:F83))*($K$4+$K$5),0)","v":{"v":0,"d":"0.00"}},{"$f":"IFERROR((-IPMT(C72/12,B72,IF(C72=КАЛЬКУЛЯТОР!$C$21,$E$2,$E$2-$E$3),IF(C72=КАЛЬКУЛЯТОР!$C$21,$I$11,$I$11-SUMIF($A$12:$A$371,\"<=\"&$E$3,$H$12:$H$371)),0,0)),\"\")","v":""},{"$f":"IFERROR((-IPMT((C72-'КАЛЬКУЛЯТОР 1'!$P$1)/12,B72,IF(C72=КАЛЬКУЛЯТОР!$C$21,$E$2,$E$2-$E$3),IF(C72=КАЛЬКУЛЯТОР!$C$21,$I$11,$I$11-SUMIF($A$12:$A$371,\"<=\"&$E$3,$H$12:$H$371)),0,0)),\"\")","v":""},{"$f":"IFERROR((-PPMT(C72/12,B72,IF(C72=КАЛЬКУЛЯТОР!$C$21,$E$2,$E$2-$E$3),IF(C72=КАЛЬКУЛЯТОР!$C$21,$I$11,$I$11-SUMIF($A$12:$A$371,\"<=\"&$E$3,$H$12:$H$371)),0,0)),\"\")","v":""},"",{"$error":"#VALUE!"},{"$f":"PV($E$5/12,A72-1,0,-E72)","v":{"v":0,"d":"0.00"}},{"$error":"#VALUE!"},{"$error":"#VALUE!"},{"$error":"#VALUE!"},{"$error":"#VALUE!"},false]
[62,62,{"$f":"IF(A73<=$E$3,КАЛЬКУЛЯТОР!$C$21,IF(AND(A73>$E$3,A73<=$E$2),$E$4,\"\"))","v":""},{"$f":"IF(A73<=$E$2,-PMT(C73/12,IF(C73=КАЛЬКУЛЯТОР!$C$21,$E$2,$E$2-$E$3),IF(C73=КАЛЬКУЛЯТОР!$C$21,$I$11,$I$11-SUMIF($A$12:$A$371,\"<=\"&$E$3,$H$12:$H$371)),0,0),\"\")","v":""},null,{"$f":"IFERROR((-IPMT(C73/12,B73,IF(C73=КАЛЬКУЛЯТОР!$C$21,$E$2,$E$2-$E$3),IF(C73=КАЛЬКУЛЯТОР!$C$21,$I$11,$I$11-SUMIF($A$12:$A$371,\"<=\"&$E$3,$H$12:$H$371)),0,0)),\"\")","v":""},{"$f":"IFERROR((-IPMT((C73-'КАЛЬКУЛЯТОР 1'!$P$1)/12,B73,IF(C73=КАЛЬКУЛЯТОР!$C$21,$E$2,$E$2-$E$3),IF(C73=КАЛЬКУЛЯТОР!$C$21,$I$11,$I$11-SUMIF($A$12:$A$371,\"<=\"&$E$3,$H$12:$H$371)),0,0)),\"\")","v":""},{"$f":"IFERROR((-PPMT(C73/12,B73,IF(C73=КАЛЬКУЛЯТОР!$C$21,$E$2,$E$2-$E$3),IF(C73=КАЛЬКУЛЯТОР!$C$21,$I$11,$I$11-SUMIF($A$12:$A$371,\"<=\"&$E$3,$H$12:$H$371)),0,0)),\"\")","v":""},"",{"$error":"#VALUE!"},null,{"$error":"#VALUE!"},{"$error":"#VALUE!"},{"$error":"#VALUE!"},{"$error":"#VALUE!"},false]
[63,63,{"$f":"IF(A74<=$E$3,КАЛЬКУЛЯТОР!$C$21,IF(AND(A74>$E$3,A74<=$E$2),$E$4,\"\"))","v":""},{"$f":"IF(A74<=$E$2,-PMT(C74/12,IF(C74=КАЛЬКУЛЯТОР!$C$21,$E$2,$E$2-$E$3),IF(C74=КАЛЬКУЛЯТОР!$C$21,$I$11,$I$11-SUMIF($A$12:$A$371,\"<=\"&$E$3,$H$12:$H$371)),0,0),\"\")","v":""},null,{"$f":"IFERROR((-IPMT(C74/12,B74,IF(C74=КАЛЬКУЛЯТОР!$C$21,$E$2,$E$2-$E$3),IF(C74=КАЛЬКУЛЯТОР!$C$21,$I$11,$I$11-SUMIF($A$12:$A$371,\"<=\"&$E$3,$H$12:$H$371)),0,0)),\"\")","v":""},{"$f":"IFERROR((-IPMT((C74-'КАЛЬКУЛЯТОР 1'!$P$1)/12,B74,IF(C74=КАЛЬКУЛЯТОР!$C$21,$E$2,$E$2-$E$3),IF(C74=КАЛЬКУЛЯТОР!$C$21,$I$11,$I$11-SUMIF($A$12:$A$371,\"<=\"&$E$3,$H$12:$H$371)),0,0)),\"\")","v":""},{"$f":"IFERROR((-PPMT(C74/12,B74,IF(C74=КАЛЬКУЛЯТОР!$C$21,$E$2,$E$2-$E$3),IF(C74=КАЛЬКУЛЯТОР!$C$21,$I$11,$I$11-SUMIF($A$12:$A$371,\"<=\"&$E$3,$H$12:$H$371)),0,0)),\"\")","v":""},"",{"$error":"#VALUE!"},null,{"$error":"#VALUE!"},{"$error":"#VALUE!"},{"$error":"#VALUE!"},{"$error":"#VALUE!"},false]
[64,64,{"$f":"IF(A75<=$E$3,КАЛЬКУЛЯТОР!$C$21,IF(AND(A75>$E$3,A75<=$E$2),$E$4,\"\"))","v":""},{"$f":"IF(A75<=$E$2,-PMT(C75/12,IF(C75=КАЛЬКУЛЯТОР!$C$21,$E$2,$E$2-$E$3),IF(C75=КАЛЬКУЛЯТОР!$C$21,$I$11,$I$11-SUMIF($A$12:$A$371,\"<=\"&$E$3,$H$12:$H$371)),0,0),\"\")","v":""},null,{"$f":"IFERROR((-IPMT(C75/12,B75,IF(C75=КАЛЬКУЛЯТОР!$C$21,$E$2,$E$2-$E$3),IF(C75=КАЛЬКУЛЯТОР!$C$21,$I$11,$I$11-SUMIF($A$12:$A$371,\"<=\"&$E$3,$H$12:$H$371)),0,0)),\"\")","v":""},{"$f":"IFERROR((-IPMT((C75-'КАЛЬКУЛЯТОР 1'!$P$1)/12,B75,IF(C75=КАЛЬКУЛЯТОР!$C$21,$E$2,$E$2-$E$3),IF(C75=КАЛЬКУЛЯТОР!$C$21,$I$11,$I$11-SUMIF($A$12:$A$371,\"<=\"&$E$3,$H$12:$H$371)),0,0)),\"\")","v":""},{"$f":"IFERROR((-PPMT(C75/12,B75,IF(C75=КАЛЬКУЛЯТОР!$C$21,$E$2,$E$2-$E$3),IF(C75=КАЛЬКУЛЯТОР!$C$21,$I$11,$I$11-SUMIF($A$12:$A$371,\"<=\"&$E$3,$H$12:$H$371)),0,0)),\"\")","v":""},"",{"$error":"#VALUE!"},null,{"$error":"#VALUE!"},{"$error":"#VALUE!"},{"$error":"#VALUE!"},{"$error":"#VALUE!"},false]
[65,65,{"$f":"IF(A76<=$E$3,КАЛЬКУЛЯТОР!$C$21,IF(AND(A76>$E$3,A76<=$E$2),$E$4,\"\"))","v":""},{"$f":"IF(A76<=$E$2,-PMT(C76/12,IF(C76=КАЛЬКУЛЯТОР!$C$21,$E$2,$E$2-$E$3),IF(C76=КАЛЬКУЛЯТОР!$C$21,$I$11,$I$11-SUMIF($A$12:$A$371,\"<=\"&$E$3,$H$12:$H$371)),0,0),\"\")","v":""},null,{"$f":"IFERROR((-IPMT(C76/12,B76,IF(C76=КАЛЬКУЛЯТОР!$C$21,$E$2,$E$2-$E$3),IF(C76=КАЛЬКУЛЯТОР!$C$21,$I$11,$I$11-SUMIF($A$12:$A$371,\"<=\"&$E$3,$H$12:$H$371)),0,0)),\"\")","v":""},{"$f":"IFERROR((-IPMT((C76-'КАЛЬКУЛЯТОР 1'!$P$1)/12,B76,IF(C76=КАЛЬКУЛЯТОР!$C$21,$E$2,$E$2-$E$3),IF(C76=КАЛЬКУЛЯТОР!$C$21,$I$11,$I$11-SUMIF($A$12:$A$371,\"<=\"&$E$3,$H$12:$H$371)),0,0)),\"\")","v":""},{"$f":"IFERROR((-PPMT(C76/12,B76,IF(C76=КАЛЬКУЛЯТОР!$C$21,$E$2,$E$2-$E$3),IF(C76=КАЛЬКУЛЯТОР!$C$21,$I$11,$I$11-SUMIF($A$12:$A$371,\"<=\"&$E$3,$H$12:$H$371)),0,0)),\"\")","v":""},{"$f":"IFERROR(I75-H76,\"\")","v":""},{"$f":"PV($E$5/12,A76-1,0,-D76)","v":{"$error":"#VALUE!"}},null,{"$f":"PV($E$5/12,A76-1,0,-F76)","v":{"$error":"#VALUE!"}},{"$f":"PV($E$5/12,A76-1,0,-G76)","v":{"$error":"#VALUE!"}},{"$f":"PV($E$5/12,A76-1,0,-H76)","v":{"$error":"#VALUE!"}},{"$f":"O75-N76","v":{"$error":"#VALUE!"}},{"$f":"AND(A76<=$E$3)","v":false}]
[66,{"$f":"ROUND(IF(P77=$P$12,B76+1,A77-$E$3),0)","v":66},{"$f":"IF(A77<=$E$3,КАЛЬКУЛЯТОР!$C$21,IF(AND(A77>$E$3,A77<=$E$2),$E$4,\"\"))","v":""},{"$f":"IF(A77<=$E$2,-PMT(C77/12,IF(C77=КАЛЬКУЛЯТОР!$C$21,$E$2,$E$2-$E$3),IF(C77=КАЛЬКУЛЯТОР!$C$21,$I$11,$I$11-SUMIF($A$12:$A$371,\"<=\"&$E$3,$H$12:$H$371)),0,0),\"\")","v":""},null,{"$f":"IFERROR((-IPMT(C77/12,B77,IF(C77=КАЛЬКУЛЯТОР!$C$21,$E$2,$E$2-$E$3),IF(C77=КАЛЬКУЛЯТОР!$C$21,$I$11,$I$11-SUMIF($A$12:$A$371,\"<=\"&$E$3,$H$12:$H$371)),0,0)),\"\")","v":""},{"$f":"IFERROR((-IPMT((C77-'КАЛЬКУЛЯТОР 1'!$P$1)/12,B77,IF(C77=КАЛЬКУЛЯТОР!$C$21,$E$2,$E$2-$E$3),IF(C77=КАЛЬКУЛЯТОР!$C$21,$I$11,$I$11-SUMIF($A$12:$A$371,\"<=\"&$E$3,$H$12:$H$371)),0,0)),\"\")","v":""},{"$f":"IFERROR((-PPMT(C77/12,B77,IF(C77=КАЛЬКУЛЯТОР!$C$21,$E$2,$E$2-$E$3),IF(C77=КАЛЬКУЛЯТОР!$C$21,$I$11,$I$11-SUMIF($A$12:$A$371,\"<=\"&$E$3,$H$12:$H$371)),0,0)),\"\")","v":""},"",{"$error":"#VALUE!"},null,{"$error":"#VALUE!"},{"$error":"#VALUE!"},{"$error":"#VALUE!"},{"$error":"#VALUE!"},false]
[67,67,{"$f":"IF(A78<=$E$3,КАЛЬКУЛЯТОР!$C$21,IF(AND(A78>$E$3,A78<=$E$2),$E$4,\"\"))","v":""},{"$f":"IF(A78<=$E$2,-PMT(C78/12,IF(C78=КАЛЬКУЛЯТОР!$C$21,$E$2,$E$2-$E$3),IF(C78=КАЛЬКУЛЯТОР!$C$21,$I$11,$I$11-SUMIF($A$12:$A$371,\"<=\"&$E$3,$H$12:$H$371)),0,0),\"\")","v":""},null,{"$f":"IFERROR((-IPMT(C78/12,B78,IF(C78=КАЛЬКУЛЯТОР!$C$21,$E$2,$E$2-$E$3),IF(C78=КАЛЬКУЛЯТОР!$C$21,$I$11,$I$11-SUMIF($A$12:$A$371,\"<=\"&$E$3,$H$12:$H$371)),0,0)),\"\")","v":""},{"$f":"IFERROR((-IPMT((C78-'КАЛЬКУЛЯТОР 1'!$P$1)/12,B78,IF(C78=КАЛЬКУЛЯТОР!$C$21,$E$2,$E$2-$E$3),IF(C78=КАЛЬКУЛЯТОР!$C$21,$I$11,$I$11-SUMIF($A$12:$A$371,\"<=\"&$E$3,$H$12:$H$371)),0,0)),\"\")","v":""},{"$f":"IFERROR((-PPMT(C78/12,B78,IF(C78=КАЛЬКУЛЯТОР!$C$21,$E$2,$E$2-$E$3),IF(C78=КАЛЬКУЛЯТОР!$C$21,$I$11,$I$11-SUMIF($A$12:$A$371,\"<=\"&$E$3,$H$12:$H$371)),0,0)),\"\")","v":""},"",{"$error":"#VALUE!"},null,{"$error":"#VALUE!"},{"$error":"#VALUE!"},{"$error":"#VALUE!"},{"$error":"#VALUE!"},false]
[68,68,{"$f":"IF(A79<=$E$3,КАЛЬКУЛЯТОР!$C$21,IF(AND(A79>$E$3,A79<=$E$2),$E$4,\"\"))","v":""},{"$f":"IF(A79<=$E$2,-PMT(C79/12,IF(C79=КАЛЬКУЛЯТОР!$C$21,$E$2,$E$2-$E$3),IF(C79=КАЛЬКУЛЯТОР!$C$21,$I$11,$I$11-SUMIF($A$12:$A$371,\"<=\"&$E$3,$H$12:$H$371)),0,0),\"\")","v":""},null,{"$f":"IFERROR((-IPMT(C79/12,B79,IF(C79=КАЛЬКУЛЯТОР!$C$21,$E$2,$E$2-$E$3),IF(C79=КАЛЬКУЛЯТОР!$C$21,$I$11,$I$11-SUMIF($A$12:$A$371,\"<=\"&$E$3,$H$12:$H$371)),0,0)),\"\")","v":""},{"$f":"IFERROR((-IPMT((C79-'КАЛЬКУЛЯТОР 1'!$P$1)/12,B79,IF(C79=КАЛЬКУЛЯТОР!$C$21,$E$2,$E$2-$E$3),IF(C79=КАЛЬКУЛЯТОР!$C$21,$I$11,$I$11-SUMIF($A$12:$A$371,\"<=\"&$E$3,$H$12:$H$371)),0,0)),\"\")","v":""},{"$f":"IFERROR((-PPMT(C79/12,B79,IF(C79=КАЛЬКУЛЯТОР!$C$21,$E$2,$E$2-$E$3),IF(C79=КАЛЬКУЛЯТОР!$C$21,$I$11,$I$11-SUMIF($A$12:$A$371,\"<=\"&$E$3,$H$12:$H$371)),0,0)),\"\")","v":""},"",{"$error":"#VALUE!"},null,{"$error":"#VALUE!"},{"$error":"#VALUE!"},{"$error":"#VALUE!"},{"$error":"#VALUE!"},false]
[69,69,{"$f":"IF(A80<=$E$3,КАЛЬКУЛЯТОР!$C$21,IF(AND(A80>$E$3,A80<=$E$2),$E$4,\"\"))","v":""},{"$f":"IF(A80<=$E$2,-PMT(C80/12,IF(C80=КАЛЬКУЛЯТОР!$C$21,$E$2,$E$2-$E$3),IF(C80=КАЛЬКУЛЯТОР!$C$21,$I$11,$I$11-SUMIF($A$12:$A$371,\"<=\"&$E$3,$H$12:$H$371)),0,0),\"\")","v":""},null,{"$f":"IFERROR((-IPMT(C80/12,B80,IF(C80=КАЛЬКУЛЯТОР!$C$21,$E$2,$E$2-$E$3),IF(C80=КАЛЬКУЛЯТОР!$C$21,$I$11,$I$11-SUMIF($A$12:$A$371,\"<=\"&$E$3,$H$12:$H$371)),0,0)),\"\")","v":""},{"$f":"IFERROR((-IPMT((C80-'КАЛЬКУЛЯТОР 1'!$P$1)/12,B80,IF(C80=КАЛЬКУЛЯТОР!$C$21,$E$2,$E$2-$E$3),IF(C80=КАЛЬКУЛЯТОР!$C$21,$I$11,$I$11-SUMIF($A$12:$A$371,\"<=\"&$E$3,$H$12:$H$371)),0,0)),\"\")","v":""},{"$f":"IFERROR((-PPMT(C80/12,B80,IF(C80=КАЛЬКУЛЯТОР!$C$21,$E$2,$E$2-$E$3),IF(C80=КАЛЬКУЛЯТОР!$C$21,$I$11,$I$11-SUMIF($A$12:$A$371,\"<=\"&$E$3,$H$12:$H$371)),0,0)),\"\")","v":""},"",{"$error":"#VALUE!"},null,{"$error":"#VALUE!"},{"$error":"#VALUE!"},{"$error":"#VALUE!"},{"$error":"#VALUE!"},false]
[70,70,{"$f":"IF(A81<=$E$3,КАЛЬКУЛЯТОР!$C$21,IF(AND(A81>$E$3,A81<=$E$2),$E$4,\"\"))","v":""},{"$f":"IF(A81<=$E$2,-PMT(C81/12,IF(C81=КАЛЬКУЛЯТОР!$C$21,$E$2,$E$2-$E$3),IF(C81=КАЛЬКУЛЯТОР!$C$21,$I$11,$I$11-SUMIF($A$12:$A$371,\"<=\"&$E$3,$H$12:$H$371)),0,0),\"\")","v":""},null,{"$f":"IFERROR((-IPMT(C81/12,B81,IF(C81=КАЛЬКУЛЯТОР!$C$21,$E$2,$E$2-$E$3),IF(C81=КАЛЬКУЛЯТОР!$C$21,$I$11,$I$11-SUMIF($A$12:$A$371,\"<=\"&$E$3,$H$12:$H$371)),0,0)),\"\")","v":""},{"$f":"IFERROR((-IPMT((C81-'КАЛЬКУЛЯТОР 1'!$P$1)/12,B81,IF(C81=КАЛЬКУЛЯТОР!$C$21,$E$2,$E$2-$E$3),IF(C81=КАЛЬКУЛЯТОР!$C$21,$I$11,$I$11-SUMIF($A$12:$A$371,\"<=\"&$E$3,$H$12:$H$371)),0,0)),\"\")","v":""},{"$f":"IFERROR((-PPMT(C81/12,B81,IF(C81=КАЛЬКУЛЯТОР!$C$21,$E$2,$E$2-$E$3),IF(C81=КАЛЬКУЛЯТОР!$C$21,$I$11,$I$11-SUMIF($A$12:$A$371,\"<=\"&$E$3,$H$12:$H$371)),0,0)),\"\")","v":""},"",{"$error":"#VALUE!"},null,{"$error":"#VALUE!"},{"$error":"#VALUE!"},{"$error":"#VALUE!"},{"$error":"#VALUE!"},false]
[71,71,{"$f":"IF(A82<=$E$3,КАЛЬКУЛЯТОР!$C$21,IF(AND(A82>$E$3,A82<=$E$2),$E$4,\"\"))","v":""},{"$f":"IF(A82<=$E$2,-PMT(C82/12,IF(C82=КАЛЬКУЛЯТОР!$C$21,$E$2,$E$2-$E$3),IF(C82=КАЛЬКУЛЯТОР!$C$21,$I$11,$I$11-SUMIF($A$12:$A$371,\"<=\"&$E$3,$H$12:$H$371)),0,0),\"\")","v":""},null,{"$f":"IFERROR((-IPMT(C82/12,B82,IF(C82=КАЛЬКУЛЯТОР!$C$21,$E$2,$E$2-$E$3),IF(C82=КАЛЬКУЛЯТОР!$C$21,$I$11,$I$11-SUMIF($A$12:$A$371,\"<=\"&$E$3,$H$12:$H$371)),0,0)),\"\")","v":""},{"$f":"IFERROR((-IPMT((C82-'КАЛЬКУЛЯТОР 1'!$P$1)/12,B82,IF(C82=КАЛЬКУЛЯТОР!$C$21,$E$2,$E$2-$E$3),IF(C82=КАЛЬКУЛЯТОР!$C$21,$I$11,$I$11-SUMIF($A$12:$A$371,\"<=\"&$E$3,$H$12:$H$371)),0,0)),\"\")","v":""},{"$f":"IFERROR((-PPMT(C82/12,B82,IF(C82=КАЛЬКУЛЯТОР!$C$21,$E$2,$E$2-$E$3),IF(C82=КАЛЬКУЛЯТОР!$C$21,$I$11,$I$11-SUMIF($A$12:$A$371,\"<=\"&$E$3,$H$12:$H$371)),0,0)),\"\")","v":""},"",{"$error":"#VALUE!"},null,{"$error":"#VALUE!"},{"$error":"#VALUE!"},{"$error":"#VALUE!"},{"$error":"#VALUE!"},false]
[72,72,{"$f":"IF(A83<=$E$3,КАЛЬКУЛЯТОР!$C$21,IF(AND(A83>$E$3,A83<=$E$2),$E$4,\"\"))","v":""},{"$f":"IF(A83<=$E$2,-PMT(C83/12,IF(C83=КАЛЬКУЛЯТОР!$C$21,$E$2,$E$2-$E$3),IF(C83=КАЛЬКУЛЯТОР!$C$21,$I$11,$I$11-SUMIF($A$12:$A$371,\"<=\"&$E$3,$H$12:$H$371)),0,0),\"\")","v":""},null,{"$f":"IFERROR((-IPMT(C83/12,B83,IF(C83=КАЛЬКУЛЯТОР!$C$21,$E$2,$E$2-$E$3),IF(C83=КАЛЬКУЛЯТОР!$C$21,$I$11,$I$11-SUMIF($A$12:$A$371,\"<=\"&$E$3,$H$12:$H$371)),0,0)),\"\")","v":""},{"$f":"IFERROR((-IPMT((C83-'КАЛЬКУЛЯТОР 1'!$P$1)/12,B83,IF(C83=КАЛЬКУЛЯТОР!$C$21,$E$2,$E$2-$E$3),IF(C83=КАЛЬКУЛЯТОР!$C$21,$I$11,$I$11-SUMIF($A$12:$A$371,\"<=\"&$E$3,$H$12:$H$371)),0,0)),\"\")","v":""},{"$f":"IFERROR((-PPMT(C83/12,B83,IF(C83=КАЛЬКУЛЯТОР!$C$21,$E$2,$E$2-$E$3),IF(C83=КАЛЬКУЛЯТОР!$C$21,$I$11,$I$11-SUMIF($A$12:$A$371,\"<=\"&$E$3,$H$12:$H$371)),0,0)),\"\")","v":""},"",{"$error":"#VALUE!"},null,{"$error":"#VALUE!"},{"$error":"#VALUE!"},{"$error":"#VALUE!"},{"$error":"#VALUE!"},false]
[73,73,{"$f":"IF(A84<=$E$3,КАЛЬКУЛЯТОР!$C$21,IF(AND(A84>$E$3,A84<=$E$2),$E$4,\"\"))","v":""},{"$f":"IF(A84<=$E$2,-PMT(C84/12,IF(C84=КАЛЬКУЛЯТОР!$C$21,$E$2,$E$2-$E$3),IF(C84=КАЛЬКУЛЯТОР!$C$21,$I$11,$I$11-SUMIF($A$12:$A$371,\"<=\"&$E$3,$H$12:$H$371)),0,0)+E84,\"\")","v":""},{"$f":"IF($E$2>$A83,(I83+SUM(F84:F95))*($K$4+$K$5),0)","v":{"v":0,"d":"0.00"}},{"$f":"IFERROR((-IPMT(C84/12,B84,IF(C84=КАЛЬКУЛЯТОР!$C$21,$E$2,$E$2-$E$3),IF(C84=КАЛЬКУЛЯТОР!$C$21,$I$11,$I$11-SUMIF($A$12:$A$371,\"<=\"&$E$3,$H$12:$H$371)),0,0)),\"\")","v":""},{"$f":"IFERROR((-IPMT((C84-'КАЛЬКУЛЯТОР 1'!$P$1)/12,B84,IF(C84=КАЛЬКУЛЯТОР!$C$21,$E$2,$E$2-$E$3),IF(C84=КАЛЬКУЛЯТОР!$C$21,$I$11,$I$11-SUMIF($A$12:$A$371,\"<=\"&$E$3,$H$12:$H$371)),0,0)),\"\")","v":""},{"$f":"IFERROR((-PPMT(C84/12,B84,IF(C84=КАЛЬКУЛЯТОР!$C$21,$E$2,$E$2-$E$3),IF(C84=КАЛЬКУЛЯТОР!$C$21,$I$11,$I$11-SUMIF($A$12:$A$371,\"<=\"&$E$3,$H$12:$H$371)),0,0)),\"\")","v":""},"",{"$error":"#VALUE!"},{"$f":"PV($E$5/12,A84-1,0,-E84)","v":{"v":0,"d":"0.00"}},{"$error":"#VALUE!"},{"$error":"#VALUE!"},{"$error":"#VALUE!"},{"$error":"#VALUE!"},false]
[74,74,{"$f":"IF(A85<=$E$3,КАЛЬКУЛЯТОР!$C$21,IF(AND(A85>$E$3,A85<=$E$2),$E$4,\"\"))","v":""},{"$f":"IF(A85<=$E$2,-PMT(C85/12,IF(C85=КАЛЬКУЛЯТОР!$C$21,$E$2,$E$2-$E$3),IF(C85=КАЛЬКУЛЯТОР!$C$21,$I$11,$I$11-SUMIF($A$12:$A$371,\"<=\"&$E$3,$H$12:$H$371)),0,0),\"\")","v":""},null,{"$f":"IFERROR((-IPMT(C85/12,B85,IF(C85=КАЛЬКУЛЯТОР!$C$21,$E$2,$E$2-$E$3),IF(C85=КАЛЬКУЛЯТОР!$C$21,$I$11,$I$11-SUMIF($A$12:$A$371,\"<=\"&$E$3,$H$12:$H$371)),0,0)),\"\")","v":""},{"$f":"IFERROR((-IPMT((C85-'КАЛЬКУЛЯТОР 1'!$P$1)/12,B85,IF(C85=КАЛЬКУЛЯТОР!$C$21,$E$2,$E$2-$E$3),IF(C85=КАЛЬКУЛЯТОР!$C$21,$I$11,$I$11-SUMIF($A$12:$A$371,\"<=\"&$E$3,$H$12:$H$371)),0,0)),\"\")","v":""},{"$f":"IFERROR((-PPMT(C85/12,B85,IF(C85=КАЛЬКУЛЯТОР!$C$21,$E$2,$E$2-$E$3),IF(C85=КАЛЬКУЛЯТОР!$C$21,$I$11,$I$11-SUMIF($A$12:$A$371,\"<=\"&$E$3,$H$12:$H$371)),0,0)),\"\")","v":""},"",{"$error":"#VALUE!"},null,{"$error":"#VALUE!"},{"$error":"#VALUE!"},{"$error":"#VALUE!"},{"$error":"#VALUE!"},false]
[75,75,{"$f":"IF(A86<=$E$3,КАЛЬКУЛЯТОР!$C$21,IF(AND(A86>$E$3,A86<=$E$2),$E$4,\"\"))","v":""},{"$f":"IF(A86<=$E$2,-PMT(C86/12,IF(C86=КАЛЬКУЛЯТОР!$C$21,$E$2,$E$2-$E$3),IF(C86=КАЛЬКУЛЯТОР!$C$21,$I$11,$I$11-SUMIF($A$12:$A$371,\"<=\"&$E$3,$H$12:$H$371)),0,0),\"\")","v":""},null,{"$f":"IFERROR((-IPMT(C86/12,B86,IF(C86=КАЛЬКУЛЯТОР!$C$21,$E$2,$E$2-$E$3),IF(C86=КАЛЬКУЛЯТОР!$C$21,$I$11,$I$11-SUMIF($A$12:$A$371,\"<=\"&$E$3,$H$12:$H$371)),0,0)),\"\")","v":""},{"$f":"IFERROR((-IPMT((C86-'КАЛЬКУЛЯТОР 1'!$P$1)/12,B86,IF(C86=КАЛЬКУЛЯТОР!$C$21,$E$2,$E$2-$E$3),IF(C86=КАЛЬКУЛЯТОР!$C$21,$I$11,$I$11-SUMIF($A$12:$A$371,\"<=\"&$E$3,$H$12:$H$371)),0,0)),\"\")","v":""},{"$f":"IFERROR((-PPMT(C86/12,B86,IF(C86=КАЛЬКУЛЯТОР!$C$21,$E$2,$E$2-$E$3),IF(C86=КАЛЬКУЛЯТОР!$C$21,$I$11,$I$11-SUMIF($A$12:$A$371,\"<=\"&$E$3,$H$12:$H$371)),0,0)),\"\")","v":""},"",{"$error":"#VALUE!"},null,{"$error":"#VALUE!"},{"$error":"#VALUE!"},{"$error":"#VALUE!"},{"$error":"#VALUE!"},false]
[76,76,{"$f":"IF(A87<=$E$3,КАЛЬКУЛЯТОР!$C$21,IF(AND(A87>$E$3,A87<=$E$2),$E$4,\"\"))","v":""},{"$f":"IF(A87<=$E$2,-PMT(C87/12,IF(C87=КАЛЬКУЛЯТОР!$C$21,$E$2,$E$2-$E$3),IF(C87=КАЛЬКУЛЯТОР!$C$21,$I$11,$I$11-SUMIF($A$12:$A$371,\"<=\"&$E$3,$H$12:$H$371)),0,0),\"\")","v":""},null,{"$f":"IFERROR((-IPMT(C87/12,B87,IF(C87=КАЛЬКУЛЯТОР!$C$21,$E$2,$E$2-$E$3),IF(C87=КАЛЬКУЛЯТОР!$C$21,$I$11,$I$11-SUMIF($A$12:$A$371,\"<=\"&$E$3,$H$12:$H$371)),0,0)),\"\")","v":""},{"$f":"IFERROR((-IPMT((C87-'КАЛЬКУЛЯТОР 1'!$P$1)/12,B87,IF(C87=КАЛЬКУЛЯТОР!$C$21,$E$2,$E$2-$E$3),IF(C87=КАЛЬКУЛЯТОР!$C$21,$I$11,$I$11-SUMIF($A$12:$A$371,\"<=\"&$E$3,$H$12:$H$371)),0,0)),\"\")","v":""},{"$f":"IFERROR((-PPMT(C87/12,B87,IF(C87=КАЛЬКУЛЯТОР!$C$21,$E$2,$E$2-$E$3),IF(C87=КАЛЬКУЛЯТОР!$C$21,$I$11,$I$11-SUMIF($A$12:$A$371,\"<=\"&$E$3,$H$12:$H$371)),0,0)),\"\")","v":""},"",{"$error":"#VALUE!"},null,{"$error":"#VALUE!"},{"$error":"#VALUE!"},{"$error":"#VALUE!"},{"$error":"#VALUE!"},false]
[77,77,{"$f":"IF(A88<=$E$3,КАЛЬКУЛЯТОР!$C$21,IF(AND(A88>$E$3,A88<=$E$2),$E$4,\"\"))","v":""},{"$f":"IF(A88<=$E$2,-PMT(C88/12,IF(C88=КАЛЬКУЛЯТОР!$C$21,$E$2,$E$2-$E$3),IF(C88=КАЛЬКУЛЯТОР!$C$21,$I$11,$I$11-SUMIF($A$12:$A$371,\"<=\"&$E$3,$H$12:$H$371)),0,0),\"\")","v":""},null,{"$f":"IFERROR((-IPMT(C88/12,B88,IF(C88=КАЛЬКУЛЯТОР!$C$21,$E$2,$E$2-$E$3),IF(C88=КАЛЬКУЛЯТОР!$C$21,$I$11,$I$11-SUMIF($A$12:$A$371,\"<=\"&$E$3,$H$12:$H$371)),0,0)),\"\")","v":""},{"$f":"IFERROR((-IPMT((C88-'КАЛЬКУЛЯТОР 1'!$P$1)/12,B88,IF(C88=КАЛЬКУЛЯТОР!$C$21,$E$2,$E$2-$E$3),IF(C88=КАЛЬКУЛЯТОР!$C$21,$I$11,$I$11-SUMIF($A$12:$A$371,\"<=\"&$E$3,$H$12:$H$371)),0,0)),\"\")","v":""},{"$f":"IFERROR((-PPMT(C88/12,B88,IF(C88=КАЛЬКУЛЯТОР!$C$21,$E$2,$E$2-$E$3),IF(C88=КАЛЬКУЛЯТОР!$C$21,$I$11,$I$11-SUMIF($A$12:$A$371,\"<=\"&$E$3,$H$12:$H$371)),0,0)),\"\")","v":""},"",{"$error":"#VALUE!"},null,{"$error":"#VALUE!"},{"$error":"#VALUE!"},{"$error":"#VALUE!"},{"$error":"#VALUE!"},false]
[78,78,{"$f":"IF(A89<=$E$3,КАЛЬКУЛЯТОР!$C$21,IF(AND(A89>$E$3,A89<=$E$2),$E$4,\"\"))","v":""},{"$f":"IF(A89<=$E$2,-PMT(C89/12,IF(C89=КАЛЬКУЛЯТОР!$C$21,$E$2,$E$2-$E$3),IF(C89=КАЛЬКУЛЯТОР!$C$21,$I$11,$I$11-SUMIF($A$12:$A$371,\"<=\"&$E$3,$H$12:$H$371)),0,0),\"\")","v":""},null,{"$f":"IFERROR((-IPMT(C89/12,B89,IF(C89=КАЛЬКУЛЯТОР!$C$21,$E$2,$E$2-$E$3),IF(C89=КАЛЬКУЛЯТОР!$C$21,$I$11,$I$11-SUMIF($A$12:$A$371,\"<=\"&$E$3,$H$12:$H$371)),0,0)),\"\")","v":""},{"$f":"IFERROR((-IPMT((C89-'КАЛЬКУЛЯТОР 1'!$P$1)/12,B89,IF(C89=КАЛЬКУЛЯТОР!$C$21,$E$2,$E$2-$E$3),IF(C89=КАЛЬКУЛЯТОР!$C$21,$I$11,$I$11-SUMIF($A$12:$A$371,\"<=\"&$E$3,$H$12:$H$371)),0,0)),\"\")","v":""},{"$f":"IFERROR((-PPMT(C89/12,B89,IF(C89=КАЛЬКУЛЯТОР!$C$21,$E$2,$E$2-$E$3),IF(C89=КАЛЬКУЛЯТОР!$C$21,$I$11,$I$11-SUMIF($A$12:$A$371,\"<=\"&$E$3,$H$12:$H$371)),0,0)),\"\")","v":""},"",{"$error":"#VALUE!"},null,{"$error":"#VALUE!"},{"$error":"#VALUE!"},{"$error":"#VALUE!"},{"$error":"#VALUE!"},false]
[79,79,{"$f":"IF(A90<=$E$3,КАЛЬКУЛЯТОР!$C$21,IF(AND(A90>$E$3,A90<=$E$2),$E$4,\"\"))","v":""},{"$f":"IF(A90<=$E$2,-PMT(C90/12,IF(C90=КАЛЬКУЛЯТОР!$C$21,$E$2,$E$2-$E$3),IF(C90=КАЛЬКУЛЯТОР!$C$21,$I$11,$I$11-SUMIF($A$12:$A$371,\"<=\"&$E$3,$H$12:$H$371)),0,0),\"\")","v":""},null,{"$f":"IFERROR((-IPMT(C90/12,B90,IF(C90=КАЛЬКУЛЯТОР!$C$21,$E$2,$E$2-$E$3),IF(C90=КАЛЬКУЛЯТОР!$C$21,$I$11,$I$11-SUMIF($A$12:$A$371,\"<=\"&$E$3,$H$12:$H$371)),0,0)),\"\")","v":""},{"$f":"IFERROR((-IPMT((C90-'КАЛЬКУЛЯТОР 1'!$P$1)/12,B90,IF(C90=КАЛЬКУЛЯТОР!$C$21,$E$2,$E$2-$E$3),IF(C90=КАЛЬКУЛЯТОР!$C$21,$I$11,$I$11-SUMIF($A$12:$A$371,\"<=\"&$E$3,$H$12:$H$371)),0,0)),\"\")","v":""},{"$f":"IFERROR((-PPMT(C90/12,B90,IF(C90=КАЛЬКУЛЯТОР!$C$21,$E$2,$E$2-$E$3),IF(C90=КАЛЬКУЛЯТОР!$C$21,$I$11,$I$11-SUMIF($A$12:$A$371,\"<=\"&$E$3,$H$12:$H$371)),0,0)),\"\")","v":""},"",{"$error":"#VALUE!"},null,{"$error":"#VALUE!"},{"$error":"#VALUE!"},{"$error":"#VALUE!"},{"$error":"#VALUE!"},false]
[80,80,{"$f":"IF(A91<=$E$3,КАЛЬКУЛЯТОР!$C$21,IF(AND(A91>$E$3,A91<=$E$2),$E$4,\"\"))","v":""},{"$f":"IF(A91<=$E$2,-PMT(C91/12,IF(C91=КАЛЬКУЛЯТОР!$C$21,$E$2,$E$2-$E$3),IF(C91=КАЛЬКУЛЯТОР!$C$21,$I$11,$I$11-SUMIF($A$12:$A$371,\"<=\"&$E$3,$H$12:$H$371)),0,0),\"\")","v":""},null,{"$f":"IFERROR((-IPMT(C91/12,B91,IF(C91=КАЛЬКУЛЯТОР!$C$21,$E$2,$E$2-$E$3),IF(C91=КАЛЬКУЛЯТОР!$C$21,$I$11,$I$11-SUMIF($A$12:$A$371,\"<=\"&$E$3,$H$12:$H$371)),0,0)),\"\")","v":""},{"$f":"IFERROR((-IPMT((C91-'КАЛЬКУЛЯТОР 1'!$P$1)/12,B91,IF(C91=КАЛЬКУЛЯТОР!$C$21,$E$2,$E$2-$E$3),IF(C91=КАЛЬКУЛЯТОР!$C$21,$I$11,$I$11-SUMIF($A$12:$A$371,\"<=\"&$E$3,$H$12:$H$371)),0,0)),\"\")","v":""},{"$f":"IFERROR((-PPMT(C91/12,B91,IF(C91=КАЛЬКУЛЯТОР!$C$21,$E$2,$E$2-$E$3),IF(C91=КАЛЬКУЛЯТОР!$C$21,$I$11,$I$11-SUMIF($A$12:$A$371,\"<=\"&$E$3,$H$12:$H$371)),0,0)),\"\")","v":""},"",{"$error":"#VALUE!"},null,{"$error":"#VALUE!"},{"$error":"#VALUE!"},{"$error":"#VALUE!"},{"$error":"#VALUE!"},false]
[81,81,{"$f":"IF(A92<=$E$3,КАЛЬКУЛЯТОР!$C$21,IF(AND(A92>$E$3,A92<=$E$2),$E$4,\"\"))","v":""},{"$f":"IF(A92<=$E$2,-PMT(C92/12,IF(C92=КАЛЬКУЛЯТОР!$C$21,$E$2,$E$2-$E$3),IF(C92=КАЛЬКУЛЯТОР!$C$21,$I$11,$I$11-SUMIF($A$12:$A$371,\"<=\"&$E$3,$H$12:$H$371)),0,0),\"\")","v":""},null,{"$f":"IFERROR((-IPMT(C92/12,B92,IF(C92=КАЛЬКУЛЯТОР!$C$21,$E$2,$E$2-$E$3),IF(C92=КАЛЬКУЛЯТОР!$C$21,$I$11,$I$11-SUMIF($A$12:$A$371,\"<=\"&$E$3,$H$12:$H$371)),0,0)),\"\")","v":""},{"$f":"IFERROR((-IPMT((C92-'КАЛЬКУЛЯТОР 1'!$P$1)/12,B92,IF(C92=КАЛЬКУЛЯТОР!$C$21,$E$2,$E$2-$E$3),IF(C92=КАЛЬКУЛЯТОР!$C$21,$I$11,$I$11-SUMIF($A$12:$A$371,\"<=\"&$E$3,$H$12:$H$371)),0,0)),\"\")","v":""},{"$f":"IFERROR((-PPMT(C92/12,B92,IF(C92=КАЛЬКУЛЯТОР!$C$21,$E$2,$E$2-$E$3),IF(C92=КАЛЬКУЛЯТОР!$C$21,$I$11,$I$11-SUMIF($A$12:$A$371,\"<=\"&$E$3,$H$12:$H$371)),0,0)),\"\")","v":""},"",{"$error":"#VALUE!"},null,{"$error":"#VALUE!"},{"$error":"#VALUE!"},{"$error":"#VALUE!"},{"$error":"#VALUE!"},false]
[82,82,{"$f":"IF(A93<=$E$3,КАЛЬКУЛЯТОР!$C$21,IF(AND(A93>$E$3,A93<=$E$2),$E$4,\"\"))","v":""},{"$f":"IF(A93<=$E$2,-PMT(C93/12,IF(C93=КАЛЬКУЛЯТОР!$C$21,$E$2,$E$2-$E$3),IF(C93=КАЛЬКУЛЯТОР!$C$21,$I$11,$I$11-SUMIF($A$12:$A$371,\"<=\"&$E$3,$H$12:$H$371)),0,0),\"\")","v":""},null,{"$f":"IFERROR((-IPMT(C93/12,B93,IF(C93=КАЛЬКУЛЯТОР!$C$21,$E$2,$E$2-$E$3),IF(C93=КАЛЬКУЛЯТОР!$C$21,$I$11,$I$11-SUMIF($A$12:$A$371,\"<=\"&$E$3,$H$12:$H$371)),0,0)),\"\")","v":""},{"$f":"IFERROR((-IPMT((C93-'КАЛЬКУЛЯТОР 1'!$P$1)/12,B93,IF(C93=КАЛЬКУЛЯТОР!$C$21,$E$2,$E$2-$E$3),IF(C93=КАЛЬКУЛЯТОР!$C$21,$I$11,$I$11-SUMIF($A$12:$A$371,\"<=\"&$E$3,$H$12:$H$371)),0,0)),\"\")","v":""},{"$f":"IFERROR((-PPMT(C93/12,B93,IF(C93=КАЛЬКУЛЯТОР!$C$21,$E$2,$E$2-$E$3),IF(C93=КАЛЬКУЛЯТОР!$C$21,$I$11,$I$11-SUMIF($A$12:$A$371,\"<=\"&$E$3,$H$12:$H$371)),0,0)),\"\")","v":""},"",{"$error":"#VALUE!"},null,{"$error":"#VALUE!"},{"$error":"#VALUE!"},{"$error":"#VALUE!"},{"$error":"#VALUE!"},false]
[83,83,{"$f":"IF(A94<=$E$3,КАЛЬКУЛЯТОР!$C$21,IF(AND(A94>$E$3,A94<=$E$2),$E$4,\"\"))","v":""},{"$f":"IF(A94<=$E$2,-PMT(C94/12,IF(C94=КАЛЬКУЛЯТОР!$C$21,$E$2,$E$2-$E$3),IF(C94=КАЛЬКУЛЯТОР!$C$21,$I$11,$I$11-SUMIF($A$12:$A$371,\"<=\"&$E$3,$H$12:$H$371)),0,0),\"\")","v":""},null,{"$f":"IFERROR((-IPMT(C94/12,B94,IF(C94=КАЛЬКУЛЯТОР!$C$21,$E$2,$E$2-$E$3),IF(C94=КАЛЬКУЛЯТОР!$C$21,$I$11,$I$11-SUMIF($A$12:$A$371,\"<=\"&$E$3,$H$12:$H$371)),0,0)),\"\")","v":""},{"$f":"IFERROR((-IPMT((C94-'КАЛЬКУЛЯТОР 1'!$P$1)/12,B94,IF(C94=КАЛЬКУЛЯТОР!$C$21,$E$2,$E$2-$E$3),IF(C94=КАЛЬКУЛЯТОР!$C$21,$I$11,$I$11-SUMIF($A$12:$A$371,\"<=\"&$E$3,$H$12:$H$371)),0,0)),\"\")","v":""},{"$f":"IFERROR((-PPMT(C94/12,B94,IF(C94=КАЛЬКУЛЯТОР!$C$21,$E$2,$E$2-$E$3),IF(C94=КАЛЬКУЛЯТОР!$C$21,$I$11,$I$11-SUMIF($A$12:$A$371,\"<=\"&$E$3,$H$12:$H$371)),0,0)),\"\")","v":""},"",{"$error":"#VALUE!"},null,{"$error":"#VALUE!"},{"$error":"#VALUE!"},{"$error":"#VALUE!"},{"$error":"#VALUE!"},false]
[84,84,{"$f":"IF(A95<=$E$3,КАЛЬКУЛЯТОР!$C$21,IF(AND(A95>$E$3,A95<=$E$2),$E$4,\"\"))","v":""},{"$f":"IF(A95<=$E$2,-PMT(C95/12,IF(C95=КАЛЬКУЛЯТОР!$C$21,$E$2,$E$2-$E$3),IF(C95=КАЛЬКУЛЯТОР!$C$21,$I$11,$I$11-SUMIF($A$12:$A$371,\"<=\"&$E$3,$H$12:$H$371)),0,0),\"\")","v":""},null,{"$f":"IFERROR((-IPMT(C95/12,B95,IF(C95=КАЛЬКУЛЯТОР!$C$21,$E$2,$E$2-$E$3),IF(C95=КАЛЬКУЛЯТОР!$C$21,$I$11,$I$11-SUMIF($A$12:$A$371,\"<=\"&$E$3,$H$12:$H$371)),0,0)),\"\")","v":""},{"$f":"IFERROR((-IPMT((C95-'КАЛЬКУЛЯТОР 1'!$P$1)/12,B95,IF(C95=КАЛЬКУЛЯТОР!$C$21,$E$2,$E$2-$E$3),IF(C95=КАЛЬКУЛЯТОР!$C$21,$I$11,$I$11-SUMIF($A$12:$A$371,\"<=\"&$E$3,$H$12:$H$371)),0,0)),\"\")","v":""},{"$f":"IFERROR((-PPMT(C95/12,B95,IF(C95=КАЛЬКУЛЯТОР!$C$21,$E$2,$E$2-$E$3),IF(C95=КАЛЬКУЛЯТОР!$C$21,$I$11,$I$11-SUMIF($A$12:$A$371,\"<=\"&$E$3,$H$12:$H$371)),0,0)),\"\")","v":""},"",{"$error":"#VALUE!"},null,{"$error":"#VALUE!"},{"$error":"#VALUE!"},{"$error":"#VALUE!"},{"$error":"#VALUE!"},false]
[85,85,{"$f":"IF(A96<=$E$3,КАЛЬКУЛЯТОР!$C$21,IF(AND(A96>$E$3,A96<=$E$2),$E$4,\"\"))","v":""},{"$f":"IF(A96<=$E$2,-PMT(C96/12,IF(C96=КАЛЬКУЛЯТОР!$C$21,$E$2,$E$2-$E$3),IF(C96=КАЛЬКУЛЯТОР!$C$21,$I$11,$I$11-SUMIF($A$12:$A$371,\"<=\"&$E$3,$H$12:$H$371)),0,0)+E96,\"\")","v":""},{"$f":"IF($E$2>$A95,(I95+SUM(F96:F107))*($K$4+$K$5),0)","v":{"v":0,"d":"0.00"}},{"$f":"IFERROR((-IPMT(C96/12,B96,IF(C96=КАЛЬКУЛЯТОР!$C$21,$E$2,$E$2-$E$3),IF(C96=КАЛЬКУЛЯТОР!$C$21,$I$11,$I$11-SUMIF($A$12:$A$371,\"<=\"&$E$3,$H$12:$H$371)),0,0)),\"\")","v":""},{"$f":"IFERROR((-IPMT((C96-'КАЛЬКУЛЯТОР 1'!$P$1)/12,B96,IF(C96=КАЛЬКУЛЯТОР!$C$21,$E$2,$E$2-$E$3),IF(C96=КАЛЬКУЛЯТОР!$C$21,$I$11,$I$11-SUMIF($A$12:$A$371,\"<=\"&$E$3,$H$12:$H$371)),0,0)),\"\")","v":""},{"$f":"IFERROR((-PPMT(C96/12,B96,IF(C96=КАЛЬКУЛЯТОР!$C$21,$E$2,$E$2-$E$3),IF(C96=КАЛЬКУЛЯТОР!$C$21,$I$11,$I$11-SUMIF($A$12:$A$371,\"<=\"&$E$3,$H$12:$H$371)),0,0)),\"\")","v":""},"",{"$error":"#VALUE!"},{"$f":"PV($E$5/12,A96-1,0,-E96)","v":{"v":0,"d":"0.00"}},{"$error":"#VALUE!"},{"$error":"#VALUE!"},{"$error":"#VALUE!"},{"$error":"#VALUE!"},false]
[86,86,{"$f":"IF(A97<=$E$3,КАЛЬКУЛЯТОР!$C$21,IF(AND(A97>$E$3,A97<=$E$2),$E$4,\"\"))","v":""},{"$f":"IF(A97<=$E$2,-PMT(C97/12,IF(C97=КАЛЬКУЛЯТОР!$C$21,$E$2,$E$2-$E$3),IF(C97=КАЛЬКУЛЯТОР!$C$21,$I$11,$I$11-SUMIF($A$12:$A$371,\"<=\"&$E$3,$H$12:$H$371)),0,0),\"\")","v":""},null,{"$f":"IFERROR((-IPMT(C97/12,B97,IF(C97=КАЛЬКУЛЯТОР!$C$21,$E$2,$E$2-$E$3),IF(C97=КАЛЬКУЛЯТОР!$C$21,$I$11,$I$11-SUMIF($A$12:$A$371,\"<=\"&$E$3,$H$12:$H$371)),0,0)),\"\")","v":""},{"$f":"IFERROR((-IPMT((C97-'КАЛЬКУЛЯТОР 1'!$P$1)/12,B97,IF(C97=КАЛЬКУЛЯТОР!$C$21,$E$2,$E$2-$E$3),IF(C97=КАЛЬКУЛЯТОР!$C$21,$I$11,$I$11-SUMIF($A$12:$A$371,\"<=\"&$E$3,$H$12:$H$371)),0,0)),\"\")","v":""},{"$f":"IFERROR((-PPMT(C97/12,B97,IF(C97=КАЛЬКУЛЯТОР!$C$21,$E$2,$E$2-$E$3),IF(C97=КАЛЬКУЛЯТОР!$C$21,$I$11,$I$11-SUMIF($A$12:$A$371,\"<=\"&$E$3,$H$12:$H$371)),0,0)),\"\")","v":""},"",{"$error":"#VALUE!"},null,{"$error":"#VALUE!"},{"$error":"#VALUE!"},{"$error":"#VALUE!"},{"$error":"#VALUE!"},false]
[87,87,{"$f":"IF(A98<=$E$3,КАЛЬКУЛЯТОР!$C$21,IF(AND(A98>$E$3,A98<=$E$2),$E$4,\"\"))","v":""},{"$f":"IF(A98<=$E$2,-PMT(C98/12,IF(C98=КАЛЬКУЛЯТОР!$C$21,$E$2,$E$2-$E$3),IF(C98=КАЛЬКУЛЯТОР!$C$21,$I$11,$I$11-SUMIF($A$12:$A$371,\"<=\"&$E$3,$H$12:$H$371)),0,0),\"\")","v":""},null,{"$f":"IFERROR((-IPMT(C98/12,B98,IF(C98=КАЛЬКУЛЯТОР!$C$21,$E$2,$E$2-$E$3),IF(C98=КАЛЬКУЛЯТОР!$C$21,$I$11,$I$11-SUMIF($A$12:$A$371,\"<=\"&$E$3,$H$12:$H$371)),0,0)),\"\")","v":""},{"$f":"IFERROR((-IPMT((C98-'КАЛЬКУЛЯТОР 1'!$P$1)/12,B98,IF(C98=КАЛЬКУЛЯТОР!$C$21,$E$2,$E$2-$E$3),IF(C98=КАЛЬКУЛЯТОР!$C$21,$I$11,$I$11-SUMIF($A$12:$A$371,\"<=\"&$E$3,$H$12:$H$371)),0,0)),\"\")","v":""},{"$f":"IFERROR((-PPMT(C98/12,B98,IF(C98=КАЛЬКУЛЯТОР!$C$21,$E$2,$E$2-$E$3),IF(C98=КАЛЬКУЛЯТОР!$C$21,$I$11,$I$11-SUMIF($A$12:$A$371,\"<=\"&$E$3,$H$12:$H$371)),0,0)),\"\")","v":""},"",{"$error":"#VALUE!"},null,{"$error":"#VALUE!"},{"$error":"#VALUE!"},{"$error":"#VALUE!"},{"$error":"#VALUE!"},false]
[88,88,{"$f":"IF(A99<=$E$3,КАЛЬКУЛЯТОР!$C$21,IF(AND(A99>$E$3,A99<=$E$2),$E$4,\"\"))","v":""},{"$f":"IF(A99<=$E$2,-PMT(C99/12,IF(C99=КАЛЬКУЛЯТОР!$C$21,$E$2,$E$2-$E$3),IF(C99=КАЛЬКУЛЯТОР!$C$21,$I$11,$I$11-SUMIF($A$12:$A$371,\"<=\"&$E$3,$H$12:$H$371)),0,0),\"\")","v":""},null,{"$f":"IFERROR((-IPMT(C99/12,B99,IF(C99=КАЛЬКУЛЯТОР!$C$21,$E$2,$E$2-$E$3),IF(C99=КАЛЬКУЛЯТОР!$C$21,$I$11,$I$11-SUMIF($A$12:$A$371,\"<=\"&$E$3,$H$12:$H$371)),0,0)),\"\")","v":""},{"$f":"IFERROR((-IPMT((C99-'КАЛЬКУЛЯТОР 1'!$P$1)/12,B99,IF(C99=КАЛЬКУЛЯТОР!$C$21,$E$2,$E$2-$E$3),IF(C99=КАЛЬКУЛЯТОР!$C$21,$I$11,$I$11-SUMIF($A$12:$A$371,\"<=\"&$E$3,$H$12:$H$371)),0,0)),\"\")","v":""},{"$f":"IFERROR((-PPMT(C99/12,B99,IF(C99=КАЛЬКУЛЯТОР!$C$21,$E$2,$E$2-$E$3),IF(C99=КАЛЬКУЛЯТОР!$C$21,$I$11,$I$11-SUMIF($A$12:$A$371,\"<=\"&$E$3,$H$12:$H$371)),0,0)),\"\")","v":""},"",{"$error":"#VALUE!"},null,{"$error":"#VALUE!"},{"$error":"#VALUE!"},{"$error":"#VALUE!"},{"$error":"#VALUE!"},false]
[89,89,{"$f":"IF(A100<=$E$3,КАЛЬКУЛЯТОР!$C$21,IF(AND(A100>$E$3,A100<=$E$2),$E$4,\"\"))","v":""},{"$f":"IF(A100<=$E$2,-PMT(C100/12,IF(C100=КАЛЬКУЛЯТОР!$C$21,$E$2,$E$2-$E$3),IF(C100=КАЛЬКУЛЯТОР!$C$21,$I$11,$I$11-SUMIF($A$12:$A$371,\"<=\"&$E$3,$H$12:$H$371)),0,0),\"\")","v":""},null,{"$f":"IFERROR((-IPMT(C100/12,B100,IF(C100=КАЛЬКУЛЯТОР!$C$21,$E$2,$E$2-$E$3),IF(C100=КАЛЬКУЛЯТОР!$C$21,$I$11,$I$11-SUMIF($A$12:$A$371,\"<=\"&$E$3,$H$12:$H$371)),0,0)),\"\")","v":""},{"$f":"IFERROR((-IPMT((C100-'КАЛЬКУЛЯТОР 1'!$P$1)/12,B100,IF(C100=КАЛЬКУЛЯТОР!$C$21,$E$2,$E$2-$E$3),IF(C100=КАЛЬКУЛЯТОР!$C$21,$I$11,$I$11-SUMIF($A$12:$A$371,\"<=\"&$E$3,$H$12:$H$371)),0,0)),\"\")","v":""},{"$f":"IFERROR((-PPMT(C100/12,B100,IF(C100=КАЛЬКУЛЯТОР!$C$21,$E$2,$E$2-$E$3),IF(C100=КАЛЬКУЛЯТОР!$C$21,$I$11,$I$11-SUMIF($A$12:$A$371,\"<=\"&$E$3,$H$12:$H$371)),0,0)),\"\")","v":""},"",{"$error":"#VALUE!"},null,{"$error":"#VALUE!"},{"$error":"#VALUE!"},{"$error":"#VALUE!"},{"$error":"#VALUE!"},false]
[90,90,{"$f":"IF(A101<=$E$3,КАЛЬКУЛЯТОР!$C$21,IF(AND(A101>$E$3,A101<=$E$2),$E$4,\"\"))","v":""},{"$f":"IF(A101<=$E$2,-PMT(C101/12,IF(C101=КАЛЬКУЛЯТОР!$C$21,$E$2,$E$2-$E$3),IF(C101=КАЛЬКУЛЯТОР!$C$21,$I$11,$I$11-SUMIF($A$12:$A$371,\"<=\"&$E$3,$H$12:$H$371)),0,0),\"\")","v":""},null,{"$f":"IFERROR((-IPMT(C101/12,B101,IF(C101=КАЛЬКУЛЯТОР!$C$21,$E$2,$E$2-$E$3),IF(C101=КАЛЬКУЛЯТОР!$C$21,$I$11,$I$11-SUMIF($A$12:$A$371,\"<=\"&$E$3,$H$12:$H$371)),0,0)),\"\")","v":""},{"$f":"IFERROR((-IPMT((C101-'КАЛЬКУЛЯТОР 1'!$P$1)/12,B101,IF(C101=КАЛЬКУЛЯТОР!$C$21,$E$2,$E$2-$E$3),IF(C101=КАЛЬКУЛЯТОР!$C$21,$I$11,$I$11-SUMIF($A$12:$A$371,\"<=\"&$E$3,$H$12:$H$371)),0,0)),\"\")","v":""},{"$f":"IFERROR((-PPMT(C101/12,B101,IF(C101=КАЛЬКУЛЯТОР!$C$21,$E$2,$E$2-$E$3),IF(C101=КАЛЬКУЛЯТОР!$C$21,$I$11,$I$11-SUMIF($A$12:$A$371,\"<=\"&$E$3,$H$12:$H$371)),0,0)),\"\")","v":""},"",{"$error":"#VALUE!"},null,{"$error":"#VALUE!"},{"$error":"#VALUE!"},{"$error":"#VALUE!"},{"$error":"#VALUE!"},false]
[91,91,{"$f":"IF(A102<=$E$3,КАЛЬКУЛЯТОР!$C$21,IF(AND(A102>$E$3,A102<=$E$2),$E$4,\"\"))","v":""},{"$f":"IF(A102<=$E$2,-PMT(C102/12,IF(C102=КАЛЬКУЛЯТОР!$C$21,$E$2,$E$2-$E$3),IF(C102=КАЛЬКУЛЯТОР!$C$21,$I$11,$I$11-SUMIF($A$12:$A$371,\"<=\"&$E$3,$H$12:$H$371)),0,0),\"\")","v":""},null,{"$f":"IFERROR((-IPMT(C102/12,B102,IF(C102=КАЛЬКУЛЯТОР!$C$21,$E$2,$E$2-$E$3),IF(C102=КАЛЬКУЛЯТОР!$C$21,$I$11,$I$11-SUMIF($A$12:$A$371,\"<=\"&$E$3,$H$12:$H$371)),0,0)),\"\")","v":""},{"$f":"IFERROR((-IPMT((C102-'КАЛЬКУЛЯТОР 1'!$P$1)/12,B102,IF(C102=КАЛЬКУЛЯТОР!$C$21,$E$2,$E$2-$E$3),IF(C102=КАЛЬКУЛЯТОР!$C$21,$I$11,$I$11-SUMIF($A$12:$A$371,\"<=\"&$E$3,$H$12:$H$371)),0,0)),\"\")","v":""},{"$f":"IFERROR((-PPMT(C102/12,B102,IF(C102=КАЛЬКУЛЯТОР!$C$21,$E$2,$E$2-$E$3),IF(C102=КАЛЬКУЛЯТОР!$C$21,$I$11,$I$11-SUMIF($A$12:$A$371,\"<=\"&$E$3,$H$12:$H$371)),0,0)),\"\")","v":""},"",{"$error":"#VALUE!"},null,{"$error":"#VALUE!"},{"$error":"#VALUE!"},{"$error":"#VALUE!"},{"$error":"#VALUE!"},false]
[92,92,{"$f":"IF(A103<=$E$3,КАЛЬКУЛЯТОР!$C$21,IF(AND(A103>$E$3,A103<=$E$2),$E$4,\"\"))","v":""},{"$f":"IF(A103<=$E$2,-PMT(C103/12,IF(C103=КАЛЬКУЛЯТОР!$C$21,$E$2,$E$2-$E$3),IF(C103=КАЛЬКУЛЯТОР!$C$21,$I$11,$I$11-SUMIF($A$12:$A$371,\"<=\"&$E$3,$H$12:$H$371)),0,0),\"\")","v":""},null,{"$f":"IFERROR((-IPMT(C103/12,B103,IF(C103=КАЛЬКУЛЯТОР!$C$21,$E$2,$E$2-$E$3),IF(C103=КАЛЬКУЛЯТОР!$C$21,$I$11,$I$11-SUMIF($A$12:$A$371,\"<=\"&$E$3,$H$12:$H$371)),0,0)),\"\")","v":""},{"$f":"IFERROR((-IPMT((C103-'КАЛЬКУЛЯТОР 1'!$P$1)/12,B103,IF(C103=КАЛЬКУЛЯТОР!$C$21,$E$2,$E$2-$E$3),IF(C103=КАЛЬКУЛЯТОР!$C$21,$I$11,$I$11-SUMIF($A$12:$A$371,\"<=\"&$E$3,$H$12:$H$371)),0,0)),\"\")","v":""},{"$f":"IFERROR((-PPMT(C103/12,B103,IF(C103=КАЛЬКУЛЯТОР!$C$21,$E$2,$E$2-$E$3),IF(C103=КАЛЬКУЛЯТОР!$C$21,$I$11,$I$11-SUMIF($A$12:$A$371,\"<=\"&$E$3,$H$12:$H$371)),0,0)),\"\")","v":""},"",{"$error":"#VALUE!"},null,{"$error":"#VALUE!"},{"$error":"#VALUE!"},{"$error":"#VALUE!"},{"$error":"#VALUE!"},false]
[93,93,{"$f":"IF(A104<=$E$3,КАЛЬКУЛЯТОР!$C$21,IF(AND(A104>$E$3,A104<=$E$2),$E$4,\"\"))","v":""},{"$f":"IF(A104<=$E$2,-PMT(C104/12,IF(C104=КАЛЬКУЛЯТОР!$C$21,$E$2,$E$2-$E$3),IF(C104=КАЛЬКУЛЯТОР!$C$21,$I$11,$I$11-SUMIF($A$12:$A$371,\"<=\"&$E$3,$H$12:$H$371)),0,0),\"\")","v":""},null,{"$f":"IFERROR((-IPMT(C104/12,B104,IF(C104=КАЛЬКУЛЯТОР!$C$21,$E$2,$E$2-$E$3),IF(C104=КАЛЬКУЛЯТОР!$C$21,$I$11,$I$11-SUMIF($A$12:$A$371,\"<=\"&$E$3,$H$12:$H$371)),0,0)),\"\")","v":""},{"$f":"IFERROR((-IPMT((C104-'КАЛЬКУЛЯТОР 1'!$P$1)/12,B104,IF(C104=КАЛЬКУЛЯТОР!$C$21,$E$2,$E$2-$E$3),IF(C104=КАЛЬКУЛЯТОР!$C$21,$I$11,$I$11-SUMIF($A$12:$A$371,\"<=\"&$E$3,$H$12:$H$371)),0,0)),\"\")","v":""},{"$f":"IFERROR((-PPMT(C104/12,B104,IF(C104=КАЛЬКУЛЯТОР!$C$21,$E$2,$E$2-$E$3),IF(C104=КАЛЬКУЛЯТОР!$C$21,$I$11,$I$11-SUMIF($A$12:$A$371,\"<=\"&$E$3,$H$12:$H$371)),0,0)),\"\")","v":""},"",{"$error":"#VALUE!"},null,{"$error":"#VALUE!"},{"$error":"#VALUE!"},{"$error":"#VALUE!"},{"$error":"#VALUE!"},false]
[94,94,{"$f":"IF(A105<=$E$3,КАЛЬКУЛЯТОР!$C$21,IF(AND(A105>$E$3,A105<=$E$2),$E$4,\"\"))","v":""},{"$f":"IF(A105<=$E$2,-PMT(C105/12,IF(C105=КАЛЬКУЛЯТОР!$C$21,$E$2,$E$2-$E$3),IF(C105=КАЛЬКУЛЯТОР!$C$21,$I$11,$I$11-SUMIF($A$12:$A$371,\"<=\"&$E$3,$H$12:$H$371)),0,0),\"\")","v":""},null,{"$f":"IFERROR((-IPMT(C105/12,B105,IF(C105=КАЛЬКУЛЯТОР!$C$21,$E$2,$E$2-$E$3),IF(C105=КАЛЬКУЛЯТОР!$C$21,$I$11,$I$11-SUMIF($A$12:$A$371,\"<=\"&$E$3,$H$12:$H$371)),0,0)),\"\")","v":""},{"$f":"IFERROR((-IPMT((C105-'КАЛЬКУЛЯТОР 1'!$P$1)/12,B105,IF(C105=КАЛЬКУЛЯТОР!$C$21,$E$2,$E$2-$E$3),IF(C105=КАЛЬКУЛЯТОР!$C$21,$I$11,$I$11-SUMIF($A$12:$A$371,\"<=\"&$E$3,$H$12:$H$371)),0,0)),\"\")","v":""},{"$f":"IFERROR((-PPMT(C105/12,B105,IF(C105=КАЛЬКУЛЯТОР!$C$21,$E$2,$E$2-$E$3),IF(C105=КАЛЬКУЛЯТОР!$C$21,$I$11,$I$11-SUMIF($A$12:$A$371,\"<=\"&$E$3,$H$12:$H$371)),0,0)),\"\")","v":""},"",{"$error":"#VALUE!"},null,{"$error":"#VALUE!"},{"$error":"#VALUE!"},{"$error":"#VALUE!"},{"$error":"#VALUE!"},false]
[95,95,{"$f":"IF(A106<=$E$3,КАЛЬКУЛЯТОР!$C$21,IF(AND(A106>$E$3,A106<=$E$2),$E$4,\"\"))","v":""},{"$f":"IF(A106<=$E$2,-PMT(C106/12,IF(C106=КАЛЬКУЛЯТОР!$C$21,$E$2,$E$2-$E$3),IF(C106=КАЛЬКУЛЯТОР!$C$21,$I$11,$I$11-SUMIF($A$12:$A$371,\"<=\"&$E$3,$H$12:$H$371)),0,0),\"\")","v":""},null,{"$f":"IFERROR((-IPMT(C106/12,B106,IF(C106=КАЛЬКУЛЯТОР!$C$21,$E$2,$E$2-$E$3),IF(C106=КАЛЬКУЛЯТОР!$C$21,$I$11,$I$11-SUMIF($A$12:$A$371,\"<=\"&$E$3,$H$12:$H$371)),0,0)),\"\")","v":""},{"$f":"IFERROR((-IPMT((C106-'КАЛЬКУЛЯТОР 1'!$P$1)/12,B106,IF(C106=КАЛЬКУЛЯТОР!$C$21,$E$2,$E$2-$E$3),IF(C106=КАЛЬКУЛЯТОР!$C$21,$I$11,$I$11-SUMIF($A$12:$A$371,\"<=\"&$E$3,$H$12:$H$371)),0,0)),\"\")","v":""},{"$f":"IFERROR((-PPMT(C106/12,B106,IF(C106=КАЛЬКУЛЯТОР!$C$21,$E$2,$E$2-$E$3),IF(C106=КАЛЬКУЛЯТОР!$C$21,$I$11,$I$11-SUMIF($A$12:$A$371,\"<=\"&$E$3,$H$12:$H$371)),0,0)),\"\")","v":""},"",{"$error":"#VALUE!"},null,{"$error":"#VALUE!"},{"$error":"#VALUE!"},{"$error":"#VALUE!"},{"$error":"#VALUE!"},false]
[96,96,{"$f":"IF(A107<=$E$3,КАЛЬКУЛЯТОР!$C$21,IF(AND(A107>$E$3,A107<=$E$2),$E$4,\"\"))","v":""},{"$f":"IF(A107<=$E$2,-PMT(C107/12,IF(C107=КАЛЬКУЛЯТОР!$C$21,$E$2,$E$2-$E$3),IF(C107=КАЛЬКУЛЯТОР!$C$21,$I$11,$I$11-SUMIF($A$12:$A$371,\"<=\"&$E$3,$H$12:$H$371)),0,0),\"\")","v":""},null,{"$f":"IFERROR((-IPMT(C107/12,B107,IF(C107=КАЛЬКУЛЯТОР!$C$21,$E$2,$E$2-$E$3),IF(C107=КАЛЬКУЛЯТОР!$C$21,$I$11,$I$11-SUMIF($A$12:$A$371,\"<=\"&$E$3,$H$12:$H$371)),0,0)),\"\")","v":""},{"$f":"IFERROR((-IPMT((C107-'КАЛЬКУЛЯТОР 1'!$P$1)/12,B107,IF(C107=КАЛЬКУЛЯТОР!$C$21,$E$2,$E$2-$E$3),IF(C107=КАЛЬКУЛЯТОР!$C$21,$I$11,$I$11-SUMIF($A$12:$A$371,\"<=\"&$E$3,$H$12:$H$371)),0,0)),\"\")","v":""},{"$f":"IFERROR((-PPMT(C107/12,B107,IF(C107=КАЛЬКУЛЯТОР!$C$21,$E$2,$E$2-$E$3),IF(C107=КАЛЬКУЛЯТОР!$C$21,$I$11,$I$11-SUMIF($A$12:$A$371,\"<=\"&$E$3,$H$12:$H$371)),0,0)),\"\")","v":""},"",{"$error":"#VALUE!"},null,{"$error":"#VALUE!"},{"$error":"#VALUE!"},{"$error":"#VALUE!"},{"$error":"#VALUE!"},false]
[97,97,{"$f":"IF(A108<=$E$3,КАЛЬКУЛЯТОР!$C$21,IF(AND(A108>$E$3,A108<=$E$2),$E$4,\"\"))","v":""},{"$f":"IF(A108<=$E$2,-PMT(C108/12,IF(C108=КАЛЬКУЛЯТОР!$C$21,$E$2,$E$2-$E$3),IF(C108=КАЛЬКУЛЯТОР!$C$21,$I$11,$I$11-SUMIF($A$12:$A$371,\"<=\"&$E$3,$H$12:$H$371)),0,0)+E108,\"\")","v":""},{"$f":"IF($E$2>$A107,(I107+SUM(F108:F119))*($K$4+$K$5),0)","v":{"v":0,"d":"0.00"}},{"$f":"IFERROR((-IPMT(C108/12,B108,IF(C108=КАЛЬКУЛЯТОР!$C$21,$E$2,$E$2-$E$3),IF(C108=КАЛЬКУЛЯТОР!$C$21,$I$11,$I$11-SUMIF($A$12:$A$371,\"<=\"&$E$3,$H$12:$H$371)),0,0)),\"\")","v":""},{"$f":"IFERROR((-IPMT((C108-'КАЛЬКУЛЯТОР 1'!$P$1)/12,B108,IF(C108=КАЛЬКУЛЯТОР!$C$21,$E$2,$E$2-$E$3),IF(C108=КАЛЬКУЛЯТОР!$C$21,$I$11,$I$11-SUMIF($A$12:$A$371,\"<=\"&$E$3,$H$12:$H$371)),0,0)),\"\")","v":""},{"$f":"IFERROR((-PPMT(C108/12,B108,IF(C108=КАЛЬКУЛЯТОР!$C$21,$E$2,$E$2-$E$3),IF(C108=КАЛЬКУЛЯТОР!$C$21,$I$11,$I$11-SUMIF($A$12:$A$371,\"<=\"&$E$3,$H$12:$H$371)),0,0)),\"\")","v":""},"",{"$error":"#VALUE!"},{"$f":"PV($E$5/12,A108-1,0,-E108)","v":{"v":0,"d":"0.00"}},{"$error":"#VALUE!"},{"$error":"#VALUE!"},{"$error":"#VALUE!"},{"$error":"#VALUE!"},false]
[98,98,{"$f":"IF(A109<=$E$3,КАЛЬКУЛЯТОР!$C$21,IF(AND(A109>$E$3,A109<=$E$2),$E$4,\"\"))","v":""},{"$f":"IF(A109<=$E$2,-PMT(C109/12,IF(C109=КАЛЬКУЛЯТОР!$C$21,$E$2,$E$2-$E$3),IF(C109=КАЛЬКУЛЯТОР!$C$21,$I$11,$I$11-SUMIF($A$12:$A$371,\"<=\"&$E$3,$H$12:$H$371)),0,0),\"\")","v":""},null,{"$f":"IFERROR((-IPMT(C109/12,B109,IF(C109=КАЛЬКУЛЯТОР!$C$21,$E$2,$E$2-$E$3),IF(C109=КАЛЬКУЛЯТОР!$C$21,$I$11,$I$11-SUMIF($A$12:$A$371,\"<=\"&$E$3,$H$12:$H$371)),0,0)),\"\")","v":""},{"$f":"IFERROR((-IPMT((C109-'КАЛЬКУЛЯТОР 1'!$P$1)/12,B109,IF(C109=КАЛЬКУЛЯТОР!$C$21,$E$2,$E$2-$E$3),IF(C109=КАЛЬКУЛЯТОР!$C$21,$I$11,$I$11-SUMIF($A$12:$A$371,\"<=\"&$E$3,$H$12:$H$371)),0,0)),\"\")","v":""},{"$f":"IFERROR((-PPMT(C109/12,B109,IF(C109=КАЛЬКУЛЯТОР!$C$21,$E$2,$E$2-$E$3),IF(C109=КАЛЬКУЛЯТОР!$C$21,$I$11,$I$11-SUMIF($A$12:$A$371,\"<=\"&$E$3,$H$12:$H$371)),0,0)),\"\")","v":""},"",{"$error":"#VALUE!"},null,{"$error":"#VALUE!"},{"$error":"#VALUE!"},{"$error":"#VALUE!"},{"$error":"#VALUE!"},false]
[99,99,{"$f":"IF(A110<=$E$3,КАЛЬКУЛЯТОР!$C$21,IF(AND(A110>$E$3,A110<=$E$2),$E$4,\"\"))","v":""},{"$f":"IF(A110<=$E$2,-PMT(C110/12,IF(C110=КАЛЬКУЛЯТОР!$C$21,$E$2,$E$2-$E$3),IF(C110=КАЛЬКУЛЯТОР!$C$21,$I$11,$I$11-SUMIF($A$12:$A$371,\"<=\"&$E$3,$H$12:$H$371)),0,0),\"\")","v":""},null,{"$f":"IFERROR((-IPMT(C110/12,B110,IF(C110=КАЛЬКУЛЯТОР!$C$21,$E$2,$E$2-$E$3),IF(C110=КАЛЬКУЛЯТОР!$C$21,$I$11,$I$11-SUMIF($A$12:$A$371,\"<=\"&$E$3,$H$12:$H$371)),0,0)),\"\")","v":""},{"$f":"IFERROR((-IPMT((C110-'КАЛЬКУЛЯТОР 1'!$P$1)/12,B110,IF(C110=КАЛЬКУЛЯТОР!$C$21,$E$2,$E$2-$E$3),IF(C110=КАЛЬКУЛЯТОР!$C$21,$I$11,$I$11-SUMIF($A$12:$A$371,\"<=\"&$E$3,$H$12:$H$371)),0,0)),\"\")","v":""},{"$f":"IFERROR((-PPMT(C110/12,B110,IF(C110=КАЛЬКУЛЯТОР!$C$21,$E$2,$E$2-$E$3),IF(C110=КАЛЬКУЛЯТОР!$C$21,$I$11,$I$11-SUMIF($A$12:$A$371,\"<=\"&$E$3,$H$12:$H$371)),0,0)),\"\")","v":""},"",{"$error":"#VALUE!"},null,{"$error":"#VALUE!"},{"$error":"#VALUE!"},{"$error":"#VALUE!"},{"$error":"#VALUE!"},false]
[100,100,{"$f":"IF(A111<=$E$3,КАЛЬКУЛЯТОР!$C$21,IF(AND(A111>$E$3,A111<=$E$2),$E$4,\"\"))","v":""},{"$f":"IF(A111<=$E$2,-PMT(C111/12,IF(C111=КАЛЬКУЛЯТОР!$C$21,$E$2,$E$2-$E$3),IF(C111=КАЛЬКУЛЯТОР!$C$21,$I$11,$I$11-SUMIF($A$12:$A$371,\"<=\"&$E$3,$H$12:$H$371)),0,0),\"\")","v":""},null,{"$f":"IFERROR((-IPMT(C111/12,B111,IF(C111=КАЛЬКУЛЯТОР!$C$21,$E$2,$E$2-$E$3),IF(C111=КАЛЬКУЛЯТОР!$C$21,$I$11,$I$11-SUMIF($A$12:$A$371,\"<=\"&$E$3,$H$12:$H$371)),0,0)),\"\")","v":""},{"$f":"IFERROR((-IPMT((C111-'КАЛЬКУЛЯТОР 1'!$P$1)/12,B111,IF(C111=КАЛЬКУЛЯТОР!$C$21,$E$2,$E$2-$E$3),IF(C111=КАЛЬКУЛЯТОР!$C$21,$I$11,$I$11-SUMIF($A$12:$A$371,\"<=\"&$E$3,$H$12:$H$371)),0,0)),\"\")","v":""},{"$f":"IFERROR((-PPMT(C111/12,B111,IF(C111=КАЛЬКУЛЯТОР!$C$21,$E$2,$E$2-$E$3),IF(C111=КАЛЬКУЛЯТОР!$C$21,$I$11,$I$11-SUMIF($A$12:$A$371,\"<=\"&$E$3,$H$12:$H$371)),0,0)),\"\")","v":""},"",{"$error":"#VALUE!"},null,{"$error":"#VALUE!"},{"$error":"#VALUE!"},{"$error":"#VALUE!"},{"$error":"#VALUE!"},false]
[101,101,{"$f":"IF(A112<=$E$3,КАЛЬКУЛЯТОР!$C$21,IF(AND(A112>$E$3,A112<=$E$2),$E$4,\"\"))","v":""},{"$f":"IF(A112<=$E$2,-PMT(C112/12,IF(C112=КАЛЬКУЛЯТОР!$C$21,$E$2,$E$2-$E$3),IF(C112=КАЛЬКУЛЯТОР!$C$21,$I$11,$I$11-SUMIF($A$12:$A$371,\"<=\"&$E$3,$H$12:$H$371)),0,0),\"\")","v":""},null,{"$f":"IFERROR((-IPMT(C112/12,B112,IF(C112=КАЛЬКУЛЯТОР!$C$21,$E$2,$E$2-$E$3),IF(C112=КАЛЬКУЛЯТОР!$C$21,$I$11,$I$11-SUMIF($A$12:$A$371,\"<=\"&$E$3,$H$12:$H$371)),0,0)),\"\")","v":""},{"$f":"IFERROR((-IPMT((C112-'КАЛЬКУЛЯТОР 1'!$P$1)/12,B112,IF(C112=КАЛЬКУЛЯТОР!$C$21,$E$2,$E$2-$E$3),IF(C112=КАЛЬКУЛЯТОР!$C$21,$I$11,$I$11-SUMIF($A$12:$A$371,\"<=\"&$E$3,$H$12:$H$371)),0,0)),\"\")","v":""},{"$f":"IFERROR((-PPMT(C112/12,B112,IF(C112=КАЛЬКУЛЯТОР!$C$21,$E$2,$E$2-$E$3),IF(C112=КАЛЬКУЛЯТОР!$C$21,$I$11,$I$11-SUMIF($A$12:$A$371,\"<=\"&$E$3,$H$12:$H$371)),0,0)),\"\")","v":""},"",{"$error":"#VALUE!"},null,{"$error":"#VALUE!"},{"$error":"#VALUE!"},{"$error":"#VALUE!"},{"$error":"#VALUE!"},false]
[102,102,{"$f":"IF(A113<=$E$3,КАЛЬКУЛЯТОР!$C$21,IF(AND(A113>$E$3,A113<=$E$2),$E$4,\"\"))","v":""},{"$f":"IF(A113<=$E$2,-PMT(C113/12,IF(C113=КАЛЬКУЛЯТОР!$C$21,$E$2,$E$2-$E$3),IF(C113=КАЛЬКУЛЯТОР!$C$21,$I$11,$I$11-SUMIF($A$12:$A$371,\"<=\"&$E$3,$H$12:$H$371)),0,0),\"\")","v":""},null,{"$f":"IFERROR((-IPMT(C113/12,B113,IF(C113=КАЛЬКУЛЯТОР!$C$21,$E$2,$E$2-$E$3),IF(C113=КАЛЬКУЛЯТОР!$C$21,$I$11,$I$11-SUMIF($A$12:$A$371,\"<=\"&$E$3,$H$12:$H$371)),0,0)),\"\")","v":""},{"$f":"IFERROR((-IPMT((C113-'КАЛЬКУЛЯТОР 1'!$P$1)/12,B113,IF(C113=КАЛЬКУЛЯТОР!$C$21,$E$2,$E$2-$E$3),IF(C113=КАЛЬКУЛЯТОР!$C$21,$I$11,$I$11-SUMIF($A$12:$A$371,\"<=\"&$E$3,$H$12:$H$371)),0,0)),\"\")","v":""},{"$f":"IFERROR((-PPMT(C113/12,B113,IF(C113=КАЛЬКУЛЯТОР!$C$21,$E$2,$E$2-$E$3),IF(C113=КАЛЬКУЛЯТОР!$C$21,$I$11,$I$11-SUMIF($A$12:$A$371,\"<=\"&$E$3,$H$12:$H$371)),0,0)),\"\")","v":""},"",{"$error":"#VALUE!"},null,{"$error":"#VALUE!"},{"$error":"#VALUE!"},{"$error":"#VALUE!"},{"$error":"#VALUE!"},false]
[103,103,{"$f":"IF(A114<=$E$3,КАЛЬКУЛЯТОР!$C$21,IF(AND(A114>$E$3,A114<=$E$2),$E$4,\"\"))","v":""},{"$f":"IF(A114<=$E$2,-PMT(C114/12,IF(C114=КАЛЬКУЛЯТОР!$C$21,$E$2,$E$2-$E$3),IF(C114=КАЛЬКУЛЯТОР!$C$21,$I$11,$I$11-SUMIF($A$12:$A$371,\"<=\"&$E$3,$H$12:$H$371)),0,0),\"\")","v":""},null,{"$f":"IFERROR((-IPMT(C114/12,B114,IF(C114=КАЛЬКУЛЯТОР!$C$21,$E$2,$E$2-$E$3),IF(C114=КАЛЬКУЛЯТОР!$C$21,$I$11,$I$11-SUMIF($A$12:$A$371,\"<=\"&$E$3,$H$12:$H$371)),0,0)),\"\")","v":""},{"$f":"IFERROR((-IPMT((C114-'КАЛЬКУЛЯТОР 1'!$P$1)/12,B114,IF(C114=КАЛЬКУЛЯТОР!$C$21,$E$2,$E$2-$E$3),IF(C114=КАЛЬКУЛЯТОР!$C$21,$I$11,$I$11-SUMIF($A$12:$A$371,\"<=\"&$E$3,$H$12:$H$371)),0,0)),\"\")","v":""},{"$f":"IFERROR((-PPMT(C114/12,B114,IF(C114=КАЛЬКУЛЯТОР!$C$21,$E$2,$E$2-$E$3),IF(C114=КАЛЬКУЛЯТОР!$C$21,$I$11,$I$11-SUMIF($A$12:$A$371,\"<=\"&$E$3,$H$12:$H$371)),0,0)),\"\")","v":""},"",{"$error":"#VALUE!"},null,{"$error":"#VALUE!"},{"$error":"#VALUE!"},{"$error":"#VALUE!"},{"$error":"#VALUE!"},false]
[104,104,{"$f":"IF(A115<=$E$3,КАЛЬКУЛЯТОР!$C$21,IF(AND(A115>$E$3,A115<=$E$2),$E$4,\"\"))","v":""},{"$f":"IF(A115<=$E$2,-PMT(C115/12,IF(C115=КАЛЬКУЛЯТОР!$C$21,$E$2,$E$2-$E$3),IF(C115=КАЛЬКУЛЯТОР!$C$21,$I$11,$I$11-SUMIF($A$12:$A$371,\"<=\"&$E$3,$H$12:$H$371)),0,0),\"\")","v":""},null,{"$f":"IFERROR((-IPMT(C115/12,B115,IF(C115=КАЛЬКУЛЯТОР!$C$21,$E$2,$E$2-$E$3),IF(C115=КАЛЬКУЛЯТОР!$C$21,$I$11,$I$11-SUMIF($A$12:$A$371,\"<=\"&$E$3,$H$12:$H$371)),0,0)),\"\")","v":""},{"$f":"IFERROR((-IPMT((C115-'КАЛЬКУЛЯТОР 1'!$P$1)/12,B115,IF(C115=КАЛЬКУЛЯТОР!$C$21,$E$2,$E$2-$E$3),IF(C115=КАЛЬКУЛЯТОР!$C$21,$I$11,$I$11-SUMIF($A$12:$A$371,\"<=\"&$E$3,$H$12:$H$371)),0,0)),\"\")","v":""},{"$f":"IFERROR((-PPMT(C115/12,B115,IF(C115=КАЛЬКУЛЯТОР!$C$21,$E$2,$E$2-$E$3),IF(C115=КАЛЬКУЛЯТОР!$C$21,$I$11,$I$11-SUMIF($A$12:$A$371,\"<=\"&$E$3,$H$12:$H$371)),0,0)),\"\")","v":""},"",{"$error":"#VALUE!"},null,{"$error":"#VALUE!"},{"$error":"#VALUE!"},{"$error":"#VALUE!"},{"$error":"#VALUE!"},false]
[105,105,{"$f":"IF(A116<=$E$3,КАЛЬКУЛЯТОР!$C$21,IF(AND(A116>$E$3,A116<=$E$2),$E$4,\"\"))","v":""},{"$f":"IF(A116<=$E$2,-PMT(C116/12,IF(C116=КАЛЬКУЛЯТОР!$C$21,$E$2,$E$2-$E$3),IF(C116=КАЛЬКУЛЯТОР!$C$21,$I$11,$I$11-SUMIF($A$12:$A$371,\"<=\"&$E$3,$H$12:$H$371)),0,0),\"\")","v":""},null,{"$f":"IFERROR((-IPMT(C116/12,B116,IF(C116=КАЛЬКУЛЯТОР!$C$21,$E$2,$E$2-$E$3),IF(C116=КАЛЬКУЛЯТОР!$C$21,$I$11,$I$11-SUMIF($A$12:$A$371,\"<=\"&$E$3,$H$12:$H$371)),0,0)),\"\")","v":""},{"$f":"IFERROR((-IPMT((C116-'КАЛЬКУЛЯТОР 1'!$P$1)/12,B116,IF(C116=КАЛЬКУЛЯТОР!$C$21,$E$2,$E$2-$E$3),IF(C116=КАЛЬКУЛЯТОР!$C$21,$I$11,$I$11-SUMIF($A$12:$A$371,\"<=\"&$E$3,$H$12:$H$371)),0,0)),\"\")","v":""},{"$f":"IFERROR((-PPMT(C116/12,B116,IF(C116=КАЛЬКУЛЯТОР!$C$21,$E$2,$E$2-$E$3),IF(C116=КАЛЬКУЛЯТОР!$C$21,$I$11,$I$11-SUMIF($A$12:$A$371,\"<=\"&$E$3,$H$12:$H$371)),0,0)),\"\")","v":""},"",{"$error":"#VALUE!"},null,{"$error":"#VALUE!"},{"$error":"#VALUE!"},{"$error":"#VALUE!"},{"$error":"#VALUE!"},false]
[106,106,{"$f":"IF(A117<=$E$3,КАЛЬКУЛЯТОР!$C$21,IF(AND(A117>$E$3,A117<=$E$2),$E$4,\"\"))","v":""},{"$f":"IF(A117<=$E$2,-PMT(C117/12,IF(C117=КАЛЬКУЛЯТОР!$C$21,$E$2,$E$2-$E$3),IF(C117=КАЛЬКУЛЯТОР!$C$21,$I$11,$I$11-SUMIF($A$12:$A$371,\"<=\"&$E$3,$H$12:$H$371)),0,0),\"\")","v":""},null,{"$f":"IFERROR((-IPMT(C117/12,B117,IF(C117=КАЛЬКУЛЯТОР!$C$21,$E$2,$E$2-$E$3),IF(C117=КАЛЬКУЛЯТОР!$C$21,$I$11,$I$11-SUMIF($A$12:$A$371,\"<=\"&$E$3,$H$12:$H$371)),0,0)),\"\")","v":""},{"$f":"IFERROR((-IPMT((C117-'КАЛЬКУЛЯТОР 1'!$P$1)/12,B117,IF(C117=КАЛЬКУЛЯТОР!$C$21,$E$2,$E$2-$E$3),IF(C117=КАЛЬКУЛЯТОР!$C$21,$I$11,$I$11-SUMIF($A$12:$A$371,\"<=\"&$E$3,$H$12:$H$371)),0,0)),\"\")","v":""},{"$f":"IFERROR((-PPMT(C117/12,B117,IF(C117=КАЛЬКУЛЯТОР!$C$21,$E$2,$E$2-$E$3),IF(C117=КАЛЬКУЛЯТОР!$C$21,$I$11,$I$11-SUMIF($A$12:$A$371,\"<=\"&$E$3,$H$12:$H$371)),0,0)),\"\")","v":""},"",{"$error":"#VALUE!"},null,{"$error":"#VALUE!"},{"$error":"#VALUE!"},{"$error":"#VALUE!"},{"$error":"#VALUE!"},false]
[107,107,{"$f":"IF(A118<=$E$3,КАЛЬКУЛЯТОР!$C$21,IF(AND(A118>$E$3,A118<=$E$2),$E$4,\"\"))","v":""},{"$f":"IF(A118<=$E$2,-PMT(C118/12,IF(C118=КАЛЬКУЛЯТОР!$C$21,$E$2,$E$2-$E$3),IF(C118=КАЛЬКУЛЯТОР!$C$21,$I$11,$I$11-SUMIF($A$12:$A$371,\"<=\"&$E$3,$H$12:$H$371)),0,0),\"\")","v":""},null,{"$f":"IFERROR((-IPMT(C118/12,B118,IF(C118=КАЛЬКУЛЯТОР!$C$21,$E$2,$E$2-$E$3),IF(C118=КАЛЬКУЛЯТОР!$C$21,$I$11,$I$11-SUMIF($A$12:$A$371,\"<=\"&$E$3,$H$12:$H$371)),0,0)),\"\")","v":""},{"$f":"IFERROR((-IPMT((C118-'КАЛЬКУЛЯТОР 1'!$P$1)/12,B118,IF(C118=КАЛЬКУЛЯТОР!$C$21,$E$2,$E$2-$E$3),IF(C118=КАЛЬКУЛЯТОР!$C$21,$I$11,$I$11-SUMIF($A$12:$A$371,\"<=\"&$E$3,$H$12:$H$371)),0,0)),\"\")","v":""},{"$f":"IFERROR((-PPMT(C118/12,B118,IF(C118=КАЛЬКУЛЯТОР!$C$21,$E$2,$E$2-$E$3),IF(C118=КАЛЬКУЛЯТОР!$C$21,$I$11,$I$11-SUMIF($A$12:$A$371,\"<=\"&$E$3,$H$12:$H$371)),0,0)),\"\")","v":""},"",{"$error":"#VALUE!"},null,{"$error":"#VALUE!"},{"$error":"#VALUE!"},{"$error":"#VALUE!"},{"$error":"#VALUE!"},false]
[108,108,{"$f":"IF(A119<=$E$3,КАЛЬКУЛЯТОР!$C$21,IF(AND(A119>$E$3,A119<=$E$2),$E$4,\"\"))","v":""},{"$f":"IF(A119<=$E$2,-PMT(C119/12,IF(C119=КАЛЬКУЛЯТОР!$C$21,$E$2,$E$2-$E$3),IF(C119=КАЛЬКУЛЯТОР!$C$21,$I$11,$I$11-SUMIF($A$12:$A$371,\"<=\"&$E$3,$H$12:$H$371)),0,0),\"\")","v":""},null,{"$f":"IFERROR((-IPMT(C119/12,B119,IF(C119=КАЛЬКУЛЯТОР!$C$21,$E$2,$E$2-$E$3),IF(C119=КАЛЬКУЛЯТОР!$C$21,$I$11,$I$11-SUMIF($A$12:$A$371,\"<=\"&$E$3,$H$12:$H$371)),0,0)),\"\")","v":""},{"$f":"IFERROR((-IPMT((C119-'КАЛЬКУЛЯТОР 1'!$P$1)/12,B119,IF(C119=КАЛЬКУЛЯТОР!$C$21,$E$2,$E$2-$E$3),IF(C119=КАЛЬКУЛЯТОР!$C$21,$I$11,$I$11-SUMIF($A$12:$A$371,\"<=\"&$E$3,$H$12:$H$371)),0,0)),\"\")","v":""},{"$f":"IFERROR((-PPMT(C119/12,B119,IF(C119=КАЛЬКУЛЯТОР!$C$21,$E$2,$E$2-$E$3),IF(C119=КАЛЬКУЛЯТОР!$C$21,$I$11,$I$11-SUMIF($A$12:$A$371,\"<=\"&$E$3,$H$12:$H$371)),0,0)),\"\")","v":""},"",{"$error":"#VALUE!"},null,{"$error":"#VALUE!"},{"$error":"#VALUE!"},{"$error":"#VALUE!"},{"$error":"#VALUE!"},false]
[109,109,{"$f":"IF(A120<=$E$3,КАЛЬКУЛЯТОР!$C$21,IF(AND(A120>$E$3,A120<=$E$2),$E$4,\"\"))","v":""},{"$f":"IF(A120<=$E$2,-PMT(C120/12,IF(C120=КАЛЬКУЛЯТОР!$C$21,$E$2,$E$2-$E$3),IF(C120=КАЛЬКУЛЯТОР!$C$21,$I$11,$I$11-SUMIF($A$12:$A$371,\"<=\"&$E$3,$H$12:$H$371)),0,0)+E120,\"\")","v":""},{"$f":"IF($E$2>$A119,(I119+SUM(F120:F131))*($K$4+$K$5),0)","v":{"v":0,"d":"0.00"}},{"$f":"IFERROR((-IPMT(C120/12,B120,IF(C120=КАЛЬКУЛЯТОР!$C$21,$E$2,$E$2-$E$3),IF(C120=КАЛЬКУЛЯТОР!$C$21,$I$11,$I$11-SUMIF($A$12:$A$371,\"<=\"&$E$3,$H$12:$H$371)),0,0)),\"\")","v":""},{"$f":"IFERROR((-IPMT((C120-'КАЛЬКУЛЯТОР 1'!$P$1)/12,B120,IF(C120=КАЛЬКУЛЯТОР!$C$21,$E$2,$E$2-$E$3),IF(C120=КАЛЬКУЛЯТОР!$C$21,$I$11,$I$11-SUMIF($A$12:$A$371,\"<=\"&$E$3,$H$12:$H$371)),0,0)),\"\")","v":""},{"$f":"IFERROR((-PPMT(C120/12,B120,IF(C120=КАЛЬКУЛЯТОР!$C$21,$E$2,$E$2-$E$3),IF(C120=КАЛЬКУЛЯТОР!$C$21,$I$11,$I$11-SUMIF($A$12:$A$371,\"<=\"&$E$3,$H$12:$H$371)),0,0)),\"\")","v":""},"",{"$error":"#VALUE!"},{"$f":"PV($E$5/12,A120-1,0,-E120)","v":{"v":0,"d":"0.00"}},{"$error":"#VALUE!"},{"$error":"#VALUE!"},{"$error":"#VALUE!"},{"$error":"#VALUE!"},false]
[110,110,{"$f":"IF(A121<=$E$3,КАЛЬКУЛЯТОР!$C$21,IF(AND(A121>$E$3,A121<=$E$2),$E$4,\"\"))","v":""},{"$f":"IF(A121<=$E$2,-PMT(C121/12,IF(C121=КАЛЬКУЛЯТОР!$C$21,$E$2,$E$2-$E$3),IF(C121=КАЛЬКУЛЯТОР!$C$21,$I$11,$I$11-SUMIF($A$12:$A$371,\"<=\"&$E$3,$H$12:$H$371)),0,0),\"\")","v":""},null,{"$f":"IFERROR((-IPMT(C121/12,B121,IF(C121=КАЛЬКУЛЯТОР!$C$21,$E$2,$E$2-$E$3),IF(C121=КАЛЬКУЛЯТОР!$C$21,$I$11,$I$11-SUMIF($A$12:$A$371,\"<=\"&$E$3,$H$12:$H$371)),0,0)),\"\")","v":""},{"$f":"IFERROR((-IPMT((C121-'КАЛЬКУЛЯТОР 1'!$P$1)/12,B121,IF(C121=КАЛЬКУЛЯТОР!$C$21,$E$2,$E$2-$E$3),IF(C121=КАЛЬКУЛЯТОР!$C$21,$I$11,$I$11-SUMIF($A$12:$A$371,\"<=\"&$E$3,$H$12:$H$371)),0,0)),\"\")","v":""},{"$f":"IFERROR((-PPMT(C121/12,B121,IF(C121=КАЛЬКУЛЯТОР!$C$21,$E$2,$E$2-$E$3),IF(C121=КАЛЬКУЛЯТОР!$C$21,$I$11,$I$11-SUMIF($A$12:$A$371,\"<=\"&$E$3,$H$12:$H$371)),0,0)),\"\")","v":""},"",{"$error":"#VALUE!"},null,{"$error":"#VALUE!"},{"$error":"#VALUE!"},{"$error":"#VALUE!"},{"$error":"#VALUE!"},false]
[111,111,{"$f":"IF(A122<=$E$3,КАЛЬКУЛЯТОР!$C$21,IF(AND(A122>$E$3,A122<=$E$2),$E$4,\"\"))","v":""},{"$f":"IF(A122<=$E$2,-PMT(C122/12,IF(C122=КАЛЬКУЛЯТОР!$C$21,$E$2,$E$2-$E$3),IF(C122=КАЛЬКУЛЯТОР!$C$21,$I$11,$I$11-SUMIF($A$12:$A$371,\"<=\"&$E$3,$H$12:$H$371)),0,0),\"\")","v":""},null,{"$f":"IFERROR((-IPMT(C122/12,B122,IF(C122=КАЛЬКУЛЯТОР!$C$21,$E$2,$E$2-$E$3),IF(C122=КАЛЬКУЛЯТОР!$C$21,$I$11,$I$11-SUMIF($A$12:$A$371,\"<=\"&$E$3,$H$12:$H$371)),0,0)),\"\")","v":""},{"$f":"IFERROR((-IPMT((C122-'КАЛЬКУЛЯТОР 1'!$P$1)/12,B122,IF(C122=КАЛЬКУЛЯТОР!$C$21,$E$2,$E$2-$E$3),IF(C122=КАЛЬКУЛЯТОР!$C$21,$I$11,$I$11-SUMIF($A$12:$A$371,\"<=\"&$E$3,$H$12:$H$371)),0,0)),\"\")","v":""},{"$f":"IFERROR((-PPMT(C122/12,B122,IF(C122=КАЛЬКУЛЯТОР!$C$21,$E$2,$E$2-$E$3),IF(C122=КАЛЬКУЛЯТОР!$C$21,$I$11,$I$11-SUMIF($A$12:$A$371,\"<=\"&$E$3,$H$12:$H$371)),0,0)),\"\")","v":""},"",{"$error":"#VALUE!"},null,{"$error":"#VALUE!"},{"$error":"#VALUE!"},{"$error":"#VALUE!"},{"$error":"#VALUE!"},false]
[112,112,{"$f":"IF(A123<=$E$3,КАЛЬКУЛЯТОР!$C$21,IF(AND(A123>$E$3,A123<=$E$2),$E$4,\"\"))","v":""},{"$f":"IF(A123<=$E$2,-PMT(C123/12,IF(C123=КАЛЬКУЛЯТОР!$C$21,$E$2,$E$2-$E$3),IF(C123=КАЛЬКУЛЯТОР!$C$21,$I$11,$I$11-SUMIF($A$12:$A$371,\"<=\"&$E$3,$H$12:$H$371)),0,0),\"\")","v":""},null,{"$f":"IFERROR((-IPMT(C123/12,B123,IF(C123=КАЛЬКУЛЯТОР!$C$21,$E$2,$E$2-$E$3),IF(C123=КАЛЬКУЛЯТОР!$C$21,$I$11,$I$11-SUMIF($A$12:$A$371,\"<=\"&$E$3,$H$12:$H$371)),0,0)),\"\")","v":""},{"$f":"IFERROR((-IPMT((C123-'КАЛЬКУЛЯТОР 1'!$P$1)/12,B123,IF(C123=КАЛЬКУЛЯТОР!$C$21,$E$2,$E$2-$E$3),IF(C123=КАЛЬКУЛЯТОР!$C$21,$I$11,$I$11-SUMIF($A$12:$A$371,\"<=\"&$E$3,$H$12:$H$371)),0,0)),\"\")","v":""},{"$f":"IFERROR((-PPMT(C123/12,B123,IF(C123=КАЛЬКУЛЯТОР!$C$21,$E$2,$E$2-$E$3),IF(C123=КАЛЬКУЛЯТОР!$C$21,$I$11,$I$11-SUMIF($A$12:$A$371,\"<=\"&$E$3,$H$12:$H$371)),0,0)),\"\")","v":""},"",{"$error":"#VALUE!"},null,{"$error":"#VALUE!"},{"$error":"#VALUE!"},{"$error":"#VALUE!"},{"$error":"#VALUE!"},false]
[113,113,{"$f":"IF(A124<=$E$3,КАЛЬКУЛЯТОР!$C$21,IF(AND(A124>$E$3,A124<=$E$2),$E$4,\"\"))","v":""},{"$f":"IF(A124<=$E$2,-PMT(C124/12,IF(C124=КАЛЬКУЛЯТОР!$C$21,$E$2,$E$2-$E$3),IF(C124=КАЛЬКУЛЯТОР!$C$21,$I$11,$I$11-SUMIF($A$12:$A$371,\"<=\"&$E$3,$H$12:$H$371)),0,0),\"\")","v":""},null,{"$f":"IFERROR((-IPMT(C124/12,B124,IF(C124=КАЛЬКУЛЯТОР!$C$21,$E$2,$E$2-$E$3),IF(C124=КАЛЬКУЛЯТОР!$C$21,$I$11,$I$11-SUMIF($A$12:$A$371,\"<=\"&$E$3,$H$12:$H$371)),0,0)),\"\")","v":""},{"$f":"IFERROR((-IPMT((C124-'КАЛЬКУЛЯТОР 1'!$P$1)/12,B124,IF(C124=КАЛЬКУЛЯТОР!$C$21,$E$2,$E$2-$E$3),IF(C124=КАЛЬКУЛЯТОР!$C$21,$I$11,$I$11-SUMIF($A$12:$A$371,\"<=\"&$E$3,$H$12:$H$371)),0,0)),\"\")","v":""},{"$f":"IFERROR((-PPMT(C124/12,B124,IF(C124=КАЛЬКУЛЯТОР!$C$21,$E$2,$E$2-$E$3),IF(C124=КАЛЬКУЛЯТОР!$C$21,$I$11,$I$11-SUMIF($A$12:$A$371,\"<=\"&$E$3,$H$12:$H$371)),0,0)),\"\")","v":""},"",{"$error":"#VALUE!"},null,{"$error":"#VALUE!"},{"$error":"#VALUE!"},{"$error":"#VALUE!"},{"$error":"#VALUE!"},false]
[114,114,{"$f":"IF(A125<=$E$3,КАЛЬКУЛЯТОР!$C$21,IF(AND(A125>$E$3,A125<=$E$2),$E$4,\"\"))","v":""},{"$f":"IF(A125<=$E$2,-PMT(C125/12,IF(C125=КАЛЬКУЛЯТОР!$C$21,$E$2,$E$2-$E$3),IF(C125=КАЛЬКУЛЯТОР!$C$21,$I$11,$I$11-SUMIF($A$12:$A$371,\"<=\"&$E$3,$H$12:$H$371)),0,0),\"\")","v":""},null,{"$f":"IFERROR((-IPMT(C125/12,B125,IF(C125=КАЛЬКУЛЯТОР!$C$21,$E$2,$E$2-$E$3),IF(C125=КАЛЬКУЛЯТОР!$C$21,$I$11,$I$11-SUMIF($A$12:$A$371,\"<=\"&$E$3,$H$12:$H$371)),0,0)),\"\")","v":""},{"$f":"IFERROR((-IPMT((C125-'КАЛЬКУЛЯТОР 1'!$P$1)/12,B125,IF(C125=КАЛЬКУЛЯТОР!$C$21,$E$2,$E$2-$E$3),IF(C125=КАЛЬКУЛЯТОР!$C$21,$I$11,$I$11-SUMIF($A$12:$A$371,\"<=\"&$E$3,$H$12:$H$371)),0,0)),\"\")","v":""},{"$f":"IFERROR((-PPMT(C125/12,B125,IF(C125=КАЛЬКУЛЯТОР!$C$21,$E$2,$E$2-$E$3),IF(C125=КАЛЬКУЛЯТОР!$C$21,$I$11,$I$11-SUMIF($A$12:$A$371,\"<=\"&$E$3,$H$12:$H$371)),0,0)),\"\")","v":""},"",{"$error":"#VALUE!"},null,{"$error":"#VALUE!"},{"$error":"#VALUE!"},{"$error":"#VALUE!"},{"$error":"#VALUE!"},false]
[115,115,{"$f":"IF(A126<=$E$3,КАЛЬКУЛЯТОР!$C$21,IF(AND(A126>$E$3,A126<=$E$2),$E$4,\"\"))","v":""},{"$f":"IF(A126<=$E$2,-PMT(C126/12,IF(C126=КАЛЬКУЛЯТОР!$C$21,$E$2,$E$2-$E$3),IF(C126=КАЛЬКУЛЯТОР!$C$21,$I$11,$I$11-SUMIF($A$12:$A$371,\"<=\"&$E$3,$H$12:$H$371)),0,0),\"\")","v":""},null,{"$f":"IFERROR((-IPMT(C126/12,B126,IF(C126=КАЛЬКУЛЯТОР!$C$21,$E$2,$E$2-$E$3),IF(C126=КАЛЬКУЛЯТОР!$C$21,$I$11,$I$11-SUMIF($A$12:$A$371,\"<=\"&$E$3,$H$12:$H$371)),0,0)),\"\")","v":""},{"$f":"IFERROR((-IPMT((C126-'КАЛЬКУЛЯТОР 1'!$P$1)/12,B126,IF(C126=КАЛЬКУЛЯТОР!$C$21,$E$2,$E$2-$E$3),IF(C126=КАЛЬКУЛЯТОР!$C$21,$I$11,$I$11-SUMIF($A$12:$A$371,\"<=\"&$E$3,$H$12:$H$371)),0,0)),\"\")","v":""},{"$f":"IFERROR((-PPMT(C126/12,B126,IF(C126=КАЛЬКУЛЯТОР!$C$21,$E$2,$E$2-$E$3),IF(C126=КАЛЬКУЛЯТОР!$C$21,$I$11,$I$11-SUMIF($A$12:$A$371,\"<=\"&$E$3,$H$12:$H$371)),0,0)),\"\")","v":""},"",{"$error":"#VALUE!"},null,{"$error":"#VALUE!"},{"$error":"#VALUE!"},{"$error":"#VALUE!"},{"$error":"#VALUE!"},false]
[116,116,{"$f":"IF(A127<=$E$3,КАЛЬКУЛЯТОР!$C$21,IF(AND(A127>$E$3,A127<=$E$2),$E$4,\"\"))","v":""},{"$f":"IF(A127<=$E$2,-PMT(C127/12,IF(C127=КАЛЬКУЛЯТОР!$C$21,$E$2,$E$2-$E$3),IF(C127=КАЛЬКУЛЯТОР!$C$21,$I$11,$I$11-SUMIF($A$12:$A$371,\"<=\"&$E$3,$H$12:$H$371)),0,0),\"\")","v":""},null,{"$f":"IFERROR((-IPMT(C127/12,B127,IF(C127=КАЛЬКУЛЯТОР!$C$21,$E$2,$E$2-$E$3),IF(C127=КАЛЬКУЛЯТОР!$C$21,$I$11,$I$11-SUMIF($A$12:$A$371,\"<=\"&$E$3,$H$12:$H$371)),0,0)),\"\")","v":""},{"$f":"IFERROR((-IPMT((C127-'КАЛЬКУЛЯТОР 1'!$P$1)/12,B127,IF(C127=КАЛЬКУЛЯТОР!$C$21,$E$2,$E$2-$E$3),IF(C127=КАЛЬКУЛЯТОР!$C$21,$I$11,$I$11-SUMIF($A$12:$A$371,\"<=\"&$E$3,$H$12:$H$371)),0,0)),\"\")","v":""},{"$f":"IFERROR((-PPMT(C127/12,B127,IF(C127=КАЛЬКУЛЯТОР!$C$21,$E$2,$E$2-$E$3),IF(C127=КАЛЬКУЛЯТОР!$C$21,$I$11,$I$11-SUMIF($A$12:$A$371,\"<=\"&$E$3,$H$12:$H$371)),0,0)),\"\")","v":""},"",{"$error":"#VALUE!"},null,{"$error":"#VALUE!"},{"$error":"#VALUE!"},{"$error":"#VALUE!"},{"$error":"#VALUE!"},false]
[117,117,{"$f":"IF(A128<=$E$3,КАЛЬКУЛЯТОР!$C$21,IF(AND(A128>$E$3,A128<=$E$2),$E$4,\"\"))","v":""},{"$f":"IF(A128<=$E$2,-PMT(C128/12,IF(C128=КАЛЬКУЛЯТОР!$C$21,$E$2,$E$2-$E$3),IF(C128=КАЛЬКУЛЯТОР!$C$21,$I$11,$I$11-SUMIF($A$12:$A$371,\"<=\"&$E$3,$H$12:$H$371)),0,0),\"\")","v":""},null,{"$f":"IFERROR((-IPMT(C128/12,B128,IF(C128=КАЛЬКУЛЯТОР!$C$21,$E$2,$E$2-$E$3),IF(C128=КАЛЬКУЛЯТОР!$C$21,$I$11,$I$11-SUMIF($A$12:$A$371,\"<=\"&$E$3,$H$12:$H$371)),0,0)),\"\")","v":""},{"$f":"IFERROR((-IPMT((C128-'КАЛЬКУЛЯТОР 1'!$P$1)/12,B128,IF(C128=КАЛЬКУЛЯТОР!$C$21,$E$2,$E$2-$E$3),IF(C128=КАЛЬКУЛЯТОР!$C$21,$I$11,$I$11-SUMIF($A$12:$A$371,\"<=\"&$E$3,$H$12:$H$371)),0,0)),\"\")","v":""},{"$f":"IFERROR((-PPMT(C128/12,B128,IF(C128=КАЛЬКУЛЯТОР!$C$21,$E$2,$E$2-$E$3),IF(C128=КАЛЬКУЛЯТОР!$C$21,$I$11,$I$11-SUMIF($A$12:$A$371,\"<=\"&$E$3,$H$12:$H$371)),0,0)),\"\")","v":""},"",{"$error":"#VALUE!"},null,{"$error":"#VALUE!"},{"$error":"#VALUE!"},{"$error":"#VALUE!"},{"$error":"#VALUE!"},false]
[118,118,{"$f":"IF(A129<=$E$3,КАЛЬКУЛЯТОР!$C$21,IF(AND(A129>$E$3,A129<=$E$2),$E$4,\"\"))","v":""},{"$f":"IF(A129<=$E$2,-PMT(C129/12,IF(C129=КАЛЬКУЛЯТОР!$C$21,$E$2,$E$2-$E$3),IF(C129=КАЛЬКУЛЯТОР!$C$21,$I$11,$I$11-SUMIF($A$12:$A$371,\"<=\"&$E$3,$H$12:$H$371)),0,0),\"\")","v":""},null,{"$f":"IFERROR((-IPMT(C129/12,B129,IF(C129=КАЛЬКУЛЯТОР!$C$21,$E$2,$E$2-$E$3),IF(C129=КАЛЬКУЛЯТОР!$C$21,$I$11,$I$11-SUMIF($A$12:$A$371,\"<=\"&$E$3,$H$12:$H$371)),0,0)),\"\")","v":""},{"$f":"IFERROR((-IPMT((C129-'КАЛЬКУЛЯТОР 1'!$P$1)/12,B129,IF(C129=КАЛЬКУЛЯТОР!$C$21,$E$2,$E$2-$E$3),IF(C129=КАЛЬКУЛЯТОР!$C$21,$I$11,$I$11-SUMIF($A$12:$A$371,\"<=\"&$E$3,$H$12:$H$371)),0,0)),\"\")","v":""},{"$f":"IFERROR((-PPMT(C129/12,B129,IF(C129=КАЛЬКУЛЯТОР!$C$21,$E$2,$E$2-$E$3),IF(C129=КАЛЬКУЛЯТОР!$C$21,$I$11,$I$11-SUMIF($A$12:$A$371,\"<=\"&$E$3,$H$12:$H$371)),0,0)),\"\")","v":""},"",{"$error":"#VALUE!"},null,{"$error":"#VALUE!"},{"$error":"#VALUE!"},{"$error":"#VALUE!"},{"$error":"#VALUE!"},false]
[119,119,{"$f":"IF(A130<=$E$3,КАЛЬКУЛЯТОР!$C$21,IF(AND(A130>$E$3,A130<=$E$2),$E$4,\"\"))","v":""},{"$f":"IF(A130<=$E$2,-PMT(C130/12,IF(C130=КАЛЬКУЛЯТОР!$C$21,$E$2,$E$2-$E$3),IF(C130=КАЛЬКУЛЯТОР!$C$21,$I$11,$I$11-SUMIF($A$12:$A$371,\"<=\"&$E$3,$H$12:$H$371)),0,0),\"\")","v":""},null,{"$f":"IFERROR((-IPMT(C130/12,B130,IF(C130=КАЛЬКУЛЯТОР!$C$21,$E$2,$E$2-$E$3),IF(C130=КАЛЬКУЛЯТОР!$C$21,$I$11,$I$11-SUMIF($A$12:$A$371,\"<=\"&$E$3,$H$12:$H$371)),0,0)),\"\")","v":""},{"$f":"IFERROR((-IPMT((C130-'КАЛЬКУЛЯТОР 1'!$P$1)/12,B130,IF(C130=КАЛЬКУЛЯТОР!$C$21,$E$2,$E$2-$E$3),IF(C130=КАЛЬКУЛЯТОР!$C$21,$I$11,$I$11-SUMIF($A$12:$A$371,\"<=\"&$E$3,$H$12:$H$371)),0,0)),\"\")","v":""},{"$f":"IFERROR((-PPMT(C130/12,B130,IF(C130=КАЛЬКУЛЯТОР!$C$21,$E$2,$E$2-$E$3),IF(C130=КАЛЬКУЛЯТОР!$C$21,$I$11,$I$11-SUMIF($A$12:$A$371,\"<=\"&$E$3,$H$12:$H$371)),0,0)),\"\")","v":""},"",{"$error":"#VALUE!"},null,{"$error":"#VALUE!"},{"$error":"#VALUE!"},{"$error":"#VALUE!"},{"$error":"#VALUE!"},false]
[120,120,{"$f":"IF(A131<=$E$3,КАЛЬКУЛЯТОР!$C$21,IF(AND(A131>$E$3,A131<=$E$2),$E$4,\"\"))","v":""},{"$f":"IF(A131<=$E$2,-PMT(C131/12,IF(C131=КАЛЬКУЛЯТОР!$C$21,$E$2,$E$2-$E$3),IF(C131=КАЛЬКУЛЯТОР!$C$21,$I$11,$I$11-SUMIF($A$12:$A$371,\"<=\"&$E$3,$H$12:$H$371)),0,0),\"\")","v":""},null,{"$f":"IFERROR((-IPMT(C131/12,B131,IF(C131=КАЛЬКУЛЯТОР!$C$21,$E$2,$E$2-$E$3),IF(C131=КАЛЬКУЛЯТОР!$C$21,$I$11,$I$11-SUMIF($A$12:$A$371,\"<=\"&$E$3,$H$12:$H$371)),0,0)),\"\")","v":""},{"$f":"IFERROR((-IPMT((C131-'КАЛЬКУЛЯТОР 1'!$P$1)/12,B131,IF(C131=КАЛЬКУЛЯТОР!$C$21,$E$2,$E$2-$E$3),IF(C131=КАЛЬКУЛЯТОР!$C$21,$I$11,$I$11-SUMIF($A$12:$A$371,\"<=\"&$E$3,$H$12:$H$371)),0,0)),\"\")","v":""},{"$f":"IFERROR((-PPMT(C131/12,B131,IF(C131=КАЛЬКУЛЯТОР!$C$21,$E$2,$E$2-$E$3),IF(C131=КАЛЬКУЛЯТОР!$C$21,$I$11,$I$11-SUMIF($A$12:$A$371,\"<=\"&$E$3,$H$12:$H$371)),0,0)),\"\")","v":""},"",{"$error":"#VALUE!"},null,{"$error":"#VALUE!"},{"$error":"#VALUE!"},{"$error":"#VALUE!"},{"$error":"#VALUE!"},false]
[121,121,{"$f":"IF(A132<=$E$3,КАЛЬКУЛЯТОР!$C$21,IF(AND(A132>$E$3,A132<=$E$2),$E$4,\"\"))","v":""},{"$f":"IF(A132<=$E$2,-PMT(C132/12,IF(C132=КАЛЬКУЛЯТОР!$C$21,$E$2,$E$2-$E$3),IF(C132=КАЛЬКУЛЯТОР!$C$21,$I$11,$I$11-SUMIF($A$12:$A$371,\"<=\"&$E$3,$H$12:$H$371)),0,0)+E132,\"\")","v":""},{"$f":"IF($E$2>$A131,(I131+SUM(F132:F143))*($K$4+$K$5),\"\")","v":""},{"$f":"IFERROR((-IPMT(C132/12,B132,IF(C132=КАЛЬКУЛЯТОР!$C$21,$E$2,$E$2-$E$3),IF(C132=КАЛЬКУЛЯТОР!$C$21,$I$11,$I$11-SUMIF($A$12:$A$371,\"<=\"&$E$3,$H$12:$H$371)),0,0)),\"\")","v":""},{"$f":"IFERROR((-IPMT((C132-'КАЛЬКУЛЯТОР 1'!$P$1)/12,B132,IF(C132=КАЛЬКУЛЯТОР!$C$21,$E$2,$E$2-$E$3),IF(C132=КАЛЬКУЛЯТОР!$C$21,$I$11,$I$11-SUMIF($A$12:$A$371,\"<=\"&$E$3,$H$12:$H$371)),0,0)),\"\")","v":""},{"$f":"IFERROR((-PPMT(C132/12,B132,IF(C132=КАЛЬКУЛЯТОР!$C$21,$E$2,$E$2-$E$3),IF(C132=КАЛЬКУЛЯТОР!$C$21,$I$11,$I$11-SUMIF($A$12:$A$371,\"<=\"&$E$3,$H$12:$H$371)),0,0)),\"\")","v":""},"",{"$error":"#VALUE!"},{"$f":"PV($E$5/12,A132-1,0,-E132)","v":{"$error":"#VALUE!"}},{"$error":"#VALUE!"},{"$error":"#VALUE!"},{"$error":"#VALUE!"},{"$error":"#VALUE!"},false]
[122,122,{"$f":"IF(A133<=$E$3,КАЛЬКУЛЯТОР!$C$21,IF(AND(A133>$E$3,A133<=$E$2),$E$4,\"\"))","v":""},{"$f":"IF(A133<=$E$2,-PMT(C133/12,IF(C133=КАЛЬКУЛЯТОР!$C$21,$E$2,$E$2-$E$3),IF(C133=КАЛЬКУЛЯТОР!$C$21,$I$11,$I$11-SUMIF($A$12:$A$371,\"<=\"&$E$3,$H$12:$H$371)),0,0),\"\")","v":""},null,{"$f":"IFERROR((-IPMT(C133/12,B133,IF(C133=КАЛЬКУЛЯТОР!$C$21,$E$2,$E$2-$E$3),IF(C133=КАЛЬКУЛЯТОР!$C$21,$I$11,$I$11-SUMIF($A$12:$A$371,\"<=\"&$E$3,$H$12:$H$371)),0,0)),\"\")","v":""},{"$f":"IFERROR((-IPMT((C133-'КАЛЬКУЛЯТОР 1'!$P$1)/12,B133,IF(C133=КАЛЬКУЛЯТОР!$C$21,$E$2,$E$2-$E$3),IF(C133=КАЛЬКУЛЯТОР!$C$21,$I$11,$I$11-SUMIF($A$12:$A$371,\"<=\"&$E$3,$H$12:$H$371)),0,0)),\"\")","v":""},{"$f":"IFERROR((-PPMT(C133/12,B133,IF(C133=КАЛЬКУЛЯТОР!$C$21,$E$2,$E$2-$E$3),IF(C133=КАЛЬКУЛЯТОР!$C$21,$I$11,$I$11-SUMIF($A$12:$A$371,\"<=\"&$E$3,$H$12:$H$371)),0,0)),\"\")","v":""},"",{"$error":"#VALUE!"},null,{"$error":"#VALUE!"},{"$error":"#VALUE!"},{"$error":"#VALUE!"},{"$error":"#VALUE!"},false]
[123,123,{"$f":"IF(A134<=$E$3,КАЛЬКУЛЯТОР!$C$21,IF(AND(A134>$E$3,A134<=$E$2),$E$4,\"\"))","v":""},{"$f":"IF(A134<=$E$2,-PMT(C134/12,IF(C134=КАЛЬКУЛЯТОР!$C$21,$E$2,$E$2-$E$3),IF(C134=КАЛЬКУЛЯТОР!$C$21,$I$11,$I$11-SUMIF($A$12:$A$371,\"<=\"&$E$3,$H$12:$H$371)),0,0),\"\")","v":""},null,{"$f":"IFERROR((-IPMT(C134/12,B134,IF(C134=КАЛЬКУЛЯТОР!$C$21,$E$2,$E$2-$E$3),IF(C134=КАЛЬКУЛЯТОР!$C$21,$I$11,$I$11-SUMIF($A$12:$A$371,\"<=\"&$E$3,$H$12:$H$371)),0,0)),\"\")","v":""},{"$f":"IFERROR((-IPMT((C134-'КАЛЬКУЛЯТОР 1'!$P$1)/12,B134,IF(C134=КАЛЬКУЛЯТОР!$C$21,$E$2,$E$2-$E$3),IF(C134=КАЛЬКУЛЯТОР!$C$21,$I$11,$I$11-SUMIF($A$12:$A$371,\"<=\"&$E$3,$H$12:$H$371)),0,0)),\"\")","v":""},{"$f":"IFERROR((-PPMT(C134/12,B134,IF(C134=КАЛЬКУЛЯТОР!$C$21,$E$2,$E$2-$E$3),IF(C134=КАЛЬКУЛЯТОР!$C$21,$I$11,$I$11-SUMIF($A$12:$A$371,\"<=\"&$E$3,$H$12:$H$371)),0,0)),\"\")","v":""},"",{"$error":"#VALUE!"},null,{"$error":"#VALUE!"},{"$error":"#VALUE!"},{"$error":"#VALUE!"},{"$error":"#VALUE!"},false]
[124,124,{"$f":"IF(A135<=$E$3,КАЛЬКУЛЯТОР!$C$21,IF(AND(A135>$E$3,A135<=$E$2),$E$4,\"\"))","v":""},{"$f":"IF(A135<=$E$2,-PMT(C135/12,IF(C135=КАЛЬКУЛЯТОР!$C$21,$E$2,$E$2-$E$3),IF(C135=КАЛЬКУЛЯТОР!$C$21,$I$11,$I$11-SUMIF($A$12:$A$371,\"<=\"&$E$3,$H$12:$H$371)),0,0),\"\")","v":""},null,{"$f":"IFERROR((-IPMT(C135/12,B135,IF(C135=КАЛЬКУЛЯТОР!$C$21,$E$2,$E$2-$E$3),IF(C135=КАЛЬКУЛЯТОР!$C$21,$I$11,$I$11-SUMIF($A$12:$A$371,\"<=\"&$E$3,$H$12:$H$371)),0,0)),\"\")","v":""},{"$f":"IFERROR((-IPMT((C135-'КАЛЬКУЛЯТОР 1'!$P$1)/12,B135,IF(C135=КАЛЬКУЛЯТОР!$C$21,$E$2,$E$2-$E$3),IF(C135=КАЛЬКУЛЯТОР!$C$21,$I$11,$I$11-SUMIF($A$12:$A$371,\"<=\"&$E$3,$H$12:$H$371)),0,0)),\"\")","v":""},{"$f":"IFERROR((-PPMT(C135/12,B135,IF(C135=КАЛЬКУЛЯТОР!$C$21,$E$2,$E$2-$E$3),IF(C135=КАЛЬКУЛЯТОР!$C$21,$I$11,$I$11-SUMIF($A$12:$A$371,\"<=\"&$E$3,$H$12:$H$371)),0,0)),\"\")","v":""},"",{"$error":"#VALUE!"},null,{"$error":"#VALUE!"},{"$error":"#VALUE!"},{"$error":"#VALUE!"},{"$error":"#VALUE!"},false]
[125,125,{"$f":"IF(A136<=$E$3,КАЛЬКУЛЯТОР!$C$21,IF(AND(A136>$E$3,A136<=$E$2),$E$4,\"\"))","v":""},{"$f":"IF(A136<=$E$2,-PMT(C136/12,IF(C136=КАЛЬКУЛЯТОР!$C$21,$E$2,$E$2-$E$3),IF(C136=КАЛЬКУЛЯТОР!$C$21,$I$11,$I$11-SUMIF($A$12:$A$371,\"<=\"&$E$3,$H$12:$H$371)),0,0),\"\")","v":""},null,{"$f":"IFERROR((-IPMT(C136/12,B136,IF(C136=КАЛЬКУЛЯТОР!$C$21,$E$2,$E$2-$E$3),IF(C136=КАЛЬКУЛЯТОР!$C$21,$I$11,$I$11-SUMIF($A$12:$A$371,\"<=\"&$E$3,$H$12:$H$371)),0,0)),\"\")","v":""},{"$f":"IFERROR((-IPMT((C136-'КАЛЬКУЛЯТОР 1'!$P$1)/12,B136,IF(C136=КАЛЬКУЛЯТОР!$C$21,$E$2,$E$2-$E$3),IF(C136=КАЛЬКУЛЯТОР!$C$21,$I$11,$I$11-SUMIF($A$12:$A$371,\"<=\"&$E$3,$H$12:$H$371)),0,0)),\"\")","v":""},{"$f":"IFERROR((-PPMT(C136/12,B136,IF(C136=КАЛЬКУЛЯТОР!$C$21,$E$2,$E$2-$E$3),IF(C136=КАЛЬКУЛЯТОР!$C$21,$I$11,$I$11-SUMIF($A$12:$A$371,\"<=\"&$E$3,$H$12:$H$371)),0,0)),\"\")","v":""},"",{"$error":"#VALUE!"},null,{"$error":"#VALUE!"},{"$error":"#VALUE!"},{"$error":"#VALUE!"},{"$error":"#VALUE!"},false]
[126,126,{"$f":"IF(A137<=$E$3,КАЛЬКУЛЯТОР!$C$21,IF(AND(A137>$E$3,A137<=$E$2),$E$4,\"\"))","v":""},{"$f":"IF(A137<=$E$2,-PMT(C137/12,IF(C137=КАЛЬКУЛЯТОР!$C$21,$E$2,$E$2-$E$3),IF(C137=КАЛЬКУЛЯТОР!$C$21,$I$11,$I$11-SUMIF($A$12:$A$371,\"<=\"&$E$3,$H$12:$H$371)),0,0),\"\")","v":""},null,{"$f":"IFERROR((-IPMT(C137/12,B137,IF(C137=КАЛЬКУЛЯТОР!$C$21,$E$2,$E$2-$E$3),IF(C137=КАЛЬКУЛЯТОР!$C$21,$I$11,$I$11-SUMIF($A$12:$A$371,\"<=\"&$E$3,$H$12:$H$371)),0,0)),\"\")","v":""},{"$f":"IFERROR((-IPMT((C137-'КАЛЬКУЛЯТОР 1'!$P$1)/12,B137,IF(C137=КАЛЬКУЛЯТОР!$C$21,$E$2,$E$2-$E$3),IF(C137=КАЛЬКУЛЯТОР!$C$21,$I$11,$I$11-SUMIF($A$12:$A$371,\"<=\"&$E$3,$H$12:$H$371)),0,0)),\"\")","v":""},{"$f":"IFERROR((-PPMT(C137/12,B137,IF(C137=КАЛЬКУЛЯТОР!$C$21,$E$2,$E$2-$E$3),IF(C137=КАЛЬКУЛЯТОР!$C$21,$I$11,$I$11-SUMIF($A$12:$A$371,\"<=\"&$E$3,$H$12:$H$371)),0,0)),\"\")","v":""},"",{"$error":"#VALUE!"},null,{"$error":"#VALUE!"},{"$error":"#VALUE!"},{"$error":"#VALUE!"},{"$error":"#VALUE!"},false]
[127,127,{"$f":"IF(A138<=$E$3,КАЛЬКУЛЯТОР!$C$21,IF(AND(A138>$E$3,A138<=$E$2),$E$4,\"\"))","v":""},{"$f":"IF(A138<=$E$2,-PMT(C138/12,IF(C138=КАЛЬКУЛЯТОР!$C$21,$E$2,$E$2-$E$3),IF(C138=КАЛЬКУЛЯТОР!$C$21,$I$11,$I$11-SUMIF($A$12:$A$371,\"<=\"&$E$3,$H$12:$H$371)),0,0),\"\")","v":""},null,{"$f":"IFERROR((-IPMT(C138/12,B138,IF(C138=КАЛЬКУЛЯТОР!$C$21,$E$2,$E$2-$E$3),IF(C138=КАЛЬКУЛЯТОР!$C$21,$I$11,$I$11-SUMIF($A$12:$A$371,\"<=\"&$E$3,$H$12:$H$371)),0,0)),\"\")","v":""},{"$f":"IFERROR((-IPMT((C138-'КАЛЬКУЛЯТОР 1'!$P$1)/12,B138,IF(C138=КАЛЬКУЛЯТОР!$C$21,$E$2,$E$2-$E$3),IF(C138=КАЛЬКУЛЯТОР!$C$21,$I$11,$I$11-SUMIF($A$12:$A$371,\"<=\"&$E$3,$H$12:$H$371)),0,0)),\"\")","v":""},{"$f":"IFERROR((-PPMT(C138/12,B138,IF(C138=КАЛЬКУЛЯТОР!$C$21,$E$2,$E$2-$E$3),IF(C138=КАЛЬКУЛЯТОР!$C$21,$I$11,$I$11-SUMIF($A$12:$A$371,\"<=\"&$E$3,$H$12:$H$371)),0,0)),\"\")","v":""},"",{"$error":"#VALUE!"},null,{"$error":"#VALUE!"},{"$error":"#VALUE!"},{"$error":"#VALUE!"},{"$error":"#VALUE!"},false]
[128,128,{"$f":"IF(A139<=$E$3,КАЛЬКУЛЯТОР!$C$21,IF(AND(A139>$E$3,A139<=$E$2),$E$4,\"\"))","v":""},{"$f":"IF(A139<=$E$2,-PMT(C139/12,IF(C139=КАЛЬКУЛЯТОР!$C$21,$E$2,$E$2-$E$3),IF(C139=КАЛЬКУЛЯТОР!$C$21,$I$11,$I$11-SUMIF($A$12:$A$371,\"<=\"&$E$3,$H$12:$H$371)),0,0),\"\")","v":""},null,{"$f":"IFERROR((-IPMT(C139/12,B139,IF(C139=КАЛЬКУЛЯТОР!$C$21,$E$2,$E$2-$E$3),IF(C139=КАЛЬКУЛЯТОР!$C$21,$I$11,$I$11-SUMIF($A$12:$A$371,\"<=\"&$E$3,$H$12:$H$371)),0,0)),\"\")","v":""},{"$f":"IFERROR((-IPMT((C139-'КАЛЬКУЛЯТОР 1'!$P$1)/12,B139,IF(C139=КАЛЬКУЛЯТОР!$C$21,$E$2,$E$2-$E$3),IF(C139=КАЛЬКУЛЯТОР!$C$21,$I$11,$I$11-SUMIF($A$12:$A$371,\"<=\"&$E$3,$H$12:$H$371)),0,0)),\"\")","v":""},{"$f":"IFERROR((-PPMT(C139/12,B139,IF(C139=КАЛЬКУЛЯТОР!$C$21,$E$2,$E$2-$E$3),IF(C139=КАЛЬКУЛЯТОР!$C$21,$I$11,$I$11-SUMIF($A$12:$A$371,\"<=\"&$E$3,$H$12:$H$371)),0,0)),\"\")","v":""},"",{"$error":"#VALUE!"},null,{"$error":"#VALUE!"},{"$error":"#VALUE!"},{"$error":"#VALUE!"},{"$error":"#VALUE!"},false]
[129,129,{"$f":"IF(A140<=$E$3,КАЛЬКУЛЯТОР!$C$21,IF(AND(A140>$E$3,A140<=$E$2),$E$4,\"\"))","v":""},{"$f":"IF(A140<=$E$2,-PMT(C140/12,IF(C140=КАЛЬКУЛЯТОР!$C$21,$E$2,$E$2-$E$3),IF(C140=КАЛЬКУЛЯТОР!$C$21,$I$11,$I$11-SUMIF($A$12:$A$371,\"<=\"&$E$3,$H$12:$H$371)),0,0),\"\")","v":""},null,{"$f":"IFERROR((-IPMT(C140/12,B140,IF(C140=КАЛЬКУЛЯТОР!$C$21,$E$2,$E$2-$E$3),IF(C140=КАЛЬКУЛЯТОР!$C$21,$I$11,$I$11-SUMIF($A$12:$A$371,\"<=\"&$E$3,$H$12:$H$371)),0,0)),\"\")","v":""},{"$f":"IFERROR((-IPMT((C140-'КАЛЬКУЛЯТОР 1'!$P$1)/12,B140,IF(C140=КАЛЬКУЛЯТОР!$C$21,$E$2,$E$2-$E$3),IF(C140=КАЛЬКУЛЯТОР!$C$21,$I$11,$I$11-SUMIF($A$12:$A$371,\"<=\"&$E$3,$H$12:$H$371)),0,0)),\"\")","v":""},{"$f":"IFERROR((-PPMT(C140/12,B140,IF(C140=КАЛЬКУЛЯТОР!$C$21,$E$2,$E$2-$E$3),IF(C140=КАЛЬКУЛЯТОР!$C$21,$I$11,$I$11-SUMIF($A$12:$A$371,\"<=\"&$E$3,$H$12:$H$371)),0,0)),\"\")","v":""},{"$f":"IFERROR(I139-H140,\"\")","v":""},{"$f":"PV($E$5/12,A140-1,0,-D140)","v":{"$error":"#VALUE!"}},null,{"$f":"PV($E$5/12,A140-1,0,-F140)","v":{"$error":"#VALUE!"}},{"$f":"PV($E$5/12,A140-1,0,-G140)","v":{"$error":"#VALUE!"}},{"$f":"PV($E$5/12,A140-1,0,-H140)","v":{"$error":"#VALUE!"}},{"$f":"O139-N140","v":{"$error":"#VALUE!"}},{"$f":"AND(A140<=$E$3)","v":false}]
[130,{"$f":"ROUND(IF(P141=$P$12,B140+1,A141-$E$3),0)","v":130},{"$f":"IF(A141<=$E$3,КАЛЬКУЛЯТОР!$C$21,IF(AND(A141>$E$3,A141<=$E$2),$E$4,\"\"))","v":""},{"$f":"IF(A141<=$E$2,-PMT(C141/12,IF(C141=КАЛЬКУЛЯТОР!$C$21,$E$2,$E$2-$E$3),IF(C141=КАЛЬКУЛЯТОР!$C$21,$I$11,$I$11-SUMIF($A$12:$A$371,\"<=\"&$E$3,$H$12:$H$371)),0,0),\"\")","v":""},null,{"$f":"IFERROR((-IPMT(C141/12,B141,IF(C141=КАЛЬКУЛЯТОР!$C$21,$E$2,$E$2-$E$3),IF(C141=КАЛЬКУЛЯТОР!$C$21,$I$11,$I$11-SUMIF($A$12:$A$371,\"<=\"&$E$3,$H$12:$H$371)),0,0)),\"\")","v":""},{"$f":"IFERROR((-IPMT((C141-'КАЛЬКУЛЯТОР 1'!$P$1)/12,B141,IF(C141=КАЛЬКУЛЯТОР!$C$21,$E$2,$E$2-$E$3),IF(C141=КАЛЬКУЛЯТОР!$C$21,$I$11,$I$11-SUMIF($A$12:$A$371,\"<=\"&$E$3,$H$12:$H$371)),0,0)),\"\")","v":""},{"$f":"IFERROR((-PPMT(C141/12,B141,IF(C141=КАЛЬКУЛЯТОР!$C$21,$E$2,$E$2-$E$3),IF(C141=КАЛЬКУЛЯТОР!$C$21,$I$11,$I$11-SUMIF($A$12:$A$371,\"<=\"&$E$3,$H$12:$H$371)),0,0)),\"\")","v":""},"",{"$error":"#VALUE!"},null,{"$error":"#VALUE!"},{"$error":"#VALUE!"},{"$error":"#VALUE!"},{"$error":"#VALUE!"},false]
[131,131,{"$f":"IF(A142<=$E$3,КАЛЬКУЛЯТОР!$C$21,IF(AND(A142>$E$3,A142<=$E$2),$E$4,\"\"))","v":""},{"$f":"IF(A142<=$E$2,-PMT(C142/12,IF(C142=КАЛЬКУЛЯТОР!$C$21,$E$2,$E$2-$E$3),IF(C142=КАЛЬКУЛЯТОР!$C$21,$I$11,$I$11-SUMIF($A$12:$A$371,\"<=\"&$E$3,$H$12:$H$371)),0,0),\"\")","v":""},null,{"$f":"IFERROR((-IPMT(C142/12,B142,IF(C142=КАЛЬКУЛЯТОР!$C$21,$E$2,$E$2-$E$3),IF(C142=КАЛЬКУЛЯТОР!$C$21,$I$11,$I$11-SUMIF($A$12:$A$371,\"<=\"&$E$3,$H$12:$H$371)),0,0)),\"\")","v":""},{"$f":"IFERROR((-IPMT((C142-'КАЛЬКУЛЯТОР 1'!$P$1)/12,B142,IF(C142=КАЛЬКУЛЯТОР!$C$21,$E$2,$E$2-$E$3),IF(C142=КАЛЬКУЛЯТОР!$C$21,$I$11,$I$11-SUMIF($A$12:$A$371,\"<=\"&$E$3,$H$12:$H$371)),0,0)),\"\")","v":""},{"$f":"IFERROR((-PPMT(C142/12,B142,IF(C142=КАЛЬКУЛЯТОР!$C$21,$E$2,$E$2-$E$3),IF(C142=КАЛЬКУЛЯТОР!$C$21,$I$11,$I$11-SUMIF($A$12:$A$371,\"<=\"&$E$3,$H$12:$H$371)),0,0)),\"\")","v":""},"",{"$error":"#VALUE!"},null,{"$error":"#VALUE!"},{"$error":"#VALUE!"},{"$error":"#VALUE!"},{"$error":"#VALUE!"},false]
[132,132,{"$f":"IF(A143<=$E$3,КАЛЬКУЛЯТОР!$C$21,IF(AND(A143>$E$3,A143<=$E$2),$E$4,\"\"))","v":""},{"$f":"IF(A143<=$E$2,-PMT(C143/12,IF(C143=КАЛЬКУЛЯТОР!$C$21,$E$2,$E$2-$E$3),IF(C143=КАЛЬКУЛЯТОР!$C$21,$I$11,$I$11-SUMIF($A$12:$A$371,\"<=\"&$E$3,$H$12:$H$371)),0,0),\"\")","v":""},null,{"$f":"IFERROR((-IPMT(C143/12,B143,IF(C143=КАЛЬКУЛЯТОР!$C$21,$E$2,$E$2-$E$3),IF(C143=КАЛЬКУЛЯТОР!$C$21,$I$11,$I$11-SUMIF($A$12:$A$371,\"<=\"&$E$3,$H$12:$H$371)),0,0)),\"\")","v":""},{"$f":"IFERROR((-IPMT((C143-'КАЛЬКУЛЯТОР 1'!$P$1)/12,B143,IF(C143=КАЛЬКУЛЯТОР!$C$21,$E$2,$E$2-$E$3),IF(C143=КАЛЬКУЛЯТОР!$C$21,$I$11,$I$11-SUMIF($A$12:$A$371,\"<=\"&$E$3,$H$12:$H$371)),0,0)),\"\")","v":""},{"$f":"IFERROR((-PPMT(C143/12,B143,IF(C143=КАЛЬКУЛЯТОР!$C$21,$E$2,$E$2-$E$3),IF(C143=КАЛЬКУЛЯТОР!$C$21,$I$11,$I$11-SUMIF($A$12:$A$371,\"<=\"&$E$3,$H$12:$H$371)),0,0)),\"\")","v":""},"",{"$error":"#VALUE!"},null,{"$error":"#VALUE!"},{"$error":"#VALUE!"},{"$error":"#VALUE!"},{"$error":"#VALUE!"},false]
[133,133,{"$f":"IF(A144<=$E$3,КАЛЬКУЛЯТОР!$C$21,IF(AND(A144>$E$3,A144<=$E$2),$E$4,\"\"))","v":""},{"$f":"IF(A144<=$E$2,-PMT(C144/12,IF(C144=КАЛЬКУЛЯТОР!$C$21,$E$2,$E$2-$E$3),IF(C144=КАЛЬКУЛЯТОР!$C$21,$I$11,$I$11-SUMIF($A$12:$A$371,\"<=\"&$E$3,$H$12:$H$371)),0,0)+E144,\"\")","v":""},{"$f":"IF($E$2>$A143,(I143+SUM(F144:F155))*($K$4+$K$5),0)","v":{"v":0,"d":"0.00"}},{"$f":"IFERROR((-IPMT(C144/12,B144,IF(C144=КАЛЬКУЛЯТОР!$C$21,$E$2,$E$2-$E$3),IF(C144=КАЛЬКУЛЯТОР!$C$21,$I$11,$I$11-SUMIF($A$12:$A$371,\"<=\"&$E$3,$H$12:$H$371)),0,0)),\"\")","v":""},{"$f":"IFERROR((-IPMT((C144-'КАЛЬКУЛЯТОР 1'!$P$1)/12,B144,IF(C144=КАЛЬКУЛЯТОР!$C$21,$E$2,$E$2-$E$3),IF(C144=КАЛЬКУЛЯТОР!$C$21,$I$11,$I$11-SUMIF($A$12:$A$371,\"<=\"&$E$3,$H$12:$H$371)),0,0)),\"\")","v":""},{"$f":"IFERROR((-PPMT(C144/12,B144,IF(C144=КАЛЬКУЛЯТОР!$C$21,$E$2,$E$2-$E$3),IF(C144=КАЛЬКУЛЯТОР!$C$21,$I$11,$I$11-SUMIF($A$12:$A$371,\"<=\"&$E$3,$H$12:$H$371)),0,0)),\"\")","v":""},"",{"$error":"#VALUE!"},{"$f":"PV($E$5/12,A144-1,0,-E144)","v":{"v":0,"d":"0.00"}},{"$error":"#VALUE!"},{"$error":"#VALUE!"},{"$error":"#VALUE!"},{"$error":"#VALUE!"},false]
[134,134,{"$f":"IF(A145<=$E$3,КАЛЬКУЛЯТОР!$C$21,IF(AND(A145>$E$3,A145<=$E$2),$E$4,\"\"))","v":""},{"$f":"IF(A145<=$E$2,-PMT(C145/12,IF(C145=КАЛЬКУЛЯТОР!$C$21,$E$2,$E$2-$E$3),IF(C145=КАЛЬКУЛЯТОР!$C$21,$I$11,$I$11-SUMIF($A$12:$A$371,\"<=\"&$E$3,$H$12:$H$371)),0,0),\"\")","v":""},null,{"$f":"IFERROR((-IPMT(C145/12,B145,IF(C145=КАЛЬКУЛЯТОР!$C$21,$E$2,$E$2-$E$3),IF(C145=КАЛЬКУЛЯТОР!$C$21,$I$11,$I$11-SUMIF($A$12:$A$371,\"<=\"&$E$3,$H$12:$H$371)),0,0)),\"\")","v":""},{"$f":"IFERROR((-IPMT((C145-'КАЛЬКУЛЯТОР 1'!$P$1)/12,B145,IF(C145=КАЛЬКУЛЯТОР!$C$21,$E$2,$E$2-$E$3),IF(C145=КАЛЬКУЛЯТОР!$C$21,$I$11,$I$11-SUMIF($A$12:$A$371,\"<=\"&$E$3,$H$12:$H$371)),0,0)),\"\")","v":""},{"$f":"IFERROR((-PPMT(C145/12,B145,IF(C145=КАЛЬКУЛЯТОР!$C$21,$E$2,$E$2-$E$3),IF(C145=КАЛЬКУЛЯТОР!$C$21,$I$11,$I$11-SUMIF($A$12:$A$371,\"<=\"&$E$3,$H$12:$H$371)),0,0)),\"\")","v":""},"",{"$error":"#VALUE!"},null,{"$error":"#VALUE!"},{"$error":"#VALUE!"},{"$error":"#VALUE!"},{"$error":"#VALUE!"},false]
[135,135,{"$f":"IF(A146<=$E$3,КАЛЬКУЛЯТОР!$C$21,IF(AND(A146>$E$3,A146<=$E$2),$E$4,\"\"))","v":""},{"$f":"IF(A146<=$E$2,-PMT(C146/12,IF(C146=КАЛЬКУЛЯТОР!$C$21,$E$2,$E$2-$E$3),IF(C146=КАЛЬКУЛЯТОР!$C$21,$I$11,$I$11-SUMIF($A$12:$A$371,\"<=\"&$E$3,$H$12:$H$371)),0,0),\"\")","v":""},null,{"$f":"IFERROR((-IPMT(C146/12,B146,IF(C146=КАЛЬКУЛЯТОР!$C$21,$E$2,$E$2-$E$3),IF(C146=КАЛЬКУЛЯТОР!$C$21,$I$11,$I$11-SUMIF($A$12:$A$371,\"<=\"&$E$3,$H$12:$H$371)),0,0)),\"\")","v":""},{"$f":"IFERROR((-IPMT((C146-'КАЛЬКУЛЯТОР 1'!$P$1)/12,B146,IF(C146=КАЛЬКУЛЯТОР!$C$21,$E$2,$E$2-$E$3),IF(C146=КАЛЬКУЛЯТОР!$C$21,$I$11,$I$11-SUMIF($A$12:$A$371,\"<=\"&$E$3,$H$12:$H$371)),0,0)),\"\")","v":""},{"$f":"IFERROR((-PPMT(C146/12,B146,IF(C146=КАЛЬКУЛЯТОР!$C$21,$E$2,$E$2-$E$3),IF(C146=КАЛЬКУЛЯТОР!$C$21,$I$11,$I$11-SUMIF($A$12:$A$371,\"<=\"&$E$3,$H$12:$H$371)),0,0)),\"\")","v":""},"",{"$error":"#VALUE!"},null,{"$error":"#VALUE!"},{"$error":"#VALUE!"},{"$error":"#VALUE!"},{"$error":"#VALUE!"},false]
[136,136,{"$f":"IF(A147<=$E$3,КАЛЬКУЛЯТОР!$C$21,IF(AND(A147>$E$3,A147<=$E$2),$E$4,\"\"))","v":""},{"$f":"IF(A147<=$E$2,-PMT(C147/12,IF(C147=КАЛЬКУЛЯТОР!$C$21,$E$2,$E$2-$E$3),IF(C147=КАЛЬКУЛЯТОР!$C$21,$I$11,$I$11-SUMIF($A$12:$A$371,\"<=\"&$E$3,$H$12:$H$371)),0,0),\"\")","v":""},null,{"$f":"IFERROR((-IPMT(C147/12,B147,IF(C147=КАЛЬКУЛЯТОР!$C$21,$E$2,$E$2-$E$3),IF(C147=КАЛЬКУЛЯТОР!$C$21,$I$11,$I$11-SUMIF($A$12:$A$371,\"<=\"&$E$3,$H$12:$H$371)),0,0)),\"\")","v":""},{"$f":"IFERROR((-IPMT((C147-'КАЛЬКУЛЯТОР 1'!$P$1)/12,B147,IF(C147=КАЛЬКУЛЯТОР!$C$21,$E$2,$E$2-$E$3),IF(C147=КАЛЬКУЛЯТОР!$C$21,$I$11,$I$11-SUMIF($A$12:$A$371,\"<=\"&$E$3,$H$12:$H$371)),0,0)),\"\")","v":""},{"$f":"IFERROR((-PPMT(C147/12,B147,IF(C147=КАЛЬКУЛЯТОР!$C$21,$E$2,$E$2-$E$3),IF(C147=КАЛЬКУЛЯТОР!$C$21,$I$11,$I$11-SUMIF($A$12:$A$371,\"<=\"&$E$3,$H$12:$H$371)),0,0)),\"\")","v":""},"",{"$error":"#VALUE!"},null,{"$error":"#VALUE!"},{"$error":"#VALUE!"},{"$error":"#VALUE!"},{"$error":"#VALUE!"},false]
[137,137,{"$f":"IF(A148<=$E$3,КАЛЬКУЛЯТОР!$C$21,IF(AND(A148>$E$3,A148<=$E$2),$E$4,\"\"))","v":""},{"$f":"IF(A148<=$E$2,-PMT(C148/12,IF(C148=КАЛЬКУЛЯТОР!$C$21,$E$2,$E$2-$E$3),IF(C148=КАЛЬКУЛЯТОР!$C$21,$I$11,$I$11-SUMIF($A$12:$A$371,\"<=\"&$E$3,$H$12:$H$371)),0,0),\"\")","v":""},null,{"$f":"IFERROR((-IPMT(C148/12,B148,IF(C148=КАЛЬКУЛЯТОР!$C$21,$E$2,$E$2-$E$3),IF(C148=КАЛЬКУЛЯТОР!$C$21,$I$11,$I$11-SUMIF($A$12:$A$371,\"<=\"&$E$3,$H$12:$H$371)),0,0)),\"\")","v":""},{"$f":"IFERROR((-IPMT((C148-'КАЛЬКУЛЯТОР 1'!$P$1)/12,B148,IF(C148=КАЛЬКУЛЯТОР!$C$21,$E$2,$E$2-$E$3),IF(C148=КАЛЬКУЛЯТОР!$C$21,$I$11,$I$11-SUMIF($A$12:$A$371,\"<=\"&$E$3,$H$12:$H$371)),0,0)),\"\")","v":""},{"$f":"IFERROR((-PPMT(C148/12,B148,IF(C148=КАЛЬКУЛЯТОР!$C$21,$E$2,$E$2-$E$3),IF(C148=КАЛЬКУЛЯТОР!$C$21,$I$11,$I$11-SUMIF($A$12:$A$371,\"<=\"&$E$3,$H$12:$H$371)),0,0)),\"\")","v":""},"",{"$error":"#VALUE!"},null,{"$error":"#VALUE!"},{"$error":"#VALUE!"},{"$error":"#VALUE!"},{"$error":"#VALUE!"},false]
[138,138,{"$f":"IF(A149<=$E$3,КАЛЬКУЛЯТОР!$C$21,IF(AND(A149>$E$3,A149<=$E$2),$E$4,\"\"))","v":""},{"$f":"IF(A149<=$E$2,-PMT(C149/12,IF(C149=КАЛЬКУЛЯТОР!$C$21,$E$2,$E$2-$E$3),IF(C149=КАЛЬКУЛЯТОР!$C$21,$I$11,$I$11-SUMIF($A$12:$A$371,\"<=\"&$E$3,$H$12:$H$371)),0,0),\"\")","v":""},null,{"$f":"IFERROR((-IPMT(C149/12,B149,IF(C149=КАЛЬКУЛЯТОР!$C$21,$E$2,$E$2-$E$3),IF(C149=КАЛЬКУЛЯТОР!$C$21,$I$11,$I$11-SUMIF($A$12:$A$371,\"<=\"&$E$3,$H$12:$H$371)),0,0)),\"\")","v":""},{"$f":"IFERROR((-IPMT((C149-'КАЛЬКУЛЯТОР 1'!$P$1)/12,B149,IF(C149=КАЛЬКУЛЯТОР!$C$21,$E$2,$E$2-$E$3),IF(C149=КАЛЬКУЛЯТОР!$C$21,$I$11,$I$11-SUMIF($A$12:$A$371,\"<=\"&$E$3,$H$12:$H$371)),0,0)),\"\")","v":""},{"$f":"IFERROR((-PPMT(C149/12,B149,IF(C149=КАЛЬКУЛЯТОР!$C$21,$E$2,$E$2-$E$3),IF(C149=КАЛЬКУЛЯТОР!$C$21,$I$11,$I$11-SUMIF($A$12:$A$371,\"<=\"&$E$3,$H$12:$H$371)),0,0)),\"\")","v":""},"",{"$error":"#VALUE!"},null,{"$error":"#VALUE!"},{"$error":"#VALUE!"},{"$error":"#VALUE!"},{"$error":"#VALUE!"},false]
[139,139,{"$f":"IF(A150<=$E$3,КАЛЬКУЛЯТОР!$C$21,IF(AND(A150>$E$3,A150<=$E$2),$E$4,\"\"))","v":""},{"$f":"IF(A150<=$E$2,-PMT(C150/12,IF(C150=КАЛЬКУЛЯТОР!$C$21,$E$2,$E$2-$E$3),IF(C150=КАЛЬКУЛЯТОР!$C$21,$I$11,$I$11-SUMIF($A$12:$A$371,\"<=\"&$E$3,$H$12:$H$371)),0,0),\"\")","v":""},null,{"$f":"IFERROR((-IPMT(C150/12,B150,IF(C150=КАЛЬКУЛЯТОР!$C$21,$E$2,$E$2-$E$3),IF(C150=КАЛЬКУЛЯТОР!$C$21,$I$11,$I$11-SUMIF($A$12:$A$371,\"<=\"&$E$3,$H$12:$H$371)),0,0)),\"\")","v":""},{"$f":"IFERROR((-IPMT((C150-'КАЛЬКУЛЯТОР 1'!$P$1)/12,B150,IF(C150=КАЛЬКУЛЯТОР!$C$21,$E$2,$E$2-$E$3),IF(C150=КАЛЬКУЛЯТОР!$C$21,$I$11,$I$11-SUMIF($A$12:$A$371,\"<=\"&$E$3,$H$12:$H$371)),0,0)),\"\")","v":""},{"$f":"IFERROR((-PPMT(C150/12,B150,IF(C150=КАЛЬКУЛЯТОР!$C$21,$E$2,$E$2-$E$3),IF(C150=КАЛЬКУЛЯТОР!$C$21,$I$11,$I$11-SUMIF($A$12:$A$371,\"<=\"&$E$3,$H$12:$H$371)),0,0)),\"\")","v":""},"",{"$error":"#VALUE!"},null,{"$error":"#VALUE!"},{"$error":"#VALUE!"},{"$error":"#VALUE!"},{"$error":"#VALUE!"},false]
[140,140,{"$f":"IF(A151<=$E$3,КАЛЬКУЛЯТОР!$C$21,IF(AND(A151>$E$3,A151<=$E$2),$E$4,\"\"))","v":""},{"$f":"IF(A151<=$E$2,-PMT(C151/12,IF(C151=КАЛЬКУЛЯТОР!$C$21,$E$2,$E$2-$E$3),IF(C151=КАЛЬКУЛЯТОР!$C$21,$I$11,$I$11-SUMIF($A$12:$A$371,\"<=\"&$E$3,$H$12:$H$371)),0,0),\"\")","v":""},null,{"$f":"IFERROR((-IPMT(C151/12,B151,IF(C151=КАЛЬКУЛЯТОР!$C$21,$E$2,$E$2-$E$3),IF(C151=КАЛЬКУЛЯТОР!$C$21,$I$11,$I$11-SUMIF($A$12:$A$371,\"<=\"&$E$3,$H$12:$H$371)),0,0)),\"\")","v":""},{"$f":"IFERROR((-IPMT((C151-'КАЛЬКУЛЯТОР 1'!$P$1)/12,B151,IF(C151=КАЛЬКУЛЯТОР!$C$21,$E$2,$E$2-$E$3),IF(C151=КАЛЬКУЛЯТОР!$C$21,$I$11,$I$11-SUMIF($A$12:$A$371,\"<=\"&$E$3,$H$12:$H$371)),0,0)),\"\")","v":""},{"$f":"IFERROR((-PPMT(C151/12,B151,IF(C151=КАЛЬКУЛЯТОР!$C$21,$E$2,$E$2-$E$3),IF(C151=КАЛЬКУЛЯТОР!$C$21,$I$11,$I$11-SUMIF($A$12:$A$371,\"<=\"&$E$3,$H$12:$H$371)),0,0)),\"\")","v":""},"",{"$error":"#VALUE!"},null,{"$error":"#VALUE!"},{"$error":"#VALUE!"},{"$error":"#VALUE!"},{"$error":"#VALUE!"},false]
[141,141,{"$f":"IF(A152<=$E$3,КАЛЬКУЛЯТОР!$C$21,IF(AND(A152>$E$3,A152<=$E$2),$E$4,\"\"))","v":""},{"$f":"IF(A152<=$E$2,-PMT(C152/12,IF(C152=КАЛЬКУЛЯТОР!$C$21,$E$2,$E$2-$E$3),IF(C152=КАЛЬКУЛЯТОР!$C$21,$I$11,$I$11-SUMIF($A$12:$A$371,\"<=\"&$E$3,$H$12:$H$371)),0,0),\"\")","v":""},null,{"$f":"IFERROR((-IPMT(C152/12,B152,IF(C152=КАЛЬКУЛЯТОР!$C$21,$E$2,$E$2-$E$3),IF(C152=КАЛЬКУЛЯТОР!$C$21,$I$11,$I$11-SUMIF($A$12:$A$371,\"<=\"&$E$3,$H$12:$H$371)),0,0)),\"\")","v":""},{"$f":"IFERROR((-IPMT((C152-'КАЛЬКУЛЯТОР 1'!$P$1)/12,B152,IF(C152=КАЛЬКУЛЯТОР!$C$21,$E$2,$E$2-$E$3),IF(C152=КАЛЬКУЛЯТОР!$C$21,$I$11,$I$11-SUMIF($A$12:$A$371,\"<=\"&$E$3,$H$12:$H$371)),0,0)),\"\")","v":""},{"$f":"IFERROR((-PPMT(C152/12,B152,IF(C152=КАЛЬКУЛЯТОР!$C$21,$E$2,$E$2-$E$3),IF(C152=КАЛЬКУЛЯТОР!$C$21,$I$11,$I$11-SUMIF($A$12:$A$371,\"<=\"&$E$3,$H$12:$H$371)),0,0)),\"\")","v":""},"",{"$error":"#VALUE!"},null,{"$error":"#VALUE!"},{"$error":"#VALUE!"},{"$error":"#VALUE!"},{"$error":"#VALUE!"},false]
[142,142,{"$f":"IF(A153<=$E$3,КАЛЬКУЛЯТОР!$C$21,IF(AND(A153>$E$3,A153<=$E$2),$E$4,\"\"))","v":""},{"$f":"IF(A153<=$E$2,-PMT(C153/12,IF(C153=КАЛЬКУЛЯТОР!$C$21,$E$2,$E$2-$E$3),IF(C153=КАЛЬКУЛЯТОР!$C$21,$I$11,$I$11-SUMIF($A$12:$A$371,\"<=\"&$E$3,$H$12:$H$371)),0,0),\"\")","v":""},null,{"$f":"IFERROR((-IPMT(C153/12,B153,IF(C153=КАЛЬКУЛЯТОР!$C$21,$E$2,$E$2-$E$3),IF(C153=КАЛЬКУЛЯТОР!$C$21,$I$11,$I$11-SUMIF($A$12:$A$371,\"<=\"&$E$3,$H$12:$H$371)),0,0)),\"\")","v":""},{"$f":"IFERROR((-IPMT((C153-'КАЛЬКУЛЯТОР 1'!$P$1)/12,B153,IF(C153=КАЛЬКУЛЯТОР!$C$21,$E$2,$E$2-$E$3),IF(C153=КАЛЬКУЛЯТОР!$C$21,$I$11,$I$11-SUMIF($A$12:$A$371,\"<=\"&$E$3,$H$12:$H$371)),0,0)),\"\")","v":""},{"$f":"IFERROR((-PPMT(C153/12,B153,IF(C153=КАЛЬКУЛЯТОР!$C$21,$E$2,$E$2-$E$3),IF(C153=КАЛЬКУЛЯТОР!$C$21,$I$11,$I$11-SUMIF($A$12:$A$371,\"<=\"&$E$3,$H$12:$H$371)),0,0)),\"\")","v":""},"",{"$error":"#VALUE!"},null,{"$error":"#VALUE!"},{"$error":"#VALUE!"},{"$error":"#VALUE!"},{"$error":"#VALUE!"},false]
[143,143,{"$f":"IF(A154<=$E$3,КАЛЬКУЛЯТОР!$C$21,IF(AND(A154>$E$3,A154<=$E$2),$E$4,\"\"))","v":""},{"$f":"IF(A154<=$E$2,-PMT(C154/12,IF(C154=КАЛЬКУЛЯТОР!$C$21,$E$2,$E$2-$E$3),IF(C154=КАЛЬКУЛЯТОР!$C$21,$I$11,$I$11-SUMIF($A$12:$A$371,\"<=\"&$E$3,$H$12:$H$371)),0,0),\"\")","v":""},null,{"$f":"IFERROR((-IPMT(C154/12,B154,IF(C154=КАЛЬКУЛЯТОР!$C$21,$E$2,$E$2-$E$3),IF(C154=КАЛЬКУЛЯТОР!$C$21,$I$11,$I$11-SUMIF($A$12:$A$371,\"<=\"&$E$3,$H$12:$H$371)),0,0)),\"\")","v":""},{"$f":"IFERROR((-IPMT((C154-'КАЛЬКУЛЯТОР 1'!$P$1)/12,B154,IF(C154=КАЛЬКУЛЯТОР!$C$21,$E$2,$E$2-$E$3),IF(C154=КАЛЬКУЛЯТОР!$C$21,$I$11,$I$11-SUMIF($A$12:$A$371,\"<=\"&$E$3,$H$12:$H$371)),0,0)),\"\")","v":""},{"$f":"IFERROR((-PPMT(C154/12,B154,IF(C154=КАЛЬКУЛЯТОР!$C$21,$E$2,$E$2-$E$3),IF(C154=КАЛЬКУЛЯТОР!$C$21,$I$11,$I$11-SUMIF($A$12:$A$371,\"<=\"&$E$3,$H$12:$H$371)),0,0)),\"\")","v":""},"",{"$error":"#VALUE!"},null,{"$error":"#VALUE!"},{"$error":"#VALUE!"},{"$error":"#VALUE!"},{"$error":"#VALUE!"},false]
[144,144,{"$f":"IF(A155<=$E$3,КАЛЬКУЛЯТОР!$C$21,IF(AND(A155>$E$3,A155<=$E$2),$E$4,\"\"))","v":""},{"$f":"IF(A155<=$E$2,-PMT(C155/12,IF(C155=КАЛЬКУЛЯТОР!$C$21,$E$2,$E$2-$E$3),IF(C155=КАЛЬКУЛЯТОР!$C$21,$I$11,$I$11-SUMIF($A$12:$A$371,\"<=\"&$E$3,$H$12:$H$371)),0,0),\"\")","v":""},null,{"$f":"IFERROR((-IPMT(C155/12,B155,IF(C155=КАЛЬКУЛЯТОР!$C$21,$E$2,$E$2-$E$3),IF(C155=КАЛЬКУЛЯТОР!$C$21,$I$11,$I$11-SUMIF($A$12:$A$371,\"<=\"&$E$3,$H$12:$H$371)),0,0)),\"\")","v":""},{"$f":"IFERROR((-IPMT((C155-'КАЛЬКУЛЯТОР 1'!$P$1)/12,B155,IF(C155=КАЛЬКУЛЯТОР!$C$21,$E$2,$E$2-$E$3),IF(C155=КАЛЬКУЛЯТОР!$C$21,$I$11,$I$11-SUMIF($A$12:$A$371,\"<=\"&$E$3,$H$12:$H$371)),0,0)),\"\")","v":""},{"$f":"IFERROR((-PPMT(C155/12,B155,IF(C155=КАЛЬКУЛЯТОР!$C$21,$E$2,$E$2-$E$3),IF(C155=КАЛЬКУЛЯТОР!$C$21,$I$11,$I$11-SUMIF($A$12:$A$371,\"<=\"&$E$3,$H$12:$H$371)),0,0)),\"\")","v":""},"",{"$error":"#VALUE!"},null,{"$error":"#VALUE!"},{"$error":"#VALUE!"},{"$error":"#VALUE!"},{"$error":"#VALUE!"},false]
[145,145,{"$f":"IF(A156<=$E$3,КАЛЬКУЛЯТОР!$C$21,IF(AND(A156>$E$3,A156<=$E$2),$E$4,\"\"))","v":""},{"$f":"IF(A156<=$E$2,-PMT(C156/12,IF(C156=КАЛЬКУЛЯТОР!$C$21,$E$2,$E$2-$E$3),IF(C156=КАЛЬКУЛЯТОР!$C$21,$I$11,$I$11-SUMIF($A$12:$A$371,\"<=\"&$E$3,$H$12:$H$371)),0,0)+E156,\"\")","v":""},{"$f":"IF($E$2>$A155,(I155+SUM(F156:F167))*($K$4+$K$5),0)","v":{"v":0,"d":"0.00"}},{"$f":"IFERROR((-IPMT(C156/12,B156,IF(C156=КАЛЬКУЛЯТОР!$C$21,$E$2,$E$2-$E$3),IF(C156=КАЛЬКУЛЯТОР!$C$21,$I$11,$I$11-SUMIF($A$12:$A$371,\"<=\"&$E$3,$H$12:$H$371)),0,0)),\"\")","v":""},{"$f":"IFERROR((-IPMT((C156-'КАЛЬКУЛЯТОР 1'!$P$1)/12,B156,IF(C156=КАЛЬКУЛЯТОР!$C$21,$E$2,$E$2-$E$3),IF(C156=КАЛЬКУЛЯТОР!$C$21,$I$11,$I$11-SUMIF($A$12:$A$371,\"<=\"&$E$3,$H$12:$H$371)),0,0)),\"\")","v":""},{"$f":"IFERROR((-PPMT(C156/12,B156,IF(C156=КАЛЬКУЛЯТОР!$C$21,$E$2,$E$2-$E$3),IF(C156=КАЛЬКУЛЯТОР!$C$21,$I$11,$I$11-SUMIF($A$12:$A$371,\"<=\"&$E$3,$H$12:$H$371)),0,0)),\"\")","v":""},"",{"$error":"#VALUE!"},{"$f":"PV($E$5/12,A156-1,0,-E156)","v":{"v":0,"d":"0.00"}},{"$error":"#VALUE!"},{"$error":"#VALUE!"},{"$error":"#VALUE!"},{"$error":"#VALUE!"},false]
[146,146,{"$f":"IF(A157<=$E$3,КАЛЬКУЛЯТОР!$C$21,IF(AND(A157>$E$3,A157<=$E$2),$E$4,\"\"))","v":""},{"$f":"IF(A157<=$E$2,-PMT(C157/12,IF(C157=КАЛЬКУЛЯТОР!$C$21,$E$2,$E$2-$E$3),IF(C157=КАЛЬКУЛЯТОР!$C$21,$I$11,$I$11-SUMIF($A$12:$A$371,\"<=\"&$E$3,$H$12:$H$371)),0,0),\"\")","v":""},null,{"$f":"IFERROR((-IPMT(C157/12,B157,IF(C157=КАЛЬКУЛЯТОР!$C$21,$E$2,$E$2-$E$3),IF(C157=КАЛЬКУЛЯТОР!$C$21,$I$11,$I$11-SUMIF($A$12:$A$371,\"<=\"&$E$3,$H$12:$H$371)),0,0)),\"\")","v":""},{"$f":"IFERROR((-IPMT((C157-'КАЛЬКУЛЯТОР 1'!$P$1)/12,B157,IF(C157=КАЛЬКУЛЯТОР!$C$21,$E$2,$E$2-$E$3),IF(C157=КАЛЬКУЛЯТОР!$C$21,$I$11,$I$11-SUMIF($A$12:$A$371,\"<=\"&$E$3,$H$12:$H$371)),0,0)),\"\")","v":""},{"$f":"IFERROR((-PPMT(C157/12,B157,IF(C157=КАЛЬКУЛЯТОР!$C$21,$E$2,$E$2-$E$3),IF(C157=КАЛЬКУЛЯТОР!$C$21,$I$11,$I$11-SUMIF($A$12:$A$371,\"<=\"&$E$3,$H$12:$H$371)),0,0)),\"\")","v":""},"",{"$error":"#VALUE!"},null,{"$error":"#VALUE!"},{"$error":"#VALUE!"},{"$error":"#VALUE!"},{"$error":"#VALUE!"},false]
[147,147,{"$f":"IF(A158<=$E$3,КАЛЬКУЛЯТОР!$C$21,IF(AND(A158>$E$3,A158<=$E$2),$E$4,\"\"))","v":""},{"$f":"IF(A158<=$E$2,-PMT(C158/12,IF(C158=КАЛЬКУЛЯТОР!$C$21,$E$2,$E$2-$E$3),IF(C158=КАЛЬКУЛЯТОР!$C$21,$I$11,$I$11-SUMIF($A$12:$A$371,\"<=\"&$E$3,$H$12:$H$371)),0,0),\"\")","v":""},null,{"$f":"IFERROR((-IPMT(C158/12,B158,IF(C158=КАЛЬКУЛЯТОР!$C$21,$E$2,$E$2-$E$3),IF(C158=КАЛЬКУЛЯТОР!$C$21,$I$11,$I$11-SUMIF($A$12:$A$371,\"<=\"&$E$3,$H$12:$H$371)),0,0)),\"\")","v":""},{"$f":"IFERROR((-IPMT((C158-'КАЛЬКУЛЯТОР 1'!$P$1)/12,B158,IF(C158=КАЛЬКУЛЯТОР!$C$21,$E$2,$E$2-$E$3),IF(C158=КАЛЬКУЛЯТОР!$C$21,$I$11,$I$11-SUMIF($A$12:$A$371,\"<=\"&$E$3,$H$12:$H$371)),0,0)),\"\")","v":""},{"$f":"IFERROR((-PPMT(C158/12,B158,IF(C158=КАЛЬКУЛЯТОР!$C$21,$E$2,$E$2-$E$3),IF(C158=КАЛЬКУЛЯТОР!$C$21,$I$11,$I$11-SUMIF($A$12:$A$371,\"<=\"&$E$3,$H$12:$H$371)),0,0)),\"\")","v":""},"",{"$error":"#VALUE!"},null,{"$error":"#VALUE!"},{"$error":"#VALUE!"},{"$error":"#VALUE!"},{"$error":"#VALUE!"},false]
[148,148,{"$f":"IF(A159<=$E$3,КАЛЬКУЛЯТОР!$C$21,IF(AND(A159>$E$3,A159<=$E$2),$E$4,\"\"))","v":""},{"$f":"IF(A159<=$E$2,-PMT(C159/12,IF(C159=КАЛЬКУЛЯТОР!$C$21,$E$2,$E$2-$E$3),IF(C159=КАЛЬКУЛЯТОР!$C$21,$I$11,$I$11-SUMIF($A$12:$A$371,\"<=\"&$E$3,$H$12:$H$371)),0,0),\"\")","v":""},null,{"$f":"IFERROR((-IPMT(C159/12,B159,IF(C159=КАЛЬКУЛЯТОР!$C$21,$E$2,$E$2-$E$3),IF(C159=КАЛЬКУЛЯТОР!$C$21,$I$11,$I$11-SUMIF($A$12:$A$371,\"<=\"&$E$3,$H$12:$H$371)),0,0)),\"\")","v":""},{"$f":"IFERROR((-IPMT((C159-'КАЛЬКУЛЯТОР 1'!$P$1)/12,B159,IF(C159=КАЛЬКУЛЯТОР!$C$21,$E$2,$E$2-$E$3),IF(C159=КАЛЬКУЛЯТОР!$C$21,$I$11,$I$11-SUMIF($A$12:$A$371,\"<=\"&$E$3,$H$12:$H$371)),0,0)),\"\")","v":""},{"$f":"IFERROR((-PPMT(C159/12,B159,IF(C159=КАЛЬКУЛЯТОР!$C$21,$E$2,$E$2-$E$3),IF(C159=КАЛЬКУЛЯТОР!$C$21,$I$11,$I$11-SUMIF($A$12:$A$371,\"<=\"&$E$3,$H$12:$H$371)),0,0)),\"\")","v":""},"",{"$error":"#VALUE!"},null,{"$error":"#VALUE!"},{"$error":"#VALUE!"},{"$error":"#VALUE!"},{"$error":"#VALUE!"},false]
[149,149,{"$f":"IF(A160<=$E$3,КАЛЬКУЛЯТОР!$C$21,IF(AND(A160>$E$3,A160<=$E$2),$E$4,\"\"))","v":""},{"$f":"IF(A160<=$E$2,-PMT(C160/12,IF(C160=КАЛЬКУЛЯТОР!$C$21,$E$2,$E$2-$E$3),IF(C160=КАЛЬКУЛЯТОР!$C$21,$I$11,$I$11-SUMIF($A$12:$A$371,\"<=\"&$E$3,$H$12:$H$371)),0,0),\"\")","v":""},null,{"$f":"IFERROR((-IPMT(C160/12,B160,IF(C160=КАЛЬКУЛЯТОР!$C$21,$E$2,$E$2-$E$3),IF(C160=КАЛЬКУЛЯТОР!$C$21,$I$11,$I$11-SUMIF($A$12:$A$371,\"<=\"&$E$3,$H$12:$H$371)),0,0)),\"\")","v":""},{"$f":"IFERROR((-IPMT((C160-'КАЛЬКУЛЯТОР 1'!$P$1)/12,B160,IF(C160=КАЛЬКУЛЯТОР!$C$21,$E$2,$E$2-$E$3),IF(C160=КАЛЬКУЛЯТОР!$C$21,$I$11,$I$11-SUMIF($A$12:$A$371,\"<=\"&$E$3,$H$12:$H$371)),0,0)),\"\")","v":""},{"$f":"IFERROR((-PPMT(C160/12,B160,IF(C160=КАЛЬКУЛЯТОР!$C$21,$E$2,$E$2-$E$3),IF(C160=КАЛЬКУЛЯТОР!$C$21,$I$11,$I$11-SUMIF($A$12:$A$371,\"<=\"&$E$3,$H$12:$H$371)),0,0)),\"\")","v":""},"",{"$error":"#VALUE!"},null,{"$error":"#VALUE!"},{"$error":"#VALUE!"},{"$error":"#VALUE!"},{"$error":"#VALUE!"},false]
[150,150,{"$f":"IF(A161<=$E$3,КАЛЬКУЛЯТОР!$C$21,IF(AND(A161>$E$3,A161<=$E$2),$E$4,\"\"))","v":""},{"$f":"IF(A161<=$E$2,-PMT(C161/12,IF(C161=КАЛЬКУЛЯТОР!$C$21,$E$2,$E$2-$E$3),IF(C161=КАЛЬКУЛЯТОР!$C$21,$I$11,$I$11-SUMIF($A$12:$A$371,\"<=\"&$E$3,$H$12:$H$371)),0,0),\"\")","v":""},null,{"$f":"IFERROR((-IPMT(C161/12,B161,IF(C161=КАЛЬКУЛЯТОР!$C$21,$E$2,$E$2-$E$3),IF(C161=КАЛЬКУЛЯТОР!$C$21,$I$11,$I$11-SUMIF($A$12:$A$371,\"<=\"&$E$3,$H$12:$H$371)),0,0)),\"\")","v":""},{"$f":"IFERROR((-IPMT((C161-'КАЛЬКУЛЯТОР 1'!$P$1)/12,B161,IF(C161=КАЛЬКУЛЯТОР!$C$21,$E$2,$E$2-$E$3),IF(C161=КАЛЬКУЛЯТОР!$C$21,$I$11,$I$11-SUMIF($A$12:$A$371,\"<=\"&$E$3,$H$12:$H$371)),0,0)),\"\")","v":""},{"$f":"IFERROR((-PPMT(C161/12,B161,IF(C161=КАЛЬКУЛЯТОР!$C$21,$E$2,$E$2-$E$3),IF(C161=КАЛЬКУЛЯТОР!$C$21,$I$11,$I$11-SUMIF($A$12:$A$371,\"<=\"&$E$3,$H$12:$H$371)),0,0)),\"\")","v":""},"",{"$error":"#VALUE!"},null,{"$error":"#VALUE!"},{"$error":"#VALUE!"},{"$error":"#VALUE!"},{"$error":"#VALUE!"},false]
[151,151,{"$f":"IF(A162<=$E$3,КАЛЬКУЛЯТОР!$C$21,IF(AND(A162>$E$3,A162<=$E$2),$E$4,\"\"))","v":""},{"$f":"IF(A162<=$E$2,-PMT(C162/12,IF(C162=КАЛЬКУЛЯТОР!$C$21,$E$2,$E$2-$E$3),IF(C162=КАЛЬКУЛЯТОР!$C$21,$I$11,$I$11-SUMIF($A$12:$A$371,\"<=\"&$E$3,$H$12:$H$371)),0,0),\"\")","v":""},null,{"$f":"IFERROR((-IPMT(C162/12,B162,IF(C162=КАЛЬКУЛЯТОР!$C$21,$E$2,$E$2-$E$3),IF(C162=КАЛЬКУЛЯТОР!$C$21,$I$11,$I$11-SUMIF($A$12:$A$371,\"<=\"&$E$3,$H$12:$H$371)),0,0)),\"\")","v":""},{"$f":"IFERROR((-IPMT((C162-'КАЛЬКУЛЯТОР 1'!$P$1)/12,B162,IF(C162=КАЛЬКУЛЯТОР!$C$21,$E$2,$E$2-$E$3),IF(C162=КАЛЬКУЛЯТОР!$C$21,$I$11,$I$11-SUMIF($A$12:$A$371,\"<=\"&$E$3,$H$12:$H$371)),0,0)),\"\")","v":""},{"$f":"IFERROR((-PPMT(C162/12,B162,IF(C162=КАЛЬКУЛЯТОР!$C$21,$E$2,$E$2-$E$3),IF(C162=КАЛЬКУЛЯТОР!$C$21,$I$11,$I$11-SUMIF($A$12:$A$371,\"<=\"&$E$3,$H$12:$H$371)),0,0)),\"\")","v":""},"",{"$error":"#VALUE!"},null,{"$error":"#VALUE!"},{"$error":"#VALUE!"},{"$error":"#VALUE!"},{"$error":"#VALUE!"},false]
[152,152,{"$f":"IF(A163<=$E$3,КАЛЬКУЛЯТОР!$C$21,IF(AND(A163>$E$3,A163<=$E$2),$E$4,\"\"))","v":""},{"$f":"IF(A163<=$E$2,-PMT(C163/12,IF(C163=КАЛЬКУЛЯТОР!$C$21,$E$2,$E$2-$E$3),IF(C163=КАЛЬКУЛЯТОР!$C$21,$I$11,$I$11-SUMIF($A$12:$A$371,\"<=\"&$E$3,$H$12:$H$371)),0,0),\"\")","v":""},null,{"$f":"IFERROR((-IPMT(C163/12,B163,IF(C163=КАЛЬКУЛЯТОР!$C$21,$E$2,$E$2-$E$3),IF(C163=КАЛЬКУЛЯТОР!$C$21,$I$11,$I$11-SUMIF($A$12:$A$371,\"<=\"&$E$3,$H$12:$H$371)),0,0)),\"\")","v":""},{"$f":"IFERROR((-IPMT((C163-'КАЛЬКУЛЯТОР 1'!$P$1)/12,B163,IF(C163=КАЛЬКУЛЯТОР!$C$21,$E$2,$E$2-$E$3),IF(C163=КАЛЬКУЛЯТОР!$C$21,$I$11,$I$11-SUMIF($A$12:$A$371,\"<=\"&$E$3,$H$12:$H$371)),0,0)),\"\")","v":""},{"$f":"IFERROR((-PPMT(C163/12,B163,IF(C163=КАЛЬКУЛЯТОР!$C$21,$E$2,$E$2-$E$3),IF(C163=КАЛЬКУЛЯТОР!$C$21,$I$11,$I$11-SUMIF($A$12:$A$371,\"<=\"&$E$3,$H$12:$H$371)),0,0)),\"\")","v":""},"",{"$error":"#VALUE!"},null,{"$error":"#VALUE!"},{"$error":"#VALUE!"},{"$error":"#VALUE!"},{"$error":"#VALUE!"},false]
[153,153,{"$f":"IF(A164<=$E$3,КАЛЬКУЛЯТОР!$C$21,IF(AND(A164>$E$3,A164<=$E$2),$E$4,\"\"))","v":""},{"$f":"IF(A164<=$E$2,-PMT(C164/12,IF(C164=КАЛЬКУЛЯТОР!$C$21,$E$2,$E$2-$E$3),IF(C164=КАЛЬКУЛЯТОР!$C$21,$I$11,$I$11-SUMIF($A$12:$A$371,\"<=\"&$E$3,$H$12:$H$371)),0,0),\"\")","v":""},null,{"$f":"IFERROR((-IPMT(C164/12,B164,IF(C164=КАЛЬКУЛЯТОР!$C$21,$E$2,$E$2-$E$3),IF(C164=КАЛЬКУЛЯТОР!$C$21,$I$11,$I$11-SUMIF($A$12:$A$371,\"<=\"&$E$3,$H$12:$H$371)),0,0)),\"\")","v":""},{"$f":"IFERROR((-IPMT((C164-'КАЛЬКУЛЯТОР 1'!$P$1)/12,B164,IF(C164=КАЛЬКУЛЯТОР!$C$21,$E$2,$E$2-$E$3),IF(C164=КАЛЬКУЛЯТОР!$C$21,$I$11,$I$11-SUMIF($A$12:$A$371,\"<=\"&$E$3,$H$12:$H$371)),0,0)),\"\")","v":""},{"$f":"IFERROR((-PPMT(C164/12,B164,IF(C164=КАЛЬКУЛЯТОР!$C$21,$E$2,$E$2-$E$3),IF(C164=КАЛЬКУЛЯТОР!$C$21,$I$11,$I$11-SUMIF($A$12:$A$371,\"<=\"&$E$3,$H$12:$H$371)),0,0)),\"\")","v":""},"",{"$error":"#VALUE!"},null,{"$error":"#VALUE!"},{"$error":"#VALUE!"},{"$error":"#VALUE!"},{"$error":"#VALUE!"},false]
[154,154,{"$f":"IF(A165<=$E$3,КАЛЬКУЛЯТОР!$C$21,IF(AND(A165>$E$3,A165<=$E$2),$E$4,\"\"))","v":""},{"$f":"IF(A165<=$E$2,-PMT(C165/12,IF(C165=КАЛЬКУЛЯТОР!$C$21,$E$2,$E$2-$E$3),IF(C165=КАЛЬКУЛЯТОР!$C$21,$I$11,$I$11-SUMIF($A$12:$A$371,\"<=\"&$E$3,$H$12:$H$371)),0,0),\"\")","v":""},null,{"$f":"IFERROR((-IPMT(C165/12,B165,IF(C165=КАЛЬКУЛЯТОР!$C$21,$E$2,$E$2-$E$3),IF(C165=КАЛЬКУЛЯТОР!$C$21,$I$11,$I$11-SUMIF($A$12:$A$371,\"<=\"&$E$3,$H$12:$H$371)),0,0)),\"\")","v":""},{"$f":"IFERROR((-IPMT((C165-'КАЛЬКУЛЯТОР 1'!$P$1)/12,B165,IF(C165=КАЛЬКУЛЯТОР!$C$21,$E$2,$E$2-$E$3),IF(C165=КАЛЬКУЛЯТОР!$C$21,$I$11,$I$11-SUMIF($A$12:$A$371,\"<=\"&$E$3,$H$12:$H$371)),0,0)),\"\")","v":""},{"$f":"IFERROR((-PPMT(C165/12,B165,IF(C165=КАЛЬКУЛЯТОР!$C$21,$E$2,$E$2-$E$3),IF(C165=КАЛЬКУЛЯТОР!$C$21,$I$11,$I$11-SUMIF($A$12:$A$371,\"<=\"&$E$3,$H$12:$H$371)),0,0)),\"\")","v":""},"",{"$error":"#VALUE!"},null,{"$error":"#VALUE!"},{"$error":"#VALUE!"},{"$error":"#VALUE!"},{"$error":"#VALUE!"},false]
[155,155,{"$f":"IF(A166<=$E$3,КАЛЬКУЛЯТОР!$C$21,IF(AND(A166>$E$3,A166<=$E$2),$E$4,\"\"))","v":""},{"$f":"IF(A166<=$E$2,-PMT(C166/12,IF(C166=КАЛЬКУЛЯТОР!$C$21,$E$2,$E$2-$E$3),IF(C166=КАЛЬКУЛЯТОР!$C$21,$I$11,$I$11-SUMIF($A$12:$A$371,\"<=\"&$E$3,$H$12:$H$371)),0,0),\"\")","v":""},null,{"$f":"IFERROR((-IPMT(C166/12,B166,IF(C166=КАЛЬКУЛЯТОР!$C$21,$E$2,$E$2-$E$3),IF(C166=КАЛЬКУЛЯТОР!$C$21,$I$11,$I$11-SUMIF($A$12:$A$371,\"<=\"&$E$3,$H$12:$H$371)),0,0)),\"\")","v":""},{"$f":"IFERROR((-IPMT((C166-'КАЛЬКУЛЯТОР 1'!$P$1)/12,B166,IF(C166=КАЛЬКУЛЯТОР!$C$21,$E$2,$E$2-$E$3),IF(C166=КАЛЬКУЛЯТОР!$C$21,$I$11,$I$11-SUMIF($A$12:$A$371,\"<=\"&$E$3,$H$12:$H$371)),0,0)),\"\")","v":""},{"$f":"IFERROR((-PPMT(C166/12,B166,IF(C166=КАЛЬКУЛЯТОР!$C$21,$E$2,$E$2-$E$3),IF(C166=КАЛЬКУЛЯТОР!$C$21,$I$11,$I$11-SUMIF($A$12:$A$371,\"<=\"&$E$3,$H$12:$H$371)),0,0)),\"\")","v":""},"",{"$error":"#VALUE!"},null,{"$error":"#VALUE!"},{"$error":"#VALUE!"},{"$error":"#VALUE!"},{"$error":"#VALUE!"},false]
[156,156,{"$f":"IF(A167<=$E$3,КАЛЬКУЛЯТОР!$C$21,IF(AND(A167>$E$3,A167<=$E$2),$E$4,\"\"))","v":""},{"$f":"IF(A167<=$E$2,-PMT(C167/12,IF(C167=КАЛЬКУЛЯТОР!$C$21,$E$2,$E$2-$E$3),IF(C167=КАЛЬКУЛЯТОР!$C$21,$I$11,$I$11-SUMIF($A$12:$A$371,\"<=\"&$E$3,$H$12:$H$371)),0,0),\"\")","v":""},null,{"$f":"IFERROR((-IPMT(C167/12,B167,IF(C167=КАЛЬКУЛЯТОР!$C$21,$E$2,$E$2-$E$3),IF(C167=КАЛЬКУЛЯТОР!$C$21,$I$11,$I$11-SUMIF($A$12:$A$371,\"<=\"&$E$3,$H$12:$H$371)),0,0)),\"\")","v":""},{"$f":"IFERROR((-IPMT((C167-'КАЛЬКУЛЯТОР 1'!$P$1)/12,B167,IF(C167=КАЛЬКУЛЯТОР!$C$21,$E$2,$E$2-$E$3),IF(C167=КАЛЬКУЛЯТОР!$C$21,$I$11,$I$11-SUMIF($A$12:$A$371,\"<=\"&$E$3,$H$12:$H$371)),0,0)),\"\")","v":""},{"$f":"IFERROR((-PPMT(C167/12,B167,IF(C167=КАЛЬКУЛЯТОР!$C$21,$E$2,$E$2-$E$3),IF(C167=КАЛЬКУЛЯТОР!$C$21,$I$11,$I$11-SUMIF($A$12:$A$371,\"<=\"&$E$3,$H$12:$H$371)),0,0)),\"\")","v":""},"",{"$error":"#VALUE!"},null,{"$error":"#VALUE!"},{"$error":"#VALUE!"},{"$error":"#VALUE!"},{"$error":"#VALUE!"},false]
[157,157,{"$f":"IF(A168<=$E$3,КАЛЬКУЛЯТОР!$C$21,IF(AND(A168>$E$3,A168<=$E$2),$E$4,\"\"))","v":""},{"$f":"IF(A168<=$E$2,-PMT(C168/12,IF(C168=КАЛЬКУЛЯТОР!$C$21,$E$2,$E$2-$E$3),IF(C168=КАЛЬКУЛЯТОР!$C$21,$I$11,$I$11-SUMIF($A$12:$A$371,\"<=\"&$E$3,$H$12:$H$371)),0,0)+E168,\"\")","v":""},{"$f":"IF($E$2>$A167,(I167+SUM(F168:F179))*($K$4+$K$5),0)","v":{"v":0,"d":"0.00"}},{"$f":"IFERROR((-IPMT(C168/12,B168,IF(C168=КАЛЬКУЛЯТОР!$C$21,$E$2,$E$2-$E$3),IF(C168=КАЛЬКУЛЯТОР!$C$21,$I$11,$I$11-SUMIF($A$12:$A$371,\"<=\"&$E$3,$H$12:$H$371)),0,0)),\"\")","v":""},{"$f":"IFERROR((-IPMT((C168-'КАЛЬКУЛЯТОР 1'!$P$1)/12,B168,IF(C168=КАЛЬКУЛЯТОР!$C$21,$E$2,$E$2-$E$3),IF(C168=КАЛЬКУЛЯТОР!$C$21,$I$11,$I$11-SUMIF($A$12:$A$371,\"<=\"&$E$3,$H$12:$H$371)),0,0)),\"\")","v":""},{"$f":"IFERROR((-PPMT(C168/12,B168,IF(C168=КАЛЬКУЛЯТОР!$C$21,$E$2,$E$2-$E$3),IF(C168=КАЛЬКУЛЯТОР!$C$21,$I$11,$I$11-SUMIF($A$12:$A$371,\"<=\"&$E$3,$H$12:$H$371)),0,0)),\"\")","v":""},"",{"$error":"#VALUE!"},{"$f":"PV($E$5/12,A168-1,0,-E168)","v":{"v":0,"d":"0.00"}},{"$error":"#VALUE!"},{"$error":"#VALUE!"},{"$error":"#VALUE!"},{"$error":"#VALUE!"},false]
[158,158,{"$f":"IF(A169<=$E$3,КАЛЬКУЛЯТОР!$C$21,IF(AND(A169>$E$3,A169<=$E$2),$E$4,\"\"))","v":""},{"$f":"IF(A169<=$E$2,-PMT(C169/12,IF(C169=КАЛЬКУЛЯТОР!$C$21,$E$2,$E$2-$E$3),IF(C169=КАЛЬКУЛЯТОР!$C$21,$I$11,$I$11-SUMIF($A$12:$A$371,\"<=\"&$E$3,$H$12:$H$371)),0,0),\"\")","v":""},null,{"$f":"IFERROR((-IPMT(C169/12,B169,IF(C169=КАЛЬКУЛЯТОР!$C$21,$E$2,$E$2-$E$3),IF(C169=КАЛЬКУЛЯТОР!$C$21,$I$11,$I$11-SUMIF($A$12:$A$371,\"<=\"&$E$3,$H$12:$H$371)),0,0)),\"\")","v":""},{"$f":"IFERROR((-IPMT((C169-'КАЛЬКУЛЯТОР 1'!$P$1)/12,B169,IF(C169=КАЛЬКУЛЯТОР!$C$21,$E$2,$E$2-$E$3),IF(C169=КАЛЬКУЛЯТОР!$C$21,$I$11,$I$11-SUMIF($A$12:$A$371,\"<=\"&$E$3,$H$12:$H$371)),0,0)),\"\")","v":""},{"$f":"IFERROR((-PPMT(C169/12,B169,IF(C169=КАЛЬКУЛЯТОР!$C$21,$E$2,$E$2-$E$3),IF(C169=КАЛЬКУЛЯТОР!$C$21,$I$11,$I$11-SUMIF($A$12:$A$371,\"<=\"&$E$3,$H$12:$H$371)),0,0)),\"\")","v":""},"",{"$error":"#VALUE!"},null,{"$error":"#VALUE!"},{"$error":"#VALUE!"},{"$error":"#VALUE!"},{"$error":"#VALUE!"},false]
[159,159,{"$f":"IF(A170<=$E$3,КАЛЬКУЛЯТОР!$C$21,IF(AND(A170>$E$3,A170<=$E$2),$E$4,\"\"))","v":""},{"$f":"IF(A170<=$E$2,-PMT(C170/12,IF(C170=КАЛЬКУЛЯТОР!$C$21,$E$2,$E$2-$E$3),IF(C170=КАЛЬКУЛЯТОР!$C$21,$I$11,$I$11-SUMIF($A$12:$A$371,\"<=\"&$E$3,$H$12:$H$371)),0,0),\"\")","v":""},null,{"$f":"IFERROR((-IPMT(C170/12,B170,IF(C170=КАЛЬКУЛЯТОР!$C$21,$E$2,$E$2-$E$3),IF(C170=КАЛЬКУЛЯТОР!$C$21,$I$11,$I$11-SUMIF($A$12:$A$371,\"<=\"&$E$3,$H$12:$H$371)),0,0)),\"\")","v":""},{"$f":"IFERROR((-IPMT((C170-'КАЛЬКУЛЯТОР 1'!$P$1)/12,B170,IF(C170=КАЛЬКУЛЯТОР!$C$21,$E$2,$E$2-$E$3),IF(C170=КАЛЬКУЛЯТОР!$C$21,$I$11,$I$11-SUMIF($A$12:$A$371,\"<=\"&$E$3,$H$12:$H$371)),0,0)),\"\")","v":""},{"$f":"IFERROR((-PPMT(C170/12,B170,IF(C170=КАЛЬКУЛЯТОР!$C$21,$E$2,$E$2-$E$3),IF(C170=КАЛЬКУЛЯТОР!$C$21,$I$11,$I$11-SUMIF($A$12:$A$371,\"<=\"&$E$3,$H$12:$H$371)),0,0)),\"\")","v":""},"",{"$error":"#VALUE!"},null,{"$error":"#VALUE!"},{"$error":"#VALUE!"},{"$error":"#VALUE!"},{"$error":"#VALUE!"},false]
[160,160,{"$f":"IF(A171<=$E$3,КАЛЬКУЛЯТОР!$C$21,IF(AND(A171>$E$3,A171<=$E$2),$E$4,\"\"))","v":""},{"$f":"IF(A171<=$E$2,-PMT(C171/12,IF(C171=КАЛЬКУЛЯТОР!$C$21,$E$2,$E$2-$E$3),IF(C171=КАЛЬКУЛЯТОР!$C$21,$I$11,$I$11-SUMIF($A$12:$A$371,\"<=\"&$E$3,$H$12:$H$371)),0,0),\"\")","v":""},null,{"$f":"IFERROR((-IPMT(C171/12,B171,IF(C171=КАЛЬКУЛЯТОР!$C$21,$E$2,$E$2-$E$3),IF(C171=КАЛЬКУЛЯТОР!$C$21,$I$11,$I$11-SUMIF($A$12:$A$371,\"<=\"&$E$3,$H$12:$H$371)),0,0)),\"\")","v":""},{"$f":"IFERROR((-IPMT((C171-'КАЛЬКУЛЯТОР 1'!$P$1)/12,B171,IF(C171=КАЛЬКУЛЯТОР!$C$21,$E$2,$E$2-$E$3),IF(C171=КАЛЬКУЛЯТОР!$C$21,$I$11,$I$11-SUMIF($A$12:$A$371,\"<=\"&$E$3,$H$12:$H$371)),0,0)),\"\")","v":""},{"$f":"IFERROR((-PPMT(C171/12,B171,IF(C171=КАЛЬКУЛЯТОР!$C$21,$E$2,$E$2-$E$3),IF(C171=КАЛЬКУЛЯТОР!$C$21,$I$11,$I$11-SUMIF($A$12:$A$371,\"<=\"&$E$3,$H$12:$H$371)),0,0)),\"\")","v":""},"",{"$error":"#VALUE!"},null,{"$error":"#VALUE!"},{"$error":"#VALUE!"},{"$error":"#VALUE!"},{"$error":"#VALUE!"},false]
[161,161,{"$f":"IF(A172<=$E$3,КАЛЬКУЛЯТОР!$C$21,IF(AND(A172>$E$3,A172<=$E$2),$E$4,\"\"))","v":""},{"$f":"IF(A172<=$E$2,-PMT(C172/12,IF(C172=КАЛЬКУЛЯТОР!$C$21,$E$2,$E$2-$E$3),IF(C172=КАЛЬКУЛЯТОР!$C$21,$I$11,$I$11-SUMIF($A$12:$A$371,\"<=\"&$E$3,$H$12:$H$371)),0,0),\"\")","v":""},null,{"$f":"IFERROR((-IPMT(C172/12,B172,IF(C172=КАЛЬКУЛЯТОР!$C$21,$E$2,$E$2-$E$3),IF(C172=КАЛЬКУЛЯТОР!$C$21,$I$11,$I$11-SUMIF($A$12:$A$371,\"<=\"&$E$3,$H$12:$H$371)),0,0)),\"\")","v":""},{"$f":"IFERROR((-IPMT((C172-'КАЛЬКУЛЯТОР 1'!$P$1)/12,B172,IF(C172=КАЛЬКУЛЯТОР!$C$21,$E$2,$E$2-$E$3),IF(C172=КАЛЬКУЛЯТОР!$C$21,$I$11,$I$11-SUMIF($A$12:$A$371,\"<=\"&$E$3,$H$12:$H$371)),0,0)),\"\")","v":""},{"$f":"IFERROR((-PPMT(C172/12,B172,IF(C172=КАЛЬКУЛЯТОР!$C$21,$E$2,$E$2-$E$3),IF(C172=КАЛЬКУЛЯТОР!$C$21,$I$11,$I$11-SUMIF($A$12:$A$371,\"<=\"&$E$3,$H$12:$H$371)),0,0)),\"\")","v":""},"",{"$error":"#VALUE!"},null,{"$error":"#VALUE!"},{"$error":"#VALUE!"},{"$error":"#VALUE!"},{"$error":"#VALUE!"},false]
[162,162,{"$f":"IF(A173<=$E$3,КАЛЬКУЛЯТОР!$C$21,IF(AND(A173>$E$3,A173<=$E$2),$E$4,\"\"))","v":""},{"$f":"IF(A173<=$E$2,-PMT(C173/12,IF(C173=КАЛЬКУЛЯТОР!$C$21,$E$2,$E$2-$E$3),IF(C173=КАЛЬКУЛЯТОР!$C$21,$I$11,$I$11-SUMIF($A$12:$A$371,\"<=\"&$E$3,$H$12:$H$371)),0,0),\"\")","v":""},null,{"$f":"IFERROR((-IPMT(C173/12,B173,IF(C173=КАЛЬКУЛЯТОР!$C$21,$E$2,$E$2-$E$3),IF(C173=КАЛЬКУЛЯТОР!$C$21,$I$11,$I$11-SUMIF($A$12:$A$371,\"<=\"&$E$3,$H$12:$H$371)),0,0)),\"\")","v":""},{"$f":"IFERROR((-IPMT((C173-'КАЛЬКУЛЯТОР 1'!$P$1)/12,B173,IF(C173=КАЛЬКУЛЯТОР!$C$21,$E$2,$E$2-$E$3),IF(C173=КАЛЬКУЛЯТОР!$C$21,$I$11,$I$11-SUMIF($A$12:$A$371,\"<=\"&$E$3,$H$12:$H$371)),0,0)),\"\")","v":""},{"$f":"IFERROR((-PPMT(C173/12,B173,IF(C173=КАЛЬКУЛЯТОР!$C$21,$E$2,$E$2-$E$3),IF(C173=КАЛЬКУЛЯТОР!$C$21,$I$11,$I$11-SUMIF($A$12:$A$371,\"<=\"&$E$3,$H$12:$H$371)),0,0)),\"\")","v":""},"",{"$error":"#VALUE!"},null,{"$error":"#VALUE!"},{"$error":"#VALUE!"},{"$error":"#VALUE!"},{"$error":"#VALUE!"},false]
[163,163,{"$f":"IF(A174<=$E$3,КАЛЬКУЛЯТОР!$C$21,IF(AND(A174>$E$3,A174<=$E$2),$E$4,\"\"))","v":""},{"$f":"IF(A174<=$E$2,-PMT(C174/12,IF(C174=КАЛЬКУЛЯТОР!$C$21,$E$2,$E$2-$E$3),IF(C174=КАЛЬКУЛЯТОР!$C$21,$I$11,$I$11-SUMIF($A$12:$A$371,\"<=\"&$E$3,$H$12:$H$371)),0,0),\"\")","v":""},null,{"$f":"IFERROR((-IPMT(C174/12,B174,IF(C174=КАЛЬКУЛЯТОР!$C$21,$E$2,$E$2-$E$3),IF(C174=КАЛЬКУЛЯТОР!$C$21,$I$11,$I$11-SUMIF($A$12:$A$371,\"<=\"&$E$3,$H$12:$H$371)),0,0)),\"\")","v":""},{"$f":"IFERROR((-IPMT((C174-'КАЛЬКУЛЯТОР 1'!$P$1)/12,B174,IF(C174=КАЛЬКУЛЯТОР!$C$21,$E$2,$E$2-$E$3),IF(C174=КАЛЬКУЛЯТОР!$C$21,$I$11,$I$11-SUMIF($A$12:$A$371,\"<=\"&$E$3,$H$12:$H$371)),0,0)),\"\")","v":""},{"$f":"IFERROR((-PPMT(C174/12,B174,IF(C174=КАЛЬКУЛЯТОР!$C$21,$E$2,$E$2-$E$3),IF(C174=КАЛЬКУЛЯТОР!$C$21,$I$11,$I$11-SUMIF($A$12:$A$371,\"<=\"&$E$3,$H$12:$H$371)),0,0)),\"\")","v":""},"",{"$error":"#VALUE!"},null,{"$error":"#VALUE!"},{"$error":"#VALUE!"},{"$error":"#VALUE!"},{"$error":"#VALUE!"},false]
[164,164,{"$f":"IF(A175<=$E$3,КАЛЬКУЛЯТОР!$C$21,IF(AND(A175>$E$3,A175<=$E$2),$E$4,\"\"))","v":""},{"$f":"IF(A175<=$E$2,-PMT(C175/12,IF(C175=КАЛЬКУЛЯТОР!$C$21,$E$2,$E$2-$E$3),IF(C175=КАЛЬКУЛЯТОР!$C$21,$I$11,$I$11-SUMIF($A$12:$A$371,\"<=\"&$E$3,$H$12:$H$371)),0,0),\"\")","v":""},null,{"$f":"IFERROR((-IPMT(C175/12,B175,IF(C175=КАЛЬКУЛЯТОР!$C$21,$E$2,$E$2-$E$3),IF(C175=КАЛЬКУЛЯТОР!$C$21,$I$11,$I$11-SUMIF($A$12:$A$371,\"<=\"&$E$3,$H$12:$H$371)),0,0)),\"\")","v":""},{"$f":"IFERROR((-IPMT((C175-'КАЛЬКУЛЯТОР 1'!$P$1)/12,B175,IF(C175=КАЛЬКУЛЯТОР!$C$21,$E$2,$E$2-$E$3),IF(C175=КАЛЬКУЛЯТОР!$C$21,$I$11,$I$11-SUMIF($A$12:$A$371,\"<=\"&$E$3,$H$12:$H$371)),0,0)),\"\")","v":""},{"$f":"IFERROR((-PPMT(C175/12,B175,IF(C175=КАЛЬКУЛЯТОР!$C$21,$E$2,$E$2-$E$3),IF(C175=КАЛЬКУЛЯТОР!$C$21,$I$11,$I$11-SUMIF($A$12:$A$371,\"<=\"&$E$3,$H$12:$H$371)),0,0)),\"\")","v":""},"",{"$error":"#VALUE!"},null,{"$error":"#VALUE!"},{"$error":"#VALUE!"},{"$error":"#VALUE!"},{"$error":"#VALUE!"},false]
[165,165,{"$f":"IF(A176<=$E$3,КАЛЬКУЛЯТОР!$C$21,IF(AND(A176>$E$3,A176<=$E$2),$E$4,\"\"))","v":""},{"$f":"IF(A176<=$E$2,-PMT(C176/12,IF(C176=КАЛЬКУЛЯТОР!$C$21,$E$2,$E$2-$E$3),IF(C176=КАЛЬКУЛЯТОР!$C$21,$I$11,$I$11-SUMIF($A$12:$A$371,\"<=\"&$E$3,$H$12:$H$371)),0,0),\"\")","v":""},null,{"$f":"IFERROR((-IPMT(C176/12,B176,IF(C176=КАЛЬКУЛЯТОР!$C$21,$E$2,$E$2-$E$3),IF(C176=КАЛЬКУЛЯТОР!$C$21,$I$11,$I$11-SUMIF($A$12:$A$371,\"<=\"&$E$3,$H$12:$H$371)),0,0)),\"\")","v":""},{"$f":"IFERROR((-IPMT((C176-'КАЛЬКУЛЯТОР 1'!$P$1)/12,B176,IF(C176=КАЛЬКУЛЯТОР!$C$21,$E$2,$E$2-$E$3),IF(C176=КАЛЬКУЛЯТОР!$C$21,$I$11,$I$11-SUMIF($A$12:$A$371,\"<=\"&$E$3,$H$12:$H$371)),0,0)),\"\")","v":""},{"$f":"IFERROR((-PPMT(C176/12,B176,IF(C176=КАЛЬКУЛЯТОР!$C$21,$E$2,$E$2-$E$3),IF(C176=КАЛЬКУЛЯТОР!$C$21,$I$11,$I$11-SUMIF($A$12:$A$371,\"<=\"&$E$3,$H$12:$H$371)),0,0)),\"\")","v":""},"",{"$error":"#VALUE!"},null,{"$error":"#VALUE!"},{"$error":"#VALUE!"},{"$error":"#VALUE!"},{"$error":"#VALUE!"},false]
[166,166,{"$f":"IF(A177<=$E$3,КАЛЬКУЛЯТОР!$C$21,IF(AND(A177>$E$3,A177<=$E$2),$E$4,\"\"))","v":""},{"$f":"IF(A177<=$E$2,-PMT(C177/12,IF(C177=КАЛЬКУЛЯТОР!$C$21,$E$2,$E$2-$E$3),IF(C177=КАЛЬКУЛЯТОР!$C$21,$I$11,$I$11-SUMIF($A$12:$A$371,\"<=\"&$E$3,$H$12:$H$371)),0,0),\"\")","v":""},null,{"$f":"IFERROR((-IPMT(C177/12,B177,IF(C177=КАЛЬКУЛЯТОР!$C$21,$E$2,$E$2-$E$3),IF(C177=КАЛЬКУЛЯТОР!$C$21,$I$11,$I$11-SUMIF($A$12:$A$371,\"<=\"&$E$3,$H$12:$H$371)),0,0)),\"\")","v":""},{"$f":"IFERROR((-IPMT((C177-'КАЛЬКУЛЯТОР 1'!$P$1)/12,B177,IF(C177=КАЛЬКУЛЯТОР!$C$21,$E$2,$E$2-$E$3),IF(C177=КАЛЬКУЛЯТОР!$C$21,$I$11,$I$11-SUMIF($A$12:$A$371,\"<=\"&$E$3,$H$12:$H$371)),0,0)),\"\")","v":""},{"$f":"IFERROR((-PPMT(C177/12,B177,IF(C177=КАЛЬКУЛЯТОР!$C$21,$E$2,$E$2-$E$3),IF(C177=КАЛЬКУЛЯТОР!$C$21,$I$11,$I$11-SUMIF($A$12:$A$371,\"<=\"&$E$3,$H$12:$H$371)),0,0)),\"\")","v":""},"",{"$error":"#VALUE!"},null,{"$error":"#VALUE!"},{"$error":"#VALUE!"},{"$error":"#VALUE!"},{"$error":"#VALUE!"},false]
[167,167,{"$f":"IF(A178<=$E$3,КАЛЬКУЛЯТОР!$C$21,IF(AND(A178>$E$3,A178<=$E$2),$E$4,\"\"))","v":""},{"$f":"IF(A178<=$E$2,-PMT(C178/12,IF(C178=КАЛЬКУЛЯТОР!$C$21,$E$2,$E$2-$E$3),IF(C178=КАЛЬКУЛЯТОР!$C$21,$I$11,$I$11-SUMIF($A$12:$A$371,\"<=\"&$E$3,$H$12:$H$371)),0,0),\"\")","v":""},null,{"$f":"IFERROR((-IPMT(C178/12,B178,IF(C178=КАЛЬКУЛЯТОР!$C$21,$E$2,$E$2-$E$3),IF(C178=КАЛЬКУЛЯТОР!$C$21,$I$11,$I$11-SUMIF($A$12:$A$371,\"<=\"&$E$3,$H$12:$H$371)),0,0)),\"\")","v":""},{"$f":"IFERROR((-IPMT((C178-'КАЛЬКУЛЯТОР 1'!$P$1)/12,B178,IF(C178=КАЛЬКУЛЯТОР!$C$21,$E$2,$E$2-$E$3),IF(C178=КАЛЬКУЛЯТОР!$C$21,$I$11,$I$11-SUMIF($A$12:$A$371,\"<=\"&$E$3,$H$12:$H$371)),0,0)),\"\")","v":""},{"$f":"IFERROR((-PPMT(C178/12,B178,IF(C178=КАЛЬКУЛЯТОР!$C$21,$E$2,$E$2-$E$3),IF(C178=КАЛЬКУЛЯТОР!$C$21,$I$11,$I$11-SUMIF($A$12:$A$371,\"<=\"&$E$3,$H$12:$H$371)),0,0)),\"\")","v":""},"",{"$error":"#VALUE!"},null,{"$error":"#VALUE!"},{"$error":"#VALUE!"},{"$error":"#VALUE!"},{"$error":"#VALUE!"},false]
[168,168,{"$f":"IF(A179<=$E$3,КАЛЬКУЛЯТОР!$C$21,IF(AND(A179>$E$3,A179<=$E$2),$E$4,\"\"))","v":""},{"$f":"IF(A179<=$E$2,-PMT(C179/12,IF(C179=КАЛЬКУЛЯТОР!$C$21,$E$2,$E$2-$E$3),IF(C179=КАЛЬКУЛЯТОР!$C$21,$I$11,$I$11-SUMIF($A$12:$A$371,\"<=\"&$E$3,$H$12:$H$371)),0,0),\"\")","v":""},null,{"$f":"IFERROR((-IPMT(C179/12,B179,IF(C179=КАЛЬКУЛЯТОР!$C$21,$E$2,$E$2-$E$3),IF(C179=КАЛЬКУЛЯТОР!$C$21,$I$11,$I$11-SUMIF($A$12:$A$371,\"<=\"&$E$3,$H$12:$H$371)),0,0)),\"\")","v":""},{"$f":"IFERROR((-IPMT((C179-'КАЛЬКУЛЯТОР 1'!$P$1)/12,B179,IF(C179=КАЛЬКУЛЯТОР!$C$21,$E$2,$E$2-$E$3),IF(C179=КАЛЬКУЛЯТОР!$C$21,$I$11,$I$11-SUMIF($A$12:$A$371,\"<=\"&$E$3,$H$12:$H$371)),0,0)),\"\")","v":""},{"$f":"IFERROR((-PPMT(C179/12,B179,IF(C179=КАЛЬКУЛЯТОР!$C$21,$E$2,$E$2-$E$3),IF(C179=КАЛЬКУЛЯТОР!$C$21,$I$11,$I$11-SUMIF($A$12:$A$371,\"<=\"&$E$3,$H$12:$H$371)),0,0)),\"\")","v":""},"",{"$error":"#VALUE!"},null,{"$error":"#VALUE!"},{"$error":"#VALUE!"},{"$error":"#VALUE!"},{"$error":"#VALUE!"},false]
[169,169,{"$f":"IF(A180<=$E$3,КАЛЬКУЛЯТОР!$C$21,IF(AND(A180>$E$3,A180<=$E$2),$E$4,\"\"))","v":""},{"$f":"IF(A180<=$E$2,-PMT(C180/12,IF(C180=КАЛЬКУЛЯТОР!$C$21,$E$2,$E$2-$E$3),IF(C180=КАЛЬКУЛЯТОР!$C$21,$I$11,$I$11-SUMIF($A$12:$A$371,\"<=\"&$E$3,$H$12:$H$371)),0,0)+E180,\"\")","v":""},{"$f":"IF($E$2>$A179,(I179+SUM(F180:F191))*($K$4+$K$5),0)","v":{"v":0,"d":"0.00"}},{"$f":"IFERROR((-IPMT(C180/12,B180,IF(C180=КАЛЬКУЛЯТОР!$C$21,$E$2,$E$2-$E$3),IF(C180=КАЛЬКУЛЯТОР!$C$21,$I$11,$I$11-SUMIF($A$12:$A$371,\"<=\"&$E$3,$H$12:$H$371)),0,0)),\"\")","v":""},{"$f":"IFERROR((-IPMT((C180-'КАЛЬКУЛЯТОР 1'!$P$1)/12,B180,IF(C180=КАЛЬКУЛЯТОР!$C$21,$E$2,$E$2-$E$3),IF(C180=КАЛЬКУЛЯТОР!$C$21,$I$11,$I$11-SUMIF($A$12:$A$371,\"<=\"&$E$3,$H$12:$H$371)),0,0)),\"\")","v":""},{"$f":"IFERROR((-PPMT(C180/12,B180,IF(C180=КАЛЬКУЛЯТОР!$C$21,$E$2,$E$2-$E$3),IF(C180=КАЛЬКУЛЯТОР!$C$21,$I$11,$I$11-SUMIF($A$12:$A$371,\"<=\"&$E$3,$H$12:$H$371)),0,0)),\"\")","v":""},"",{"$error":"#VALUE!"},{"$f":"PV($E$5/12,A180-1,0,-E180)","v":{"v":0,"d":"0.00"}},{"$error":"#VALUE!"},{"$error":"#VALUE!"},{"$error":"#VALUE!"},{"$error":"#VALUE!"},false]
[170,170,{"$f":"IF(A181<=$E$3,КАЛЬКУЛЯТОР!$C$21,IF(AND(A181>$E$3,A181<=$E$2),$E$4,\"\"))","v":""},{"$f":"IF(A181<=$E$2,-PMT(C181/12,IF(C181=КАЛЬКУЛЯТОР!$C$21,$E$2,$E$2-$E$3),IF(C181=КАЛЬКУЛЯТОР!$C$21,$I$11,$I$11-SUMIF($A$12:$A$371,\"<=\"&$E$3,$H$12:$H$371)),0,0),\"\")","v":""},null,{"$f":"IFERROR((-IPMT(C181/12,B181,IF(C181=КАЛЬКУЛЯТОР!$C$21,$E$2,$E$2-$E$3),IF(C181=КАЛЬКУЛЯТОР!$C$21,$I$11,$I$11-SUMIF($A$12:$A$371,\"<=\"&$E$3,$H$12:$H$371)),0,0)),\"\")","v":""},{"$f":"IFERROR((-IPMT((C181-'КАЛЬКУЛЯТОР 1'!$P$1)/12,B181,IF(C181=КАЛЬКУЛЯТОР!$C$21,$E$2,$E$2-$E$3),IF(C181=КАЛЬКУЛЯТОР!$C$21,$I$11,$I$11-SUMIF($A$12:$A$371,\"<=\"&$E$3,$H$12:$H$371)),0,0)),\"\")","v":""},{"$f":"IFERROR((-PPMT(C181/12,B181,IF(C181=КАЛЬКУЛЯТОР!$C$21,$E$2,$E$2-$E$3),IF(C181=КАЛЬКУЛЯТОР!$C$21,$I$11,$I$11-SUMIF($A$12:$A$371,\"<=\"&$E$3,$H$12:$H$371)),0,0)),\"\")","v":""},"",{"$error":"#VALUE!"},null,{"$error":"#VALUE!"},{"$error":"#VALUE!"},{"$error":"#VALUE!"},{"$error":"#VALUE!"},false]
[171,171,{"$f":"IF(A182<=$E$3,КАЛЬКУЛЯТОР!$C$21,IF(AND(A182>$E$3,A182<=$E$2),$E$4,\"\"))","v":""},{"$f":"IF(A182<=$E$2,-PMT(C182/12,IF(C182=КАЛЬКУЛЯТОР!$C$21,$E$2,$E$2-$E$3),IF(C182=КАЛЬКУЛЯТОР!$C$21,$I$11,$I$11-SUMIF($A$12:$A$371,\"<=\"&$E$3,$H$12:$H$371)),0,0),\"\")","v":""},null,{"$f":"IFERROR((-IPMT(C182/12,B182,IF(C182=КАЛЬКУЛЯТОР!$C$21,$E$2,$E$2-$E$3),IF(C182=КАЛЬКУЛЯТОР!$C$21,$I$11,$I$11-SUMIF($A$12:$A$371,\"<=\"&$E$3,$H$12:$H$371)),0,0)),\"\")","v":""},{"$f":"IFERROR((-IPMT((C182-'КАЛЬКУЛЯТОР 1'!$P$1)/12,B182,IF(C182=КАЛЬКУЛЯТОР!$C$21,$E$2,$E$2-$E$3),IF(C182=КАЛЬКУЛЯТОР!$C$21,$I$11,$I$11-SUMIF($A$12:$A$371,\"<=\"&$E$3,$H$12:$H$371)),0,0)),\"\")","v":""},{"$f":"IFERROR((-PPMT(C182/12,B182,IF(C182=КАЛЬКУЛЯТОР!$C$21,$E$2,$E$2-$E$3),IF(C182=КАЛЬКУЛЯТОР!$C$21,$I$11,$I$11-SUMIF($A$12:$A$371,\"<=\"&$E$3,$H$12:$H$371)),0,0)),\"\")","v":""},"",{"$error":"#VALUE!"},null,{"$error":"#VALUE!"},{"$error":"#VALUE!"},{"$error":"#VALUE!"},{"$error":"#VALUE!"},false]
[172,172,{"$f":"IF(A183<=$E$3,КАЛЬКУЛЯТОР!$C$21,IF(AND(A183>$E$3,A183<=$E$2),$E$4,\"\"))","v":""},{"$f":"IF(A183<=$E$2,-PMT(C183/12,IF(C183=КАЛЬКУЛЯТОР!$C$21,$E$2,$E$2-$E$3),IF(C183=КАЛЬКУЛЯТОР!$C$21,$I$11,$I$11-SUMIF($A$12:$A$371,\"<=\"&$E$3,$H$12:$H$371)),0,0),\"\")","v":""},null,{"$f":"IFERROR((-IPMT(C183/12,B183,IF(C183=КАЛЬКУЛЯТОР!$C$21,$E$2,$E$2-$E$3),IF(C183=КАЛЬКУЛЯТОР!$C$21,$I$11,$I$11-SUMIF($A$12:$A$371,\"<=\"&$E$3,$H$12:$H$371)),0,0)),\"\")","v":""},{"$f":"IFERROR((-IPMT((C183-'КАЛЬКУЛЯТОР 1'!$P$1)/12,B183,IF(C183=КАЛЬКУЛЯТОР!$C$21,$E$2,$E$2-$E$3),IF(C183=КАЛЬКУЛЯТОР!$C$21,$I$11,$I$11-SUMIF($A$12:$A$371,\"<=\"&$E$3,$H$12:$H$371)),0,0)),\"\")","v":""},{"$f":"IFERROR((-PPMT(C183/12,B183,IF(C183=КАЛЬКУЛЯТОР!$C$21,$E$2,$E$2-$E$3),IF(C183=КАЛЬКУЛЯТОР!$C$21,$I$11,$I$11-SUMIF($A$12:$A$371,\"<=\"&$E$3,$H$12:$H$371)),0,0)),\"\")","v":""},"",{"$error":"#VALUE!"},null,{"$error":"#VALUE!"},{"$error":"#VALUE!"},{"$error":"#VALUE!"},{"$error":"#VALUE!"},false]
[173,173,{"$f":"IF(A184<=$E$3,КАЛЬКУЛЯТОР!$C$21,IF(AND(A184>$E$3,A184<=$E$2),$E$4,\"\"))","v":""},{"$f":"IF(A184<=$E$2,-PMT(C184/12,IF(C184=КАЛЬКУЛЯТОР!$C$21,$E$2,$E$2-$E$3),IF(C184=КАЛЬКУЛЯТОР!$C$21,$I$11,$I$11-SUMIF($A$12:$A$371,\"<=\"&$E$3,$H$12:$H$371)),0,0),\"\")","v":""},null,{"$f":"IFERROR((-IPMT(C184/12,B184,IF(C184=КАЛЬКУЛЯТОР!$C$21,$E$2,$E$2-$E$3),IF(C184=КАЛЬКУЛЯТОР!$C$21,$I$11,$I$11-SUMIF($A$12:$A$371,\"<=\"&$E$3,$H$12:$H$371)),0,0)),\"\")","v":""},{"$f":"IFERROR((-IPMT((C184-'КАЛЬКУЛЯТОР 1'!$P$1)/12,B184,IF(C184=КАЛЬКУЛЯТОР!$C$21,$E$2,$E$2-$E$3),IF(C184=КАЛЬКУЛЯТОР!$C$21,$I$11,$I$11-SUMIF($A$12:$A$371,\"<=\"&$E$3,$H$12:$H$371)),0,0)),\"\")","v":""},{"$f":"IFERROR((-PPMT(C184/12,B184,IF(C184=КАЛЬКУЛЯТОР!$C$21,$E$2,$E$2-$E$3),IF(C184=КАЛЬКУЛЯТОР!$C$21,$I$11,$I$11-SUMIF($A$12:$A$371,\"<=\"&$E$3,$H$12:$H$371)),0,0)),\"\")","v":""},"",{"$error":"#VALUE!"},null,{"$error":"#VALUE!"},{"$error":"#VALUE!"},{"$error":"#VALUE!"},{"$error":"#VALUE!"},false]
[174,174,{"$f":"IF(A185<=$E$3,КАЛЬКУЛЯТОР!$C$21,IF(AND(A185>$E$3,A185<=$E$2),$E$4,\"\"))","v":""},{"$f":"IF(A185<=$E$2,-PMT(C185/12,IF(C185=КАЛЬКУЛЯТОР!$C$21,$E$2,$E$2-$E$3),IF(C185=КАЛЬКУЛЯТОР!$C$21,$I$11,$I$11-SUMIF($A$12:$A$371,\"<=\"&$E$3,$H$12:$H$371)),0,0),\"\")","v":""},null,{"$f":"IFERROR((-IPMT(C185/12,B185,IF(C185=КАЛЬКУЛЯТОР!$C$21,$E$2,$E$2-$E$3),IF(C185=КАЛЬКУЛЯТОР!$C$21,$I$11,$I$11-SUMIF($A$12:$A$371,\"<=\"&$E$3,$H$12:$H$371)),0,0)),\"\")","v":""},{"$f":"IFERROR((-IPMT((C185-'КАЛЬКУЛЯТОР 1'!$P$1)/12,B185,IF(C185=КАЛЬКУЛЯТОР!$C$21,$E$2,$E$2-$E$3),IF(C185=КАЛЬКУЛЯТОР!$C$21,$I$11,$I$11-SUMIF($A$12:$A$371,\"<=\"&$E$3,$H$12:$H$371)),0,0)),\"\")","v":""},{"$f":"IFERROR((-PPMT(C185/12,B185,IF(C185=КАЛЬКУЛЯТОР!$C$21,$E$2,$E$2-$E$3),IF(C185=КАЛЬКУЛЯТОР!$C$21,$I$11,$I$11-SUMIF($A$12:$A$371,\"<=\"&$E$3,$H$12:$H$371)),0,0)),\"\")","v":""},"",{"$error":"#VALUE!"},null,{"$error":"#VALUE!"},{"$error":"#VALUE!"},{"$error":"#VALUE!"},{"$error":"#VALUE!"},false]
[175,175,{"$f":"IF(A186<=$E$3,КАЛЬКУЛЯТОР!$C$21,IF(AND(A186>$E$3,A186<=$E$2),$E$4,\"\"))","v":""},{"$f":"IF(A186<=$E$2,-PMT(C186/12,IF(C186=КАЛЬКУЛЯТОР!$C$21,$E$2,$E$2-$E$3),IF(C186=КАЛЬКУЛЯТОР!$C$21,$I$11,$I$11-SUMIF($A$12:$A$371,\"<=\"&$E$3,$H$12:$H$371)),0,0),\"\")","v":""},null,{"$f":"IFERROR((-IPMT(C186/12,B186,IF(C186=КАЛЬКУЛЯТОР!$C$21,$E$2,$E$2-$E$3),IF(C186=КАЛЬКУЛЯТОР!$C$21,$I$11,$I$11-SUMIF($A$12:$A$371,\"<=\"&$E$3,$H$12:$H$371)),0,0)),\"\")","v":""},{"$f":"IFERROR((-IPMT((C186-'КАЛЬКУЛЯТОР 1'!$P$1)/12,B186,IF(C186=КАЛЬКУЛЯТОР!$C$21,$E$2,$E$2-$E$3),IF(C186=КАЛЬКУЛЯТОР!$C$21,$I$11,$I$11-SUMIF($A$12:$A$371,\"<=\"&$E$3,$H$12:$H$371)),0,0)),\"\")","v":""},{"$f":"IFERROR((-PPMT(C186/12,B186,IF(C186=КАЛЬКУЛЯТОР!$C$21,$E$2,$E$2-$E$3),IF(C186=КАЛЬКУЛЯТОР!$C$21,$I$11,$I$11-SUMIF($A$12:$A$371,\"<=\"&$E$3,$H$12:$H$371)),0,0)),\"\")","v":""},"",{"$error":"#VALUE!"},null,{"$error":"#VALUE!"},{"$error":"#VALUE!"},{"$error":"#VALUE!"},{"$error":"#VALUE!"},false]
[176,176,{"$f":"IF(A187<=$E$3,КАЛЬКУЛЯТОР!$C$21,IF(AND(A187>$E$3,A187<=$E$2),$E$4,\"\"))","v":""},{"$f":"IF(A187<=$E$2,-PMT(C187/12,IF(C187=КАЛЬКУЛЯТОР!$C$21,$E$2,$E$2-$E$3),IF(C187=КАЛЬКУЛЯТОР!$C$21,$I$11,$I$11-SUMIF($A$12:$A$371,\"<=\"&$E$3,$H$12:$H$371)),0,0),\"\")","v":""},null,{"$f":"IFERROR((-IPMT(C187/12,B187,IF(C187=КАЛЬКУЛЯТОР!$C$21,$E$2,$E$2-$E$3),IF(C187=КАЛЬКУЛЯТОР!$C$21,$I$11,$I$11-SUMIF($A$12:$A$371,\"<=\"&$E$3,$H$12:$H$371)),0,0)),\"\")","v":""},{"$f":"IFERROR((-IPMT((C187-'КАЛЬКУЛЯТОР 1'!$P$1)/12,B187,IF(C187=КАЛЬКУЛЯТОР!$C$21,$E$2,$E$2-$E$3),IF(C187=КАЛЬКУЛЯТОР!$C$21,$I$11,$I$11-SUMIF($A$12:$A$371,\"<=\"&$E$3,$H$12:$H$371)),0,0)),\"\")","v":""},{"$f":"IFERROR((-PPMT(C187/12,B187,IF(C187=КАЛЬКУЛЯТОР!$C$21,$E$2,$E$2-$E$3),IF(C187=КАЛЬКУЛЯТОР!$C$21,$I$11,$I$11-SUMIF($A$12:$A$371,\"<=\"&$E$3,$H$12:$H$371)),0,0)),\"\")","v":""},"",{"$error":"#VALUE!"},null,{"$error":"#VALUE!"},{"$error":"#VALUE!"},{"$error":"#VALUE!"},{"$error":"#VALUE!"},false]
[177,177,{"$f":"IF(A188<=$E$3,КАЛЬКУЛЯТОР!$C$21,IF(AND(A188>$E$3,A188<=$E$2),$E$4,\"\"))","v":""},{"$f":"IF(A188<=$E$2,-PMT(C188/12,IF(C188=КАЛЬКУЛЯТОР!$C$21,$E$2,$E$2-$E$3),IF(C188=КАЛЬКУЛЯТОР!$C$21,$I$11,$I$11-SUMIF($A$12:$A$371,\"<=\"&$E$3,$H$12:$H$371)),0,0),\"\")","v":""},null,{"$f":"IFERROR((-IPMT(C188/12,B188,IF(C188=КАЛЬКУЛЯТОР!$C$21,$E$2,$E$2-$E$3),IF(C188=КАЛЬКУЛЯТОР!$C$21,$I$11,$I$11-SUMIF($A$12:$A$371,\"<=\"&$E$3,$H$12:$H$371)),0,0)),\"\")","v":""},{"$f":"IFERROR((-IPMT((C188-'КАЛЬКУЛЯТОР 1'!$P$1)/12,B188,IF(C188=КАЛЬКУЛЯТОР!$C$21,$E$2,$E$2-$E$3),IF(C188=КАЛЬКУЛЯТОР!$C$21,$I$11,$I$11-SUMIF($A$12:$A$371,\"<=\"&$E$3,$H$12:$H$371)),0,0)),\"\")","v":""},{"$f":"IFERROR((-PPMT(C188/12,B188,IF(C188=КАЛЬКУЛЯТОР!$C$21,$E$2,$E$2-$E$3),IF(C188=КАЛЬКУЛЯТОР!$C$21,$I$11,$I$11-SUMIF($A$12:$A$371,\"<=\"&$E$3,$H$12:$H$371)),0,0)),\"\")","v":""},"",{"$error":"#VALUE!"},null,{"$error":"#VALUE!"},{"$error":"#VALUE!"},{"$error":"#VALUE!"},{"$error":"#VALUE!"},false]
[178,178,{"$f":"IF(A189<=$E$3,КАЛЬКУЛЯТОР!$C$21,IF(AND(A189>$E$3,A189<=$E$2),$E$4,\"\"))","v":""},{"$f":"IF(A189<=$E$2,-PMT(C189/12,IF(C189=КАЛЬКУЛЯТОР!$C$21,$E$2,$E$2-$E$3),IF(C189=КАЛЬКУЛЯТОР!$C$21,$I$11,$I$11-SUMIF($A$12:$A$371,\"<=\"&$E$3,$H$12:$H$371)),0,0),\"\")","v":""},null,{"$f":"IFERROR((-IPMT(C189/12,B189,IF(C189=КАЛЬКУЛЯТОР!$C$21,$E$2,$E$2-$E$3),IF(C189=КАЛЬКУЛЯТОР!$C$21,$I$11,$I$11-SUMIF($A$12:$A$371,\"<=\"&$E$3,$H$12:$H$371)),0,0)),\"\")","v":""},{"$f":"IFERROR((-IPMT((C189-'КАЛЬКУЛЯТОР 1'!$P$1)/12,B189,IF(C189=КАЛЬКУЛЯТОР!$C$21,$E$2,$E$2-$E$3),IF(C189=КАЛЬКУЛЯТОР!$C$21,$I$11,$I$11-SUMIF($A$12:$A$371,\"<=\"&$E$3,$H$12:$H$371)),0,0)),\"\")","v":""},{"$f":"IFERROR((-PPMT(C189/12,B189,IF(C189=КАЛЬКУЛЯТОР!$C$21,$E$2,$E$2-$E$3),IF(C189=КАЛЬКУЛЯТОР!$C$21,$I$11,$I$11-SUMIF($A$12:$A$371,\"<=\"&$E$3,$H$12:$H$371)),0,0)),\"\")","v":""},"",{"$error":"#VALUE!"},null,{"$error":"#VALUE!"},{"$error":"#VALUE!"},{"$error":"#VALUE!"},{"$error":"#VALUE!"},false]
[179,179,{"$f":"IF(A190<=$E$3,КАЛЬКУЛЯТОР!$C$21,IF(AND(A190>$E$3,A190<=$E$2),$E$4,\"\"))","v":""},{"$f":"IF(A190<=$E$2,-PMT(C190/12,IF(C190=КАЛЬКУЛЯТОР!$C$21,$E$2,$E$2-$E$3),IF(C190=КАЛЬКУЛЯТОР!$C$21,$I$11,$I$11-SUMIF($A$12:$A$371,\"<=\"&$E$3,$H$12:$H$371)),0,0),\"\")","v":""},null,{"$f":"IFERROR((-IPMT(C190/12,B190,IF(C190=КАЛЬКУЛЯТОР!$C$21,$E$2,$E$2-$E$3),IF(C190=КАЛЬКУЛЯТОР!$C$21,$I$11,$I$11-SUMIF($A$12:$A$371,\"<=\"&$E$3,$H$12:$H$371)),0,0)),\"\")","v":""},{"$f":"IFERROR((-IPMT((C190-'КАЛЬКУЛЯТОР 1'!$P$1)/12,B190,IF(C190=КАЛЬКУЛЯТОР!$C$21,$E$2,$E$2-$E$3),IF(C190=КАЛЬКУЛЯТОР!$C$21,$I$11,$I$11-SUMIF($A$12:$A$371,\"<=\"&$E$3,$H$12:$H$371)),0,0)),\"\")","v":""},{"$f":"IFERROR((-PPMT(C190/12,B190,IF(C190=КАЛЬКУЛЯТОР!$C$21,$E$2,$E$2-$E$3),IF(C190=КАЛЬКУЛЯТОР!$C$21,$I$11,$I$11-SUMIF($A$12:$A$371,\"<=\"&$E$3,$H$12:$H$371)),0,0)),\"\")","v":""},"",{"$error":"#VALUE!"},null,{"$error":"#VALUE!"},{"$error":"#VALUE!"},{"$error":"#VALUE!"},{"$error":"#VALUE!"},false]
[180,180,{"$f":"IF(A191<=$E$3,КАЛЬКУЛЯТОР!$C$21,IF(AND(A191>$E$3,A191<=$E$2),$E$4,\"\"))","v":""},{"$f":"IF(A191<=$E$2,-PMT(C191/12,IF(C191=КАЛЬКУЛЯТОР!$C$21,$E$2,$E$2-$E$3),IF(C191=КАЛЬКУЛЯТОР!$C$21,$I$11,$I$11-SUMIF($A$12:$A$371,\"<=\"&$E$3,$H$12:$H$371)),0,0),\"\")","v":""},null,{"$f":"IFERROR((-IPMT(C191/12,B191,IF(C191=КАЛЬКУЛЯТОР!$C$21,$E$2,$E$2-$E$3),IF(C191=КАЛЬКУЛЯТОР!$C$21,$I$11,$I$11-SUMIF($A$12:$A$371,\"<=\"&$E$3,$H$12:$H$371)),0,0)),\"\")","v":""},{"$f":"IFERROR((-IPMT((C191-'КАЛЬКУЛЯТОР 1'!$P$1)/12,B191,IF(C191=КАЛЬКУЛЯТОР!$C$21,$E$2,$E$2-$E$3),IF(C191=КАЛЬКУЛЯТОР!$C$21,$I$11,$I$11-SUMIF($A$12:$A$371,\"<=\"&$E$3,$H$12:$H$371)),0,0)),\"\")","v":""},{"$f":"IFERROR((-PPMT(C191/12,B191,IF(C191=КАЛЬКУЛЯТОР!$C$21,$E$2,$E$2-$E$3),IF(C191=КАЛЬКУЛЯТОР!$C$21,$I$11,$I$11-SUMIF($A$12:$A$371,\"<=\"&$E$3,$H$12:$H$371)),0,0)),\"\")","v":""},"",{"$error":"#VALUE!"},null,{"$error":"#VALUE!"},{"$error":"#VALUE!"},{"$error":"#VALUE!"},{"$error":"#VALUE!"},false]
[181,181,{"$f":"IF(A192<=$E$3,КАЛЬКУЛЯТОР!$C$21,IF(AND(A192>$E$3,A192<=$E$2),$E$4,\"\"))","v":""},{"$f":"IF(A192<=$E$2,-PMT(C192/12,IF(C192=КАЛЬКУЛЯТОР!$C$21,$E$2,$E$2-$E$3),IF(C192=КАЛЬКУЛЯТОР!$C$21,$I$11,$I$11-SUMIF($A$12:$A$371,\"<=\"&$E$3,$H$12:$H$371)),0,0)+E192,\"\")","v":""},{"$f":"IF($E$2>$A191,(I191+SUM(F192:F203))*($K$4+$K$5),0)","v":{"v":0,"d":"0.00"}},{"$f":"IFERROR((-IPMT(C192/12,B192,IF(C192=КАЛЬКУЛЯТОР!$C$21,$E$2,$E$2-$E$3),IF(C192=КАЛЬКУЛЯТОР!$C$21,$I$11,$I$11-SUMIF($A$12:$A$371,\"<=\"&$E$3,$H$12:$H$371)),0,0)),\"\")","v":""},{"$f":"IFERROR((-IPMT((C192-'КАЛЬКУЛЯТОР 1'!$P$1)/12,B192,IF(C192=КАЛЬКУЛЯТОР!$C$21,$E$2,$E$2-$E$3),IF(C192=КАЛЬКУЛЯТОР!$C$21,$I$11,$I$11-SUMIF($A$12:$A$371,\"<=\"&$E$3,$H$12:$H$371)),0,0)),\"\")","v":""},{"$f":"IFERROR((-PPMT(C192/12,B192,IF(C192=КАЛЬКУЛЯТОР!$C$21,$E$2,$E$2-$E$3),IF(C192=КАЛЬКУЛЯТОР!$C$21,$I$11,$I$11-SUMIF($A$12:$A$371,\"<=\"&$E$3,$H$12:$H$371)),0,0)),\"\")","v":""},"",{"$error":"#VALUE!"},{"$f":"PV($E$5/12,A192-1,0,-E192)","v":{"v":0,"d":"0.00"}},{"$error":"#VALUE!"},{"$error":"#VALUE!"},{"$error":"#VALUE!"},{"$error":"#VALUE!"},false]
[182,182,{"$f":"IF(A193<=$E$3,КАЛЬКУЛЯТОР!$C$21,IF(AND(A193>$E$3,A193<=$E$2),$E$4,\"\"))","v":""},{"$f":"IF(A193<=$E$2,-PMT(C193/12,IF(C193=КАЛЬКУЛЯТОР!$C$21,$E$2,$E$2-$E$3),IF(C193=КАЛЬКУЛЯТОР!$C$21,$I$11,$I$11-SUMIF($A$12:$A$371,\"<=\"&$E$3,$H$12:$H$371)),0,0),\"\")","v":""},null,{"$f":"IFERROR((-IPMT(C193/12,B193,IF(C193=КАЛЬКУЛЯТОР!$C$21,$E$2,$E$2-$E$3),IF(C193=КАЛЬКУЛЯТОР!$C$21,$I$11,$I$11-SUMIF($A$12:$A$371,\"<=\"&$E$3,$H$12:$H$371)),0,0)),\"\")","v":""},{"$f":"IFERROR((-IPMT((C193-'КАЛЬКУЛЯТОР 1'!$P$1)/12,B193,IF(C193=КАЛЬКУЛЯТОР!$C$21,$E$2,$E$2-$E$3),IF(C193=КАЛЬКУЛЯТОР!$C$21,$I$11,$I$11-SUMIF($A$12:$A$371,\"<=\"&$E$3,$H$12:$H$371)),0,0)),\"\")","v":""},{"$f":"IFERROR((-PPMT(C193/12,B193,IF(C193=КАЛЬКУЛЯТОР!$C$21,$E$2,$E$2-$E$3),IF(C193=КАЛЬКУЛЯТОР!$C$21,$I$11,$I$11-SUMIF($A$12:$A$371,\"<=\"&$E$3,$H$12:$H$371)),0,0)),\"\")","v":""},"",{"$error":"#VALUE!"},null,{"$error":"#VALUE!"},{"$error":"#VALUE!"},{"$error":"#VALUE!"},{"$error":"#VALUE!"},false]
[183,183,{"$f":"IF(A194<=$E$3,КАЛЬКУЛЯТОР!$C$21,IF(AND(A194>$E$3,A194<=$E$2),$E$4,\"\"))","v":""},{"$f":"IF(A194<=$E$2,-PMT(C194/12,IF(C194=КАЛЬКУЛЯТОР!$C$21,$E$2,$E$2-$E$3),IF(C194=КАЛЬКУЛЯТОР!$C$21,$I$11,$I$11-SUMIF($A$12:$A$371,\"<=\"&$E$3,$H$12:$H$371)),0,0),\"\")","v":""},null,{"$f":"IFERROR((-IPMT(C194/12,B194,IF(C194=КАЛЬКУЛЯТОР!$C$21,$E$2,$E$2-$E$3),IF(C194=КАЛЬКУЛЯТОР!$C$21,$I$11,$I$11-SUMIF($A$12:$A$371,\"<=\"&$E$3,$H$12:$H$371)),0,0)),\"\")","v":""},{"$f":"IFERROR((-IPMT((C194-'КАЛЬКУЛЯТОР 1'!$P$1)/12,B194,IF(C194=КАЛЬКУЛЯТОР!$C$21,$E$2,$E$2-$E$3),IF(C194=КАЛЬКУЛЯТОР!$C$21,$I$11,$I$11-SUMIF($A$12:$A$371,\"<=\"&$E$3,$H$12:$H$371)),0,0)),\"\")","v":""},{"$f":"IFERROR((-PPMT(C194/12,B194,IF(C194=КАЛЬКУЛЯТОР!$C$21,$E$2,$E$2-$E$3),IF(C194=КАЛЬКУЛЯТОР!$C$21,$I$11,$I$11-SUMIF($A$12:$A$371,\"<=\"&$E$3,$H$12:$H$371)),0,0)),\"\")","v":""},"",{"$error":"#VALUE!"},null,{"$error":"#VALUE!"},{"$error":"#VALUE!"},{"$error":"#VALUE!"},{"$error":"#VALUE!"},false]
[184,184,{"$f":"IF(A195<=$E$3,КАЛЬКУЛЯТОР!$C$21,IF(AND(A195>$E$3,A195<=$E$2),$E$4,\"\"))","v":""},{"$f":"IF(A195<=$E$2,-PMT(C195/12,IF(C195=КАЛЬКУЛЯТОР!$C$21,$E$2,$E$2-$E$3),IF(C195=КАЛЬКУЛЯТОР!$C$21,$I$11,$I$11-SUMIF($A$12:$A$371,\"<=\"&$E$3,$H$12:$H$371)),0,0),\"\")","v":""},null,{"$f":"IFERROR((-IPMT(C195/12,B195,IF(C195=КАЛЬКУЛЯТОР!$C$21,$E$2,$E$2-$E$3),IF(C195=КАЛЬКУЛЯТОР!$C$21,$I$11,$I$11-SUMIF($A$12:$A$371,\"<=\"&$E$3,$H$12:$H$371)),0,0)),\"\")","v":""},{"$f":"IFERROR((-IPMT((C195-'КАЛЬКУЛЯТОР 1'!$P$1)/12,B195,IF(C195=КАЛЬКУЛЯТОР!$C$21,$E$2,$E$2-$E$3),IF(C195=КАЛЬКУЛЯТОР!$C$21,$I$11,$I$11-SUMIF($A$12:$A$371,\"<=\"&$E$3,$H$12:$H$371)),0,0)),\"\")","v":""},{"$f":"IFERROR((-PPMT(C195/12,B195,IF(C195=КАЛЬКУЛЯТОР!$C$21,$E$2,$E$2-$E$3),IF(C195=КАЛЬКУЛЯТОР!$C$21,$I$11,$I$11-SUMIF($A$12:$A$371,\"<=\"&$E$3,$H$12:$H$371)),0,0)),\"\")","v":""},"",{"$error":"#VALUE!"},null,{"$error":"#VALUE!"},{"$error":"#VALUE!"},{"$error":"#VALUE!"},{"$error":"#VALUE!"},false]
[185,185,{"$f":"IF(A196<=$E$3,КАЛЬКУЛЯТОР!$C$21,IF(AND(A196>$E$3,A196<=$E$2),$E$4,\"\"))","v":""},{"$f":"IF(A196<=$E$2,-PMT(C196/12,IF(C196=КАЛЬКУЛЯТОР!$C$21,$E$2,$E$2-$E$3),IF(C196=КАЛЬКУЛЯТОР!$C$21,$I$11,$I$11-SUMIF($A$12:$A$371,\"<=\"&$E$3,$H$12:$H$371)),0,0),\"\")","v":""},null,{"$f":"IFERROR((-IPMT(C196/12,B196,IF(C196=КАЛЬКУЛЯТОР!$C$21,$E$2,$E$2-$E$3),IF(C196=КАЛЬКУЛЯТОР!$C$21,$I$11,$I$11-SUMIF($A$12:$A$371,\"<=\"&$E$3,$H$12:$H$371)),0,0)),\"\")","v":""},{"$f":"IFERROR((-IPMT((C196-'КАЛЬКУЛЯТОР 1'!$P$1)/12,B196,IF(C196=КАЛЬКУЛЯТОР!$C$21,$E$2,$E$2-$E$3),IF(C196=КАЛЬКУЛЯТОР!$C$21,$I$11,$I$11-SUMIF($A$12:$A$371,\"<=\"&$E$3,$H$12:$H$371)),0,0)),\"\")","v":""},{"$f":"IFERROR((-PPMT(C196/12,B196,IF(C196=КАЛЬКУЛЯТОР!$C$21,$E$2,$E$2-$E$3),IF(C196=КАЛЬКУЛЯТОР!$C$21,$I$11,$I$11-SUMIF($A$12:$A$371,\"<=\"&$E$3,$H$12:$H$371)),0,0)),\"\")","v":""},"",{"$error":"#VALUE!"},null,{"$error":"#VALUE!"},{"$error":"#VALUE!"},{"$error":"#VALUE!"},{"$error":"#VALUE!"},false]
[186,186,{"$f":"IF(A197<=$E$3,КАЛЬКУЛЯТОР!$C$21,IF(AND(A197>$E$3,A197<=$E$2),$E$4,\"\"))","v":""},{"$f":"IF(A197<=$E$2,-PMT(C197/12,IF(C197=КАЛЬКУЛЯТОР!$C$21,$E$2,$E$2-$E$3),IF(C197=КАЛЬКУЛЯТОР!$C$21,$I$11,$I$11-SUMIF($A$12:$A$371,\"<=\"&$E$3,$H$12:$H$371)),0,0),\"\")","v":""},null,{"$f":"IFERROR((-IPMT(C197/12,B197,IF(C197=КАЛЬКУЛЯТОР!$C$21,$E$2,$E$2-$E$3),IF(C197=КАЛЬКУЛЯТОР!$C$21,$I$11,$I$11-SUMIF($A$12:$A$371,\"<=\"&$E$3,$H$12:$H$371)),0,0)),\"\")","v":""},{"$f":"IFERROR((-IPMT((C197-'КАЛЬКУЛЯТОР 1'!$P$1)/12,B197,IF(C197=КАЛЬКУЛЯТОР!$C$21,$E$2,$E$2-$E$3),IF(C197=КАЛЬКУЛЯТОР!$C$21,$I$11,$I$11-SUMIF($A$12:$A$371,\"<=\"&$E$3,$H$12:$H$371)),0,0)),\"\")","v":""},{"$f":"IFERROR((-PPMT(C197/12,B197,IF(C197=КАЛЬКУЛЯТОР!$C$21,$E$2,$E$2-$E$3),IF(C197=КАЛЬКУЛЯТОР!$C$21,$I$11,$I$11-SUMIF($A$12:$A$371,\"<=\"&$E$3,$H$12:$H$371)),0,0)),\"\")","v":""},"",{"$error":"#VALUE!"},null,{"$error":"#VALUE!"},{"$error":"#VALUE!"},{"$error":"#VALUE!"},{"$error":"#VALUE!"},false]
[187,187,{"$f":"IF(A198<=$E$3,КАЛЬКУЛЯТОР!$C$21,IF(AND(A198>$E$3,A198<=$E$2),$E$4,\"\"))","v":""},{"$f":"IF(A198<=$E$2,-PMT(C198/12,IF(C198=КАЛЬКУЛЯТОР!$C$21,$E$2,$E$2-$E$3),IF(C198=КАЛЬКУЛЯТОР!$C$21,$I$11,$I$11-SUMIF($A$12:$A$371,\"<=\"&$E$3,$H$12:$H$371)),0,0),\"\")","v":""},null,{"$f":"IFERROR((-IPMT(C198/12,B198,IF(C198=КАЛЬКУЛЯТОР!$C$21,$E$2,$E$2-$E$3),IF(C198=КАЛЬКУЛЯТОР!$C$21,$I$11,$I$11-SUMIF($A$12:$A$371,\"<=\"&$E$3,$H$12:$H$371)),0,0)),\"\")","v":""},{"$f":"IFERROR((-IPMT((C198-'КАЛЬКУЛЯТОР 1'!$P$1)/12,B198,IF(C198=КАЛЬКУЛЯТОР!$C$21,$E$2,$E$2-$E$3),IF(C198=КАЛЬКУЛЯТОР!$C$21,$I$11,$I$11-SUMIF($A$12:$A$371,\"<=\"&$E$3,$H$12:$H$371)),0,0)),\"\")","v":""},{"$f":"IFERROR((-PPMT(C198/12,B198,IF(C198=КАЛЬКУЛЯТОР!$C$21,$E$2,$E$2-$E$3),IF(C198=КАЛЬКУЛЯТОР!$C$21,$I$11,$I$11-SUMIF($A$12:$A$371,\"<=\"&$E$3,$H$12:$H$371)),0,0)),\"\")","v":""},"",{"$error":"#VALUE!"},null,{"$error":"#VALUE!"},{"$error":"#VALUE!"},{"$error":"#VALUE!"},{"$error":"#VALUE!"},false]
[188,188,{"$f":"IF(A199<=$E$3,КАЛЬКУЛЯТОР!$C$21,IF(AND(A199>$E$3,A199<=$E$2),$E$4,\"\"))","v":""},{"$f":"IF(A199<=$E$2,-PMT(C199/12,IF(C199=КАЛЬКУЛЯТОР!$C$21,$E$2,$E$2-$E$3),IF(C199=КАЛЬКУЛЯТОР!$C$21,$I$11,$I$11-SUMIF($A$12:$A$371,\"<=\"&$E$3,$H$12:$H$371)),0,0),\"\")","v":""},null,{"$f":"IFERROR((-IPMT(C199/12,B199,IF(C199=КАЛЬКУЛЯТОР!$C$21,$E$2,$E$2-$E$3),IF(C199=КАЛЬКУЛЯТОР!$C$21,$I$11,$I$11-SUMIF($A$12:$A$371,\"<=\"&$E$3,$H$12:$H$371)),0,0)),\"\")","v":""},{"$f":"IFERROR((-IPMT((C199-'КАЛЬКУЛЯТОР 1'!$P$1)/12,B199,IF(C199=КАЛЬКУЛЯТОР!$C$21,$E$2,$E$2-$E$3),IF(C199=КАЛЬКУЛЯТОР!$C$21,$I$11,$I$11-SUMIF($A$12:$A$371,\"<=\"&$E$3,$H$12:$H$371)),0,0)),\"\")","v":""},{"$f":"IFERROR((-PPMT(C199/12,B199,IF(C199=КАЛЬКУЛЯТОР!$C$21,$E$2,$E$2-$E$3),IF(C199=КАЛЬКУЛЯТОР!$C$21,$I$11,$I$11-SUMIF($A$12:$A$371,\"<=\"&$E$3,$H$12:$H$371)),0,0)),\"\")","v":""},"",{"$error":"#VALUE!"},null,{"$error":"#VALUE!"},{"$error":"#VALUE!"},{"$error":"#VALUE!"},{"$error":"#VALUE!"},false]
[189,189,{"$f":"IF(A200<=$E$3,КАЛЬКУЛЯТОР!$C$21,IF(AND(A200>$E$3,A200<=$E$2),$E$4,\"\"))","v":""},{"$f":"IF(A200<=$E$2,-PMT(C200/12,IF(C200=КАЛЬКУЛЯТОР!$C$21,$E$2,$E$2-$E$3),IF(C200=КАЛЬКУЛЯТОР!$C$21,$I$11,$I$11-SUMIF($A$12:$A$371,\"<=\"&$E$3,$H$12:$H$371)),0,0),\"\")","v":""},null,{"$f":"IFERROR((-IPMT(C200/12,B200,IF(C200=КАЛЬКУЛЯТОР!$C$21,$E$2,$E$2-$E$3),IF(C200=КАЛЬКУЛЯТОР!$C$21,$I$11,$I$11-SUMIF($A$12:$A$371,\"<=\"&$E$3,$H$12:$H$371)),0,0)),\"\")","v":""},{"$f":"IFERROR((-IPMT((C200-'КАЛЬКУЛЯТОР 1'!$P$1)/12,B200,IF(C200=КАЛЬКУЛЯТОР!$C$21,$E$2,$E$2-$E$3),IF(C200=КАЛЬКУЛЯТОР!$C$21,$I$11,$I$11-SUMIF($A$12:$A$371,\"<=\"&$E$3,$H$12:$H$371)),0,0)),\"\")","v":""},{"$f":"IFERROR((-PPMT(C200/12,B200,IF(C200=КАЛЬКУЛЯТОР!$C$21,$E$2,$E$2-$E$3),IF(C200=КАЛЬКУЛЯТОР!$C$21,$I$11,$I$11-SUMIF($A$12:$A$371,\"<=\"&$E$3,$H$12:$H$371)),0,0)),\"\")","v":""},"",{"$error":"#VALUE!"},null,{"$error":"#VALUE!"},{"$error":"#VALUE!"},{"$error":"#VALUE!"},{"$error":"#VALUE!"},false]
[190,190,{"$f":"IF(A201<=$E$3,КАЛЬКУЛЯТОР!$C$21,IF(AND(A201>$E$3,A201<=$E$2),$E$4,\"\"))","v":""},{"$f":"IF(A201<=$E$2,-PMT(C201/12,IF(C201=КАЛЬКУЛЯТОР!$C$21,$E$2,$E$2-$E$3),IF(C201=КАЛЬКУЛЯТОР!$C$21,$I$11,$I$11-SUMIF($A$12:$A$371,\"<=\"&$E$3,$H$12:$H$371)),0,0),\"\")","v":""},null,{"$f":"IFERROR((-IPMT(C201/12,B201,IF(C201=КАЛЬКУЛЯТОР!$C$21,$E$2,$E$2-$E$3),IF(C201=КАЛЬКУЛЯТОР!$C$21,$I$11,$I$11-SUMIF($A$12:$A$371,\"<=\"&$E$3,$H$12:$H$371)),0,0)),\"\")","v":""},{"$f":"IFERROR((-IPMT((C201-'КАЛЬКУЛЯТОР 1'!$P$1)/12,B201,IF(C201=КАЛЬКУЛЯТОР!$C$21,$E$2,$E$2-$E$3),IF(C201=КАЛЬКУЛЯТОР!$C$21,$I$11,$I$11-SUMIF($A$12:$A$371,\"<=\"&$E$3,$H$12:$H$371)),0,0)),\"\")","v":""},{"$f":"IFERROR((-PPMT(C201/12,B201,IF(C201=КАЛЬКУЛЯТОР!$C$21,$E$2,$E$2-$E$3),IF(C201=КАЛЬКУЛЯТОР!$C$21,$I$11,$I$11-SUMIF($A$12:$A$371,\"<=\"&$E$3,$H$12:$H$371)),0,0)),\"\")","v":""},"",{"$error":"#VALUE!"},null,{"$error":"#VALUE!"},{"$error":"#VALUE!"},{"$error":"#VALUE!"},{"$error":"#VALUE!"},false]
[191,191,{"$f":"IF(A202<=$E$3,КАЛЬКУЛЯТОР!$C$21,IF(AND(A202>$E$3,A202<=$E$2),$E$4,\"\"))","v":""},{"$f":"IF(A202<=$E$2,-PMT(C202/12,IF(C202=КАЛЬКУЛЯТОР!$C$21,$E$2,$E$2-$E$3),IF(C202=КАЛЬКУЛЯТОР!$C$21,$I$11,$I$11-SUMIF($A$12:$A$371,\"<=\"&$E$3,$H$12:$H$371)),0,0),\"\")","v":""},null,{"$f":"IFERROR((-IPMT(C202/12,B202,IF(C202=КАЛЬКУЛЯТОР!$C$21,$E$2,$E$2-$E$3),IF(C202=КАЛЬКУЛЯТОР!$C$21,$I$11,$I$11-SUMIF($A$12:$A$371,\"<=\"&$E$3,$H$12:$H$371)),0,0)),\"\")","v":""},{"$f":"IFERROR((-IPMT((C202-'КАЛЬКУЛЯТОР 1'!$P$1)/12,B202,IF(C202=КАЛЬКУЛЯТОР!$C$21,$E$2,$E$2-$E$3),IF(C202=КАЛЬКУЛЯТОР!$C$21,$I$11,$I$11-SUMIF($A$12:$A$371,\"<=\"&$E$3,$H$12:$H$371)),0,0)),\"\")","v":""},{"$f":"IFERROR((-PPMT(C202/12,B202,IF(C202=КАЛЬКУЛЯТОР!$C$21,$E$2,$E$2-$E$3),IF(C202=КАЛЬКУЛЯТОР!$C$21,$I$11,$I$11-SUMIF($A$12:$A$371,\"<=\"&$E$3,$H$12:$H$371)),0,0)),\"\")","v":""},"",{"$error":"#VALUE!"},null,{"$error":"#VALUE!"},{"$error":"#VALUE!"},{"$error":"#VALUE!"},{"$error":"#VALUE!"},false]
[192,192,{"$f":"IF(A203<=$E$3,КАЛЬКУЛЯТОР!$C$21,IF(AND(A203>$E$3,A203<=$E$2),$E$4,\"\"))","v":""},{"$f":"IF(A203<=$E$2,-PMT(C203/12,IF(C203=КАЛЬКУЛЯТОР!$C$21,$E$2,$E$2-$E$3),IF(C203=КАЛЬКУЛЯТОР!$C$21,$I$11,$I$11-SUMIF($A$12:$A$371,\"<=\"&$E$3,$H$12:$H$371)),0,0),\"\")","v":""},null,{"$f":"IFERROR((-IPMT(C203/12,B203,IF(C203=КАЛЬКУЛЯТОР!$C$21,$E$2,$E$2-$E$3),IF(C203=КАЛЬКУЛЯТОР!$C$21,$I$11,$I$11-SUMIF($A$12:$A$371,\"<=\"&$E$3,$H$12:$H$371)),0,0)),\"\")","v":""},{"$f":"IFERROR((-IPMT((C203-'КАЛЬКУЛЯТОР 1'!$P$1)/12,B203,IF(C203=КАЛЬКУЛЯТОР!$C$21,$E$2,$E$2-$E$3),IF(C203=КАЛЬКУЛЯТОР!$C$21,$I$11,$I$11-SUMIF($A$12:$A$371,\"<=\"&$E$3,$H$12:$H$371)),0,0)),\"\")","v":""},{"$f":"IFERROR((-PPMT(C203/12,B203,IF(C203=КАЛЬКУЛЯТОР!$C$21,$E$2,$E$2-$E$3),IF(C203=КАЛЬКУЛЯТОР!$C$21,$I$11,$I$11-SUMIF($A$12:$A$371,\"<=\"&$E$3,$H$12:$H$371)),0,0)),\"\")","v":""},"",{"$error":"#VALUE!"},null,{"$error":"#VALUE!"},{"$error":"#VALUE!"},{"$error":"#VALUE!"},{"$error":"#VALUE!"},false]
[193,193,{"$f":"IF(A204<=$E$3,КАЛЬКУЛЯТОР!$C$21,IF(AND(A204>$E$3,A204<=$E$2),$E$4,\"\"))","v":""},{"$f":"IF(A204<=$E$2,-PMT(C204/12,IF(C204=КАЛЬКУЛЯТОР!$C$21,$E$2,$E$2-$E$3),IF(C204=КАЛЬКУЛЯТОР!$C$21,$I$11,$I$11-SUMIF($A$12:$A$371,\"<=\"&$E$3,$H$12:$H$371)),0,0)+E204,\"\")","v":""},{"$f":"IF($E$2>$A203,(I203+SUM(F204:F215))*($K$4+$K$5),0)","v":{"v":0,"d":"0.00"}},{"$f":"IFERROR((-IPMT(C204/12,B204,IF(C204=КАЛЬКУЛЯТОР!$C$21,$E$2,$E$2-$E$3),IF(C204=КАЛЬКУЛЯТОР!$C$21,$I$11,$I$11-SUMIF($A$12:$A$371,\"<=\"&$E$3,$H$12:$H$371)),0,0)),\"\")","v":""},{"$f":"IFERROR((-IPMT((C204-'КАЛЬКУЛЯТОР 1'!$P$1)/12,B204,IF(C204=КАЛЬКУЛЯТОР!$C$21,$E$2,$E$2-$E$3),IF(C204=КАЛЬКУЛЯТОР!$C$21,$I$11,$I$11-SUMIF($A$12:$A$371,\"<=\"&$E$3,$H$12:$H$371)),0,0)),\"\")","v":""},{"$f":"IFERROR((-PPMT(C204/12,B204,IF(C204=КАЛЬКУЛЯТОР!$C$21,$E$2,$E$2-$E$3),IF(C204=КАЛЬКУЛЯТОР!$C$21,$I$11,$I$11-SUMIF($A$12:$A$371,\"<=\"&$E$3,$H$12:$H$371)),0,0)),\"\")","v":""},{"$f":"IFERROR(I203-H204,\"\")","v":""},{"$f":"PV($E$5/12,A204-1,0,-D204)","v":{"$error":"#VALUE!"}},{"$f":"PV($E$5/12,A204-1,0,-E204)","v":{"v":0,"d":"0.00"}},{"$f":"PV($E$5/12,A204-1,0,-F204)","v":{"$error":"#VALUE!"}},{"$f":"PV($E$5/12,A204-1,0,-G204)","v":{"$error":"#VALUE!"}},{"$f":"PV($E$5/12,A204-1,0,-H204)","v":{"$error":"#VALUE!"}},{"$f":"O203-N204","v":{"$error":"#VALUE!"}},{"$f":"AND(A204<=$E$3)","v":false}]
[194,{"$f":"ROUND(IF(P205=$P$12,B204+1,A205-$E$3),0)","v":194},{"$f":"IF(A205<=$E$3,КАЛЬКУЛЯТОР!$C$21,IF(AND(A205>$E$3,A205<=$E$2),$E$4,\"\"))","v":""},{"$f":"IF(A205<=$E$2,-PMT(C205/12,IF(C205=КАЛЬКУЛЯТОР!$C$21,$E$2,$E$2-$E$3),IF(C205=КАЛЬКУЛЯТОР!$C$21,$I$11,$I$11-SUMIF($A$12:$A$371,\"<=\"&$E$3,$H$12:$H$371)),0,0),\"\")","v":""},null,{"$f":"IFERROR((-IPMT(C205/12,B205,IF(C205=КАЛЬКУЛЯТОР!$C$21,$E$2,$E$2-$E$3),IF(C205=КАЛЬКУЛЯТОР!$C$21,$I$11,$I$11-SUMIF($A$12:$A$371,\"<=\"&$E$3,$H$12:$H$371)),0,0)),\"\")","v":""},{"$f":"IFERROR((-IPMT((C205-'КАЛЬКУЛЯТОР 1'!$P$1)/12,B205,IF(C205=КАЛЬКУЛЯТОР!$C$21,$E$2,$E$2-$E$3),IF(C205=КАЛЬКУЛЯТОР!$C$21,$I$11,$I$11-SUMIF($A$12:$A$371,\"<=\"&$E$3,$H$12:$H$371)),0,0)),\"\")","v":""},{"$f":"IFERROR((-PPMT(C205/12,B205,IF(C205=КАЛЬКУЛЯТОР!$C$21,$E$2,$E$2-$E$3),IF(C205=КАЛЬКУЛЯТОР!$C$21,$I$11,$I$11-SUMIF($A$12:$A$371,\"<=\"&$E$3,$H$12:$H$371)),0,0)),\"\")","v":""},"",{"$error":"#VALUE!"},null,{"$error":"#VALUE!"},{"$error":"#VALUE!"},{"$error":"#VALUE!"},{"$error":"#VALUE!"},false]
[195,195,{"$f":"IF(A206<=$E$3,КАЛЬКУЛЯТОР!$C$21,IF(AND(A206>$E$3,A206<=$E$2),$E$4,\"\"))","v":""},{"$f":"IF(A206<=$E$2,-PMT(C206/12,IF(C206=КАЛЬКУЛЯТОР!$C$21,$E$2,$E$2-$E$3),IF(C206=КАЛЬКУЛЯТОР!$C$21,$I$11,$I$11-SUMIF($A$12:$A$371,\"<=\"&$E$3,$H$12:$H$371)),0,0),\"\")","v":""},null,{"$f":"IFERROR((-IPMT(C206/12,B206,IF(C206=КАЛЬКУЛЯТОР!$C$21,$E$2,$E$2-$E$3),IF(C206=КАЛЬКУЛЯТОР!$C$21,$I$11,$I$11-SUMIF($A$12:$A$371,\"<=\"&$E$3,$H$12:$H$371)),0,0)),\"\")","v":""},{"$f":"IFERROR((-IPMT((C206-'КАЛЬКУЛЯТОР 1'!$P$1)/12,B206,IF(C206=КАЛЬКУЛЯТОР!$C$21,$E$2,$E$2-$E$3),IF(C206=КАЛЬКУЛЯТОР!$C$21,$I$11,$I$11-SUMIF($A$12:$A$371,\"<=\"&$E$3,$H$12:$H$371)),0,0)),\"\")","v":""},{"$f":"IFERROR((-PPMT(C206/12,B206,IF(C206=КАЛЬКУЛЯТОР!$C$21,$E$2,$E$2-$E$3),IF(C206=КАЛЬКУЛЯТОР!$C$21,$I$11,$I$11-SUMIF($A$12:$A$371,\"<=\"&$E$3,$H$12:$H$371)),0,0)),\"\")","v":""},"",{"$error":"#VALUE!"},null,{"$error":"#VALUE!"},{"$error":"#VALUE!"},{"$error":"#VALUE!"},{"$error":"#VALUE!"},false]
[196,196,{"$f":"IF(A207<=$E$3,КАЛЬКУЛЯТОР!$C$21,IF(AND(A207>$E$3,A207<=$E$2),$E$4,\"\"))","v":""},{"$f":"IF(A207<=$E$2,-PMT(C207/12,IF(C207=КАЛЬКУЛЯТОР!$C$21,$E$2,$E$2-$E$3),IF(C207=КАЛЬКУЛЯТОР!$C$21,$I$11,$I$11-SUMIF($A$12:$A$371,\"<=\"&$E$3,$H$12:$H$371)),0,0),\"\")","v":""},null,{"$f":"IFERROR((-IPMT(C207/12,B207,IF(C207=КАЛЬКУЛЯТОР!$C$21,$E$2,$E$2-$E$3),IF(C207=КАЛЬКУЛЯТОР!$C$21,$I$11,$I$11-SUMIF($A$12:$A$371,\"<=\"&$E$3,$H$12:$H$371)),0,0)),\"\")","v":""},{"$f":"IFERROR((-IPMT((C207-'КАЛЬКУЛЯТОР 1'!$P$1)/12,B207,IF(C207=КАЛЬКУЛЯТОР!$C$21,$E$2,$E$2-$E$3),IF(C207=КАЛЬКУЛЯТОР!$C$21,$I$11,$I$11-SUMIF($A$12:$A$371,\"<=\"&$E$3,$H$12:$H$371)),0,0)),\"\")","v":""},{"$f":"IFERROR((-PPMT(C207/12,B207,IF(C207=КАЛЬКУЛЯТОР!$C$21,$E$2,$E$2-$E$3),IF(C207=КАЛЬКУЛЯТОР!$C$21,$I$11,$I$11-SUMIF($A$12:$A$371,\"<=\"&$E$3,$H$12:$H$371)),0,0)),\"\")","v":""},"",{"$error":"#VALUE!"},null,{"$error":"#VALUE!"},{"$error":"#VALUE!"},{"$error":"#VALUE!"},{"$error":"#VALUE!"},false]
[197,197,{"$f":"IF(A208<=$E$3,КАЛЬКУЛЯТОР!$C$21,IF(AND(A208>$E$3,A208<=$E$2),$E$4,\"\"))","v":""},{"$f":"IF(A208<=$E$2,-PMT(C208/12,IF(C208=КАЛЬКУЛЯТОР!$C$21,$E$2,$E$2-$E$3),IF(C208=КАЛЬКУЛЯТОР!$C$21,$I$11,$I$11-SUMIF($A$12:$A$371,\"<=\"&$E$3,$H$12:$H$371)),0,0),\"\")","v":""},null,{"$f":"IFERROR((-IPMT(C208/12,B208,IF(C208=КАЛЬКУЛЯТОР!$C$21,$E$2,$E$2-$E$3),IF(C208=КАЛЬКУЛЯТОР!$C$21,$I$11,$I$11-SUMIF($A$12:$A$371,\"<=\"&$E$3,$H$12:$H$371)),0,0)),\"\")","v":""},{"$f":"IFERROR((-IPMT((C208-'КАЛЬКУЛЯТОР 1'!$P$1)/12,B208,IF(C208=КАЛЬКУЛЯТОР!$C$21,$E$2,$E$2-$E$3),IF(C208=КАЛЬКУЛЯТОР!$C$21,$I$11,$I$11-SUMIF($A$12:$A$371,\"<=\"&$E$3,$H$12:$H$371)),0,0)),\"\")","v":""},{"$f":"IFERROR((-PPMT(C208/12,B208,IF(C208=КАЛЬКУЛЯТОР!$C$21,$E$2,$E$2-$E$3),IF(C208=КАЛЬКУЛЯТОР!$C$21,$I$11,$I$11-SUMIF($A$12:$A$371,\"<=\"&$E$3,$H$12:$H$371)),0,0)),\"\")","v":""},"",{"$error":"#VALUE!"},null,{"$error":"#VALUE!"},{"$error":"#VALUE!"},{"$error":"#VALUE!"},{"$error":"#VALUE!"},false]
[198,198,{"$f":"IF(A209<=$E$3,КАЛЬКУЛЯТОР!$C$21,IF(AND(A209>$E$3,A209<=$E$2),$E$4,\"\"))","v":""},{"$f":"IF(A209<=$E$2,-PMT(C209/12,IF(C209=КАЛЬКУЛЯТОР!$C$21,$E$2,$E$2-$E$3),IF(C209=КАЛЬКУЛЯТОР!$C$21,$I$11,$I$11-SUMIF($A$12:$A$371,\"<=\"&$E$3,$H$12:$H$371)),0,0),\"\")","v":""},null,{"$f":"IFERROR((-IPMT(C209/12,B209,IF(C209=КАЛЬКУЛЯТОР!$C$21,$E$2,$E$2-$E$3),IF(C209=КАЛЬКУЛЯТОР!$C$21,$I$11,$I$11-SUMIF($A$12:$A$371,\"<=\"&$E$3,$H$12:$H$371)),0,0)),\"\")","v":""},{"$f":"IFERROR((-IPMT((C209-'КАЛЬКУЛЯТОР 1'!$P$1)/12,B209,IF(C209=КАЛЬКУЛЯТОР!$C$21,$E$2,$E$2-$E$3),IF(C209=КАЛЬКУЛЯТОР!$C$21,$I$11,$I$11-SUMIF($A$12:$A$371,\"<=\"&$E$3,$H$12:$H$371)),0,0)),\"\")","v":""},{"$f":"IFERROR((-PPMT(C209/12,B209,IF(C209=КАЛЬКУЛЯТОР!$C$21,$E$2,$E$2-$E$3),IF(C209=КАЛЬКУЛЯТОР!$C$21,$I$11,$I$11-SUMIF($A$12:$A$371,\"<=\"&$E$3,$H$12:$H$371)),0,0)),\"\")","v":""},"",{"$error":"#VALUE!"},null,{"$error":"#VALUE!"},{"$error":"#VALUE!"},{"$error":"#VALUE!"},{"$error":"#VALUE!"},false]
[199,199,{"$f":"IF(A210<=$E$3,КАЛЬКУЛЯТОР!$C$21,IF(AND(A210>$E$3,A210<=$E$2),$E$4,\"\"))","v":""},{"$f":"IF(A210<=$E$2,-PMT(C210/12,IF(C210=КАЛЬКУЛЯТОР!$C$21,$E$2,$E$2-$E$3),IF(C210=КАЛЬКУЛЯТОР!$C$21,$I$11,$I$11-SUMIF($A$12:$A$371,\"<=\"&$E$3,$H$12:$H$371)),0,0),\"\")","v":""},null,{"$f":"IFERROR((-IPMT(C210/12,B210,IF(C210=КАЛЬКУЛЯТОР!$C$21,$E$2,$E$2-$E$3),IF(C210=КАЛЬКУЛЯТОР!$C$21,$I$11,$I$11-SUMIF($A$12:$A$371,\"<=\"&$E$3,$H$12:$H$371)),0,0)),\"\")","v":""},{"$f":"IFERROR((-IPMT((C210-'КАЛЬКУЛЯТОР 1'!$P$1)/12,B210,IF(C210=КАЛЬКУЛЯТОР!$C$21,$E$2,$E$2-$E$3),IF(C210=КАЛЬКУЛЯТОР!$C$21,$I$11,$I$11-SUMIF($A$12:$A$371,\"<=\"&$E$3,$H$12:$H$371)),0,0)),\"\")","v":""},{"$f":"IFERROR((-PPMT(C210/12,B210,IF(C210=КАЛЬКУЛЯТОР!$C$21,$E$2,$E$2-$E$3),IF(C210=КАЛЬКУЛЯТОР!$C$21,$I$11,$I$11-SUMIF($A$12:$A$371,\"<=\"&$E$3,$H$12:$H$371)),0,0)),\"\")","v":""},"",{"$error":"#VALUE!"},null,{"$error":"#VALUE!"},{"$error":"#VALUE!"},{"$error":"#VALUE!"},{"$error":"#VALUE!"},false]
[200,200,{"$f":"IF(A211<=$E$3,КАЛЬКУЛЯТОР!$C$21,IF(AND(A211>$E$3,A211<=$E$2),$E$4,\"\"))","v":""},{"$f":"IF(A211<=$E$2,-PMT(C211/12,IF(C211=КАЛЬКУЛЯТОР!$C$21,$E$2,$E$2-$E$3),IF(C211=КАЛЬКУЛЯТОР!$C$21,$I$11,$I$11-SUMIF($A$12:$A$371,\"<=\"&$E$3,$H$12:$H$371)),0,0),\"\")","v":""},null,{"$f":"IFERROR((-IPMT(C211/12,B211,IF(C211=КАЛЬКУЛЯТОР!$C$21,$E$2,$E$2-$E$3),IF(C211=КАЛЬКУЛЯТОР!$C$21,$I$11,$I$11-SUMIF($A$12:$A$371,\"<=\"&$E$3,$H$12:$H$371)),0,0)),\"\")","v":""},{"$f":"IFERROR((-IPMT((C211-'КАЛЬКУЛЯТОР 1'!$P$1)/12,B211,IF(C211=КАЛЬКУЛЯТОР!$C$21,$E$2,$E$2-$E$3),IF(C211=КАЛЬКУЛЯТОР!$C$21,$I$11,$I$11-SUMIF($A$12:$A$371,\"<=\"&$E$3,$H$12:$H$371)),0,0)),\"\")","v":""},{"$f":"IFERROR((-PPMT(C211/12,B211,IF(C211=КАЛЬКУЛЯТОР!$C$21,$E$2,$E$2-$E$3),IF(C211=КАЛЬКУЛЯТОР!$C$21,$I$11,$I$11-SUMIF($A$12:$A$371,\"<=\"&$E$3,$H$12:$H$371)),0,0)),\"\")","v":""},"",{"$error":"#VALUE!"},null,{"$error":"#VALUE!"},{"$error":"#VALUE!"},{"$error":"#VALUE!"},{"$error":"#VALUE!"},false]
[201,201,{"$f":"IF(A212<=$E$3,КАЛЬКУЛЯТОР!$C$21,IF(AND(A212>$E$3,A212<=$E$2),$E$4,\"\"))","v":""},{"$f":"IF(A212<=$E$2,-PMT(C212/12,IF(C212=КАЛЬКУЛЯТОР!$C$21,$E$2,$E$2-$E$3),IF(C212=КАЛЬКУЛЯТОР!$C$21,$I$11,$I$11-SUMIF($A$12:$A$371,\"<=\"&$E$3,$H$12:$H$371)),0,0),\"\")","v":""},null,{"$f":"IFERROR((-IPMT(C212/12,B212,IF(C212=КАЛЬКУЛЯТОР!$C$21,$E$2,$E$2-$E$3),IF(C212=КАЛЬКУЛЯТОР!$C$21,$I$11,$I$11-SUMIF($A$12:$A$371,\"<=\"&$E$3,$H$12:$H$371)),0,0)),\"\")","v":""},{"$f":"IFERROR((-IPMT((C212-'КАЛЬКУЛЯТОР 1'!$P$1)/12,B212,IF(C212=КАЛЬКУЛЯТОР!$C$21,$E$2,$E$2-$E$3),IF(C212=КАЛЬКУЛЯТОР!$C$21,$I$11,$I$11-SUMIF($A$12:$A$371,\"<=\"&$E$3,$H$12:$H$371)),0,0)),\"\")","v":""},{"$f":"IFERROR((-PPMT(C212/12,B212,IF(C212=КАЛЬКУЛЯТОР!$C$21,$E$2,$E$2-$E$3),IF(C212=КАЛЬКУЛЯТОР!$C$21,$I$11,$I$11-SUMIF($A$12:$A$371,\"<=\"&$E$3,$H$12:$H$371)),0,0)),\"\")","v":""},"",{"$error":"#VALUE!"},null,{"$error":"#VALUE!"},{"$error":"#VALUE!"},{"$error":"#VALUE!"},{"$error":"#VALUE!"},false]
[202,202,{"$f":"IF(A213<=$E$3,КАЛЬКУЛЯТОР!$C$21,IF(AND(A213>$E$3,A213<=$E$2),$E$4,\"\"))","v":""},{"$f":"IF(A213<=$E$2,-PMT(C213/12,IF(C213=КАЛЬКУЛЯТОР!$C$21,$E$2,$E$2-$E$3),IF(C213=КАЛЬКУЛЯТОР!$C$21,$I$11,$I$11-SUMIF($A$12:$A$371,\"<=\"&$E$3,$H$12:$H$371)),0,0),\"\")","v":""},null,{"$f":"IFERROR((-IPMT(C213/12,B213,IF(C213=КАЛЬКУЛЯТОР!$C$21,$E$2,$E$2-$E$3),IF(C213=КАЛЬКУЛЯТОР!$C$21,$I$11,$I$11-SUMIF($A$12:$A$371,\"<=\"&$E$3,$H$12:$H$371)),0,0)),\"\")","v":""},{"$f":"IFERROR((-IPMT((C213-'КАЛЬКУЛЯТОР 1'!$P$1)/12,B213,IF(C213=КАЛЬКУЛЯТОР!$C$21,$E$2,$E$2-$E$3),IF(C213=КАЛЬКУЛЯТОР!$C$21,$I$11,$I$11-SUMIF($A$12:$A$371,\"<=\"&$E$3,$H$12:$H$371)),0,0)),\"\")","v":""},{"$f":"IFERROR((-PPMT(C213/12,B213,IF(C213=КАЛЬКУЛЯТОР!$C$21,$E$2,$E$2-$E$3),IF(C213=КАЛЬКУЛЯТОР!$C$21,$I$11,$I$11-SUMIF($A$12:$A$371,\"<=\"&$E$3,$H$12:$H$371)),0,0)),\"\")","v":""},"",{"$error":"#VALUE!"},null,{"$error":"#VALUE!"},{"$error":"#VALUE!"},{"$error":"#VALUE!"},{"$error":"#VALUE!"},false]
[203,203,{"$f":"IF(A214<=$E$3,КАЛЬКУЛЯТОР!$C$21,IF(AND(A214>$E$3,A214<=$E$2),$E$4,\"\"))","v":""},{"$f":"IF(A214<=$E$2,-PMT(C214/12,IF(C214=КАЛЬКУЛЯТОР!$C$21,$E$2,$E$2-$E$3),IF(C214=КАЛЬКУЛЯТОР!$C$21,$I$11,$I$11-SUMIF($A$12:$A$371,\"<=\"&$E$3,$H$12:$H$371)),0,0),\"\")","v":""},null,{"$f":"IFERROR((-IPMT(C214/12,B214,IF(C214=КАЛЬКУЛЯТОР!$C$21,$E$2,$E$2-$E$3),IF(C214=КАЛЬКУЛЯТОР!$C$21,$I$11,$I$11-SUMIF($A$12:$A$371,\"<=\"&$E$3,$H$12:$H$371)),0,0)),\"\")","v":""},{"$f":"IFERROR((-IPMT((C214-'КАЛЬКУЛЯТОР 1'!$P$1)/12,B214,IF(C214=КАЛЬКУЛЯТОР!$C$21,$E$2,$E$2-$E$3),IF(C214=КАЛЬКУЛЯТОР!$C$21,$I$11,$I$11-SUMIF($A$12:$A$371,\"<=\"&$E$3,$H$12:$H$371)),0,0)),\"\")","v":""},{"$f":"IFERROR((-PPMT(C214/12,B214,IF(C214=КАЛЬКУЛЯТОР!$C$21,$E$2,$E$2-$E$3),IF(C214=КАЛЬКУЛЯТОР!$C$21,$I$11,$I$11-SUMIF($A$12:$A$371,\"<=\"&$E$3,$H$12:$H$371)),0,0)),\"\")","v":""},"",{"$error":"#VALUE!"},null,{"$error":"#VALUE!"},{"$error":"#VALUE!"},{"$error":"#VALUE!"},{"$error":"#VALUE!"},false]
[204,204,{"$f":"IF(A215<=$E$3,КАЛЬКУЛЯТОР!$C$21,IF(AND(A215>$E$3,A215<=$E$2),$E$4,\"\"))","v":""},{"$f":"IF(A215<=$E$2,-PMT(C215/12,IF(C215=КАЛЬКУЛЯТОР!$C$21,$E$2,$E$2-$E$3),IF(C215=КАЛЬКУЛЯТОР!$C$21,$I$11,$I$11-SUMIF($A$12:$A$371,\"<=\"&$E$3,$H$12:$H$371)),0,0),\"\")","v":""},null,{"$f":"IFERROR((-IPMT(C215/12,B215,IF(C215=КАЛЬКУЛЯТОР!$C$21,$E$2,$E$2-$E$3),IF(C215=КАЛЬКУЛЯТОР!$C$21,$I$11,$I$11-SUMIF($A$12:$A$371,\"<=\"&$E$3,$H$12:$H$371)),0,0)),\"\")","v":""},{"$f":"IFERROR((-IPMT((C215-'КАЛЬКУЛЯТОР 1'!$P$1)/12,B215,IF(C215=КАЛЬКУЛЯТОР!$C$21,$E$2,$E$2-$E$3),IF(C215=КАЛЬКУЛЯТОР!$C$21,$I$11,$I$11-SUMIF($A$12:$A$371,\"<=\"&$E$3,$H$12:$H$371)),0,0)),\"\")","v":""},{"$f":"IFERROR((-PPMT(C215/12,B215,IF(C215=КАЛЬКУЛЯТОР!$C$21,$E$2,$E$2-$E$3),IF(C215=КАЛЬКУЛЯТОР!$C$21,$I$11,$I$11-SUMIF($A$12:$A$371,\"<=\"&$E$3,$H$12:$H$371)),0,0)),\"\")","v":""},"",{"$error":"#VALUE!"},null,{"$error":"#VALUE!"},{"$error":"#VALUE!"},{"$error":"#VALUE!"},{"$error":"#VALUE!"},false]
[205,205,{"$f":"IF(A216<=$E$3,КАЛЬКУЛЯТОР!$C$21,IF(AND(A216>$E$3,A216<=$E$2),$E$4,\"\"))","v":""},{"$f":"IF(A216<=$E$2,-PMT(C216/12,IF(C216=КАЛЬКУЛЯТОР!$C$21,$E$2,$E$2-$E$3),IF(C216=КАЛЬКУЛЯТОР!$C$21,$I$11,$I$11-SUMIF($A$12:$A$371,\"<=\"&$E$3,$H$12:$H$371)),0,0)+E216,\"\")","v":""},{"$f":"IF($E$2>$A215,(I215+SUM(F216:F227))*($K$4+$K$5),0)","v":{"v":0,"d":"0.00"}},{"$f":"IFERROR((-IPMT(C216/12,B216,IF(C216=КАЛЬКУЛЯТОР!$C$21,$E$2,$E$2-$E$3),IF(C216=КАЛЬКУЛЯТОР!$C$21,$I$11,$I$11-SUMIF($A$12:$A$371,\"<=\"&$E$3,$H$12:$H$371)),0,0)),\"\")","v":""},{"$f":"IFERROR((-IPMT((C216-'КАЛЬКУЛЯТОР 1'!$P$1)/12,B216,IF(C216=КАЛЬКУЛЯТОР!$C$21,$E$2,$E$2-$E$3),IF(C216=КАЛЬКУЛЯТОР!$C$21,$I$11,$I$11-SUMIF($A$12:$A$371,\"<=\"&$E$3,$H$12:$H$371)),0,0)),\"\")","v":""},{"$f":"IFERROR((-PPMT(C216/12,B216,IF(C216=КАЛЬКУЛЯТОР!$C$21,$E$2,$E$2-$E$3),IF(C216=КАЛЬКУЛЯТОР!$C$21,$I$11,$I$11-SUMIF($A$12:$A$371,\"<=\"&$E$3,$H$12:$H$371)),0,0)),\"\")","v":""},"",{"$error":"#VALUE!"},{"$f":"PV($E$5/12,A216-1,0,-E216)","v":{"v":0,"d":"0.00"}},{"$error":"#VALUE!"},{"$error":"#VALUE!"},{"$error":"#VALUE!"},{"$error":"#VALUE!"},false]
[206,206,{"$f":"IF(A217<=$E$3,КАЛЬКУЛЯТОР!$C$21,IF(AND(A217>$E$3,A217<=$E$2),$E$4,\"\"))","v":""},{"$f":"IF(A217<=$E$2,-PMT(C217/12,IF(C217=КАЛЬКУЛЯТОР!$C$21,$E$2,$E$2-$E$3),IF(C217=КАЛЬКУЛЯТОР!$C$21,$I$11,$I$11-SUMIF($A$12:$A$371,\"<=\"&$E$3,$H$12:$H$371)),0,0),\"\")","v":""},null,{"$f":"IFERROR((-IPMT(C217/12,B217,IF(C217=КАЛЬКУЛЯТОР!$C$21,$E$2,$E$2-$E$3),IF(C217=КАЛЬКУЛЯТОР!$C$21,$I$11,$I$11-SUMIF($A$12:$A$371,\"<=\"&$E$3,$H$12:$H$371)),0,0)),\"\")","v":""},{"$f":"IFERROR((-IPMT((C217-'КАЛЬКУЛЯТОР 1'!$P$1)/12,B217,IF(C217=КАЛЬКУЛЯТОР!$C$21,$E$2,$E$2-$E$3),IF(C217=КАЛЬКУЛЯТОР!$C$21,$I$11,$I$11-SUMIF($A$12:$A$371,\"<=\"&$E$3,$H$12:$H$371)),0,0)),\"\")","v":""},{"$f":"IFERROR((-PPMT(C217/12,B217,IF(C217=КАЛЬКУЛЯТОР!$C$21,$E$2,$E$2-$E$3),IF(C217=КАЛЬКУЛЯТОР!$C$21,$I$11,$I$11-SUMIF($A$12:$A$371,\"<=\"&$E$3,$H$12:$H$371)),0,0)),\"\")","v":""},"",{"$error":"#VALUE!"},null,{"$error":"#VALUE!"},{"$error":"#VALUE!"},{"$error":"#VALUE!"},{"$error":"#VALUE!"},false]
[207,207,{"$f":"IF(A218<=$E$3,КАЛЬКУЛЯТОР!$C$21,IF(AND(A218>$E$3,A218<=$E$2),$E$4,\"\"))","v":""},{"$f":"IF(A218<=$E$2,-PMT(C218/12,IF(C218=КАЛЬКУЛЯТОР!$C$21,$E$2,$E$2-$E$3),IF(C218=КАЛЬКУЛЯТОР!$C$21,$I$11,$I$11-SUMIF($A$12:$A$371,\"<=\"&$E$3,$H$12:$H$371)),0,0),\"\")","v":""},null,{"$f":"IFERROR((-IPMT(C218/12,B218,IF(C218=КАЛЬКУЛЯТОР!$C$21,$E$2,$E$2-$E$3),IF(C218=КАЛЬКУЛЯТОР!$C$21,$I$11,$I$11-SUMIF($A$12:$A$371,\"<=\"&$E$3,$H$12:$H$371)),0,0)),\"\")","v":""},{"$f":"IFERROR((-IPMT((C218-'КАЛЬКУЛЯТОР 1'!$P$1)/12,B218,IF(C218=КАЛЬКУЛЯТОР!$C$21,$E$2,$E$2-$E$3),IF(C218=КАЛЬКУЛЯТОР!$C$21,$I$11,$I$11-SUMIF($A$12:$A$371,\"<=\"&$E$3,$H$12:$H$371)),0,0)),\"\")","v":""},{"$f":"IFERROR((-PPMT(C218/12,B218,IF(C218=КАЛЬКУЛЯТОР!$C$21,$E$2,$E$2-$E$3),IF(C218=КАЛЬКУЛЯТОР!$C$21,$I$11,$I$11-SUMIF($A$12:$A$371,\"<=\"&$E$3,$H$12:$H$371)),0,0)),\"\")","v":""},"",{"$error":"#VALUE!"},null,{"$error":"#VALUE!"},{"$error":"#VALUE!"},{"$error":"#VALUE!"},{"$error":"#VALUE!"},false]
[208,208,{"$f":"IF(A219<=$E$3,КАЛЬКУЛЯТОР!$C$21,IF(AND(A219>$E$3,A219<=$E$2),$E$4,\"\"))","v":""},{"$f":"IF(A219<=$E$2,-PMT(C219/12,IF(C219=КАЛЬКУЛЯТОР!$C$21,$E$2,$E$2-$E$3),IF(C219=КАЛЬКУЛЯТОР!$C$21,$I$11,$I$11-SUMIF($A$12:$A$371,\"<=\"&$E$3,$H$12:$H$371)),0,0),\"\")","v":""},null,{"$f":"IFERROR((-IPMT(C219/12,B219,IF(C219=КАЛЬКУЛЯТОР!$C$21,$E$2,$E$2-$E$3),IF(C219=КАЛЬКУЛЯТОР!$C$21,$I$11,$I$11-SUMIF($A$12:$A$371,\"<=\"&$E$3,$H$12:$H$371)),0,0)),\"\")","v":""},{"$f":"IFERROR((-IPMT((C219-'КАЛЬКУЛЯТОР 1'!$P$1)/12,B219,IF(C219=КАЛЬКУЛЯТОР!$C$21,$E$2,$E$2-$E$3),IF(C219=КАЛЬКУЛЯТОР!$C$21,$I$11,$I$11-SUMIF($A$12:$A$371,\"<=\"&$E$3,$H$12:$H$371)),0,0)),\"\")","v":""},{"$f":"IFERROR((-PPMT(C219/12,B219,IF(C219=КАЛЬКУЛЯТОР!$C$21,$E$2,$E$2-$E$3),IF(C219=КАЛЬКУЛЯТОР!$C$21,$I$11,$I$11-SUMIF($A$12:$A$371,\"<=\"&$E$3,$H$12:$H$371)),0,0)),\"\")","v":""},"",{"$error":"#VALUE!"},null,{"$error":"#VALUE!"},{"$error":"#VALUE!"},{"$error":"#VALUE!"},{"$error":"#VALUE!"},false]
[209,209,{"$f":"IF(A220<=$E$3,КАЛЬКУЛЯТОР!$C$21,IF(AND(A220>$E$3,A220<=$E$2),$E$4,\"\"))","v":""},{"$f":"IF(A220<=$E$2,-PMT(C220/12,IF(C220=КАЛЬКУЛЯТОР!$C$21,$E$2,$E$2-$E$3),IF(C220=КАЛЬКУЛЯТОР!$C$21,$I$11,$I$11-SUMIF($A$12:$A$371,\"<=\"&$E$3,$H$12:$H$371)),0,0),\"\")","v":""},null,{"$f":"IFERROR((-IPMT(C220/12,B220,IF(C220=КАЛЬКУЛЯТОР!$C$21,$E$2,$E$2-$E$3),IF(C220=КАЛЬКУЛЯТОР!$C$21,$I$11,$I$11-SUMIF($A$12:$A$371,\"<=\"&$E$3,$H$12:$H$371)),0,0)),\"\")","v":""},{"$f":"IFERROR((-IPMT((C220-'КАЛЬКУЛЯТОР 1'!$P$1)/12,B220,IF(C220=КАЛЬКУЛЯТОР!$C$21,$E$2,$E$2-$E$3),IF(C220=КАЛЬКУЛЯТОР!$C$21,$I$11,$I$11-SUMIF($A$12:$A$371,\"<=\"&$E$3,$H$12:$H$371)),0,0)),\"\")","v":""},{"$f":"IFERROR((-PPMT(C220/12,B220,IF(C220=КАЛЬКУЛЯТОР!$C$21,$E$2,$E$2-$E$3),IF(C220=КАЛЬКУЛЯТОР!$C$21,$I$11,$I$11-SUMIF($A$12:$A$371,\"<=\"&$E$3,$H$12:$H$371)),0,0)),\"\")","v":""},"",{"$error":"#VALUE!"},null,{"$error":"#VALUE!"},{"$error":"#VALUE!"},{"$error":"#VALUE!"},{"$error":"#VALUE!"},false]
[210,210,{"$f":"IF(A221<=$E$3,КАЛЬКУЛЯТОР!$C$21,IF(AND(A221>$E$3,A221<=$E$2),$E$4,\"\"))","v":""},{"$f":"IF(A221<=$E$2,-PMT(C221/12,IF(C221=КАЛЬКУЛЯТОР!$C$21,$E$2,$E$2-$E$3),IF(C221=КАЛЬКУЛЯТОР!$C$21,$I$11,$I$11-SUMIF($A$12:$A$371,\"<=\"&$E$3,$H$12:$H$371)),0,0),\"\")","v":""},null,{"$f":"IFERROR((-IPMT(C221/12,B221,IF(C221=КАЛЬКУЛЯТОР!$C$21,$E$2,$E$2-$E$3),IF(C221=КАЛЬКУЛЯТОР!$C$21,$I$11,$I$11-SUMIF($A$12:$A$371,\"<=\"&$E$3,$H$12:$H$371)),0,0)),\"\")","v":""},{"$f":"IFERROR((-IPMT((C221-'КАЛЬКУЛЯТОР 1'!$P$1)/12,B221,IF(C221=КАЛЬКУЛЯТОР!$C$21,$E$2,$E$2-$E$3),IF(C221=КАЛЬКУЛЯТОР!$C$21,$I$11,$I$11-SUMIF($A$12:$A$371,\"<=\"&$E$3,$H$12:$H$371)),0,0)),\"\")","v":""},{"$f":"IFERROR((-PPMT(C221/12,B221,IF(C221=КАЛЬКУЛЯТОР!$C$21,$E$2,$E$2-$E$3),IF(C221=КАЛЬКУЛЯТОР!$C$21,$I$11,$I$11-SUMIF($A$12:$A$371,\"<=\"&$E$3,$H$12:$H$371)),0,0)),\"\")","v":""},"",{"$error":"#VALUE!"},null,{"$error":"#VALUE!"},{"$error":"#VALUE!"},{"$error":"#VALUE!"},{"$error":"#VALUE!"},false]
[211,211,{"$f":"IF(A222<=$E$3,КАЛЬКУЛЯТОР!$C$21,IF(AND(A222>$E$3,A222<=$E$2),$E$4,\"\"))","v":""},{"$f":"IF(A222<=$E$2,-PMT(C222/12,IF(C222=КАЛЬКУЛЯТОР!$C$21,$E$2,$E$2-$E$3),IF(C222=КАЛЬКУЛЯТОР!$C$21,$I$11,$I$11-SUMIF($A$12:$A$371,\"<=\"&$E$3,$H$12:$H$371)),0,0),\"\")","v":""},null,{"$f":"IFERROR((-IPMT(C222/12,B222,IF(C222=КАЛЬКУЛЯТОР!$C$21,$E$2,$E$2-$E$3),IF(C222=КАЛЬКУЛЯТОР!$C$21,$I$11,$I$11-SUMIF($A$12:$A$371,\"<=\"&$E$3,$H$12:$H$371)),0,0)),\"\")","v":""},{"$f":"IFERROR((-IPMT((C222-'КАЛЬКУЛЯТОР 1'!$P$1)/12,B222,IF(C222=КАЛЬКУЛЯТОР!$C$21,$E$2,$E$2-$E$3),IF(C222=КАЛЬКУЛЯТОР!$C$21,$I$11,$I$11-SUMIF($A$12:$A$371,\"<=\"&$E$3,$H$12:$H$371)),0,0)),\"\")","v":""},{"$f":"IFERROR((-PPMT(C222/12,B222,IF(C222=КАЛЬКУЛЯТОР!$C$21,$E$2,$E$2-$E$3),IF(C222=КАЛЬКУЛЯТОР!$C$21,$I$11,$I$11-SUMIF($A$12:$A$371,\"<=\"&$E$3,$H$12:$H$371)),0,0)),\"\")","v":""},"",{"$error":"#VALUE!"},null,{"$error":"#VALUE!"},{"$error":"#VALUE!"},{"$error":"#VALUE!"},{"$error":"#VALUE!"},false]
[212,212,{"$f":"IF(A223<=$E$3,КАЛЬКУЛЯТОР!$C$21,IF(AND(A223>$E$3,A223<=$E$2),$E$4,\"\"))","v":""},{"$f":"IF(A223<=$E$2,-PMT(C223/12,IF(C223=КАЛЬКУЛЯТОР!$C$21,$E$2,$E$2-$E$3),IF(C223=КАЛЬКУЛЯТОР!$C$21,$I$11,$I$11-SUMIF($A$12:$A$371,\"<=\"&$E$3,$H$12:$H$371)),0,0),\"\")","v":""},null,{"$f":"IFERROR((-IPMT(C223/12,B223,IF(C223=КАЛЬКУЛЯТОР!$C$21,$E$2,$E$2-$E$3),IF(C223=КАЛЬКУЛЯТОР!$C$21,$I$11,$I$11-SUMIF($A$12:$A$371,\"<=\"&$E$3,$H$12:$H$371)),0,0)),\"\")","v":""},{"$f":"IFERROR((-IPMT((C223-'КАЛЬКУЛЯТОР 1'!$P$1)/12,B223,IF(C223=КАЛЬКУЛЯТОР!$C$21,$E$2,$E$2-$E$3),IF(C223=КАЛЬКУЛЯТОР!$C$21,$I$11,$I$11-SUMIF($A$12:$A$371,\"<=\"&$E$3,$H$12:$H$371)),0,0)),\"\")","v":""},{"$f":"IFERROR((-PPMT(C223/12,B223,IF(C223=КАЛЬКУЛЯТОР!$C$21,$E$2,$E$2-$E$3),IF(C223=КАЛЬКУЛЯТОР!$C$21,$I$11,$I$11-SUMIF($A$12:$A$371,\"<=\"&$E$3,$H$12:$H$371)),0,0)),\"\")","v":""},"",{"$error":"#VALUE!"},null,{"$error":"#VALUE!"},{"$error":"#VALUE!"},{"$error":"#VALUE!"},{"$error":"#VALUE!"},false]
[213,213,{"$f":"IF(A224<=$E$3,КАЛЬКУЛЯТОР!$C$21,IF(AND(A224>$E$3,A224<=$E$2),$E$4,\"\"))","v":""},{"$f":"IF(A224<=$E$2,-PMT(C224/12,IF(C224=КАЛЬКУЛЯТОР!$C$21,$E$2,$E$2-$E$3),IF(C224=КАЛЬКУЛЯТОР!$C$21,$I$11,$I$11-SUMIF($A$12:$A$371,\"<=\"&$E$3,$H$12:$H$371)),0,0),\"\")","v":""},null,{"$f":"IFERROR((-IPMT(C224/12,B224,IF(C224=КАЛЬКУЛЯТОР!$C$21,$E$2,$E$2-$E$3),IF(C224=КАЛЬКУЛЯТОР!$C$21,$I$11,$I$11-SUMIF($A$12:$A$371,\"<=\"&$E$3,$H$12:$H$371)),0,0)),\"\")","v":""},{"$f":"IFERROR((-IPMT((C224-'КАЛЬКУЛЯТОР 1'!$P$1)/12,B224,IF(C224=КАЛЬКУЛЯТОР!$C$21,$E$2,$E$2-$E$3),IF(C224=КАЛЬКУЛЯТОР!$C$21,$I$11,$I$11-SUMIF($A$12:$A$371,\"<=\"&$E$3,$H$12:$H$371)),0,0)),\"\")","v":""},{"$f":"IFERROR((-PPMT(C224/12,B224,IF(C224=КАЛЬКУЛЯТОР!$C$21,$E$2,$E$2-$E$3),IF(C224=КАЛЬКУЛЯТОР!$C$21,$I$11,$I$11-SUMIF($A$12:$A$371,\"<=\"&$E$3,$H$12:$H$371)),0,0)),\"\")","v":""},"",{"$error":"#VALUE!"},null,{"$error":"#VALUE!"},{"$error":"#VALUE!"},{"$error":"#VALUE!"},{"$error":"#VALUE!"},false]
[214,214,{"$f":"IF(A225<=$E$3,КАЛЬКУЛЯТОР!$C$21,IF(AND(A225>$E$3,A225<=$E$2),$E$4,\"\"))","v":""},{"$f":"IF(A225<=$E$2,-PMT(C225/12,IF(C225=КАЛЬКУЛЯТОР!$C$21,$E$2,$E$2-$E$3),IF(C225=КАЛЬКУЛЯТОР!$C$21,$I$11,$I$11-SUMIF($A$12:$A$371,\"<=\"&$E$3,$H$12:$H$371)),0,0),\"\")","v":""},null,{"$f":"IFERROR((-IPMT(C225/12,B225,IF(C225=КАЛЬКУЛЯТОР!$C$21,$E$2,$E$2-$E$3),IF(C225=КАЛЬКУЛЯТОР!$C$21,$I$11,$I$11-SUMIF($A$12:$A$371,\"<=\"&$E$3,$H$12:$H$371)),0,0)),\"\")","v":""},{"$f":"IFERROR((-IPMT((C225-'КАЛЬКУЛЯТОР 1'!$P$1)/12,B225,IF(C225=КАЛЬКУЛЯТОР!$C$21,$E$2,$E$2-$E$3),IF(C225=КАЛЬКУЛЯТОР!$C$21,$I$11,$I$11-SUMIF($A$12:$A$371,\"<=\"&$E$3,$H$12:$H$371)),0,0)),\"\")","v":""},{"$f":"IFERROR((-PPMT(C225/12,B225,IF(C225=КАЛЬКУЛЯТОР!$C$21,$E$2,$E$2-$E$3),IF(C225=КАЛЬКУЛЯТОР!$C$21,$I$11,$I$11-SUMIF($A$12:$A$371,\"<=\"&$E$3,$H$12:$H$371)),0,0)),\"\")","v":""},"",{"$error":"#VALUE!"},null,{"$error":"#VALUE!"},{"$error":"#VALUE!"},{"$error":"#VALUE!"},{"$error":"#VALUE!"},false]
[215,215,{"$f":"IF(A226<=$E$3,КАЛЬКУЛЯТОР!$C$21,IF(AND(A226>$E$3,A226<=$E$2),$E$4,\"\"))","v":""},{"$f":"IF(A226<=$E$2,-PMT(C226/12,IF(C226=КАЛЬКУЛЯТОР!$C$21,$E$2,$E$2-$E$3),IF(C226=КАЛЬКУЛЯТОР!$C$21,$I$11,$I$11-SUMIF($A$12:$A$371,\"<=\"&$E$3,$H$12:$H$371)),0,0),\"\")","v":""},null,{"$f":"IFERROR((-IPMT(C226/12,B226,IF(C226=КАЛЬКУЛЯТОР!$C$21,$E$2,$E$2-$E$3),IF(C226=КАЛЬКУЛЯТОР!$C$21,$I$11,$I$11-SUMIF($A$12:$A$371,\"<=\"&$E$3,$H$12:$H$371)),0,0)),\"\")","v":""},{"$f":"IFERROR((-IPMT((C226-'КАЛЬКУЛЯТОР 1'!$P$1)/12,B226,IF(C226=КАЛЬКУЛЯТОР!$C$21,$E$2,$E$2-$E$3),IF(C226=КАЛЬКУЛЯТОР!$C$21,$I$11,$I$11-SUMIF($A$12:$A$371,\"<=\"&$E$3,$H$12:$H$371)),0,0)),\"\")","v":""},{"$f":"IFERROR((-PPMT(C226/12,B226,IF(C226=КАЛЬКУЛЯТОР!$C$21,$E$2,$E$2-$E$3),IF(C226=КАЛЬКУЛЯТОР!$C$21,$I$11,$I$11-SUMIF($A$12:$A$371,\"<=\"&$E$3,$H$12:$H$371)),0,0)),\"\")","v":""},"",{"$error":"#VALUE!"},null,{"$error":"#VALUE!"},{"$error":"#VALUE!"},{"$error":"#VALUE!"},{"$error":"#VALUE!"},false]
[216,216,{"$f":"IF(A227<=$E$3,КАЛЬКУЛЯТОР!$C$21,IF(AND(A227>$E$3,A227<=$E$2),$E$4,\"\"))","v":""},{"$f":"IF(A227<=$E$2,-PMT(C227/12,IF(C227=КАЛЬКУЛЯТОР!$C$21,$E$2,$E$2-$E$3),IF(C227=КАЛЬКУЛЯТОР!$C$21,$I$11,$I$11-SUMIF($A$12:$A$371,\"<=\"&$E$3,$H$12:$H$371)),0,0),\"\")","v":""},null,{"$f":"IFERROR((-IPMT(C227/12,B227,IF(C227=КАЛЬКУЛЯТОР!$C$21,$E$2,$E$2-$E$3),IF(C227=КАЛЬКУЛЯТОР!$C$21,$I$11,$I$11-SUMIF($A$12:$A$371,\"<=\"&$E$3,$H$12:$H$371)),0,0)),\"\")","v":""},{"$f":"IFERROR((-IPMT((C227-'КАЛЬКУЛЯТОР 1'!$P$1)/12,B227,IF(C227=КАЛЬКУЛЯТОР!$C$21,$E$2,$E$2-$E$3),IF(C227=КАЛЬКУЛЯТОР!$C$21,$I$11,$I$11-SUMIF($A$12:$A$371,\"<=\"&$E$3,$H$12:$H$371)),0,0)),\"\")","v":""},{"$f":"IFERROR((-PPMT(C227/12,B227,IF(C227=КАЛЬКУЛЯТОР!$C$21,$E$2,$E$2-$E$3),IF(C227=КАЛЬКУЛЯТОР!$C$21,$I$11,$I$11-SUMIF($A$12:$A$371,\"<=\"&$E$3,$H$12:$H$371)),0,0)),\"\")","v":""},"",{"$error":"#VALUE!"},null,{"$error":"#VALUE!"},{"$error":"#VALUE!"},{"$error":"#VALUE!"},{"$error":"#VALUE!"},false]
[217,217,{"$f":"IF(A228<=$E$3,КАЛЬКУЛЯТОР!$C$21,IF(AND(A228>$E$3,A228<=$E$2),$E$4,\"\"))","v":""},{"$f":"IF(A228<=$E$2,-PMT(C228/12,IF(C228=КАЛЬКУЛЯТОР!$C$21,$E$2,$E$2-$E$3),IF(C228=КАЛЬКУЛЯТОР!$C$21,$I$11,$I$11-SUMIF($A$12:$A$371,\"<=\"&$E$3,$H$12:$H$371)),0,0)+E228,\"\")","v":""},{"$f":"IF($E$2>$A227,(I227+SUM(F228:F239))*($K$4+$K$5),0)","v":{"v":0,"d":"0.00"}},{"$f":"IFERROR((-IPMT(C228/12,B228,IF(C228=КАЛЬКУЛЯТОР!$C$21,$E$2,$E$2-$E$3),IF(C228=КАЛЬКУЛЯТОР!$C$21,$I$11,$I$11-SUMIF($A$12:$A$371,\"<=\"&$E$3,$H$12:$H$371)),0,0)),\"\")","v":""},{"$f":"IFERROR((-IPMT((C228-'КАЛЬКУЛЯТОР 1'!$P$1)/12,B228,IF(C228=КАЛЬКУЛЯТОР!$C$21,$E$2,$E$2-$E$3),IF(C228=КАЛЬКУЛЯТОР!$C$21,$I$11,$I$11-SUMIF($A$12:$A$371,\"<=\"&$E$3,$H$12:$H$371)),0,0)),\"\")","v":""},{"$f":"IFERROR((-PPMT(C228/12,B228,IF(C228=КАЛЬКУЛЯТОР!$C$21,$E$2,$E$2-$E$3),IF(C228=КАЛЬКУЛЯТОР!$C$21,$I$11,$I$11-SUMIF($A$12:$A$371,\"<=\"&$E$3,$H$12:$H$371)),0,0)),\"\")","v":""},"",{"$error":"#VALUE!"},{"$f":"PV($E$5/12,A228-1,0,-E228)","v":{"v":0,"d":"0.00"}},{"$error":"#VALUE!"},{"$error":"#VALUE!"},{"$error":"#VALUE!"},{"$error":"#VALUE!"},false]
[218,218,{"$f":"IF(A229<=$E$3,КАЛЬКУЛЯТОР!$C$21,IF(AND(A229>$E$3,A229<=$E$2),$E$4,\"\"))","v":""},{"$f":"IF(A229<=$E$2,-PMT(C229/12,IF(C229=КАЛЬКУЛЯТОР!$C$21,$E$2,$E$2-$E$3),IF(C229=КАЛЬКУЛЯТОР!$C$21,$I$11,$I$11-SUMIF($A$12:$A$371,\"<=\"&$E$3,$H$12:$H$371)),0,0),\"\")","v":""},null,{"$f":"IFERROR((-IPMT(C229/12,B229,IF(C229=КАЛЬКУЛЯТОР!$C$21,$E$2,$E$2-$E$3),IF(C229=КАЛЬКУЛЯТОР!$C$21,$I$11,$I$11-SUMIF($A$12:$A$371,\"<=\"&$E$3,$H$12:$H$371)),0,0)),\"\")","v":""},{"$f":"IFERROR((-IPMT((C229-'КАЛЬКУЛЯТОР 1'!$P$1)/12,B229,IF(C229=КАЛЬКУЛЯТОР!$C$21,$E$2,$E$2-$E$3),IF(C229=КАЛЬКУЛЯТОР!$C$21,$I$11,$I$11-SUMIF($A$12:$A$371,\"<=\"&$E$3,$H$12:$H$371)),0,0)),\"\")","v":""},{"$f":"IFERROR((-PPMT(C229/12,B229,IF(C229=КАЛЬКУЛЯТОР!$C$21,$E$2,$E$2-$E$3),IF(C229=КАЛЬКУЛЯТОР!$C$21,$I$11,$I$11-SUMIF($A$12:$A$371,\"<=\"&$E$3,$H$12:$H$371)),0,0)),\"\")","v":""},"",{"$error":"#VALUE!"},null,{"$error":"#VALUE!"},{"$error":"#VALUE!"},{"$error":"#VALUE!"},{"$error":"#VALUE!"},false]
[219,219,{"$f":"IF(A230<=$E$3,КАЛЬКУЛЯТОР!$C$21,IF(AND(A230>$E$3,A230<=$E$2),$E$4,\"\"))","v":""},{"$f":"IF(A230<=$E$2,-PMT(C230/12,IF(C230=КАЛЬКУЛЯТОР!$C$21,$E$2,$E$2-$E$3),IF(C230=КАЛЬКУЛЯТОР!$C$21,$I$11,$I$11-SUMIF($A$12:$A$371,\"<=\"&$E$3,$H$12:$H$371)),0,0),\"\")","v":""},null,{"$f":"IFERROR((-IPMT(C230/12,B230,IF(C230=КАЛЬКУЛЯТОР!$C$21,$E$2,$E$2-$E$3),IF(C230=КАЛЬКУЛЯТОР!$C$21,$I$11,$I$11-SUMIF($A$12:$A$371,\"<=\"&$E$3,$H$12:$H$371)),0,0)),\"\")","v":""},{"$f":"IFERROR((-IPMT((C230-'КАЛЬКУЛЯТОР 1'!$P$1)/12,B230,IF(C230=КАЛЬКУЛЯТОР!$C$21,$E$2,$E$2-$E$3),IF(C230=КАЛЬКУЛЯТОР!$C$21,$I$11,$I$11-SUMIF($A$12:$A$371,\"<=\"&$E$3,$H$12:$H$371)),0,0)),\"\")","v":""},{"$f":"IFERROR((-PPMT(C230/12,B230,IF(C230=КАЛЬКУЛЯТОР!$C$21,$E$2,$E$2-$E$3),IF(C230=КАЛЬКУЛЯТОР!$C$21,$I$11,$I$11-SUMIF($A$12:$A$371,\"<=\"&$E$3,$H$12:$H$371)),0,0)),\"\")","v":""},"",{"$error":"#VALUE!"},null,{"$error":"#VALUE!"},{"$error":"#VALUE!"},{"$error":"#VALUE!"},{"$error":"#VALUE!"},false]
[220,220,{"$f":"IF(A231<=$E$3,КАЛЬКУЛЯТОР!$C$21,IF(AND(A231>$E$3,A231<=$E$2),$E$4,\"\"))","v":""},{"$f":"IF(A231<=$E$2,-PMT(C231/12,IF(C231=КАЛЬКУЛЯТОР!$C$21,$E$2,$E$2-$E$3),IF(C231=КАЛЬКУЛЯТОР!$C$21,$I$11,$I$11-SUMIF($A$12:$A$371,\"<=\"&$E$3,$H$12:$H$371)),0,0),\"\")","v":""},null,{"$f":"IFERROR((-IPMT(C231/12,B231,IF(C231=КАЛЬКУЛЯТОР!$C$21,$E$2,$E$2-$E$3),IF(C231=КАЛЬКУЛЯТОР!$C$21,$I$11,$I$11-SUMIF($A$12:$A$371,\"<=\"&$E$3,$H$12:$H$371)),0,0)),\"\")","v":""},{"$f":"IFERROR((-IPMT((C231-'КАЛЬКУЛЯТОР 1'!$P$1)/12,B231,IF(C231=КАЛЬКУЛЯТОР!$C$21,$E$2,$E$2-$E$3),IF(C231=КАЛЬКУЛЯТОР!$C$21,$I$11,$I$11-SUMIF($A$12:$A$371,\"<=\"&$E$3,$H$12:$H$371)),0,0)),\"\")","v":""},{"$f":"IFERROR((-PPMT(C231/12,B231,IF(C231=КАЛЬКУЛЯТОР!$C$21,$E$2,$E$2-$E$3),IF(C231=КАЛЬКУЛЯТОР!$C$21,$I$11,$I$11-SUMIF($A$12:$A$371,\"<=\"&$E$3,$H$12:$H$371)),0,0)),\"\")","v":""},"",{"$error":"#VALUE!"},null,{"$error":"#VALUE!"},{"$error":"#VALUE!"},{"$error":"#VALUE!"},{"$error":"#VALUE!"},false]
[221,221,{"$f":"IF(A232<=$E$3,КАЛЬКУЛЯТОР!$C$21,IF(AND(A232>$E$3,A232<=$E$2),$E$4,\"\"))","v":""},{"$f":"IF(A232<=$E$2,-PMT(C232/12,IF(C232=КАЛЬКУЛЯТОР!$C$21,$E$2,$E$2-$E$3),IF(C232=КАЛЬКУЛЯТОР!$C$21,$I$11,$I$11-SUMIF($A$12:$A$371,\"<=\"&$E$3,$H$12:$H$371)),0,0),\"\")","v":""},null,{"$f":"IFERROR((-IPMT(C232/12,B232,IF(C232=КАЛЬКУЛЯТОР!$C$21,$E$2,$E$2-$E$3),IF(C232=КАЛЬКУЛЯТОР!$C$21,$I$11,$I$11-SUMIF($A$12:$A$371,\"<=\"&$E$3,$H$12:$H$371)),0,0)),\"\")","v":""},{"$f":"IFERROR((-IPMT((C232-'КАЛЬКУЛЯТОР 1'!$P$1)/12,B232,IF(C232=КАЛЬКУЛЯТОР!$C$21,$E$2,$E$2-$E$3),IF(C232=КАЛЬКУЛЯТОР!$C$21,$I$11,$I$11-SUMIF($A$12:$A$371,\"<=\"&$E$3,$H$12:$H$371)),0,0)),\"\")","v":""},{"$f":"IFERROR((-PPMT(C232/12,B232,IF(C232=КАЛЬКУЛЯТОР!$C$21,$E$2,$E$2-$E$3),IF(C232=КАЛЬКУЛЯТОР!$C$21,$I$11,$I$11-SUMIF($A$12:$A$371,\"<=\"&$E$3,$H$12:$H$371)),0,0)),\"\")","v":""},"",{"$error":"#VALUE!"},null,{"$error":"#VALUE!"},{"$error":"#VALUE!"},{"$error":"#VALUE!"},{"$error":"#VALUE!"},false]
[222,222,{"$f":"IF(A233<=$E$3,КАЛЬКУЛЯТОР!$C$21,IF(AND(A233>$E$3,A233<=$E$2),$E$4,\"\"))","v":""},{"$f":"IF(A233<=$E$2,-PMT(C233/12,IF(C233=КАЛЬКУЛЯТОР!$C$21,$E$2,$E$2-$E$3),IF(C233=КАЛЬКУЛЯТОР!$C$21,$I$11,$I$11-SUMIF($A$12:$A$371,\"<=\"&$E$3,$H$12:$H$371)),0,0),\"\")","v":""},null,{"$f":"IFERROR((-IPMT(C233/12,B233,IF(C233=КАЛЬКУЛЯТОР!$C$21,$E$2,$E$2-$E$3),IF(C233=КАЛЬКУЛЯТОР!$C$21,$I$11,$I$11-SUMIF($A$12:$A$371,\"<=\"&$E$3,$H$12:$H$371)),0,0)),\"\")","v":""},{"$f":"IFERROR((-IPMT((C233-'КАЛЬКУЛЯТОР 1'!$P$1)/12,B233,IF(C233=КАЛЬКУЛЯТОР!$C$21,$E$2,$E$2-$E$3),IF(C233=КАЛЬКУЛЯТОР!$C$21,$I$11,$I$11-SUMIF($A$12:$A$371,\"<=\"&$E$3,$H$12:$H$371)),0,0)),\"\")","v":""},{"$f":"IFERROR((-PPMT(C233/12,B233,IF(C233=КАЛЬКУЛЯТОР!$C$21,$E$2,$E$2-$E$3),IF(C233=КАЛЬКУЛЯТОР!$C$21,$I$11,$I$11-SUMIF($A$12:$A$371,\"<=\"&$E$3,$H$12:$H$371)),0,0)),\"\")","v":""},"",{"$error":"#VALUE!"},null,{"$error":"#VALUE!"},{"$error":"#VALUE!"},{"$error":"#VALUE!"},{"$error":"#VALUE!"},false]
[223,223,{"$f":"IF(A234<=$E$3,КАЛЬКУЛЯТОР!$C$21,IF(AND(A234>$E$3,A234<=$E$2),$E$4,\"\"))","v":""},{"$f":"IF(A234<=$E$2,-PMT(C234/12,IF(C234=КАЛЬКУЛЯТОР!$C$21,$E$2,$E$2-$E$3),IF(C234=КАЛЬКУЛЯТОР!$C$21,$I$11,$I$11-SUMIF($A$12:$A$371,\"<=\"&$E$3,$H$12:$H$371)),0,0),\"\")","v":""},null,{"$f":"IFERROR((-IPMT(C234/12,B234,IF(C234=КАЛЬКУЛЯТОР!$C$21,$E$2,$E$2-$E$3),IF(C234=КАЛЬКУЛЯТОР!$C$21,$I$11,$I$11-SUMIF($A$12:$A$371,\"<=\"&$E$3,$H$12:$H$371)),0,0)),\"\")","v":""},{"$f":"IFERROR((-IPMT((C234-'КАЛЬКУЛЯТОР 1'!$P$1)/12,B234,IF(C234=КАЛЬКУЛЯТОР!$C$21,$E$2,$E$2-$E$3),IF(C234=КАЛЬКУЛЯТОР!$C$21,$I$11,$I$11-SUMIF($A$12:$A$371,\"<=\"&$E$3,$H$12:$H$371)),0,0)),\"\")","v":""},{"$f":"IFERROR((-PPMT(C234/12,B234,IF(C234=КАЛЬКУЛЯТОР!$C$21,$E$2,$E$2-$E$3),IF(C234=КАЛЬКУЛЯТОР!$C$21,$I$11,$I$11-SUMIF($A$12:$A$371,\"<=\"&$E$3,$H$12:$H$371)),0,0)),\"\")","v":""},"",{"$error":"#VALUE!"},null,{"$error":"#VALUE!"},{"$error":"#VALUE!"},{"$error":"#VALUE!"},{"$error":"#VALUE!"},false]
[224,224,{"$f":"IF(A235<=$E$3,КАЛЬКУЛЯТОР!$C$21,IF(AND(A235>$E$3,A235<=$E$2),$E$4,\"\"))","v":""},{"$f":"IF(A235<=$E$2,-PMT(C235/12,IF(C235=КАЛЬКУЛЯТОР!$C$21,$E$2,$E$2-$E$3),IF(C235=КАЛЬКУЛЯТОР!$C$21,$I$11,$I$11-SUMIF($A$12:$A$371,\"<=\"&$E$3,$H$12:$H$371)),0,0),\"\")","v":""},null,{"$f":"IFERROR((-IPMT(C235/12,B235,IF(C235=КАЛЬКУЛЯТОР!$C$21,$E$2,$E$2-$E$3),IF(C235=КАЛЬКУЛЯТОР!$C$21,$I$11,$I$11-SUMIF($A$12:$A$371,\"<=\"&$E$3,$H$12:$H$371)),0,0)),\"\")","v":""},{"$f":"IFERROR((-IPMT((C235-'КАЛЬКУЛЯТОР 1'!$P$1)/12,B235,IF(C235=КАЛЬКУЛЯТОР!$C$21,$E$2,$E$2-$E$3),IF(C235=КАЛЬКУЛЯТОР!$C$21,$I$11,$I$11-SUMIF($A$12:$A$371,\"<=\"&$E$3,$H$12:$H$371)),0,0)),\"\")","v":""},{"$f":"IFERROR((-PPMT(C235/12,B235,IF(C235=КАЛЬКУЛЯТОР!$C$21,$E$2,$E$2-$E$3),IF(C235=КАЛЬКУЛЯТОР!$C$21,$I$11,$I$11-SUMIF($A$12:$A$371,\"<=\"&$E$3,$H$12:$H$371)),0,0)),\"\")","v":""},"",{"$error":"#VALUE!"},null,{"$error":"#VALUE!"},{"$error":"#VALUE!"},{"$error":"#VALUE!"},{"$error":"#VALUE!"},false]
[225,225,{"$f":"IF(A236<=$E$3,КАЛЬКУЛЯТОР!$C$21,IF(AND(A236>$E$3,A236<=$E$2),$E$4,\"\"))","v":""},{"$f":"IF(A236<=$E$2,-PMT(C236/12,IF(C236=КАЛЬКУЛЯТОР!$C$21,$E$2,$E$2-$E$3),IF(C236=КАЛЬКУЛЯТОР!$C$21,$I$11,$I$11-SUMIF($A$12:$A$371,\"<=\"&$E$3,$H$12:$H$371)),0,0),\"\")","v":""},null,{"$f":"IFERROR((-IPMT(C236/12,B236,IF(C236=КАЛЬКУЛЯТОР!$C$21,$E$2,$E$2-$E$3),IF(C236=КАЛЬКУЛЯТОР!$C$21,$I$11,$I$11-SUMIF($A$12:$A$371,\"<=\"&$E$3,$H$12:$H$371)),0,0)),\"\")","v":""},{"$f":"IFERROR((-IPMT((C236-'КАЛЬКУЛЯТОР 1'!$P$1)/12,B236,IF(C236=КАЛЬКУЛЯТОР!$C$21,$E$2,$E$2-$E$3),IF(C236=КАЛЬКУЛЯТОР!$C$21,$I$11,$I$11-SUMIF($A$12:$A$371,\"<=\"&$E$3,$H$12:$H$371)),0,0)),\"\")","v":""},{"$f":"IFERROR((-PPMT(C236/12,B236,IF(C236=КАЛЬКУЛЯТОР!$C$21,$E$2,$E$2-$E$3),IF(C236=КАЛЬКУЛЯТОР!$C$21,$I$11,$I$11-SUMIF($A$12:$A$371,\"<=\"&$E$3,$H$12:$H$371)),0,0)),\"\")","v":""},"",{"$error":"#VALUE!"},null,{"$error":"#VALUE!"},{"$error":"#VALUE!"},{"$error":"#VALUE!"},{"$error":"#VALUE!"},false]
[226,226,{"$f":"IF(A237<=$E$3,КАЛЬКУЛЯТОР!$C$21,IF(AND(A237>$E$3,A237<=$E$2),$E$4,\"\"))","v":""},{"$f":"IF(A237<=$E$2,-PMT(C237/12,IF(C237=КАЛЬКУЛЯТОР!$C$21,$E$2,$E$2-$E$3),IF(C237=КАЛЬКУЛЯТОР!$C$21,$I$11,$I$11-SUMIF($A$12:$A$371,\"<=\"&$E$3,$H$12:$H$371)),0,0),\"\")","v":""},null,{"$f":"IFERROR((-IPMT(C237/12,B237,IF(C237=КАЛЬКУЛЯТОР!$C$21,$E$2,$E$2-$E$3),IF(C237=КАЛЬКУЛЯТОР!$C$21,$I$11,$I$11-SUMIF($A$12:$A$371,\"<=\"&$E$3,$H$12:$H$371)),0,0)),\"\")","v":""},{"$f":"IFERROR((-IPMT((C237-'КАЛЬКУЛЯТОР 1'!$P$1)/12,B237,IF(C237=КАЛЬКУЛЯТОР!$C$21,$E$2,$E$2-$E$3),IF(C237=КАЛЬКУЛЯТОР!$C$21,$I$11,$I$11-SUMIF($A$12:$A$371,\"<=\"&$E$3,$H$12:$H$371)),0,0)),\"\")","v":""},{"$f":"IFERROR((-PPMT(C237/12,B237,IF(C237=КАЛЬКУЛЯТОР!$C$21,$E$2,$E$2-$E$3),IF(C237=КАЛЬКУЛЯТОР!$C$21,$I$11,$I$11-SUMIF($A$12:$A$371,\"<=\"&$E$3,$H$12:$H$371)),0,0)),\"\")","v":""},"",{"$error":"#VALUE!"},null,{"$error":"#VALUE!"},{"$error":"#VALUE!"},{"$error":"#VALUE!"},{"$error":"#VALUE!"},false]
[227,227,{"$f":"IF(A238<=$E$3,КАЛЬКУЛЯТОР!$C$21,IF(AND(A238>$E$3,A238<=$E$2),$E$4,\"\"))","v":""},{"$f":"IF(A238<=$E$2,-PMT(C238/12,IF(C238=КАЛЬКУЛЯТОР!$C$21,$E$2,$E$2-$E$3),IF(C238=КАЛЬКУЛЯТОР!$C$21,$I$11,$I$11-SUMIF($A$12:$A$371,\"<=\"&$E$3,$H$12:$H$371)),0,0),\"\")","v":""},null,{"$f":"IFERROR((-IPMT(C238/12,B238,IF(C238=КАЛЬКУЛЯТОР!$C$21,$E$2,$E$2-$E$3),IF(C238=КАЛЬКУЛЯТОР!$C$21,$I$11,$I$11-SUMIF($A$12:$A$371,\"<=\"&$E$3,$H$12:$H$371)),0,0)),\"\")","v":""},{"$f":"IFERROR((-IPMT((C238-'КАЛЬКУЛЯТОР 1'!$P$1)/12,B238,IF(C238=КАЛЬКУЛЯТОР!$C$21,$E$2,$E$2-$E$3),IF(C238=КАЛЬКУЛЯТОР!$C$21,$I$11,$I$11-SUMIF($A$12:$A$371,\"<=\"&$E$3,$H$12:$H$371)),0,0)),\"\")","v":""},{"$f":"IFERROR((-PPMT(C238/12,B238,IF(C238=КАЛЬКУЛЯТОР!$C$21,$E$2,$E$2-$E$3),IF(C238=КАЛЬКУЛЯТОР!$C$21,$I$11,$I$11-SUMIF($A$12:$A$371,\"<=\"&$E$3,$H$12:$H$371)),0,0)),\"\")","v":""},"",{"$error":"#VALUE!"},null,{"$error":"#VALUE!"},{"$error":"#VALUE!"},{"$error":"#VALUE!"},{"$error":"#VALUE!"},false]
[228,228,{"$f":"IF(A239<=$E$3,КАЛЬКУЛЯТОР!$C$21,IF(AND(A239>$E$3,A239<=$E$2),$E$4,\"\"))","v":""},{"$f":"IF(A239<=$E$2,-PMT(C239/12,IF(C239=КАЛЬКУЛЯТОР!$C$21,$E$2,$E$2-$E$3),IF(C239=КАЛЬКУЛЯТОР!$C$21,$I$11,$I$11-SUMIF($A$12:$A$371,\"<=\"&$E$3,$H$12:$H$371)),0,0),\"\")","v":""},null,{"$f":"IFERROR((-IPMT(C239/12,B239,IF(C239=КАЛЬКУЛЯТОР!$C$21,$E$2,$E$2-$E$3),IF(C239=КАЛЬКУЛЯТОР!$C$21,$I$11,$I$11-SUMIF($A$12:$A$371,\"<=\"&$E$3,$H$12:$H$371)),0,0)),\"\")","v":""},{"$f":"IFERROR((-IPMT((C239-'КАЛЬКУЛЯТОР 1'!$P$1)/12,B239,IF(C239=КАЛЬКУЛЯТОР!$C$21,$E$2,$E$2-$E$3),IF(C239=КАЛЬКУЛЯТОР!$C$21,$I$11,$I$11-SUMIF($A$12:$A$371,\"<=\"&$E$3,$H$12:$H$371)),0,0)),\"\")","v":""},{"$f":"IFERROR((-PPMT(C239/12,B239,IF(C239=КАЛЬКУЛЯТОР!$C$21,$E$2,$E$2-$E$3),IF(C239=КАЛЬКУЛЯТОР!$C$21,$I$11,$I$11-SUMIF($A$12:$A$371,\"<=\"&$E$3,$H$12:$H$371)),0,0)),\"\")","v":""},"",{"$error":"#VALUE!"},null,{"$error":"#VALUE!"},{"$error":"#VALUE!"},{"$error":"#VALUE!"},{"$error":"#VALUE!"},false]
[229,229,{"$f":"IF(A240<=$E$3,КАЛЬКУЛЯТОР!$C$21,IF(AND(A240>$E$3,A240<=$E$2),$E$4,\"\"))","v":""},{"$f":"IF(A240<=$E$2,-PMT(C240/12,IF(C240=КАЛЬКУЛЯТОР!$C$21,$E$2,$E$2-$E$3),IF(C240=КАЛЬКУЛЯТОР!$C$21,$I$11,$I$11-SUMIF($A$12:$A$371,\"<=\"&$E$3,$H$12:$H$371)),0,0)+E240,\"\")","v":""},{"$f":"IF($E$2>$A239,(I239+SUM(F240:F251))*($K$4+$K$5),0)","v":{"v":0,"d":"0.00"}},{"$f":"IFERROR((-IPMT(C240/12,B240,IF(C240=КАЛЬКУЛЯТОР!$C$21,$E$2,$E$2-$E$3),IF(C240=КАЛЬКУЛЯТОР!$C$21,$I$11,$I$11-SUMIF($A$12:$A$371,\"<=\"&$E$3,$H$12:$H$371)),0,0)),\"\")","v":""},{"$f":"IFERROR((-IPMT((C240-'КАЛЬКУЛЯТОР 1'!$P$1)/12,B240,IF(C240=КАЛЬКУЛЯТОР!$C$21,$E$2,$E$2-$E$3),IF(C240=КАЛЬКУЛЯТОР!$C$21,$I$11,$I$11-SUMIF($A$12:$A$371,\"<=\"&$E$3,$H$12:$H$371)),0,0)),\"\")","v":""},{"$f":"IFERROR((-PPMT(C240/12,B240,IF(C240=КАЛЬКУЛЯТОР!$C$21,$E$2,$E$2-$E$3),IF(C240=КАЛЬКУЛЯТОР!$C$21,$I$11,$I$11-SUMIF($A$12:$A$371,\"<=\"&$E$3,$H$12:$H$371)),0,0)),\"\")","v":""},"",{"$error":"#VALUE!"},{"$f":"PV($E$5/12,A240-1,0,-E240)","v":{"v":0,"d":"0.00"}},{"$error":"#VALUE!"},{"$error":"#VALUE!"},{"$error":"#VALUE!"},{"$error":"#VALUE!"},false]
[230,230,{"$f":"IF(A241<=$E$3,КАЛЬКУЛЯТОР!$C$21,IF(AND(A241>$E$3,A241<=$E$2),$E$4,\"\"))","v":""},{"$f":"IF(A241<=$E$2,-PMT(C241/12,IF(C241=КАЛЬКУЛЯТОР!$C$21,$E$2,$E$2-$E$3),IF(C241=КАЛЬКУЛЯТОР!$C$21,$I$11,$I$11-SUMIF($A$12:$A$371,\"<=\"&$E$3,$H$12:$H$371)),0,0),\"\")","v":""},null,{"$f":"IFERROR((-IPMT(C241/12,B241,IF(C241=КАЛЬКУЛЯТОР!$C$21,$E$2,$E$2-$E$3),IF(C241=КАЛЬКУЛЯТОР!$C$21,$I$11,$I$11-SUMIF($A$12:$A$371,\"<=\"&$E$3,$H$12:$H$371)),0,0)),\"\")","v":""},{"$f":"IFERROR((-IPMT((C241-'КАЛЬКУЛЯТОР 1'!$P$1)/12,B241,IF(C241=КАЛЬКУЛЯТОР!$C$21,$E$2,$E$2-$E$3),IF(C241=КАЛЬКУЛЯТОР!$C$21,$I$11,$I$11-SUMIF($A$12:$A$371,\"<=\"&$E$3,$H$12:$H$371)),0,0)),\"\")","v":""},{"$f":"IFERROR((-PPMT(C241/12,B241,IF(C241=КАЛЬКУЛЯТОР!$C$21,$E$2,$E$2-$E$3),IF(C241=КАЛЬКУЛЯТОР!$C$21,$I$11,$I$11-SUMIF($A$12:$A$371,\"<=\"&$E$3,$H$12:$H$371)),0,0)),\"\")","v":""},"",{"$error":"#VALUE!"},null,{"$error":"#VALUE!"},{"$error":"#VALUE!"},{"$error":"#VALUE!"},{"$error":"#VALUE!"},false]
[231,231,{"$f":"IF(A242<=$E$3,КАЛЬКУЛЯТОР!$C$21,IF(AND(A242>$E$3,A242<=$E$2),$E$4,\"\"))","v":""},{"$f":"IF(A242<=$E$2,-PMT(C242/12,IF(C242=КАЛЬКУЛЯТОР!$C$21,$E$2,$E$2-$E$3),IF(C242=КАЛЬКУЛЯТОР!$C$21,$I$11,$I$11-SUMIF($A$12:$A$371,\"<=\"&$E$3,$H$12:$H$371)),0,0),\"\")","v":""},null,{"$f":"IFERROR((-IPMT(C242/12,B242,IF(C242=КАЛЬКУЛЯТОР!$C$21,$E$2,$E$2-$E$3),IF(C242=КАЛЬКУЛЯТОР!$C$21,$I$11,$I$11-SUMIF($A$12:$A$371,\"<=\"&$E$3,$H$12:$H$371)),0,0)),\"\")","v":""},{"$f":"IFERROR((-IPMT((C242-'КАЛЬКУЛЯТОР 1'!$P$1)/12,B242,IF(C242=КАЛЬКУЛЯТОР!$C$21,$E$2,$E$2-$E$3),IF(C242=КАЛЬКУЛЯТОР!$C$21,$I$11,$I$11-SUMIF($A$12:$A$371,\"<=\"&$E$3,$H$12:$H$371)),0,0)),\"\")","v":""},{"$f":"IFERROR((-PPMT(C242/12,B242,IF(C242=КАЛЬКУЛЯТОР!$C$21,$E$2,$E$2-$E$3),IF(C242=КАЛЬКУЛЯТОР!$C$21,$I$11,$I$11-SUMIF($A$12:$A$371,\"<=\"&$E$3,$H$12:$H$371)),0,0)),\"\")","v":""},"",{"$error":"#VALUE!"},null,{"$error":"#VALUE!"},{"$error":"#VALUE!"},{"$error":"#VALUE!"},{"$error":"#VALUE!"},false]
[232,232,{"$f":"IF(A243<=$E$3,КАЛЬКУЛЯТОР!$C$21,IF(AND(A243>$E$3,A243<=$E$2),$E$4,\"\"))","v":""},{"$f":"IF(A243<=$E$2,-PMT(C243/12,IF(C243=КАЛЬКУЛЯТОР!$C$21,$E$2,$E$2-$E$3),IF(C243=КАЛЬКУЛЯТОР!$C$21,$I$11,$I$11-SUMIF($A$12:$A$371,\"<=\"&$E$3,$H$12:$H$371)),0,0),\"\")","v":""},null,{"$f":"IFERROR((-IPMT(C243/12,B243,IF(C243=КАЛЬКУЛЯТОР!$C$21,$E$2,$E$2-$E$3),IF(C243=КАЛЬКУЛЯТОР!$C$21,$I$11,$I$11-SUMIF($A$12:$A$371,\"<=\"&$E$3,$H$12:$H$371)),0,0)),\"\")","v":""},{"$f":"IFERROR((-IPMT((C243-'КАЛЬКУЛЯТОР 1'!$P$1)/12,B243,IF(C243=КАЛЬКУЛЯТОР!$C$21,$E$2,$E$2-$E$3),IF(C243=КАЛЬКУЛЯТОР!$C$21,$I$11,$I$11-SUMIF($A$12:$A$371,\"<=\"&$E$3,$H$12:$H$371)),0,0)),\"\")","v":""},{"$f":"IFERROR((-PPMT(C243/12,B243,IF(C243=КАЛЬКУЛЯТОР!$C$21,$E$2,$E$2-$E$3),IF(C243=КАЛЬКУЛЯТОР!$C$21,$I$11,$I$11-SUMIF($A$12:$A$371,\"<=\"&$E$3,$H$12:$H$371)),0,0)),\"\")","v":""},"",{"$error":"#VALUE!"},null,{"$error":"#VALUE!"},{"$error":"#VALUE!"},{"$error":"#VALUE!"},{"$error":"#VALUE!"},false]
[233,233,{"$f":"IF(A244<=$E$3,КАЛЬКУЛЯТОР!$C$21,IF(AND(A244>$E$3,A244<=$E$2),$E$4,\"\"))","v":""},{"$f":"IF(A244<=$E$2,-PMT(C244/12,IF(C244=КАЛЬКУЛЯТОР!$C$21,$E$2,$E$2-$E$3),IF(C244=КАЛЬКУЛЯТОР!$C$21,$I$11,$I$11-SUMIF($A$12:$A$371,\"<=\"&$E$3,$H$12:$H$371)),0,0),\"\")","v":""},null,{"$f":"IFERROR((-IPMT(C244/12,B244,IF(C244=КАЛЬКУЛЯТОР!$C$21,$E$2,$E$2-$E$3),IF(C244=КАЛЬКУЛЯТОР!$C$21,$I$11,$I$11-SUMIF($A$12:$A$371,\"<=\"&$E$3,$H$12:$H$371)),0,0)),\"\")","v":""},{"$f":"IFERROR((-IPMT((C244-'КАЛЬКУЛЯТОР 1'!$P$1)/12,B244,IF(C244=КАЛЬКУЛЯТОР!$C$21,$E$2,$E$2-$E$3),IF(C244=КАЛЬКУЛЯТОР!$C$21,$I$11,$I$11-SUMIF($A$12:$A$371,\"<=\"&$E$3,$H$12:$H$371)),0,0)),\"\")","v":""},{"$f":"IFERROR((-PPMT(C244/12,B244,IF(C244=КАЛЬКУЛЯТОР!$C$21,$E$2,$E$2-$E$3),IF(C244=КАЛЬКУЛЯТОР!$C$21,$I$11,$I$11-SUMIF($A$12:$A$371,\"<=\"&$E$3,$H$12:$H$371)),0,0)),\"\")","v":""},"",{"$error":"#VALUE!"},null,{"$error":"#VALUE!"},{"$error":"#VALUE!"},{"$error":"#VALUE!"},{"$error":"#VALUE!"},false]
[234,234,{"$f":"IF(A245<=$E$3,КАЛЬКУЛЯТОР!$C$21,IF(AND(A245>$E$3,A245<=$E$2),$E$4,\"\"))","v":""},{"$f":"IF(A245<=$E$2,-PMT(C245/12,IF(C245=КАЛЬКУЛЯТОР!$C$21,$E$2,$E$2-$E$3),IF(C245=КАЛЬКУЛЯТОР!$C$21,$I$11,$I$11-SUMIF($A$12:$A$371,\"<=\"&$E$3,$H$12:$H$371)),0,0),\"\")","v":""},null,{"$f":"IFERROR((-IPMT(C245/12,B245,IF(C245=КАЛЬКУЛЯТОР!$C$21,$E$2,$E$2-$E$3),IF(C245=КАЛЬКУЛЯТОР!$C$21,$I$11,$I$11-SUMIF($A$12:$A$371,\"<=\"&$E$3,$H$12:$H$371)),0,0)),\"\")","v":""},{"$f":"IFERROR((-IPMT((C245-'КАЛЬКУЛЯТОР 1'!$P$1)/12,B245,IF(C245=КАЛЬКУЛЯТОР!$C$21,$E$2,$E$2-$E$3),IF(C245=КАЛЬКУЛЯТОР!$C$21,$I$11,$I$11-SUMIF($A$12:$A$371,\"<=\"&$E$3,$H$12:$H$371)),0,0)),\"\")","v":""},{"$f":"IFERROR((-PPMT(C245/12,B245,IF(C245=КАЛЬКУЛЯТОР!$C$21,$E$2,$E$2-$E$3),IF(C245=КАЛЬКУЛЯТОР!$C$21,$I$11,$I$11-SUMIF($A$12:$A$371,\"<=\"&$E$3,$H$12:$H$371)),0,0)),\"\")","v":""},"",{"$error":"#VALUE!"},null,{"$error":"#VALUE!"},{"$error":"#VALUE!"},{"$error":"#VALUE!"},{"$error":"#VALUE!"},false]
[235,235,{"$f":"IF(A246<=$E$3,КАЛЬКУЛЯТОР!$C$21,IF(AND(A246>$E$3,A246<=$E$2),$E$4,\"\"))","v":""},{"$f":"IF(A246<=$E$2,-PMT(C246/12,IF(C246=КАЛЬКУЛЯТОР!$C$21,$E$2,$E$2-$E$3),IF(C246=КАЛЬКУЛЯТОР!$C$21,$I$11,$I$11-SUMIF($A$12:$A$371,\"<=\"&$E$3,$H$12:$H$371)),0,0),\"\")","v":""},null,{"$f":"IFERROR((-IPMT(C246/12,B246,IF(C246=КАЛЬКУЛЯТОР!$C$21,$E$2,$E$2-$E$3),IF(C246=КАЛЬКУЛЯТОР!$C$21,$I$11,$I$11-SUMIF($A$12:$A$371,\"<=\"&$E$3,$H$12:$H$371)),0,0)),\"\")","v":""},{"$f":"IFERROR((-IPMT((C246-'КАЛЬКУЛЯТОР 1'!$P$1)/12,B246,IF(C246=КАЛЬКУЛЯТОР!$C$21,$E$2,$E$2-$E$3),IF(C246=КАЛЬКУЛЯТОР!$C$21,$I$11,$I$11-SUMIF($A$12:$A$371,\"<=\"&$E$3,$H$12:$H$371)),0,0)),\"\")","v":""},{"$f":"IFERROR((-PPMT(C246/12,B246,IF(C246=КАЛЬКУЛЯТОР!$C$21,$E$2,$E$2-$E$3),IF(C246=КАЛЬКУЛЯТОР!$C$21,$I$11,$I$11-SUMIF($A$12:$A$371,\"<=\"&$E$3,$H$12:$H$371)),0,0)),\"\")","v":""},"",{"$error":"#VALUE!"},null,{"$error":"#VALUE!"},{"$error":"#VALUE!"},{"$error":"#VALUE!"},{"$error":"#VALUE!"},false]
[236,236,{"$f":"IF(A247<=$E$3,КАЛЬКУЛЯТОР!$C$21,IF(AND(A247>$E$3,A247<=$E$2),$E$4,\"\"))","v":""},{"$f":"IF(A247<=$E$2,-PMT(C247/12,IF(C247=КАЛЬКУЛЯТОР!$C$21,$E$2,$E$2-$E$3),IF(C247=КАЛЬКУЛЯТОР!$C$21,$I$11,$I$11-SUMIF($A$12:$A$371,\"<=\"&$E$3,$H$12:$H$371)),0,0),\"\")","v":""},null,{"$f":"IFERROR((-IPMT(C247/12,B247,IF(C247=КАЛЬКУЛЯТОР!$C$21,$E$2,$E$2-$E$3),IF(C247=КАЛЬКУЛЯТОР!$C$21,$I$11,$I$11-SUMIF($A$12:$A$371,\"<=\"&$E$3,$H$12:$H$371)),0,0)),\"\")","v":""},{"$f":"IFERROR((-IPMT((C247-'КАЛЬКУЛЯТОР 1'!$P$1)/12,B247,IF(C247=КАЛЬКУЛЯТОР!$C$21,$E$2,$E$2-$E$3),IF(C247=КАЛЬКУЛЯТОР!$C$21,$I$11,$I$11-SUMIF($A$12:$A$371,\"<=\"&$E$3,$H$12:$H$371)),0,0)),\"\")","v":""},{"$f":"IFERROR((-PPMT(C247/12,B247,IF(C247=КАЛЬКУЛЯТОР!$C$21,$E$2,$E$2-$E$3),IF(C247=КАЛЬКУЛЯТОР!$C$21,$I$11,$I$11-SUMIF($A$12:$A$371,\"<=\"&$E$3,$H$12:$H$371)),0,0)),\"\")","v":""},"",{"$error":"#VALUE!"},null,{"$error":"#VALUE!"},{"$error":"#VALUE!"},{"$error":"#VALUE!"},{"$error":"#VALUE!"},false]
[237,237,{"$f":"IF(A248<=$E$3,КАЛЬКУЛЯТОР!$C$21,IF(AND(A248>$E$3,A248<=$E$2),$E$4,\"\"))","v":""},{"$f":"IF(A248<=$E$2,-PMT(C248/12,IF(C248=КАЛЬКУЛЯТОР!$C$21,$E$2,$E$2-$E$3),IF(C248=КАЛЬКУЛЯТОР!$C$21,$I$11,$I$11-SUMIF($A$12:$A$371,\"<=\"&$E$3,$H$12:$H$371)),0,0),\"\")","v":""},null,{"$f":"IFERROR((-IPMT(C248/12,B248,IF(C248=КАЛЬКУЛЯТОР!$C$21,$E$2,$E$2-$E$3),IF(C248=КАЛЬКУЛЯТОР!$C$21,$I$11,$I$11-SUMIF($A$12:$A$371,\"<=\"&$E$3,$H$12:$H$371)),0,0)),\"\")","v":""},{"$f":"IFERROR((-IPMT((C248-'КАЛЬКУЛЯТОР 1'!$P$1)/12,B248,IF(C248=КАЛЬКУЛЯТОР!$C$21,$E$2,$E$2-$E$3),IF(C248=КАЛЬКУЛЯТОР!$C$21,$I$11,$I$11-SUMIF($A$12:$A$371,\"<=\"&$E$3,$H$12:$H$371)),0,0)),\"\")","v":""},{"$f":"IFERROR((-PPMT(C248/12,B248,IF(C248=КАЛЬКУЛЯТОР!$C$21,$E$2,$E$2-$E$3),IF(C248=КАЛЬКУЛЯТОР!$C$21,$I$11,$I$11-SUMIF($A$12:$A$371,\"<=\"&$E$3,$H$12:$H$371)),0,0)),\"\")","v":""},"",{"$error":"#VALUE!"},null,{"$error":"#VALUE!"},{"$error":"#VALUE!"},{"$error":"#VALUE!"},{"$error":"#VALUE!"},false]
[238,238,{"$f":"IF(A249<=$E$3,КАЛЬКУЛЯТОР!$C$21,IF(AND(A249>$E$3,A249<=$E$2),$E$4,\"\"))","v":""},{"$f":"IF(A249<=$E$2,-PMT(C249/12,IF(C249=КАЛЬКУЛЯТОР!$C$21,$E$2,$E$2-$E$3),IF(C249=КАЛЬКУЛЯТОР!$C$21,$I$11,$I$11-SUMIF($A$12:$A$371,\"<=\"&$E$3,$H$12:$H$371)),0,0),\"\")","v":""},null,{"$f":"IFERROR((-IPMT(C249/12,B249,IF(C249=КАЛЬКУЛЯТОР!$C$21,$E$2,$E$2-$E$3),IF(C249=КАЛЬКУЛЯТОР!$C$21,$I$11,$I$11-SUMIF($A$12:$A$371,\"<=\"&$E$3,$H$12:$H$371)),0,0)),\"\")","v":""},{"$f":"IFERROR((-IPMT((C249-'КАЛЬКУЛЯТОР 1'!$P$1)/12,B249,IF(C249=КАЛЬКУЛЯТОР!$C$21,$E$2,$E$2-$E$3),IF(C249=КАЛЬКУЛЯТОР!$C$21,$I$11,$I$11-SUMIF($A$12:$A$371,\"<=\"&$E$3,$H$12:$H$371)),0,0)),\"\")","v":""},{"$f":"IFERROR((-PPMT(C249/12,B249,IF(C249=КАЛЬКУЛЯТОР!$C$21,$E$2,$E$2-$E$3),IF(C249=КАЛЬКУЛЯТОР!$C$21,$I$11,$I$11-SUMIF($A$12:$A$371,\"<=\"&$E$3,$H$12:$H$371)),0,0)),\"\")","v":""},"",{"$error":"#VALUE!"},null,{"$error":"#VALUE!"},{"$error":"#VALUE!"},{"$error":"#VALUE!"},{"$error":"#VALUE!"},false]
[239,239,{"$f":"IF(A250<=$E$3,КАЛЬКУЛЯТОР!$C$21,IF(AND(A250>$E$3,A250<=$E$2),$E$4,\"\"))","v":""},{"$f":"IF(A250<=$E$2,-PMT(C250/12,IF(C250=КАЛЬКУЛЯТОР!$C$21,$E$2,$E$2-$E$3),IF(C250=КАЛЬКУЛЯТОР!$C$21,$I$11,$I$11-SUMIF($A$12:$A$371,\"<=\"&$E$3,$H$12:$H$371)),0,0),\"\")","v":""},null,{"$f":"IFERROR((-IPMT(C250/12,B250,IF(C250=КАЛЬКУЛЯТОР!$C$21,$E$2,$E$2-$E$3),IF(C250=КАЛЬКУЛЯТОР!$C$21,$I$11,$I$11-SUMIF($A$12:$A$371,\"<=\"&$E$3,$H$12:$H$371)),0,0)),\"\")","v":""},{"$f":"IFERROR((-IPMT((C250-'КАЛЬКУЛЯТОР 1'!$P$1)/12,B250,IF(C250=КАЛЬКУЛЯТОР!$C$21,$E$2,$E$2-$E$3),IF(C250=КАЛЬКУЛЯТОР!$C$21,$I$11,$I$11-SUMIF($A$12:$A$371,\"<=\"&$E$3,$H$12:$H$371)),0,0)),\"\")","v":""},{"$f":"IFERROR((-PPMT(C250/12,B250,IF(C250=КАЛЬКУЛЯТОР!$C$21,$E$2,$E$2-$E$3),IF(C250=КАЛЬКУЛЯТОР!$C$21,$I$11,$I$11-SUMIF($A$12:$A$371,\"<=\"&$E$3,$H$12:$H$371)),0,0)),\"\")","v":""},"",{"$error":"#VALUE!"},null,{"$error":"#VALUE!"},{"$error":"#VALUE!"},{"$error":"#VALUE!"},{"$error":"#VALUE!"},false]
[240,240,{"$f":"IF(A251<=$E$3,КАЛЬКУЛЯТОР!$C$21,IF(AND(A251>$E$3,A251<=$E$2),$E$4,\"\"))","v":""},{"$f":"IF(A251<=$E$2,-PMT(C251/12,IF(C251=КАЛЬКУЛЯТОР!$C$21,$E$2,$E$2-$E$3),IF(C251=КАЛЬКУЛЯТОР!$C$21,$I$11,$I$11-SUMIF($A$12:$A$371,\"<=\"&$E$3,$H$12:$H$371)),0,0),\"\")","v":""},null,{"$f":"IFERROR((-IPMT(C251/12,B251,IF(C251=КАЛЬКУЛЯТОР!$C$21,$E$2,$E$2-$E$3),IF(C251=КАЛЬКУЛЯТОР!$C$21,$I$11,$I$11-SUMIF($A$12:$A$371,\"<=\"&$E$3,$H$12:$H$371)),0,0)),\"\")","v":""},{"$f":"IFERROR((-IPMT((C251-'КАЛЬКУЛЯТОР 1'!$P$1)/12,B251,IF(C251=КАЛЬКУЛЯТОР!$C$21,$E$2,$E$2-$E$3),IF(C251=КАЛЬКУЛЯТОР!$C$21,$I$11,$I$11-SUMIF($A$12:$A$371,\"<=\"&$E$3,$H$12:$H$371)),0,0)),\"\")","v":""},{"$f":"IFERROR((-PPMT(C251/12,B251,IF(C251=КАЛЬКУЛЯТОР!$C$21,$E$2,$E$2-$E$3),IF(C251=КАЛЬКУЛЯТОР!$C$21,$I$11,$I$11-SUMIF($A$12:$A$371,\"<=\"&$E$3,$H$12:$H$371)),0,0)),\"\")","v":""},"",{"$error":"#VALUE!"},null,{"$error":"#VALUE!"},{"$error":"#VALUE!"},{"$error":"#VALUE!"},{"$error":"#VALUE!"},false]
[241,241,{"$f":"IF(A252<=$E$3,КАЛЬКУЛЯТОР!$C$21,IF(AND(A252>$E$3,A252<=$E$2),$E$4,\"\"))","v":""},{"$f":"IF(A252<=$E$2,-PMT(C252/12,IF(C252=КАЛЬКУЛЯТОР!$C$21,$E$2,$E$2-$E$3),IF(C252=КАЛЬКУЛЯТОР!$C$21,$I$11,$I$11-SUMIF($A$12:$A$371,\"<=\"&$E$3,$H$12:$H$371)),0,0)+E252,\"\")","v":""},{"$f":"IF($E$2>$A251,(I251+SUM(F252:F263))*($K$4+$K$5),0)","v":{"v":0,"d":"0.00"}},{"$f":"IFERROR((-IPMT(C252/12,B252,IF(C252=КАЛЬКУЛЯТОР!$C$21,$E$2,$E$2-$E$3),IF(C252=КАЛЬКУЛЯТОР!$C$21,$I$11,$I$11-SUMIF($A$12:$A$371,\"<=\"&$E$3,$H$12:$H$371)),0,0)),\"\")","v":""},{"$f":"IFERROR((-IPMT((C252-'КАЛЬКУЛЯТОР 1'!$P$1)/12,B252,IF(C252=КАЛЬКУЛЯТОР!$C$21,$E$2,$E$2-$E$3),IF(C252=КАЛЬКУЛЯТОР!$C$21,$I$11,$I$11-SUMIF($A$12:$A$371,\"<=\"&$E$3,$H$12:$H$371)),0,0)),\"\")","v":""},{"$f":"IFERROR((-PPMT(C252/12,B252,IF(C252=КАЛЬКУЛЯТОР!$C$21,$E$2,$E$2-$E$3),IF(C252=КАЛЬКУЛЯТОР!$C$21,$I$11,$I$11-SUMIF($A$12:$A$371,\"<=\"&$E$3,$H$12:$H$371)),0,0)),\"\")","v":""},"",{"$error":"#VALUE!"},{"$f":"PV($E$5/12,A252-1,0,-E252)","v":{"v":0,"d":"0.00"}},{"$error":"#VALUE!"},{"$error":"#VALUE!"},{"$error":"#VALUE!"},{"$error":"#VALUE!"},false]
[242,242,{"$f":"IF(A253<=$E$3,КАЛЬКУЛЯТОР!$C$21,IF(AND(A253>$E$3,A253<=$E$2),$E$4,\"\"))","v":""},{"$f":"IF(A253<=$E$2,-PMT(C253/12,IF(C253=КАЛЬКУЛЯТОР!$C$21,$E$2,$E$2-$E$3),IF(C253=КАЛЬКУЛЯТОР!$C$21,$I$11,$I$11-SUMIF($A$12:$A$371,\"<=\"&$E$3,$H$12:$H$371)),0,0),\"\")","v":""},null,{"$f":"IFERROR((-IPMT(C253/12,B253,IF(C253=КАЛЬКУЛЯТОР!$C$21,$E$2,$E$2-$E$3),IF(C253=КАЛЬКУЛЯТОР!$C$21,$I$11,$I$11-SUMIF($A$12:$A$371,\"<=\"&$E$3,$H$12:$H$371)),0,0)),\"\")","v":""},{"$f":"IFERROR((-IPMT((C253-'КАЛЬКУЛЯТОР 1'!$P$1)/12,B253,IF(C253=КАЛЬКУЛЯТОР!$C$21,$E$2,$E$2-$E$3),IF(C253=КАЛЬКУЛЯТОР!$C$21,$I$11,$I$11-SUMIF($A$12:$A$371,\"<=\"&$E$3,$H$12:$H$371)),0,0)),\"\")","v":""},{"$f":"IFERROR((-PPMT(C253/12,B253,IF(C253=КАЛЬКУЛЯТОР!$C$21,$E$2,$E$2-$E$3),IF(C253=КАЛЬКУЛЯТОР!$C$21,$I$11,$I$11-SUMIF($A$12:$A$371,\"<=\"&$E$3,$H$12:$H$371)),0,0)),\"\")","v":""},"",{"$error":"#VALUE!"},null,{"$error":"#VALUE!"},{"$error":"#VALUE!"},{"$error":"#VALUE!"},{"$error":"#VALUE!"},false]
[243,243,{"$f":"IF(A254<=$E$3,КАЛЬКУЛЯТОР!$C$21,IF(AND(A254>$E$3,A254<=$E$2),$E$4,\"\"))","v":""},{"$f":"IF(A254<=$E$2,-PMT(C254/12,IF(C254=КАЛЬКУЛЯТОР!$C$21,$E$2,$E$2-$E$3),IF(C254=КАЛЬКУЛЯТОР!$C$21,$I$11,$I$11-SUMIF($A$12:$A$371,\"<=\"&$E$3,$H$12:$H$371)),0,0),\"\")","v":""},null,{"$f":"IFERROR((-IPMT(C254/12,B254,IF(C254=КАЛЬКУЛЯТОР!$C$21,$E$2,$E$2-$E$3),IF(C254=КАЛЬКУЛЯТОР!$C$21,$I$11,$I$11-SUMIF($A$12:$A$371,\"<=\"&$E$3,$H$12:$H$371)),0,0)),\"\")","v":""},{"$f":"IFERROR((-IPMT((C254-'КАЛЬКУЛЯТОР 1'!$P$1)/12,B254,IF(C254=КАЛЬКУЛЯТОР!$C$21,$E$2,$E$2-$E$3),IF(C254=КАЛЬКУЛЯТОР!$C$21,$I$11,$I$11-SUMIF($A$12:$A$371,\"<=\"&$E$3,$H$12:$H$371)),0,0)),\"\")","v":""},{"$f":"IFERROR((-PPMT(C254/12,B254,IF(C254=КАЛЬКУЛЯТОР!$C$21,$E$2,$E$2-$E$3),IF(C254=КАЛЬКУЛЯТОР!$C$21,$I$11,$I$11-SUMIF($A$12:$A$371,\"<=\"&$E$3,$H$12:$H$371)),0,0)),\"\")","v":""},"",{"$error":"#VALUE!"},null,{"$error":"#VALUE!"},{"$error":"#VALUE!"},{"$error":"#VALUE!"},{"$error":"#VALUE!"},false]
[244,244,{"$f":"IF(A255<=$E$3,КАЛЬКУЛЯТОР!$C$21,IF(AND(A255>$E$3,A255<=$E$2),$E$4,\"\"))","v":""},{"$f":"IF(A255<=$E$2,-PMT(C255/12,IF(C255=КАЛЬКУЛЯТОР!$C$21,$E$2,$E$2-$E$3),IF(C255=КАЛЬКУЛЯТОР!$C$21,$I$11,$I$11-SUMIF($A$12:$A$371,\"<=\"&$E$3,$H$12:$H$371)),0,0),\"\")","v":""},null,{"$f":"IFERROR((-IPMT(C255/12,B255,IF(C255=КАЛЬКУЛЯТОР!$C$21,$E$2,$E$2-$E$3),IF(C255=КАЛЬКУЛЯТОР!$C$21,$I$11,$I$11-SUMIF($A$12:$A$371,\"<=\"&$E$3,$H$12:$H$371)),0,0)),\"\")","v":""},{"$f":"IFERROR((-IPMT((C255-'КАЛЬКУЛЯТОР 1'!$P$1)/12,B255,IF(C255=КАЛЬКУЛЯТОР!$C$21,$E$2,$E$2-$E$3),IF(C255=КАЛЬКУЛЯТОР!$C$21,$I$11,$I$11-SUMIF($A$12:$A$371,\"<=\"&$E$3,$H$12:$H$371)),0,0)),\"\")","v":""},{"$f":"IFERROR((-PPMT(C255/12,B255,IF(C255=КАЛЬКУЛЯТОР!$C$21,$E$2,$E$2-$E$3),IF(C255=КАЛЬКУЛЯТОР!$C$21,$I$11,$I$11-SUMIF($A$12:$A$371,\"<=\"&$E$3,$H$12:$H$371)),0,0)),\"\")","v":""},"",{"$error":"#VALUE!"},null,{"$error":"#VALUE!"},{"$error":"#VALUE!"},{"$error":"#VALUE!"},{"$error":"#VALUE!"},false]
[245,245,{"$f":"IF(A256<=$E$3,КАЛЬКУЛЯТОР!$C$21,IF(AND(A256>$E$3,A256<=$E$2),$E$4,\"\"))","v":""},{"$f":"IF(A256<=$E$2,-PMT(C256/12,IF(C256=КАЛЬКУЛЯТОР!$C$21,$E$2,$E$2-$E$3),IF(C256=КАЛЬКУЛЯТОР!$C$21,$I$11,$I$11-SUMIF($A$12:$A$371,\"<=\"&$E$3,$H$12:$H$371)),0,0),\"\")","v":""},null,{"$f":"IFERROR((-IPMT(C256/12,B256,IF(C256=КАЛЬКУЛЯТОР!$C$21,$E$2,$E$2-$E$3),IF(C256=КАЛЬКУЛЯТОР!$C$21,$I$11,$I$11-SUMIF($A$12:$A$371,\"<=\"&$E$3,$H$12:$H$371)),0,0)),\"\")","v":""},{"$f":"IFERROR((-IPMT((C256-'КАЛЬКУЛЯТОР 1'!$P$1)/12,B256,IF(C256=КАЛЬКУЛЯТОР!$C$21,$E$2,$E$2-$E$3),IF(C256=КАЛЬКУЛЯТОР!$C$21,$I$11,$I$11-SUMIF($A$12:$A$371,\"<=\"&$E$3,$H$12:$H$371)),0,0)),\"\")","v":""},{"$f":"IFERROR((-PPMT(C256/12,B256,IF(C256=КАЛЬКУЛЯТОР!$C$21,$E$2,$E$2-$E$3),IF(C256=КАЛЬКУЛЯТОР!$C$21,$I$11,$I$11-SUMIF($A$12:$A$371,\"<=\"&$E$3,$H$12:$H$371)),0,0)),\"\")","v":""},"",{"$error":"#VALUE!"},null,{"$error":"#VALUE!"},{"$error":"#VALUE!"},{"$error":"#VALUE!"},{"$error":"#VALUE!"},false]
[246,246,{"$f":"IF(A257<=$E$3,КАЛЬКУЛЯТОР!$C$21,IF(AND(A257>$E$3,A257<=$E$2),$E$4,\"\"))","v":""},{"$f":"IF(A257<=$E$2,-PMT(C257/12,IF(C257=КАЛЬКУЛЯТОР!$C$21,$E$2,$E$2-$E$3),IF(C257=КАЛЬКУЛЯТОР!$C$21,$I$11,$I$11-SUMIF($A$12:$A$371,\"<=\"&$E$3,$H$12:$H$371)),0,0),\"\")","v":""},null,{"$f":"IFERROR((-IPMT(C257/12,B257,IF(C257=КАЛЬКУЛЯТОР!$C$21,$E$2,$E$2-$E$3),IF(C257=КАЛЬКУЛЯТОР!$C$21,$I$11,$I$11-SUMIF($A$12:$A$371,\"<=\"&$E$3,$H$12:$H$371)),0,0)),\"\")","v":""},{"$f":"IFERROR((-IPMT((C257-'КАЛЬКУЛЯТОР 1'!$P$1)/12,B257,IF(C257=КАЛЬКУЛЯТОР!$C$21,$E$2,$E$2-$E$3),IF(C257=КАЛЬКУЛЯТОР!$C$21,$I$11,$I$11-SUMIF($A$12:$A$371,\"<=\"&$E$3,$H$12:$H$371)),0,0)),\"\")","v":""},{"$f":"IFERROR((-PPMT(C257/12,B257,IF(C257=КАЛЬКУЛЯТОР!$C$21,$E$2,$E$2-$E$3),IF(C257=КАЛЬКУЛЯТОР!$C$21,$I$11,$I$11-SUMIF($A$12:$A$371,\"<=\"&$E$3,$H$12:$H$371)),0,0)),\"\")","v":""},"",{"$error":"#VALUE!"},null,{"$error":"#VALUE!"},{"$error":"#VALUE!"},{"$error":"#VALUE!"},{"$error":"#VALUE!"},false]
[247,247,{"$f":"IF(A258<=$E$3,КАЛЬКУЛЯТОР!$C$21,IF(AND(A258>$E$3,A258<=$E$2),$E$4,\"\"))","v":""},{"$f":"IF(A258<=$E$2,-PMT(C258/12,IF(C258=КАЛЬКУЛЯТОР!$C$21,$E$2,$E$2-$E$3),IF(C258=КАЛЬКУЛЯТОР!$C$21,$I$11,$I$11-SUMIF($A$12:$A$371,\"<=\"&$E$3,$H$12:$H$371)),0,0),\"\")","v":""},null,{"$f":"IFERROR((-IPMT(C258/12,B258,IF(C258=КАЛЬКУЛЯТОР!$C$21,$E$2,$E$2-$E$3),IF(C258=КАЛЬКУЛЯТОР!$C$21,$I$11,$I$11-SUMIF($A$12:$A$371,\"<=\"&$E$3,$H$12:$H$371)),0,0)),\"\")","v":""},{"$f":"IFERROR((-IPMT((C258-'КАЛЬКУЛЯТОР 1'!$P$1)/12,B258,IF(C258=КАЛЬКУЛЯТОР!$C$21,$E$2,$E$2-$E$3),IF(C258=КАЛЬКУЛЯТОР!$C$21,$I$11,$I$11-SUMIF($A$12:$A$371,\"<=\"&$E$3,$H$12:$H$371)),0,0)),\"\")","v":""},{"$f":"IFERROR((-PPMT(C258/12,B258,IF(C258=КАЛЬКУЛЯТОР!$C$21,$E$2,$E$2-$E$3),IF(C258=КАЛЬКУЛЯТОР!$C$21,$I$11,$I$11-SUMIF($A$12:$A$371,\"<=\"&$E$3,$H$12:$H$371)),0,0)),\"\")","v":""},"",{"$error":"#VALUE!"},null,{"$error":"#VALUE!"},{"$error":"#VALUE!"},{"$error":"#VALUE!"},{"$error":"#VALUE!"},false]
[248,248,{"$f":"IF(A259<=$E$3,КАЛЬКУЛЯТОР!$C$21,IF(AND(A259>$E$3,A259<=$E$2),$E$4,\"\"))","v":""},{"$f":"IF(A259<=$E$2,-PMT(C259/12,IF(C259=КАЛЬКУЛЯТОР!$C$21,$E$2,$E$2-$E$3),IF(C259=КАЛЬКУЛЯТОР!$C$21,$I$11,$I$11-SUMIF($A$12:$A$371,\"<=\"&$E$3,$H$12:$H$371)),0,0),\"\")","v":""},null,{"$f":"IFERROR((-IPMT(C259/12,B259,IF(C259=КАЛЬКУЛЯТОР!$C$21,$E$2,$E$2-$E$3),IF(C259=КАЛЬКУЛЯТОР!$C$21,$I$11,$I$11-SUMIF($A$12:$A$371,\"<=\"&$E$3,$H$12:$H$371)),0,0)),\"\")","v":""},{"$f":"IFERROR((-IPMT((C259-'КАЛЬКУЛЯТОР 1'!$P$1)/12,B259,IF(C259=КАЛЬКУЛЯТОР!$C$21,$E$2,$E$2-$E$3),IF(C259=КАЛЬКУЛЯТОР!$C$21,$I$11,$I$11-SUMIF($A$12:$A$371,\"<=\"&$E$3,$H$12:$H$371)),0,0)),\"\")","v":""},{"$f":"IFERROR((-PPMT(C259/12,B259,IF(C259=КАЛЬКУЛЯТОР!$C$21,$E$2,$E$2-$E$3),IF(C259=КАЛЬКУЛЯТОР!$C$21,$I$11,$I$11-SUMIF($A$12:$A$371,\"<=\"&$E$3,$H$12:$H$371)),0,0)),\"\")","v":""},"",{"$error":"#VALUE!"},null,{"$error":"#VALUE!"},{"$error":"#VALUE!"},{"$error":"#VALUE!"},{"$error":"#VALUE!"},false]
[249,249,{"$f":"IF(A260<=$E$3,КАЛЬКУЛЯТОР!$C$21,IF(AND(A260>$E$3,A260<=$E$2),$E$4,\"\"))","v":""},{"$f":"IF(A260<=$E$2,-PMT(C260/12,IF(C260=КАЛЬКУЛЯТОР!$C$21,$E$2,$E$2-$E$3),IF(C260=КАЛЬКУЛЯТОР!$C$21,$I$11,$I$11-SUMIF($A$12:$A$371,\"<=\"&$E$3,$H$12:$H$371)),0,0),\"\")","v":""},null,{"$f":"IFERROR((-IPMT(C260/12,B260,IF(C260=КАЛЬКУЛЯТОР!$C$21,$E$2,$E$2-$E$3),IF(C260=КАЛЬКУЛЯТОР!$C$21,$I$11,$I$11-SUMIF($A$12:$A$371,\"<=\"&$E$3,$H$12:$H$371)),0,0)),\"\")","v":""},{"$f":"IFERROR((-IPMT((C260-'КАЛЬКУЛЯТОР 1'!$P$1)/12,B260,IF(C260=КАЛЬКУЛЯТОР!$C$21,$E$2,$E$2-$E$3),IF(C260=КАЛЬКУЛЯТОР!$C$21,$I$11,$I$11-SUMIF($A$12:$A$371,\"<=\"&$E$3,$H$12:$H$371)),0,0)),\"\")","v":""},{"$f":"IFERROR((-PPMT(C260/12,B260,IF(C260=КАЛЬКУЛЯТОР!$C$21,$E$2,$E$2-$E$3),IF(C260=КАЛЬКУЛЯТОР!$C$21,$I$11,$I$11-SUMIF($A$12:$A$371,\"<=\"&$E$3,$H$12:$H$371)),0,0)),\"\")","v":""},"",{"$error":"#VALUE!"},null,{"$error":"#VALUE!"},{"$error":"#VALUE!"},{"$error":"#VALUE!"},{"$error":"#VALUE!"},false]
[250,250,{"$f":"IF(A261<=$E$3,КАЛЬКУЛЯТОР!$C$21,IF(AND(A261>$E$3,A261<=$E$2),$E$4,\"\"))","v":""},{"$f":"IF(A261<=$E$2,-PMT(C261/12,IF(C261=КАЛЬКУЛЯТОР!$C$21,$E$2,$E$2-$E$3),IF(C261=КАЛЬКУЛЯТОР!$C$21,$I$11,$I$11-SUMIF($A$12:$A$371,\"<=\"&$E$3,$H$12:$H$371)),0,0),\"\")","v":""},null,{"$f":"IFERROR((-IPMT(C261/12,B261,IF(C261=КАЛЬКУЛЯТОР!$C$21,$E$2,$E$2-$E$3),IF(C261=КАЛЬКУЛЯТОР!$C$21,$I$11,$I$11-SUMIF($A$12:$A$371,\"<=\"&$E$3,$H$12:$H$371)),0,0)),\"\")","v":""},{"$f":"IFERROR((-IPMT((C261-'КАЛЬКУЛЯТОР 1'!$P$1)/12,B261,IF(C261=КАЛЬКУЛЯТОР!$C$21,$E$2,$E$2-$E$3),IF(C261=КАЛЬКУЛЯТОР!$C$21,$I$11,$I$11-SUMIF($A$12:$A$371,\"<=\"&$E$3,$H$12:$H$371)),0,0)),\"\")","v":""},{"$f":"IFERROR((-PPMT(C261/12,B261,IF(C261=КАЛЬКУЛЯТОР!$C$21,$E$2,$E$2-$E$3),IF(C261=КАЛЬКУЛЯТОР!$C$21,$I$11,$I$11-SUMIF($A$12:$A$371,\"<=\"&$E$3,$H$12:$H$371)),0,0)),\"\")","v":""},"",{"$error":"#VALUE!"},null,{"$error":"#VALUE!"},{"$error":"#VALUE!"},{"$error":"#VALUE!"},{"$error":"#VALUE!"},false]
[251,251,{"$f":"IF(A262<=$E$3,КАЛЬКУЛЯТОР!$C$21,IF(AND(A262>$E$3,A262<=$E$2),$E$4,\"\"))","v":""},{"$f":"IF(A262<=$E$2,-PMT(C262/12,IF(C262=КАЛЬКУЛЯТОР!$C$21,$E$2,$E$2-$E$3),IF(C262=КАЛЬКУЛЯТОР!$C$21,$I$11,$I$11-SUMIF($A$12:$A$371,\"<=\"&$E$3,$H$12:$H$371)),0,0),\"\")","v":""},null,{"$f":"IFERROR((-IPMT(C262/12,B262,IF(C262=КАЛЬКУЛЯТОР!$C$21,$E$2,$E$2-$E$3),IF(C262=КАЛЬКУЛЯТОР!$C$21,$I$11,$I$11-SUMIF($A$12:$A$371,\"<=\"&$E$3,$H$12:$H$371)),0,0)),\"\")","v":""},{"$f":"IFERROR((-IPMT((C262-'КАЛЬКУЛЯТОР 1'!$P$1)/12,B262,IF(C262=КАЛЬКУЛЯТОР!$C$21,$E$2,$E$2-$E$3),IF(C262=КАЛЬКУЛЯТОР!$C$21,$I$11,$I$11-SUMIF($A$12:$A$371,\"<=\"&$E$3,$H$12:$H$371)),0,0)),\"\")","v":""},{"$f":"IFERROR((-PPMT(C262/12,B262,IF(C262=КАЛЬКУЛЯТОР!$C$21,$E$2,$E$2-$E$3),IF(C262=КАЛЬКУЛЯТОР!$C$21,$I$11,$I$11-SUMIF($A$12:$A$371,\"<=\"&$E$3,$H$12:$H$371)),0,0)),\"\")","v":""},"",{"$error":"#VALUE!"},null,{"$error":"#VALUE!"},{"$error":"#VALUE!"},{"$error":"#VALUE!"},{"$error":"#VALUE!"},false]
[252,252,{"$f":"IF(A263<=$E$3,КАЛЬКУЛЯТОР!$C$21,IF(AND(A263>$E$3,A263<=$E$2),$E$4,\"\"))","v":""},{"$f":"IF(A263<=$E$2,-PMT(C263/12,IF(C263=КАЛЬКУЛЯТОР!$C$21,$E$2,$E$2-$E$3),IF(C263=КАЛЬКУЛЯТОР!$C$21,$I$11,$I$11-SUMIF($A$12:$A$371,\"<=\"&$E$3,$H$12:$H$371)),0,0),\"\")","v":""},null,{"$f":"IFERROR((-IPMT(C263/12,B263,IF(C263=КАЛЬКУЛЯТОР!$C$21,$E$2,$E$2-$E$3),IF(C263=КАЛЬКУЛЯТОР!$C$21,$I$11,$I$11-SUMIF($A$12:$A$371,\"<=\"&$E$3,$H$12:$H$371)),0,0)),\"\")","v":""},{"$f":"IFERROR((-IPMT((C263-'КАЛЬКУЛЯТОР 1'!$P$1)/12,B263,IF(C263=КАЛЬКУЛЯТОР!$C$21,$E$2,$E$2-$E$3),IF(C263=КАЛЬКУЛЯТОР!$C$21,$I$11,$I$11-SUMIF($A$12:$A$371,\"<=\"&$E$3,$H$12:$H$371)),0,0)),\"\")","v":""},{"$f":"IFERROR((-PPMT(C263/12,B263,IF(C263=КАЛЬКУЛЯТОР!$C$21,$E$2,$E$2-$E$3),IF(C263=КАЛЬКУЛЯТОР!$C$21,$I$11,$I$11-SUMIF($A$12:$A$371,\"<=\"&$E$3,$H$12:$H$371)),0,0)),\"\")","v":""},"",{"$error":"#VALUE!"},null,{"$error":"#VALUE!"},{"$error":"#VALUE!"},{"$error":"#VALUE!"},{"$error":"#VALUE!"},false]
[253,253,{"$f":"IF(A264<=$E$3,КАЛЬКУЛЯТОР!$C$21,IF(AND(A264>$E$3,A264<=$E$2),$E$4,\"\"))","v":""},{"$f":"IF(A264<=$E$2,-PMT(C264/12,IF(C264=КАЛЬКУЛЯТОР!$C$21,$E$2,$E$2-$E$3),IF(C264=КАЛЬКУЛЯТОР!$C$21,$I$11,$I$11-SUMIF($A$12:$A$371,\"<=\"&$E$3,$H$12:$H$371)),0,0)+E264,\"\")","v":""},{"$f":"IF($E$2>$A263,(I263+SUM(F264:F275))*($K$4+$K$5),0)","v":{"v":0,"d":"0.00"}},{"$f":"IFERROR((-IPMT(C264/12,B264,IF(C264=КАЛЬКУЛЯТОР!$C$21,$E$2,$E$2-$E$3),IF(C264=КАЛЬКУЛЯТОР!$C$21,$I$11,$I$11-SUMIF($A$12:$A$371,\"<=\"&$E$3,$H$12:$H$371)),0,0)),\"\")","v":""},{"$f":"IFERROR((-IPMT((C264-'КАЛЬКУЛЯТОР 1'!$P$1)/12,B264,IF(C264=КАЛЬКУЛЯТОР!$C$21,$E$2,$E$2-$E$3),IF(C264=КАЛЬКУЛЯТОР!$C$21,$I$11,$I$11-SUMIF($A$12:$A$371,\"<=\"&$E$3,$H$12:$H$371)),0,0)),\"\")","v":""},{"$f":"IFERROR((-PPMT(C264/12,B264,IF(C264=КАЛЬКУЛЯТОР!$C$21,$E$2,$E$2-$E$3),IF(C264=КАЛЬКУЛЯТОР!$C$21,$I$11,$I$11-SUMIF($A$12:$A$371,\"<=\"&$E$3,$H$12:$H$371)),0,0)),\"\")","v":""},"",{"$error":"#VALUE!"},{"$f":"PV($E$5/12,A264-1,0,-E264)","v":{"v":0,"d":"0.00"}},{"$error":"#VALUE!"},{"$error":"#VALUE!"},{"$error":"#VALUE!"},{"$error":"#VALUE!"},false]
[254,254,{"$f":"IF(A265<=$E$3,КАЛЬКУЛЯТОР!$C$21,IF(AND(A265>$E$3,A265<=$E$2),$E$4,\"\"))","v":""},{"$f":"IF(A265<=$E$2,-PMT(C265/12,IF(C265=КАЛЬКУЛЯТОР!$C$21,$E$2,$E$2-$E$3),IF(C265=КАЛЬКУЛЯТОР!$C$21,$I$11,$I$11-SUMIF($A$12:$A$371,\"<=\"&$E$3,$H$12:$H$371)),0,0),\"\")","v":""},null,{"$f":"IFERROR((-IPMT(C265/12,B265,IF(C265=КАЛЬКУЛЯТОР!$C$21,$E$2,$E$2-$E$3),IF(C265=КАЛЬКУЛЯТОР!$C$21,$I$11,$I$11-SUMIF($A$12:$A$371,\"<=\"&$E$3,$H$12:$H$371)),0,0)),\"\")","v":""},{"$f":"IFERROR((-IPMT((C265-'КАЛЬКУЛЯТОР 1'!$P$1)/12,B265,IF(C265=КАЛЬКУЛЯТОР!$C$21,$E$2,$E$2-$E$3),IF(C265=КАЛЬКУЛЯТОР!$C$21,$I$11,$I$11-SUMIF($A$12:$A$371,\"<=\"&$E$3,$H$12:$H$371)),0,0)),\"\")","v":""},{"$f":"IFERROR((-PPMT(C265/12,B265,IF(C265=КАЛЬКУЛЯТОР!$C$21,$E$2,$E$2-$E$3),IF(C265=КАЛЬКУЛЯТОР!$C$21,$I$11,$I$11-SUMIF($A$12:$A$371,\"<=\"&$E$3,$H$12:$H$371)),0,0)),\"\")","v":""},"",{"$error":"#VALUE!"},null,{"$error":"#VALUE!"},{"$error":"#VALUE!"},{"$error":"#VALUE!"},{"$error":"#VALUE!"},false]
[255,255,{"$f":"IF(A266<=$E$3,КАЛЬКУЛЯТОР!$C$21,IF(AND(A266>$E$3,A266<=$E$2),$E$4,\"\"))","v":""},{"$f":"IF(A266<=$E$2,-PMT(C266/12,IF(C266=КАЛЬКУЛЯТОР!$C$21,$E$2,$E$2-$E$3),IF(C266=КАЛЬКУЛЯТОР!$C$21,$I$11,$I$11-SUMIF($A$12:$A$371,\"<=\"&$E$3,$H$12:$H$371)),0,0),\"\")","v":""},null,{"$f":"IFERROR((-IPMT(C266/12,B266,IF(C266=КАЛЬКУЛЯТОР!$C$21,$E$2,$E$2-$E$3),IF(C266=КАЛЬКУЛЯТОР!$C$21,$I$11,$I$11-SUMIF($A$12:$A$371,\"<=\"&$E$3,$H$12:$H$371)),0,0)),\"\")","v":""},{"$f":"IFERROR((-IPMT((C266-'КАЛЬКУЛЯТОР 1'!$P$1)/12,B266,IF(C266=КАЛЬКУЛЯТОР!$C$21,$E$2,$E$2-$E$3),IF(C266=КАЛЬКУЛЯТОР!$C$21,$I$11,$I$11-SUMIF($A$12:$A$371,\"<=\"&$E$3,$H$12:$H$371)),0,0)),\"\")","v":""},{"$f":"IFERROR((-PPMT(C266/12,B266,IF(C266=КАЛЬКУЛЯТОР!$C$21,$E$2,$E$2-$E$3),IF(C266=КАЛЬКУЛЯТОР!$C$21,$I$11,$I$11-SUMIF($A$12:$A$371,\"<=\"&$E$3,$H$12:$H$371)),0,0)),\"\")","v":""},"",{"$error":"#VALUE!"},null,{"$error":"#VALUE!"},{"$error":"#VALUE!"},{"$error":"#VALUE!"},{"$error":"#VALUE!"},false]
[256,256,{"$f":"IF(A267<=$E$3,КАЛЬКУЛЯТОР!$C$21,IF(AND(A267>$E$3,A267<=$E$2),$E$4,\"\"))","v":""},{"$f":"IF(A267<=$E$2,-PMT(C267/12,IF(C267=КАЛЬКУЛЯТОР!$C$21,$E$2,$E$2-$E$3),IF(C267=КАЛЬКУЛЯТОР!$C$21,$I$11,$I$11-SUMIF($A$12:$A$371,\"<=\"&$E$3,$H$12:$H$371)),0,0),\"\")","v":""},null,{"$f":"IFERROR((-IPMT(C267/12,B267,IF(C267=КАЛЬКУЛЯТОР!$C$21,$E$2,$E$2-$E$3),IF(C267=КАЛЬКУЛЯТОР!$C$21,$I$11,$I$11-SUMIF($A$12:$A$371,\"<=\"&$E$3,$H$12:$H$371)),0,0)),\"\")","v":""},{"$f":"IFERROR((-IPMT((C267-'КАЛЬКУЛЯТОР 1'!$P$1)/12,B267,IF(C267=КАЛЬКУЛЯТОР!$C$21,$E$2,$E$2-$E$3),IF(C267=КАЛЬКУЛЯТОР!$C$21,$I$11,$I$11-SUMIF($A$12:$A$371,\"<=\"&$E$3,$H$12:$H$371)),0,0)),\"\")","v":""},{"$f":"IFERROR((-PPMT(C267/12,B267,IF(C267=КАЛЬКУЛЯТОР!$C$21,$E$2,$E$2-$E$3),IF(C267=КАЛЬКУЛЯТОР!$C$21,$I$11,$I$11-SUMIF($A$12:$A$371,\"<=\"&$E$3,$H$12:$H$371)),0,0)),\"\")","v":""},"",{"$error":"#VALUE!"},null,{"$error":"#VALUE!"},{"$error":"#VALUE!"},{"$error":"#VALUE!"},{"$error":"#VALUE!"},false]
[257,257,{"$f":"IF(A268<=$E$3,КАЛЬКУЛЯТОР!$C$21,IF(AND(A268>$E$3,A268<=$E$2),$E$4,\"\"))","v":""},{"$f":"IF(A268<=$E$2,-PMT(C268/12,IF(C268=КАЛЬКУЛЯТОР!$C$21,$E$2,$E$2-$E$3),IF(C268=КАЛЬКУЛЯТОР!$C$21,$I$11,$I$11-SUMIF($A$12:$A$371,\"<=\"&$E$3,$H$12:$H$371)),0,0),\"\")","v":""},null,{"$f":"IFERROR((-IPMT(C268/12,B268,IF(C268=КАЛЬКУЛЯТОР!$C$21,$E$2,$E$2-$E$3),IF(C268=КАЛЬКУЛЯТОР!$C$21,$I$11,$I$11-SUMIF($A$12:$A$371,\"<=\"&$E$3,$H$12:$H$371)),0,0)),\"\")","v":""},{"$f":"IFERROR((-IPMT((C268-'КАЛЬКУЛЯТОР 1'!$P$1)/12,B268,IF(C268=КАЛЬКУЛЯТОР!$C$21,$E$2,$E$2-$E$3),IF(C268=КАЛЬКУЛЯТОР!$C$21,$I$11,$I$11-SUMIF($A$12:$A$371,\"<=\"&$E$3,$H$12:$H$371)),0,0)),\"\")","v":""},{"$f":"IFERROR((-PPMT(C268/12,B268,IF(C268=КАЛЬКУЛЯТОР!$C$21,$E$2,$E$2-$E$3),IF(C268=КАЛЬКУЛЯТОР!$C$21,$I$11,$I$11-SUMIF($A$12:$A$371,\"<=\"&$E$3,$H$12:$H$371)),0,0)),\"\")","v":""},{"$f":"IFERROR(I267-H268,\"\")","v":""},{"$f":"PV($E$5/12,A268-1,0,-D268)","v":{"$error":"#VALUE!"}},null,{"$f":"PV($E$5/12,A268-1,0,-F268)","v":{"$error":"#VALUE!"}},{"$f":"PV($E$5/12,A268-1,0,-G268)","v":{"$error":"#VALUE!"}},{"$f":"PV($E$5/12,A268-1,0,-H268)","v":{"$error":"#VALUE!"}},{"$f":"O267-N268","v":{"$error":"#VALUE!"}},{"$f":"AND(A268<=$E$3)","v":false}]
[258,{"$f":"ROUND(IF(P269=$P$12,B268+1,A269-$E$3),0)","v":258},{"$f":"IF(A269<=$E$3,КАЛЬКУЛЯТОР!$C$21,IF(AND(A269>$E$3,A269<=$E$2),$E$4,\"\"))","v":""},{"$f":"IF(A269<=$E$2,-PMT(C269/12,IF(C269=КАЛЬКУЛЯТОР!$C$21,$E$2,$E$2-$E$3),IF(C269=КАЛЬКУЛЯТОР!$C$21,$I$11,$I$11-SUMIF($A$12:$A$371,\"<=\"&$E$3,$H$12:$H$371)),0,0),\"\")","v":""},null,{"$f":"IFERROR((-IPMT(C269/12,B269,IF(C269=КАЛЬКУЛЯТОР!$C$21,$E$2,$E$2-$E$3),IF(C269=КАЛЬКУЛЯТОР!$C$21,$I$11,$I$11-SUMIF($A$12:$A$371,\"<=\"&$E$3,$H$12:$H$371)),0,0)),\"\")","v":""},{"$f":"IFERROR((-IPMT((C269-'КАЛЬКУЛЯТОР 1'!$P$1)/12,B269,IF(C269=КАЛЬКУЛЯТОР!$C$21,$E$2,$E$2-$E$3),IF(C269=КАЛЬКУЛЯТОР!$C$21,$I$11,$I$11-SUMIF($A$12:$A$371,\"<=\"&$E$3,$H$12:$H$371)),0,0)),\"\")","v":""},{"$f":"IFERROR((-PPMT(C269/12,B269,IF(C269=КАЛЬКУЛЯТОР!$C$21,$E$2,$E$2-$E$3),IF(C269=КАЛЬКУЛЯТОР!$C$21,$I$11,$I$11-SUMIF($A$12:$A$371,\"<=\"&$E$3,$H$12:$H$371)),0,0)),\"\")","v":""},"",{"$error":"#VALUE!"},null,{"$error":"#VALUE!"},{"$error":"#VALUE!"},{"$error":"#VALUE!"},{"$error":"#VALUE!"},false]
[259,259,{"$f":"IF(A270<=$E$3,КАЛЬКУЛЯТОР!$C$21,IF(AND(A270>$E$3,A270<=$E$2),$E$4,\"\"))","v":""},{"$f":"IF(A270<=$E$2,-PMT(C270/12,IF(C270=КАЛЬКУЛЯТОР!$C$21,$E$2,$E$2-$E$3),IF(C270=КАЛЬКУЛЯТОР!$C$21,$I$11,$I$11-SUMIF($A$12:$A$371,\"<=\"&$E$3,$H$12:$H$371)),0,0),\"\")","v":""},null,{"$f":"IFERROR((-IPMT(C270/12,B270,IF(C270=КАЛЬКУЛЯТОР!$C$21,$E$2,$E$2-$E$3),IF(C270=КАЛЬКУЛЯТОР!$C$21,$I$11,$I$11-SUMIF($A$12:$A$371,\"<=\"&$E$3,$H$12:$H$371)),0,0)),\"\")","v":""},{"$f":"IFERROR((-IPMT((C270-'КАЛЬКУЛЯТОР 1'!$P$1)/12,B270,IF(C270=КАЛЬКУЛЯТОР!$C$21,$E$2,$E$2-$E$3),IF(C270=КАЛЬКУЛЯТОР!$C$21,$I$11,$I$11-SUMIF($A$12:$A$371,\"<=\"&$E$3,$H$12:$H$371)),0,0)),\"\")","v":""},{"$f":"IFERROR((-PPMT(C270/12,B270,IF(C270=КАЛЬКУЛЯТОР!$C$21,$E$2,$E$2-$E$3),IF(C270=КАЛЬКУЛЯТОР!$C$21,$I$11,$I$11-SUMIF($A$12:$A$371,\"<=\"&$E$3,$H$12:$H$371)),0,0)),\"\")","v":""},"",{"$error":"#VALUE!"},null,{"$error":"#VALUE!"},{"$error":"#VALUE!"},{"$error":"#VALUE!"},{"$error":"#VALUE!"},false]
[260,260,{"$f":"IF(A271<=$E$3,КАЛЬКУЛЯТОР!$C$21,IF(AND(A271>$E$3,A271<=$E$2),$E$4,\"\"))","v":""},{"$f":"IF(A271<=$E$2,-PMT(C271/12,IF(C271=КАЛЬКУЛЯТОР!$C$21,$E$2,$E$2-$E$3),IF(C271=КАЛЬКУЛЯТОР!$C$21,$I$11,$I$11-SUMIF($A$12:$A$371,\"<=\"&$E$3,$H$12:$H$371)),0,0),\"\")","v":""},null,{"$f":"IFERROR((-IPMT(C271/12,B271,IF(C271=КАЛЬКУЛЯТОР!$C$21,$E$2,$E$2-$E$3),IF(C271=КАЛЬКУЛЯТОР!$C$21,$I$11,$I$11-SUMIF($A$12:$A$371,\"<=\"&$E$3,$H$12:$H$371)),0,0)),\"\")","v":""},{"$f":"IFERROR((-IPMT((C271-'КАЛЬКУЛЯТОР 1'!$P$1)/12,B271,IF(C271=КАЛЬКУЛЯТОР!$C$21,$E$2,$E$2-$E$3),IF(C271=КАЛЬКУЛЯТОР!$C$21,$I$11,$I$11-SUMIF($A$12:$A$371,\"<=\"&$E$3,$H$12:$H$371)),0,0)),\"\")","v":""},{"$f":"IFERROR((-PPMT(C271/12,B271,IF(C271=КАЛЬКУЛЯТОР!$C$21,$E$2,$E$2-$E$3),IF(C271=КАЛЬКУЛЯТОР!$C$21,$I$11,$I$11-SUMIF($A$12:$A$371,\"<=\"&$E$3,$H$12:$H$371)),0,0)),\"\")","v":""},"",{"$error":"#VALUE!"},null,{"$error":"#VALUE!"},{"$error":"#VALUE!"},{"$error":"#VALUE!"},{"$error":"#VALUE!"},false]
[261,261,{"$f":"IF(A272<=$E$3,КАЛЬКУЛЯТОР!$C$21,IF(AND(A272>$E$3,A272<=$E$2),$E$4,\"\"))","v":""},{"$f":"IF(A272<=$E$2,-PMT(C272/12,IF(C272=КАЛЬКУЛЯТОР!$C$21,$E$2,$E$2-$E$3),IF(C272=КАЛЬКУЛЯТОР!$C$21,$I$11,$I$11-SUMIF($A$12:$A$371,\"<=\"&$E$3,$H$12:$H$371)),0,0),\"\")","v":""},null,{"$f":"IFERROR((-IPMT(C272/12,B272,IF(C272=КАЛЬКУЛЯТОР!$C$21,$E$2,$E$2-$E$3),IF(C272=КАЛЬКУЛЯТОР!$C$21,$I$11,$I$11-SUMIF($A$12:$A$371,\"<=\"&$E$3,$H$12:$H$371)),0,0)),\"\")","v":""},{"$f":"IFERROR((-IPMT((C272-'КАЛЬКУЛЯТОР 1'!$P$1)/12,B272,IF(C272=КАЛЬКУЛЯТОР!$C$21,$E$2,$E$2-$E$3),IF(C272=КАЛЬКУЛЯТОР!$C$21,$I$11,$I$11-SUMIF($A$12:$A$371,\"<=\"&$E$3,$H$12:$H$371)),0,0)),\"\")","v":""},{"$f":"IFERROR((-PPMT(C272/12,B272,IF(C272=КАЛЬКУЛЯТОР!$C$21,$E$2,$E$2-$E$3),IF(C272=КАЛЬКУЛЯТОР!$C$21,$I$11,$I$11-SUMIF($A$12:$A$371,\"<=\"&$E$3,$H$12:$H$371)),0,0)),\"\")","v":""},"",{"$error":"#VALUE!"},null,{"$error":"#VALUE!"},{"$error":"#VALUE!"},{"$error":"#VALUE!"},{"$error":"#VALUE!"},false]
[262,262,{"$f":"IF(A273<=$E$3,КАЛЬКУЛЯТОР!$C$21,IF(AND(A273>$E$3,A273<=$E$2),$E$4,\"\"))","v":""},{"$f":"IF(A273<=$E$2,-PMT(C273/12,IF(C273=КАЛЬКУЛЯТОР!$C$21,$E$2,$E$2-$E$3),IF(C273=КАЛЬКУЛЯТОР!$C$21,$I$11,$I$11-SUMIF($A$12:$A$371,\"<=\"&$E$3,$H$12:$H$371)),0,0),\"\")","v":""},null,{"$f":"IFERROR((-IPMT(C273/12,B273,IF(C273=КАЛЬКУЛЯТОР!$C$21,$E$2,$E$2-$E$3),IF(C273=КАЛЬКУЛЯТОР!$C$21,$I$11,$I$11-SUMIF($A$12:$A$371,\"<=\"&$E$3,$H$12:$H$371)),0,0)),\"\")","v":""},{"$f":"IFERROR((-IPMT((C273-'КАЛЬКУЛЯТОР 1'!$P$1)/12,B273,IF(C273=КАЛЬКУЛЯТОР!$C$21,$E$2,$E$2-$E$3),IF(C273=КАЛЬКУЛЯТОР!$C$21,$I$11,$I$11-SUMIF($A$12:$A$371,\"<=\"&$E$3,$H$12:$H$371)),0,0)),\"\")","v":""},{"$f":"IFERROR((-PPMT(C273/12,B273,IF(C273=КАЛЬКУЛЯТОР!$C$21,$E$2,$E$2-$E$3),IF(C273=КАЛЬКУЛЯТОР!$C$21,$I$11,$I$11-SUMIF($A$12:$A$371,\"<=\"&$E$3,$H$12:$H$371)),0,0)),\"\")","v":""},"",{"$error":"#VALUE!"},null,{"$error":"#VALUE!"},{"$error":"#VALUE!"},{"$error":"#VALUE!"},{"$error":"#VALUE!"},false]
[263,263,{"$f":"IF(A274<=$E$3,КАЛЬКУЛЯТОР!$C$21,IF(AND(A274>$E$3,A274<=$E$2),$E$4,\"\"))","v":""},{"$f":"IF(A274<=$E$2,-PMT(C274/12,IF(C274=КАЛЬКУЛЯТОР!$C$21,$E$2,$E$2-$E$3),IF(C274=КАЛЬКУЛЯТОР!$C$21,$I$11,$I$11-SUMIF($A$12:$A$371,\"<=\"&$E$3,$H$12:$H$371)),0,0),\"\")","v":""},null,{"$f":"IFERROR((-IPMT(C274/12,B274,IF(C274=КАЛЬКУЛЯТОР!$C$21,$E$2,$E$2-$E$3),IF(C274=КАЛЬКУЛЯТОР!$C$21,$I$11,$I$11-SUMIF($A$12:$A$371,\"<=\"&$E$3,$H$12:$H$371)),0,0)),\"\")","v":""},{"$f":"IFERROR((-IPMT((C274-'КАЛЬКУЛЯТОР 1'!$P$1)/12,B274,IF(C274=КАЛЬКУЛЯТОР!$C$21,$E$2,$E$2-$E$3),IF(C274=КАЛЬКУЛЯТОР!$C$21,$I$11,$I$11-SUMIF($A$12:$A$371,\"<=\"&$E$3,$H$12:$H$371)),0,0)),\"\")","v":""},{"$f":"IFERROR((-PPMT(C274/12,B274,IF(C274=КАЛЬКУЛЯТОР!$C$21,$E$2,$E$2-$E$3),IF(C274=КАЛЬКУЛЯТОР!$C$21,$I$11,$I$11-SUMIF($A$12:$A$371,\"<=\"&$E$3,$H$12:$H$371)),0,0)),\"\")","v":""},"",{"$error":"#VALUE!"},null,{"$error":"#VALUE!"},{"$error":"#VALUE!"},{"$error":"#VALUE!"},{"$error":"#VALUE!"},false]
[264,264,{"$f":"IF(A275<=$E$3,КАЛЬКУЛЯТОР!$C$21,IF(AND(A275>$E$3,A275<=$E$2),$E$4,\"\"))","v":""},{"$f":"IF(A275<=$E$2,-PMT(C275/12,IF(C275=КАЛЬКУЛЯТОР!$C$21,$E$2,$E$2-$E$3),IF(C275=КАЛЬКУЛЯТОР!$C$21,$I$11,$I$11-SUMIF($A$12:$A$371,\"<=\"&$E$3,$H$12:$H$371)),0,0),\"\")","v":""},null,{"$f":"IFERROR((-IPMT(C275/12,B275,IF(C275=КАЛЬКУЛЯТОР!$C$21,$E$2,$E$2-$E$3),IF(C275=КАЛЬКУЛЯТОР!$C$21,$I$11,$I$11-SUMIF($A$12:$A$371,\"<=\"&$E$3,$H$12:$H$371)),0,0)),\"\")","v":""},{"$f":"IFERROR((-IPMT((C275-'КАЛЬКУЛЯТОР 1'!$P$1)/12,B275,IF(C275=КАЛЬКУЛЯТОР!$C$21,$E$2,$E$2-$E$3),IF(C275=КАЛЬКУЛЯТОР!$C$21,$I$11,$I$11-SUMIF($A$12:$A$371,\"<=\"&$E$3,$H$12:$H$371)),0,0)),\"\")","v":""},{"$f":"IFERROR((-PPMT(C275/12,B275,IF(C275=КАЛЬКУЛЯТОР!$C$21,$E$2,$E$2-$E$3),IF(C275=КАЛЬКУЛЯТОР!$C$21,$I$11,$I$11-SUMIF($A$12:$A$371,\"<=\"&$E$3,$H$12:$H$371)),0,0)),\"\")","v":""},"",{"$error":"#VALUE!"},null,{"$error":"#VALUE!"},{"$error":"#VALUE!"},{"$error":"#VALUE!"},{"$error":"#VALUE!"},false]
[265,265,{"$f":"IF(A276<=$E$3,КАЛЬКУЛЯТОР!$C$21,IF(AND(A276>$E$3,A276<=$E$2),$E$4,\"\"))","v":""},{"$f":"IF(A276<=$E$2,-PMT(C276/12,IF(C276=КАЛЬКУЛЯТОР!$C$21,$E$2,$E$2-$E$3),IF(C276=КАЛЬКУЛЯТОР!$C$21,$I$11,$I$11-SUMIF($A$12:$A$371,\"<=\"&$E$3,$H$12:$H$371)),0,0)+E276,\"\")","v":""},{"$f":"IF($E$2>$A275,(I275+SUM(F276:F287))*($K$4+$K$5),0)","v":{"v":0,"d":"0.00"}},{"$f":"IFERROR((-IPMT(C276/12,B276,IF(C276=КАЛЬКУЛЯТОР!$C$21,$E$2,$E$2-$E$3),IF(C276=КАЛЬКУЛЯТОР!$C$21,$I$11,$I$11-SUMIF($A$12:$A$371,\"<=\"&$E$3,$H$12:$H$371)),0,0)),\"\")","v":""},{"$f":"IFERROR((-IPMT((C276-'КАЛЬКУЛЯТОР 1'!$P$1)/12,B276,IF(C276=КАЛЬКУЛЯТОР!$C$21,$E$2,$E$2-$E$3),IF(C276=КАЛЬКУЛЯТОР!$C$21,$I$11,$I$11-SUMIF($A$12:$A$371,\"<=\"&$E$3,$H$12:$H$371)),0,0)),\"\")","v":""},{"$f":"IFERROR((-PPMT(C276/12,B276,IF(C276=КАЛЬКУЛЯТОР!$C$21,$E$2,$E$2-$E$3),IF(C276=КАЛЬКУЛЯТОР!$C$21,$I$11,$I$11-SUMIF($A$12:$A$371,\"<=\"&$E$3,$H$12:$H$371)),0,0)),\"\")","v":""},"",{"$error":"#VALUE!"},{"$f":"PV($E$5/12,A276-1,0,-E276)","v":{"v":0,"d":"0.00"}},{"$error":"#VALUE!"},{"$error":"#VALUE!"},{"$error":"#VALUE!"},{"$error":"#VALUE!"},false]
[266,266,{"$f":"IF(A277<=$E$3,КАЛЬКУЛЯТОР!$C$21,IF(AND(A277>$E$3,A277<=$E$2),$E$4,\"\"))","v":""},{"$f":"IF(A277<=$E$2,-PMT(C277/12,IF(C277=КАЛЬКУЛЯТОР!$C$21,$E$2,$E$2-$E$3),IF(C277=КАЛЬКУЛЯТОР!$C$21,$I$11,$I$11-SUMIF($A$12:$A$371,\"<=\"&$E$3,$H$12:$H$371)),0,0),\"\")","v":""},null,{"$f":"IFERROR((-IPMT(C277/12,B277,IF(C277=КАЛЬКУЛЯТОР!$C$21,$E$2,$E$2-$E$3),IF(C277=КАЛЬКУЛЯТОР!$C$21,$I$11,$I$11-SUMIF($A$12:$A$371,\"<=\"&$E$3,$H$12:$H$371)),0,0)),\"\")","v":""},{"$f":"IFERROR((-IPMT((C277-'КАЛЬКУЛЯТОР 1'!$P$1)/12,B277,IF(C277=КАЛЬКУЛЯТОР!$C$21,$E$2,$E$2-$E$3),IF(C277=КАЛЬКУЛЯТОР!$C$21,$I$11,$I$11-SUMIF($A$12:$A$371,\"<=\"&$E$3,$H$12:$H$371)),0,0)),\"\")","v":""},{"$f":"IFERROR((-PPMT(C277/12,B277,IF(C277=КАЛЬКУЛЯТОР!$C$21,$E$2,$E$2-$E$3),IF(C277=КАЛЬКУЛЯТОР!$C$21,$I$11,$I$11-SUMIF($A$12:$A$371,\"<=\"&$E$3,$H$12:$H$371)),0,0)),\"\")","v":""},"",{"$error":"#VALUE!"},null,{"$error":"#VALUE!"},{"$error":"#VALUE!"},{"$error":"#VALUE!"},{"$error":"#VALUE!"},false]
[267,267,{"$f":"IF(A278<=$E$3,КАЛЬКУЛЯТОР!$C$21,IF(AND(A278>$E$3,A278<=$E$2),$E$4,\"\"))","v":""},{"$f":"IF(A278<=$E$2,-PMT(C278/12,IF(C278=КАЛЬКУЛЯТОР!$C$21,$E$2,$E$2-$E$3),IF(C278=КАЛЬКУЛЯТОР!$C$21,$I$11,$I$11-SUMIF($A$12:$A$371,\"<=\"&$E$3,$H$12:$H$371)),0,0),\"\")","v":""},null,{"$f":"IFERROR((-IPMT(C278/12,B278,IF(C278=КАЛЬКУЛЯТОР!$C$21,$E$2,$E$2-$E$3),IF(C278=КАЛЬКУЛЯТОР!$C$21,$I$11,$I$11-SUMIF($A$12:$A$371,\"<=\"&$E$3,$H$12:$H$371)),0,0)),\"\")","v":""},{"$f":"IFERROR((-IPMT((C278-'КАЛЬКУЛЯТОР 1'!$P$1)/12,B278,IF(C278=КАЛЬКУЛЯТОР!$C$21,$E$2,$E$2-$E$3),IF(C278=КАЛЬКУЛЯТОР!$C$21,$I$11,$I$11-SUMIF($A$12:$A$371,\"<=\"&$E$3,$H$12:$H$371)),0,0)),\"\")","v":""},{"$f":"IFERROR((-PPMT(C278/12,B278,IF(C278=КАЛЬКУЛЯТОР!$C$21,$E$2,$E$2-$E$3),IF(C278=КАЛЬКУЛЯТОР!$C$21,$I$11,$I$11-SUMIF($A$12:$A$371,\"<=\"&$E$3,$H$12:$H$371)),0,0)),\"\")","v":""},"",{"$error":"#VALUE!"},null,{"$error":"#VALUE!"},{"$error":"#VALUE!"},{"$error":"#VALUE!"},{"$error":"#VALUE!"},false]
[268,268,{"$f":"IF(A279<=$E$3,КАЛЬКУЛЯТОР!$C$21,IF(AND(A279>$E$3,A279<=$E$2),$E$4,\"\"))","v":""},{"$f":"IF(A279<=$E$2,-PMT(C279/12,IF(C279=КАЛЬКУЛЯТОР!$C$21,$E$2,$E$2-$E$3),IF(C279=КАЛЬКУЛЯТОР!$C$21,$I$11,$I$11-SUMIF($A$12:$A$371,\"<=\"&$E$3,$H$12:$H$371)),0,0),\"\")","v":""},null,{"$f":"IFERROR((-IPMT(C279/12,B279,IF(C279=КАЛЬКУЛЯТОР!$C$21,$E$2,$E$2-$E$3),IF(C279=КАЛЬКУЛЯТОР!$C$21,$I$11,$I$11-SUMIF($A$12:$A$371,\"<=\"&$E$3,$H$12:$H$371)),0,0)),\"\")","v":""},{"$f":"IFERROR((-IPMT((C279-'КАЛЬКУЛЯТОР 1'!$P$1)/12,B279,IF(C279=КАЛЬКУЛЯТОР!$C$21,$E$2,$E$2-$E$3),IF(C279=КАЛЬКУЛЯТОР!$C$21,$I$11,$I$11-SUMIF($A$12:$A$371,\"<=\"&$E$3,$H$12:$H$371)),0,0)),\"\")","v":""},{"$f":"IFERROR((-PPMT(C279/12,B279,IF(C279=КАЛЬКУЛЯТОР!$C$21,$E$2,$E$2-$E$3),IF(C279=КАЛЬКУЛЯТОР!$C$21,$I$11,$I$11-SUMIF($A$12:$A$371,\"<=\"&$E$3,$H$12:$H$371)),0,0)),\"\")","v":""},"",{"$error":"#VALUE!"},null,{"$error":"#VALUE!"},{"$error":"#VALUE!"},{"$error":"#VALUE!"},{"$error":"#VALUE!"},false]
[269,269,{"$f":"IF(A280<=$E$3,КАЛЬКУЛЯТОР!$C$21,IF(AND(A280>$E$3,A280<=$E$2),$E$4,\"\"))","v":""},{"$f":"IF(A280<=$E$2,-PMT(C280/12,IF(C280=КАЛЬКУЛЯТОР!$C$21,$E$2,$E$2-$E$3),IF(C280=КАЛЬКУЛЯТОР!$C$21,$I$11,$I$11-SUMIF($A$12:$A$371,\"<=\"&$E$3,$H$12:$H$371)),0,0),\"\")","v":""},null,{"$f":"IFERROR((-IPMT(C280/12,B280,IF(C280=КАЛЬКУЛЯТОР!$C$21,$E$2,$E$2-$E$3),IF(C280=КАЛЬКУЛЯТОР!$C$21,$I$11,$I$11-SUMIF($A$12:$A$371,\"<=\"&$E$3,$H$12:$H$371)),0,0)),\"\")","v":""},{"$f":"IFERROR((-IPMT((C280-'КАЛЬКУЛЯТОР 1'!$P$1)/12,B280,IF(C280=КАЛЬКУЛЯТОР!$C$21,$E$2,$E$2-$E$3),IF(C280=КАЛЬКУЛЯТОР!$C$21,$I$11,$I$11-SUMIF($A$12:$A$371,\"<=\"&$E$3,$H$12:$H$371)),0,0)),\"\")","v":""},{"$f":"IFERROR((-PPMT(C280/12,B280,IF(C280=КАЛЬКУЛЯТОР!$C$21,$E$2,$E$2-$E$3),IF(C280=КАЛЬКУЛЯТОР!$C$21,$I$11,$I$11-SUMIF($A$12:$A$371,\"<=\"&$E$3,$H$12:$H$371)),0,0)),\"\")","v":""},"",{"$error":"#VALUE!"},null,{"$error":"#VALUE!"},{"$error":"#VALUE!"},{"$error":"#VALUE!"},{"$error":"#VALUE!"},false]
[270,270,{"$f":"IF(A281<=$E$3,КАЛЬКУЛЯТОР!$C$21,IF(AND(A281>$E$3,A281<=$E$2),$E$4,\"\"))","v":""},{"$f":"IF(A281<=$E$2,-PMT(C281/12,IF(C281=КАЛЬКУЛЯТОР!$C$21,$E$2,$E$2-$E$3),IF(C281=КАЛЬКУЛЯТОР!$C$21,$I$11,$I$11-SUMIF($A$12:$A$371,\"<=\"&$E$3,$H$12:$H$371)),0,0),\"\")","v":""},null,{"$f":"IFERROR((-IPMT(C281/12,B281,IF(C281=КАЛЬКУЛЯТОР!$C$21,$E$2,$E$2-$E$3),IF(C281=КАЛЬКУЛЯТОР!$C$21,$I$11,$I$11-SUMIF($A$12:$A$371,\"<=\"&$E$3,$H$12:$H$371)),0,0)),\"\")","v":""},{"$f":"IFERROR((-IPMT((C281-'КАЛЬКУЛЯТОР 1'!$P$1)/12,B281,IF(C281=КАЛЬКУЛЯТОР!$C$21,$E$2,$E$2-$E$3),IF(C281=КАЛЬКУЛЯТОР!$C$21,$I$11,$I$11-SUMIF($A$12:$A$371,\"<=\"&$E$3,$H$12:$H$371)),0,0)),\"\")","v":""},{"$f":"IFERROR((-PPMT(C281/12,B281,IF(C281=КАЛЬКУЛЯТОР!$C$21,$E$2,$E$2-$E$3),IF(C281=КАЛЬКУЛЯТОР!$C$21,$I$11,$I$11-SUMIF($A$12:$A$371,\"<=\"&$E$3,$H$12:$H$371)),0,0)),\"\")","v":""},"",{"$error":"#VALUE!"},null,{"$error":"#VALUE!"},{"$error":"#VALUE!"},{"$error":"#VALUE!"},{"$error":"#VALUE!"},false]
[271,271,{"$f":"IF(A282<=$E$3,КАЛЬКУЛЯТОР!$C$21,IF(AND(A282>$E$3,A282<=$E$2),$E$4,\"\"))","v":""},{"$f":"IF(A282<=$E$2,-PMT(C282/12,IF(C282=КАЛЬКУЛЯТОР!$C$21,$E$2,$E$2-$E$3),IF(C282=КАЛЬКУЛЯТОР!$C$21,$I$11,$I$11-SUMIF($A$12:$A$371,\"<=\"&$E$3,$H$12:$H$371)),0,0),\"\")","v":""},null,{"$f":"IFERROR((-IPMT(C282/12,B282,IF(C282=КАЛЬКУЛЯТОР!$C$21,$E$2,$E$2-$E$3),IF(C282=КАЛЬКУЛЯТОР!$C$21,$I$11,$I$11-SUMIF($A$12:$A$371,\"<=\"&$E$3,$H$12:$H$371)),0,0)),\"\")","v":""},{"$f":"IFERROR((-IPMT((C282-'КАЛЬКУЛЯТОР 1'!$P$1)/12,B282,IF(C282=КАЛЬКУЛЯТОР!$C$21,$E$2,$E$2-$E$3),IF(C282=КАЛЬКУЛЯТОР!$C$21,$I$11,$I$11-SUMIF($A$12:$A$371,\"<=\"&$E$3,$H$12:$H$371)),0,0)),\"\")","v":""},{"$f":"IFERROR((-PPMT(C282/12,B282,IF(C282=КАЛЬКУЛЯТОР!$C$21,$E$2,$E$2-$E$3),IF(C282=КАЛЬКУЛЯТОР!$C$21,$I$11,$I$11-SUMIF($A$12:$A$371,\"<=\"&$E$3,$H$12:$H$371)),0,0)),\"\")","v":""},"",{"$error":"#VALUE!"},null,{"$error":"#VALUE!"},{"$error":"#VALUE!"},{"$error":"#VALUE!"},{"$error":"#VALUE!"},false]
[272,272,{"$f":"IF(A283<=$E$3,КАЛЬКУЛЯТОР!$C$21,IF(AND(A283>$E$3,A283<=$E$2),$E$4,\"\"))","v":""},{"$f":"IF(A283<=$E$2,-PMT(C283/12,IF(C283=КАЛЬКУЛЯТОР!$C$21,$E$2,$E$2-$E$3),IF(C283=КАЛЬКУЛЯТОР!$C$21,$I$11,$I$11-SUMIF($A$12:$A$371,\"<=\"&$E$3,$H$12:$H$371)),0,0),\"\")","v":""},null,{"$f":"IFERROR((-IPMT(C283/12,B283,IF(C283=КАЛЬКУЛЯТОР!$C$21,$E$2,$E$2-$E$3),IF(C283=КАЛЬКУЛЯТОР!$C$21,$I$11,$I$11-SUMIF($A$12:$A$371,\"<=\"&$E$3,$H$12:$H$371)),0,0)),\"\")","v":""},{"$f":"IFERROR((-IPMT((C283-'КАЛЬКУЛЯТОР 1'!$P$1)/12,B283,IF(C283=КАЛЬКУЛЯТОР!$C$21,$E$2,$E$2-$E$3),IF(C283=КАЛЬКУЛЯТОР!$C$21,$I$11,$I$11-SUMIF($A$12:$A$371,\"<=\"&$E$3,$H$12:$H$371)),0,0)),\"\")","v":""},{"$f":"IFERROR((-PPMT(C283/12,B283,IF(C283=КАЛЬКУЛЯТОР!$C$21,$E$2,$E$2-$E$3),IF(C283=КАЛЬКУЛЯТОР!$C$21,$I$11,$I$11-SUMIF($A$12:$A$371,\"<=\"&$E$3,$H$12:$H$371)),0,0)),\"\")","v":""},"",{"$error":"#VALUE!"},null,{"$error":"#VALUE!"},{"$error":"#VALUE!"},{"$error":"#VALUE!"},{"$error":"#VALUE!"},false]
[273,273,{"$f":"IF(A284<=$E$3,КАЛЬКУЛЯТОР!$C$21,IF(AND(A284>$E$3,A284<=$E$2),$E$4,\"\"))","v":""},{"$f":"IF(A284<=$E$2,-PMT(C284/12,IF(C284=КАЛЬКУЛЯТОР!$C$21,$E$2,$E$2-$E$3),IF(C284=КАЛЬКУЛЯТОР!$C$21,$I$11,$I$11-SUMIF($A$12:$A$371,\"<=\"&$E$3,$H$12:$H$371)),0,0),\"\")","v":""},null,{"$f":"IFERROR((-IPMT(C284/12,B284,IF(C284=КАЛЬКУЛЯТОР!$C$21,$E$2,$E$2-$E$3),IF(C284=КАЛЬКУЛЯТОР!$C$21,$I$11,$I$11-SUMIF($A$12:$A$371,\"<=\"&$E$3,$H$12:$H$371)),0,0)),\"\")","v":""},{"$f":"IFERROR((-IPMT((C284-'КАЛЬКУЛЯТОР 1'!$P$1)/12,B284,IF(C284=КАЛЬКУЛЯТОР!$C$21,$E$2,$E$2-$E$3),IF(C284=КАЛЬКУЛЯТОР!$C$21,$I$11,$I$11-SUMIF($A$12:$A$371,\"<=\"&$E$3,$H$12:$H$371)),0,0)),\"\")","v":""},{"$f":"IFERROR((-PPMT(C284/12,B284,IF(C284=КАЛЬКУЛЯТОР!$C$21,$E$2,$E$2-$E$3),IF(C284=КАЛЬКУЛЯТОР!$C$21,$I$11,$I$11-SUMIF($A$12:$A$371,\"<=\"&$E$3,$H$12:$H$371)),0,0)),\"\")","v":""},"",{"$error":"#VALUE!"},null,{"$error":"#VALUE!"},{"$error":"#VALUE!"},{"$error":"#VALUE!"},{"$error":"#VALUE!"},false]
[274,274,{"$f":"IF(A285<=$E$3,КАЛЬКУЛЯТОР!$C$21,IF(AND(A285>$E$3,A285<=$E$2),$E$4,\"\"))","v":""},{"$f":"IF(A285<=$E$2,-PMT(C285/12,IF(C285=КАЛЬКУЛЯТОР!$C$21,$E$2,$E$2-$E$3),IF(C285=КАЛЬКУЛЯТОР!$C$21,$I$11,$I$11-SUMIF($A$12:$A$371,\"<=\"&$E$3,$H$12:$H$371)),0,0),\"\")","v":""},null,{"$f":"IFERROR((-IPMT(C285/12,B285,IF(C285=КАЛЬКУЛЯТОР!$C$21,$E$2,$E$2-$E$3),IF(C285=КАЛЬКУЛЯТОР!$C$21,$I$11,$I$11-SUMIF($A$12:$A$371,\"<=\"&$E$3,$H$12:$H$371)),0,0)),\"\")","v":""},{"$f":"IFERROR((-IPMT((C285-'КАЛЬКУЛЯТОР 1'!$P$1)/12,B285,IF(C285=КАЛЬКУЛЯТОР!$C$21,$E$2,$E$2-$E$3),IF(C285=КАЛЬКУЛЯТОР!$C$21,$I$11,$I$11-SUMIF($A$12:$A$371,\"<=\"&$E$3,$H$12:$H$371)),0,0)),\"\")","v":""},{"$f":"IFERROR((-PPMT(C285/12,B285,IF(C285=КАЛЬКУЛЯТОР!$C$21,$E$2,$E$2-$E$3),IF(C285=КАЛЬКУЛЯТОР!$C$21,$I$11,$I$11-SUMIF($A$12:$A$371,\"<=\"&$E$3,$H$12:$H$371)),0,0)),\"\")","v":""},"",{"$error":"#VALUE!"},null,{"$error":"#VALUE!"},{"$error":"#VALUE!"},{"$error":"#VALUE!"},{"$error":"#VALUE!"},false]
[275,275,{"$f":"IF(A286<=$E$3,КАЛЬКУЛЯТОР!$C$21,IF(AND(A286>$E$3,A286<=$E$2),$E$4,\"\"))","v":""},{"$f":"IF(A286<=$E$2,-PMT(C286/12,IF(C286=КАЛЬКУЛЯТОР!$C$21,$E$2,$E$2-$E$3),IF(C286=КАЛЬКУЛЯТОР!$C$21,$I$11,$I$11-SUMIF($A$12:$A$371,\"<=\"&$E$3,$H$12:$H$371)),0,0),\"\")","v":""},null,{"$f":"IFERROR((-IPMT(C286/12,B286,IF(C286=КАЛЬКУЛЯТОР!$C$21,$E$2,$E$2-$E$3),IF(C286=КАЛЬКУЛЯТОР!$C$21,$I$11,$I$11-SUMIF($A$12:$A$371,\"<=\"&$E$3,$H$12:$H$371)),0,0)),\"\")","v":""},{"$f":"IFERROR((-IPMT((C286-'КАЛЬКУЛЯТОР 1'!$P$1)/12,B286,IF(C286=КАЛЬКУЛЯТОР!$C$21,$E$2,$E$2-$E$3),IF(C286=КАЛЬКУЛЯТОР!$C$21,$I$11,$I$11-SUMIF($A$12:$A$371,\"<=\"&$E$3,$H$12:$H$371)),0,0)),\"\")","v":""},{"$f":"IFERROR((-PPMT(C286/12,B286,IF(C286=КАЛЬКУЛЯТОР!$C$21,$E$2,$E$2-$E$3),IF(C286=КАЛЬКУЛЯТОР!$C$21,$I$11,$I$11-SUMIF($A$12:$A$371,\"<=\"&$E$3,$H$12:$H$371)),0,0)),\"\")","v":""},"",{"$error":"#VALUE!"},null,{"$error":"#VALUE!"},{"$error":"#VALUE!"},{"$error":"#VALUE!"},{"$error":"#VALUE!"},false]
[276,276,{"$f":"IF(A287<=$E$3,КАЛЬКУЛЯТОР!$C$21,IF(AND(A287>$E$3,A287<=$E$2),$E$4,\"\"))","v":""},{"$f":"IF(A287<=$E$2,-PMT(C287/12,IF(C287=КАЛЬКУЛЯТОР!$C$21,$E$2,$E$2-$E$3),IF(C287=КАЛЬКУЛЯТОР!$C$21,$I$11,$I$11-SUMIF($A$12:$A$371,\"<=\"&$E$3,$H$12:$H$371)),0,0),\"\")","v":""},null,{"$f":"IFERROR((-IPMT(C287/12,B287,IF(C287=КАЛЬКУЛЯТОР!$C$21,$E$2,$E$2-$E$3),IF(C287=КАЛЬКУЛЯТОР!$C$21,$I$11,$I$11-SUMIF($A$12:$A$371,\"<=\"&$E$3,$H$12:$H$371)),0,0)),\"\")","v":""},{"$f":"IFERROR((-IPMT((C287-'КАЛЬКУЛЯТОР 1'!$P$1)/12,B287,IF(C287=КАЛЬКУЛЯТОР!$C$21,$E$2,$E$2-$E$3),IF(C287=КАЛЬКУЛЯТОР!$C$21,$I$11,$I$11-SUMIF($A$12:$A$371,\"<=\"&$E$3,$H$12:$H$371)),0,0)),\"\")","v":""},{"$f":"IFERROR((-PPMT(C287/12,B287,IF(C287=КАЛЬКУЛЯТОР!$C$21,$E$2,$E$2-$E$3),IF(C287=КАЛЬКУЛЯТОР!$C$21,$I$11,$I$11-SUMIF($A$12:$A$371,\"<=\"&$E$3,$H$12:$H$371)),0,0)),\"\")","v":""},"",{"$error":"#VALUE!"},null,{"$error":"#VALUE!"},{"$error":"#VALUE!"},{"$error":"#VALUE!"},{"$error":"#VALUE!"},false]
[277,277,{"$f":"IF(A288<=$E$3,КАЛЬКУЛЯТОР!$C$21,IF(AND(A288>$E$3,A288<=$E$2),$E$4,\"\"))","v":""},{"$f":"IF(A288<=$E$2,-PMT(C288/12,IF(C288=КАЛЬКУЛЯТОР!$C$21,$E$2,$E$2-$E$3),IF(C288=КАЛЬКУЛЯТОР!$C$21,$I$11,$I$11-SUMIF($A$12:$A$371,\"<=\"&$E$3,$H$12:$H$371)),0,0)+E288,\"\")","v":""},{"$f":"IF($E$2>$A287,(I287+SUM(F288:F299))*($K$4+$K$5),0)","v":{"v":0,"d":"0.00"}},{"$f":"IFERROR((-IPMT(C288/12,B288,IF(C288=КАЛЬКУЛЯТОР!$C$21,$E$2,$E$2-$E$3),IF(C288=КАЛЬКУЛЯТОР!$C$21,$I$11,$I$11-SUMIF($A$12:$A$371,\"<=\"&$E$3,$H$12:$H$371)),0,0)),\"\")","v":""},{"$f":"IFERROR((-IPMT((C288-'КАЛЬКУЛЯТОР 1'!$P$1)/12,B288,IF(C288=КАЛЬКУЛЯТОР!$C$21,$E$2,$E$2-$E$3),IF(C288=КАЛЬКУЛЯТОР!$C$21,$I$11,$I$11-SUMIF($A$12:$A$371,\"<=\"&$E$3,$H$12:$H$371)),0,0)),\"\")","v":""},{"$f":"IFERROR((-PPMT(C288/12,B288,IF(C288=КАЛЬКУЛЯТОР!$C$21,$E$2,$E$2-$E$3),IF(C288=КАЛЬКУЛЯТОР!$C$21,$I$11,$I$11-SUMIF($A$12:$A$371,\"<=\"&$E$3,$H$12:$H$371)),0,0)),\"\")","v":""},"",{"$error":"#VALUE!"},{"$f":"PV($E$5/12,A288-1,0,-E288)","v":{"v":0,"d":"0.00"}},{"$error":"#VALUE!"},{"$error":"#VALUE!"},{"$error":"#VALUE!"},{"$error":"#VALUE!"},false]
[278,278,{"$f":"IF(A289<=$E$3,КАЛЬКУЛЯТОР!$C$21,IF(AND(A289>$E$3,A289<=$E$2),$E$4,\"\"))","v":""},{"$f":"IF(A289<=$E$2,-PMT(C289/12,IF(C289=КАЛЬКУЛЯТОР!$C$21,$E$2,$E$2-$E$3),IF(C289=КАЛЬКУЛЯТОР!$C$21,$I$11,$I$11-SUMIF($A$12:$A$371,\"<=\"&$E$3,$H$12:$H$371)),0,0),\"\")","v":""},null,{"$f":"IFERROR((-IPMT(C289/12,B289,IF(C289=КАЛЬКУЛЯТОР!$C$21,$E$2,$E$2-$E$3),IF(C289=КАЛЬКУЛЯТОР!$C$21,$I$11,$I$11-SUMIF($A$12:$A$371,\"<=\"&$E$3,$H$12:$H$371)),0,0)),\"\")","v":""},{"$f":"IFERROR((-IPMT((C289-'КАЛЬКУЛЯТОР 1'!$P$1)/12,B289,IF(C289=КАЛЬКУЛЯТОР!$C$21,$E$2,$E$2-$E$3),IF(C289=КАЛЬКУЛЯТОР!$C$21,$I$11,$I$11-SUMIF($A$12:$A$371,\"<=\"&$E$3,$H$12:$H$371)),0,0)),\"\")","v":""},{"$f":"IFERROR((-PPMT(C289/12,B289,IF(C289=КАЛЬКУЛЯТОР!$C$21,$E$2,$E$2-$E$3),IF(C289=КАЛЬКУЛЯТОР!$C$21,$I$11,$I$11-SUMIF($A$12:$A$371,\"<=\"&$E$3,$H$12:$H$371)),0,0)),\"\")","v":""},"",{"$error":"#VALUE!"},null,{"$error":"#VALUE!"},{"$error":"#VALUE!"},{"$error":"#VALUE!"},{"$error":"#VALUE!"},false]
[279,279,{"$f":"IF(A290<=$E$3,КАЛЬКУЛЯТОР!$C$21,IF(AND(A290>$E$3,A290<=$E$2),$E$4,\"\"))","v":""},{"$f":"IF(A290<=$E$2,-PMT(C290/12,IF(C290=КАЛЬКУЛЯТОР!$C$21,$E$2,$E$2-$E$3),IF(C290=КАЛЬКУЛЯТОР!$C$21,$I$11,$I$11-SUMIF($A$12:$A$371,\"<=\"&$E$3,$H$12:$H$371)),0,0),\"\")","v":""},null,{"$f":"IFERROR((-IPMT(C290/12,B290,IF(C290=КАЛЬКУЛЯТОР!$C$21,$E$2,$E$2-$E$3),IF(C290=КАЛЬКУЛЯТОР!$C$21,$I$11,$I$11-SUMIF($A$12:$A$371,\"<=\"&$E$3,$H$12:$H$371)),0,0)),\"\")","v":""},{"$f":"IFERROR((-IPMT((C290-'КАЛЬКУЛЯТОР 1'!$P$1)/12,B290,IF(C290=КАЛЬКУЛЯТОР!$C$21,$E$2,$E$2-$E$3),IF(C290=КАЛЬКУЛЯТОР!$C$21,$I$11,$I$11-SUMIF($A$12:$A$371,\"<=\"&$E$3,$H$12:$H$371)),0,0)),\"\")","v":""},{"$f":"IFERROR((-PPMT(C290/12,B290,IF(C290=КАЛЬКУЛЯТОР!$C$21,$E$2,$E$2-$E$3),IF(C290=КАЛЬКУЛЯТОР!$C$21,$I$11,$I$11-SUMIF($A$12:$A$371,\"<=\"&$E$3,$H$12:$H$371)),0,0)),\"\")","v":""},"",{"$error":"#VALUE!"},null,{"$error":"#VALUE!"},{"$error":"#VALUE!"},{"$error":"#VALUE!"},{"$error":"#VALUE!"},false]
[280,280,{"$f":"IF(A291<=$E$3,КАЛЬКУЛЯТОР!$C$21,IF(AND(A291>$E$3,A291<=$E$2),$E$4,\"\"))","v":""},{"$f":"IF(A291<=$E$2,-PMT(C291/12,IF(C291=КАЛЬКУЛЯТОР!$C$21,$E$2,$E$2-$E$3),IF(C291=КАЛЬКУЛЯТОР!$C$21,$I$11,$I$11-SUMIF($A$12:$A$371,\"<=\"&$E$3,$H$12:$H$371)),0,0),\"\")","v":""},null,{"$f":"IFERROR((-IPMT(C291/12,B291,IF(C291=КАЛЬКУЛЯТОР!$C$21,$E$2,$E$2-$E$3),IF(C291=КАЛЬКУЛЯТОР!$C$21,$I$11,$I$11-SUMIF($A$12:$A$371,\"<=\"&$E$3,$H$12:$H$371)),0,0)),\"\")","v":""},{"$f":"IFERROR((-IPMT((C291-'КАЛЬКУЛЯТОР 1'!$P$1)/12,B291,IF(C291=КАЛЬКУЛЯТОР!$C$21,$E$2,$E$2-$E$3),IF(C291=КАЛЬКУЛЯТОР!$C$21,$I$11,$I$11-SUMIF($A$12:$A$371,\"<=\"&$E$3,$H$12:$H$371)),0,0)),\"\")","v":""},{"$f":"IFERROR((-PPMT(C291/12,B291,IF(C291=КАЛЬКУЛЯТОР!$C$21,$E$2,$E$2-$E$3),IF(C291=КАЛЬКУЛЯТОР!$C$21,$I$11,$I$11-SUMIF($A$12:$A$371,\"<=\"&$E$3,$H$12:$H$371)),0,0)),\"\")","v":""},"",{"$error":"#VALUE!"},null,{"$error":"#VALUE!"},{"$error":"#VALUE!"},{"$error":"#VALUE!"},{"$error":"#VALUE!"},false]
[281,281,{"$f":"IF(A292<=$E$3,КАЛЬКУЛЯТОР!$C$21,IF(AND(A292>$E$3,A292<=$E$2),$E$4,\"\"))","v":""},{"$f":"IF(A292<=$E$2,-PMT(C292/12,IF(C292=КАЛЬКУЛЯТОР!$C$21,$E$2,$E$2-$E$3),IF(C292=КАЛЬКУЛЯТОР!$C$21,$I$11,$I$11-SUMIF($A$12:$A$371,\"<=\"&$E$3,$H$12:$H$371)),0,0),\"\")","v":""},null,{"$f":"IFERROR((-IPMT(C292/12,B292,IF(C292=КАЛЬКУЛЯТОР!$C$21,$E$2,$E$2-$E$3),IF(C292=КАЛЬКУЛЯТОР!$C$21,$I$11,$I$11-SUMIF($A$12:$A$371,\"<=\"&$E$3,$H$12:$H$371)),0,0)),\"\")","v":""},{"$f":"IFERROR((-IPMT((C292-'КАЛЬКУЛЯТОР 1'!$P$1)/12,B292,IF(C292=КАЛЬКУЛЯТОР!$C$21,$E$2,$E$2-$E$3),IF(C292=КАЛЬКУЛЯТОР!$C$21,$I$11,$I$11-SUMIF($A$12:$A$371,\"<=\"&$E$3,$H$12:$H$371)),0,0)),\"\")","v":""},{"$f":"IFERROR((-PPMT(C292/12,B292,IF(C292=КАЛЬКУЛЯТОР!$C$21,$E$2,$E$2-$E$3),IF(C292=КАЛЬКУЛЯТОР!$C$21,$I$11,$I$11-SUMIF($A$12:$A$371,\"<=\"&$E$3,$H$12:$H$371)),0,0)),\"\")","v":""},"",{"$error":"#VALUE!"},null,{"$error":"#VALUE!"},{"$error":"#VALUE!"},{"$error":"#VALUE!"},{"$error":"#VALUE!"},false]
[282,282,{"$f":"IF(A293<=$E$3,КАЛЬКУЛЯТОР!$C$21,IF(AND(A293>$E$3,A293<=$E$2),$E$4,\"\"))","v":""},{"$f":"IF(A293<=$E$2,-PMT(C293/12,IF(C293=КАЛЬКУЛЯТОР!$C$21,$E$2,$E$2-$E$3),IF(C293=КАЛЬКУЛЯТОР!$C$21,$I$11,$I$11-SUMIF($A$12:$A$371,\"<=\"&$E$3,$H$12:$H$371)),0,0),\"\")","v":""},null,{"$f":"IFERROR((-IPMT(C293/12,B293,IF(C293=КАЛЬКУЛЯТОР!$C$21,$E$2,$E$2-$E$3),IF(C293=КАЛЬКУЛЯТОР!$C$21,$I$11,$I$11-SUMIF($A$12:$A$371,\"<=\"&$E$3,$H$12:$H$371)),0,0)),\"\")","v":""},{"$f":"IFERROR((-IPMT((C293-'КАЛЬКУЛЯТОР 1'!$P$1)/12,B293,IF(C293=КАЛЬКУЛЯТОР!$C$21,$E$2,$E$2-$E$3),IF(C293=КАЛЬКУЛЯТОР!$C$21,$I$11,$I$11-SUMIF($A$12:$A$371,\"<=\"&$E$3,$H$12:$H$371)),0,0)),\"\")","v":""},{"$f":"IFERROR((-PPMT(C293/12,B293,IF(C293=КАЛЬКУЛЯТОР!$C$21,$E$2,$E$2-$E$3),IF(C293=КАЛЬКУЛЯТОР!$C$21,$I$11,$I$11-SUMIF($A$12:$A$371,\"<=\"&$E$3,$H$12:$H$371)),0,0)),\"\")","v":""},"",{"$error":"#VALUE!"},null,{"$error":"#VALUE!"},{"$error":"#VALUE!"},{"$error":"#VALUE!"},{"$error":"#VALUE!"},false]
[283,283,{"$f":"IF(A294<=$E$3,КАЛЬКУЛЯТОР!$C$21,IF(AND(A294>$E$3,A294<=$E$2),$E$4,\"\"))","v":""},{"$f":"IF(A294<=$E$2,-PMT(C294/12,IF(C294=КАЛЬКУЛЯТОР!$C$21,$E$2,$E$2-$E$3),IF(C294=КАЛЬКУЛЯТОР!$C$21,$I$11,$I$11-SUMIF($A$12:$A$371,\"<=\"&$E$3,$H$12:$H$371)),0,0),\"\")","v":""},null,{"$f":"IFERROR((-IPMT(C294/12,B294,IF(C294=КАЛЬКУЛЯТОР!$C$21,$E$2,$E$2-$E$3),IF(C294=КАЛЬКУЛЯТОР!$C$21,$I$11,$I$11-SUMIF($A$12:$A$371,\"<=\"&$E$3,$H$12:$H$371)),0,0)),\"\")","v":""},{"$f":"IFERROR((-IPMT((C294-'КАЛЬКУЛЯТОР 1'!$P$1)/12,B294,IF(C294=КАЛЬКУЛЯТОР!$C$21,$E$2,$E$2-$E$3),IF(C294=КАЛЬКУЛЯТОР!$C$21,$I$11,$I$11-SUMIF($A$12:$A$371,\"<=\"&$E$3,$H$12:$H$371)),0,0)),\"\")","v":""},{"$f":"IFERROR((-PPMT(C294/12,B294,IF(C294=КАЛЬКУЛЯТОР!$C$21,$E$2,$E$2-$E$3),IF(C294=КАЛЬКУЛЯТОР!$C$21,$I$11,$I$11-SUMIF($A$12:$A$371,\"<=\"&$E$3,$H$12:$H$371)),0,0)),\"\")","v":""},"",{"$error":"#VALUE!"},null,{"$error":"#VALUE!"},{"$error":"#VALUE!"},{"$error":"#VALUE!"},{"$error":"#VALUE!"},false]
[284,284,{"$f":"IF(A295<=$E$3,КАЛЬКУЛЯТОР!$C$21,IF(AND(A295>$E$3,A295<=$E$2),$E$4,\"\"))","v":""},{"$f":"IF(A295<=$E$2,-PMT(C295/12,IF(C295=КАЛЬКУЛЯТОР!$C$21,$E$2,$E$2-$E$3),IF(C295=КАЛЬКУЛЯТОР!$C$21,$I$11,$I$11-SUMIF($A$12:$A$371,\"<=\"&$E$3,$H$12:$H$371)),0,0),\"\")","v":""},null,{"$f":"IFERROR((-IPMT(C295/12,B295,IF(C295=КАЛЬКУЛЯТОР!$C$21,$E$2,$E$2-$E$3),IF(C295=КАЛЬКУЛЯТОР!$C$21,$I$11,$I$11-SUMIF($A$12:$A$371,\"<=\"&$E$3,$H$12:$H$371)),0,0)),\"\")","v":""},{"$f":"IFERROR((-IPMT((C295-'КАЛЬКУЛЯТОР 1'!$P$1)/12,B295,IF(C295=КАЛЬКУЛЯТОР!$C$21,$E$2,$E$2-$E$3),IF(C295=КАЛЬКУЛЯТОР!$C$21,$I$11,$I$11-SUMIF($A$12:$A$371,\"<=\"&$E$3,$H$12:$H$371)),0,0)),\"\")","v":""},{"$f":"IFERROR((-PPMT(C295/12,B295,IF(C295=КАЛЬКУЛЯТОР!$C$21,$E$2,$E$2-$E$3),IF(C295=КАЛЬКУЛЯТОР!$C$21,$I$11,$I$11-SUMIF($A$12:$A$371,\"<=\"&$E$3,$H$12:$H$371)),0,0)),\"\")","v":""},"",{"$error":"#VALUE!"},null,{"$error":"#VALUE!"},{"$error":"#VALUE!"},{"$error":"#VALUE!"},{"$error":"#VALUE!"},false]
[285,285,{"$f":"IF(A296<=$E$3,КАЛЬКУЛЯТОР!$C$21,IF(AND(A296>$E$3,A296<=$E$2),$E$4,\"\"))","v":""},{"$f":"IF(A296<=$E$2,-PMT(C296/12,IF(C296=КАЛЬКУЛЯТОР!$C$21,$E$2,$E$2-$E$3),IF(C296=КАЛЬКУЛЯТОР!$C$21,$I$11,$I$11-SUMIF($A$12:$A$371,\"<=\"&$E$3,$H$12:$H$371)),0,0),\"\")","v":""},null,{"$f":"IFERROR((-IPMT(C296/12,B296,IF(C296=КАЛЬКУЛЯТОР!$C$21,$E$2,$E$2-$E$3),IF(C296=КАЛЬКУЛЯТОР!$C$21,$I$11,$I$11-SUMIF($A$12:$A$371,\"<=\"&$E$3,$H$12:$H$371)),0,0)),\"\")","v":""},{"$f":"IFERROR((-IPMT((C296-'КАЛЬКУЛЯТОР 1'!$P$1)/12,B296,IF(C296=КАЛЬКУЛЯТОР!$C$21,$E$2,$E$2-$E$3),IF(C296=КАЛЬКУЛЯТОР!$C$21,$I$11,$I$11-SUMIF($A$12:$A$371,\"<=\"&$E$3,$H$12:$H$371)),0,0)),\"\")","v":""},{"$f":"IFERROR((-PPMT(C296/12,B296,IF(C296=КАЛЬКУЛЯТОР!$C$21,$E$2,$E$2-$E$3),IF(C296=КАЛЬКУЛЯТОР!$C$21,$I$11,$I$11-SUMIF($A$12:$A$371,\"<=\"&$E$3,$H$12:$H$371)),0,0)),\"\")","v":""},"",{"$error":"#VALUE!"},null,{"$error":"#VALUE!"},{"$error":"#VALUE!"},{"$error":"#VALUE!"},{"$error":"#VALUE!"},false]
[286,286,{"$f":"IF(A297<=$E$3,КАЛЬКУЛЯТОР!$C$21,IF(AND(A297>$E$3,A297<=$E$2),$E$4,\"\"))","v":""},{"$f":"IF(A297<=$E$2,-PMT(C297/12,IF(C297=КАЛЬКУЛЯТОР!$C$21,$E$2,$E$2-$E$3),IF(C297=КАЛЬКУЛЯТОР!$C$21,$I$11,$I$11-SUMIF($A$12:$A$371,\"<=\"&$E$3,$H$12:$H$371)),0,0),\"\")","v":""},null,{"$f":"IFERROR((-IPMT(C297/12,B297,IF(C297=КАЛЬКУЛЯТОР!$C$21,$E$2,$E$2-$E$3),IF(C297=КАЛЬКУЛЯТОР!$C$21,$I$11,$I$11-SUMIF($A$12:$A$371,\"<=\"&$E$3,$H$12:$H$371)),0,0)),\"\")","v":""},{"$f":"IFERROR((-IPMT((C297-'КАЛЬКУЛЯТОР 1'!$P$1)/12,B297,IF(C297=КАЛЬКУЛЯТОР!$C$21,$E$2,$E$2-$E$3),IF(C297=КАЛЬКУЛЯТОР!$C$21,$I$11,$I$11-SUMIF($A$12:$A$371,\"<=\"&$E$3,$H$12:$H$371)),0,0)),\"\")","v":""},{"$f":"IFERROR((-PPMT(C297/12,B297,IF(C297=КАЛЬКУЛЯТОР!$C$21,$E$2,$E$2-$E$3),IF(C297=КАЛЬКУЛЯТОР!$C$21,$I$11,$I$11-SUMIF($A$12:$A$371,\"<=\"&$E$3,$H$12:$H$371)),0,0)),\"\")","v":""},"",{"$error":"#VALUE!"},null,{"$error":"#VALUE!"},{"$error":"#VALUE!"},{"$error":"#VALUE!"},{"$error":"#VALUE!"},false]
[287,287,{"$f":"IF(A298<=$E$3,КАЛЬКУЛЯТОР!$C$21,IF(AND(A298>$E$3,A298<=$E$2),$E$4,\"\"))","v":""},{"$f":"IF(A298<=$E$2,-PMT(C298/12,IF(C298=КАЛЬКУЛЯТОР!$C$21,$E$2,$E$2-$E$3),IF(C298=КАЛЬКУЛЯТОР!$C$21,$I$11,$I$11-SUMIF($A$12:$A$371,\"<=\"&$E$3,$H$12:$H$371)),0,0),\"\")","v":""},null,{"$f":"IFERROR((-IPMT(C298/12,B298,IF(C298=КАЛЬКУЛЯТОР!$C$21,$E$2,$E$2-$E$3),IF(C298=КАЛЬКУЛЯТОР!$C$21,$I$11,$I$11-SUMIF($A$12:$A$371,\"<=\"&$E$3,$H$12:$H$371)),0,0)),\"\")","v":""},{"$f":"IFERROR((-IPMT((C298-'КАЛЬКУЛЯТОР 1'!$P$1)/12,B298,IF(C298=КАЛЬКУЛЯТОР!$C$21,$E$2,$E$2-$E$3),IF(C298=КАЛЬКУЛЯТОР!$C$21,$I$11,$I$11-SUMIF($A$12:$A$371,\"<=\"&$E$3,$H$12:$H$371)),0,0)),\"\")","v":""},{"$f":"IFERROR((-PPMT(C298/12,B298,IF(C298=КАЛЬКУЛЯТОР!$C$21,$E$2,$E$2-$E$3),IF(C298=КАЛЬКУЛЯТОР!$C$21,$I$11,$I$11-SUMIF($A$12:$A$371,\"<=\"&$E$3,$H$12:$H$371)),0,0)),\"\")","v":""},"",{"$error":"#VALUE!"},null,{"$error":"#VALUE!"},{"$error":"#VALUE!"},{"$error":"#VALUE!"},{"$error":"#VALUE!"},false]
[288,288,{"$f":"IF(A299<=$E$3,КАЛЬКУЛЯТОР!$C$21,IF(AND(A299>$E$3,A299<=$E$2),$E$4,\"\"))","v":""},{"$f":"IF(A299<=$E$2,-PMT(C299/12,IF(C299=КАЛЬКУЛЯТОР!$C$21,$E$2,$E$2-$E$3),IF(C299=КАЛЬКУЛЯТОР!$C$21,$I$11,$I$11-SUMIF($A$12:$A$371,\"<=\"&$E$3,$H$12:$H$371)),0,0),\"\")","v":""},null,{"$f":"IFERROR((-IPMT(C299/12,B299,IF(C299=КАЛЬКУЛЯТОР!$C$21,$E$2,$E$2-$E$3),IF(C299=КАЛЬКУЛЯТОР!$C$21,$I$11,$I$11-SUMIF($A$12:$A$371,\"<=\"&$E$3,$H$12:$H$371)),0,0)),\"\")","v":""},{"$f":"IFERROR((-IPMT((C299-'КАЛЬКУЛЯТОР 1'!$P$1)/12,B299,IF(C299=КАЛЬКУЛЯТОР!$C$21,$E$2,$E$2-$E$3),IF(C299=КАЛЬКУЛЯТОР!$C$21,$I$11,$I$11-SUMIF($A$12:$A$371,\"<=\"&$E$3,$H$12:$H$371)),0,0)),\"\")","v":""},{"$f":"IFERROR((-PPMT(C299/12,B299,IF(C299=КАЛЬКУЛЯТОР!$C$21,$E$2,$E$2-$E$3),IF(C299=КАЛЬКУЛЯТОР!$C$21,$I$11,$I$11-SUMIF($A$12:$A$371,\"<=\"&$E$3,$H$12:$H$371)),0,0)),\"\")","v":""},"",{"$error":"#VALUE!"},null,{"$error":"#VALUE!"},{"$error":"#VALUE!"},{"$error":"#VALUE!"},{"$error":"#VALUE!"},false]
[289,289,{"$f":"IF(A300<=$E$3,КАЛЬКУЛЯТОР!$C$21,IF(AND(A300>$E$3,A300<=$E$2),$E$4,\"\"))","v":""},{"$f":"IF(A300<=$E$2,-PMT(C300/12,IF(C300=КАЛЬКУЛЯТОР!$C$21,$E$2,$E$2-$E$3),IF(C300=КАЛЬКУЛЯТОР!$C$21,$I$11,$I$11-SUMIF($A$12:$A$371,\"<=\"&$E$3,$H$12:$H$371)),0,0)+E300,\"\")","v":""},{"$f":"IF($E$2>$A299,(I299+SUM(F300:F311))*($K$4+$K$5),0)","v":{"v":0,"d":"0.00"}},{"$f":"IFERROR((-IPMT(C300/12,B300,IF(C300=КАЛЬКУЛЯТОР!$C$21,$E$2,$E$2-$E$3),IF(C300=КАЛЬКУЛЯТОР!$C$21,$I$11,$I$11-SUMIF($A$12:$A$371,\"<=\"&$E$3,$H$12:$H$371)),0,0)),\"\")","v":""},{"$f":"IFERROR((-IPMT((C300-'КАЛЬКУЛЯТОР 1'!$P$1)/12,B300,IF(C300=КАЛЬКУЛЯТОР!$C$21,$E$2,$E$2-$E$3),IF(C300=КАЛЬКУЛЯТОР!$C$21,$I$11,$I$11-SUMIF($A$12:$A$371,\"<=\"&$E$3,$H$12:$H$371)),0,0)),\"\")","v":""},{"$f":"IFERROR((-PPMT(C300/12,B300,IF(C300=КАЛЬКУЛЯТОР!$C$21,$E$2,$E$2-$E$3),IF(C300=КАЛЬКУЛЯТОР!$C$21,$I$11,$I$11-SUMIF($A$12:$A$371,\"<=\"&$E$3,$H$12:$H$371)),0,0)),\"\")","v":""},"",{"$error":"#VALUE!"},{"$f":"PV($E$5/12,A300-1,0,-E300)","v":{"v":0,"d":"0.00"}},{"$error":"#VALUE!"},{"$error":"#VALUE!"},{"$error":"#VALUE!"},{"$error":"#VALUE!"},false]
[290,290,{"$f":"IF(A301<=$E$3,КАЛЬКУЛЯТОР!$C$21,IF(AND(A301>$E$3,A301<=$E$2),$E$4,\"\"))","v":""},{"$f":"IF(A301<=$E$2,-PMT(C301/12,IF(C301=КАЛЬКУЛЯТОР!$C$21,$E$2,$E$2-$E$3),IF(C301=КАЛЬКУЛЯТОР!$C$21,$I$11,$I$11-SUMIF($A$12:$A$371,\"<=\"&$E$3,$H$12:$H$371)),0,0),\"\")","v":""},null,{"$f":"IFERROR((-IPMT(C301/12,B301,IF(C301=КАЛЬКУЛЯТОР!$C$21,$E$2,$E$2-$E$3),IF(C301=КАЛЬКУЛЯТОР!$C$21,$I$11,$I$11-SUMIF($A$12:$A$371,\"<=\"&$E$3,$H$12:$H$371)),0,0)),\"\")","v":""},{"$f":"IFERROR((-IPMT((C301-'КАЛЬКУЛЯТОР 1'!$P$1)/12,B301,IF(C301=КАЛЬКУЛЯТОР!$C$21,$E$2,$E$2-$E$3),IF(C301=КАЛЬКУЛЯТОР!$C$21,$I$11,$I$11-SUMIF($A$12:$A$371,\"<=\"&$E$3,$H$12:$H$371)),0,0)),\"\")","v":""},{"$f":"IFERROR((-PPMT(C301/12,B301,IF(C301=КАЛЬКУЛЯТОР!$C$21,$E$2,$E$2-$E$3),IF(C301=КАЛЬКУЛЯТОР!$C$21,$I$11,$I$11-SUMIF($A$12:$A$371,\"<=\"&$E$3,$H$12:$H$371)),0,0)),\"\")","v":""},"",{"$error":"#VALUE!"},null,{"$error":"#VALUE!"},{"$error":"#VALUE!"},{"$error":"#VALUE!"},{"$error":"#VALUE!"},false]
[291,291,{"$f":"IF(A302<=$E$3,КАЛЬКУЛЯТОР!$C$21,IF(AND(A302>$E$3,A302<=$E$2),$E$4,\"\"))","v":""},{"$f":"IF(A302<=$E$2,-PMT(C302/12,IF(C302=КАЛЬКУЛЯТОР!$C$21,$E$2,$E$2-$E$3),IF(C302=КАЛЬКУЛЯТОР!$C$21,$I$11,$I$11-SUMIF($A$12:$A$371,\"<=\"&$E$3,$H$12:$H$371)),0,0),\"\")","v":""},null,{"$f":"IFERROR((-IPMT(C302/12,B302,IF(C302=КАЛЬКУЛЯТОР!$C$21,$E$2,$E$2-$E$3),IF(C302=КАЛЬКУЛЯТОР!$C$21,$I$11,$I$11-SUMIF($A$12:$A$371,\"<=\"&$E$3,$H$12:$H$371)),0,0)),\"\")","v":""},{"$f":"IFERROR((-IPMT((C302-'КАЛЬКУЛЯТОР 1'!$P$1)/12,B302,IF(C302=КАЛЬКУЛЯТОР!$C$21,$E$2,$E$2-$E$3),IF(C302=КАЛЬКУЛЯТОР!$C$21,$I$11,$I$11-SUMIF($A$12:$A$371,\"<=\"&$E$3,$H$12:$H$371)),0,0)),\"\")","v":""},{"$f":"IFERROR((-PPMT(C302/12,B302,IF(C302=КАЛЬКУЛЯТОР!$C$21,$E$2,$E$2-$E$3),IF(C302=КАЛЬКУЛЯТОР!$C$21,$I$11,$I$11-SUMIF($A$12:$A$371,\"<=\"&$E$3,$H$12:$H$371)),0,0)),\"\")","v":""},"",{"$error":"#VALUE!"},null,{"$error":"#VALUE!"},{"$error":"#VALUE!"},{"$error":"#VALUE!"},{"$error":"#VALUE!"},false]
[292,292,{"$f":"IF(A303<=$E$3,КАЛЬКУЛЯТОР!$C$21,IF(AND(A303>$E$3,A303<=$E$2),$E$4,\"\"))","v":""},{"$f":"IF(A303<=$E$2,-PMT(C303/12,IF(C303=КАЛЬКУЛЯТОР!$C$21,$E$2,$E$2-$E$3),IF(C303=КАЛЬКУЛЯТОР!$C$21,$I$11,$I$11-SUMIF($A$12:$A$371,\"<=\"&$E$3,$H$12:$H$371)),0,0),\"\")","v":""},null,{"$f":"IFERROR((-IPMT(C303/12,B303,IF(C303=КАЛЬКУЛЯТОР!$C$21,$E$2,$E$2-$E$3),IF(C303=КАЛЬКУЛЯТОР!$C$21,$I$11,$I$11-SUMIF($A$12:$A$371,\"<=\"&$E$3,$H$12:$H$371)),0,0)),\"\")","v":""},{"$f":"IFERROR((-IPMT((C303-'КАЛЬКУЛЯТОР 1'!$P$1)/12,B303,IF(C303=КАЛЬКУЛЯТОР!$C$21,$E$2,$E$2-$E$3),IF(C303=КАЛЬКУЛЯТОР!$C$21,$I$11,$I$11-SUMIF($A$12:$A$371,\"<=\"&$E$3,$H$12:$H$371)),0,0)),\"\")","v":""},{"$f":"IFERROR((-PPMT(C303/12,B303,IF(C303=КАЛЬКУЛЯТОР!$C$21,$E$2,$E$2-$E$3),IF(C303=КАЛЬКУЛЯТОР!$C$21,$I$11,$I$11-SUMIF($A$12:$A$371,\"<=\"&$E$3,$H$12:$H$371)),0,0)),\"\")","v":""},"",{"$error":"#VALUE!"},null,{"$error":"#VALUE!"},{"$error":"#VALUE!"},{"$error":"#VALUE!"},{"$error":"#VALUE!"},false]
[293,293,{"$f":"IF(A304<=$E$3,КАЛЬКУЛЯТОР!$C$21,IF(AND(A304>$E$3,A304<=$E$2),$E$4,\"\"))","v":""},{"$f":"IF(A304<=$E$2,-PMT(C304/12,IF(C304=КАЛЬКУЛЯТОР!$C$21,$E$2,$E$2-$E$3),IF(C304=КАЛЬКУЛЯТОР!$C$21,$I$11,$I$11-SUMIF($A$12:$A$371,\"<=\"&$E$3,$H$12:$H$371)),0,0),\"\")","v":""},null,{"$f":"IFERROR((-IPMT(C304/12,B304,IF(C304=КАЛЬКУЛЯТОР!$C$21,$E$2,$E$2-$E$3),IF(C304=КАЛЬКУЛЯТОР!$C$21,$I$11,$I$11-SUMIF($A$12:$A$371,\"<=\"&$E$3,$H$12:$H$371)),0,0)),\"\")","v":""},{"$f":"IFERROR((-IPMT((C304-'КАЛЬКУЛЯТОР 1'!$P$1)/12,B304,IF(C304=КАЛЬКУЛЯТОР!$C$21,$E$2,$E$2-$E$3),IF(C304=КАЛЬКУЛЯТОР!$C$21,$I$11,$I$11-SUMIF($A$12:$A$371,\"<=\"&$E$3,$H$12:$H$371)),0,0)),\"\")","v":""},{"$f":"IFERROR((-PPMT(C304/12,B304,IF(C304=КАЛЬКУЛЯТОР!$C$21,$E$2,$E$2-$E$3),IF(C304=КАЛЬКУЛЯТОР!$C$21,$I$11,$I$11-SUMIF($A$12:$A$371,\"<=\"&$E$3,$H$12:$H$371)),0,0)),\"\")","v":""},"",{"$error":"#VALUE!"},null,{"$error":"#VALUE!"},{"$error":"#VALUE!"},{"$error":"#VALUE!"},{"$error":"#VALUE!"},false]
[294,294,{"$f":"IF(A305<=$E$3,КАЛЬКУЛЯТОР!$C$21,IF(AND(A305>$E$3,A305<=$E$2),$E$4,\"\"))","v":""},{"$f":"IF(A305<=$E$2,-PMT(C305/12,IF(C305=КАЛЬКУЛЯТОР!$C$21,$E$2,$E$2-$E$3),IF(C305=КАЛЬКУЛЯТОР!$C$21,$I$11,$I$11-SUMIF($A$12:$A$371,\"<=\"&$E$3,$H$12:$H$371)),0,0),\"\")","v":""},null,{"$f":"IFERROR((-IPMT(C305/12,B305,IF(C305=КАЛЬКУЛЯТОР!$C$21,$E$2,$E$2-$E$3),IF(C305=КАЛЬКУЛЯТОР!$C$21,$I$11,$I$11-SUMIF($A$12:$A$371,\"<=\"&$E$3,$H$12:$H$371)),0,0)),\"\")","v":""},{"$f":"IFERROR((-IPMT((C305-'КАЛЬКУЛЯТОР 1'!$P$1)/12,B305,IF(C305=КАЛЬКУЛЯТОР!$C$21,$E$2,$E$2-$E$3),IF(C305=КАЛЬКУЛЯТОР!$C$21,$I$11,$I$11-SUMIF($A$12:$A$371,\"<=\"&$E$3,$H$12:$H$371)),0,0)),\"\")","v":""},{"$f":"IFERROR((-PPMT(C305/12,B305,IF(C305=КАЛЬКУЛЯТОР!$C$21,$E$2,$E$2-$E$3),IF(C305=КАЛЬКУЛЯТОР!$C$21,$I$11,$I$11-SUMIF($A$12:$A$371,\"<=\"&$E$3,$H$12:$H$371)),0,0)),\"\")","v":""},"",{"$error":"#VALUE!"},null,{"$error":"#VALUE!"},{"$error":"#VALUE!"},{"$error":"#VALUE!"},{"$error":"#VALUE!"},false]
[295,295,{"$f":"IF(A306<=$E$3,КАЛЬКУЛЯТОР!$C$21,IF(AND(A306>$E$3,A306<=$E$2),$E$4,\"\"))","v":""},{"$f":"IF(A306<=$E$2,-PMT(C306/12,IF(C306=КАЛЬКУЛЯТОР!$C$21,$E$2,$E$2-$E$3),IF(C306=КАЛЬКУЛЯТОР!$C$21,$I$11,$I$11-SUMIF($A$12:$A$371,\"<=\"&$E$3,$H$12:$H$371)),0,0),\"\")","v":""},null,{"$f":"IFERROR((-IPMT(C306/12,B306,IF(C306=КАЛЬКУЛЯТОР!$C$21,$E$2,$E$2-$E$3),IF(C306=КАЛЬКУЛЯТОР!$C$21,$I$11,$I$11-SUMIF($A$12:$A$371,\"<=\"&$E$3,$H$12:$H$371)),0,0)),\"\")","v":""},{"$f":"IFERROR((-IPMT((C306-'КАЛЬКУЛЯТОР 1'!$P$1)/12,B306,IF(C306=КАЛЬКУЛЯТОР!$C$21,$E$2,$E$2-$E$3),IF(C306=КАЛЬКУЛЯТОР!$C$21,$I$11,$I$11-SUMIF($A$12:$A$371,\"<=\"&$E$3,$H$12:$H$371)),0,0)),\"\")","v":""},{"$f":"IFERROR((-PPMT(C306/12,B306,IF(C306=КАЛЬКУЛЯТОР!$C$21,$E$2,$E$2-$E$3),IF(C306=КАЛЬКУЛЯТОР!$C$21,$I$11,$I$11-SUMIF($A$12:$A$371,\"<=\"&$E$3,$H$12:$H$371)),0,0)),\"\")","v":""},"",{"$error":"#VALUE!"},null,{"$error":"#VALUE!"},{"$error":"#VALUE!"},{"$error":"#VALUE!"},{"$error":"#VALUE!"},false]
[296,296,{"$f":"IF(A307<=$E$3,КАЛЬКУЛЯТОР!$C$21,IF(AND(A307>$E$3,A307<=$E$2),$E$4,\"\"))","v":""},{"$f":"IF(A307<=$E$2,-PMT(C307/12,IF(C307=КАЛЬКУЛЯТОР!$C$21,$E$2,$E$2-$E$3),IF(C307=КАЛЬКУЛЯТОР!$C$21,$I$11,$I$11-SUMIF($A$12:$A$371,\"<=\"&$E$3,$H$12:$H$371)),0,0),\"\")","v":""},null,{"$f":"IFERROR((-IPMT(C307/12,B307,IF(C307=КАЛЬКУЛЯТОР!$C$21,$E$2,$E$2-$E$3),IF(C307=КАЛЬКУЛЯТОР!$C$21,$I$11,$I$11-SUMIF($A$12:$A$371,\"<=\"&$E$3,$H$12:$H$371)),0,0)),\"\")","v":""},{"$f":"IFERROR((-IPMT((C307-'КАЛЬКУЛЯТОР 1'!$P$1)/12,B307,IF(C307=КАЛЬКУЛЯТОР!$C$21,$E$2,$E$2-$E$3),IF(C307=КАЛЬКУЛЯТОР!$C$21,$I$11,$I$11-SUMIF($A$12:$A$371,\"<=\"&$E$3,$H$12:$H$371)),0,0)),\"\")","v":""},{"$f":"IFERROR((-PPMT(C307/12,B307,IF(C307=КАЛЬКУЛЯТОР!$C$21,$E$2,$E$2-$E$3),IF(C307=КАЛЬКУЛЯТОР!$C$21,$I$11,$I$11-SUMIF($A$12:$A$371,\"<=\"&$E$3,$H$12:$H$371)),0,0)),\"\")","v":""},"",{"$error":"#VALUE!"},null,{"$error":"#VALUE!"},{"$error":"#VALUE!"},{"$error":"#VALUE!"},{"$error":"#VALUE!"},false]
[297,297,{"$f":"IF(A308<=$E$3,КАЛЬКУЛЯТОР!$C$21,IF(AND(A308>$E$3,A308<=$E$2),$E$4,\"\"))","v":""},{"$f":"IF(A308<=$E$2,-PMT(C308/12,IF(C308=КАЛЬКУЛЯТОР!$C$21,$E$2,$E$2-$E$3),IF(C308=КАЛЬКУЛЯТОР!$C$21,$I$11,$I$11-SUMIF($A$12:$A$371,\"<=\"&$E$3,$H$12:$H$371)),0,0),\"\")","v":""},null,{"$f":"IFERROR((-IPMT(C308/12,B308,IF(C308=КАЛЬКУЛЯТОР!$C$21,$E$2,$E$2-$E$3),IF(C308=КАЛЬКУЛЯТОР!$C$21,$I$11,$I$11-SUMIF($A$12:$A$371,\"<=\"&$E$3,$H$12:$H$371)),0,0)),\"\")","v":""},{"$f":"IFERROR((-IPMT((C308-'КАЛЬКУЛЯТОР 1'!$P$1)/12,B308,IF(C308=КАЛЬКУЛЯТОР!$C$21,$E$2,$E$2-$E$3),IF(C308=КАЛЬКУЛЯТОР!$C$21,$I$11,$I$11-SUMIF($A$12:$A$371,\"<=\"&$E$3,$H$12:$H$371)),0,0)),\"\")","v":""},{"$f":"IFERROR((-PPMT(C308/12,B308,IF(C308=КАЛЬКУЛЯТОР!$C$21,$E$2,$E$2-$E$3),IF(C308=КАЛЬКУЛЯТОР!$C$21,$I$11,$I$11-SUMIF($A$12:$A$371,\"<=\"&$E$3,$H$12:$H$371)),0,0)),\"\")","v":""},"",{"$error":"#VALUE!"},null,{"$error":"#VALUE!"},{"$error":"#VALUE!"},{"$error":"#VALUE!"},{"$error":"#VALUE!"},false]
[298,298,{"$f":"IF(A309<=$E$3,КАЛЬКУЛЯТОР!$C$21,IF(AND(A309>$E$3,A309<=$E$2),$E$4,\"\"))","v":""},{"$f":"IF(A309<=$E$2,-PMT(C309/12,IF(C309=КАЛЬКУЛЯТОР!$C$21,$E$2,$E$2-$E$3),IF(C309=КАЛЬКУЛЯТОР!$C$21,$I$11,$I$11-SUMIF($A$12:$A$371,\"<=\"&$E$3,$H$12:$H$371)),0,0),\"\")","v":""},null,{"$f":"IFERROR((-IPMT(C309/12,B309,IF(C309=КАЛЬКУЛЯТОР!$C$21,$E$2,$E$2-$E$3),IF(C309=КАЛЬКУЛЯТОР!$C$21,$I$11,$I$11-SUMIF($A$12:$A$371,\"<=\"&$E$3,$H$12:$H$371)),0,0)),\"\")","v":""},{"$f":"IFERROR((-IPMT((C309-'КАЛЬКУЛЯТОР 1'!$P$1)/12,B309,IF(C309=КАЛЬКУЛЯТОР!$C$21,$E$2,$E$2-$E$3),IF(C309=КАЛЬКУЛЯТОР!$C$21,$I$11,$I$11-SUMIF($A$12:$A$371,\"<=\"&$E$3,$H$12:$H$371)),0,0)),\"\")","v":""},{"$f":"IFERROR((-PPMT(C309/12,B309,IF(C309=КАЛЬКУЛЯТОР!$C$21,$E$2,$E$2-$E$3),IF(C309=КАЛЬКУЛЯТОР!$C$21,$I$11,$I$11-SUMIF($A$12:$A$371,\"<=\"&$E$3,$H$12:$H$371)),0,0)),\"\")","v":""},"",{"$error":"#VALUE!"},null,{"$error":"#VALUE!"},{"$error":"#VALUE!"},{"$error":"#VALUE!"},{"$error":"#VALUE!"},false]
[299,299,{"$f":"IF(A310<=$E$3,КАЛЬКУЛЯТОР!$C$21,IF(AND(A310>$E$3,A310<=$E$2),$E$4,\"\"))","v":""},{"$f":"IF(A310<=$E$2,-PMT(C310/12,IF(C310=КАЛЬКУЛЯТОР!$C$21,$E$2,$E$2-$E$3),IF(C310=КАЛЬКУЛЯТОР!$C$21,$I$11,$I$11-SUMIF($A$12:$A$371,\"<=\"&$E$3,$H$12:$H$371)),0,0),\"\")","v":""},null,{"$f":"IFERROR((-IPMT(C310/12,B310,IF(C310=КАЛЬКУЛЯТОР!$C$21,$E$2,$E$2-$E$3),IF(C310=КАЛЬКУЛЯТОР!$C$21,$I$11,$I$11-SUMIF($A$12:$A$371,\"<=\"&$E$3,$H$12:$H$371)),0,0)),\"\")","v":""},{"$f":"IFERROR((-IPMT((C310-'КАЛЬКУЛЯТОР 1'!$P$1)/12,B310,IF(C310=КАЛЬКУЛЯТОР!$C$21,$E$2,$E$2-$E$3),IF(C310=КАЛЬКУЛЯТОР!$C$21,$I$11,$I$11-SUMIF($A$12:$A$371,\"<=\"&$E$3,$H$12:$H$371)),0,0)),\"\")","v":""},{"$f":"IFERROR((-PPMT(C310/12,B310,IF(C310=КАЛЬКУЛЯТОР!$C$21,$E$2,$E$2-$E$3),IF(C310=КАЛЬКУЛЯТОР!$C$21,$I$11,$I$11-SUMIF($A$12:$A$371,\"<=\"&$E$3,$H$12:$H$371)),0,0)),\"\")","v":""},"",{"$error":"#VALUE!"},null,{"$error":"#VALUE!"},{"$error":"#VALUE!"},{"$error":"#VALUE!"},{"$error":"#VALUE!"},false]
[300,300,{"$f":"IF(A311<=$E$3,КАЛЬКУЛЯТОР!$C$21,IF(AND(A311>$E$3,A311<=$E$2),$E$4,\"\"))","v":""},{"$f":"IF(A311<=$E$2,-PMT(C311/12,IF(C311=КАЛЬКУЛЯТОР!$C$21,$E$2,$E$2-$E$3),IF(C311=КАЛЬКУЛЯТОР!$C$21,$I$11,$I$11-SUMIF($A$12:$A$371,\"<=\"&$E$3,$H$12:$H$371)),0,0),\"\")","v":""},null,{"$f":"IFERROR((-IPMT(C311/12,B311,IF(C311=КАЛЬКУЛЯТОР!$C$21,$E$2,$E$2-$E$3),IF(C311=КАЛЬКУЛЯТОР!$C$21,$I$11,$I$11-SUMIF($A$12:$A$371,\"<=\"&$E$3,$H$12:$H$371)),0,0)),\"\")","v":""},{"$f":"IFERROR((-IPMT((C311-'КАЛЬКУЛЯТОР 1'!$P$1)/12,B311,IF(C311=КАЛЬКУЛЯТОР!$C$21,$E$2,$E$2-$E$3),IF(C311=КАЛЬКУЛЯТОР!$C$21,$I$11,$I$11-SUMIF($A$12:$A$371,\"<=\"&$E$3,$H$12:$H$371)),0,0)),\"\")","v":""},{"$f":"IFERROR((-PPMT(C311/12,B311,IF(C311=КАЛЬКУЛЯТОР!$C$21,$E$2,$E$2-$E$3),IF(C311=КАЛЬКУЛЯТОР!$C$21,$I$11,$I$11-SUMIF($A$12:$A$371,\"<=\"&$E$3,$H$12:$H$371)),0,0)),\"\")","v":""},"",{"$error":"#VALUE!"},null,{"$error":"#VALUE!"},{"$error":"#VALUE!"},{"$error":"#VALUE!"},{"$error":"#VALUE!"},false]
[301,301,{"$f":"IF(A312<=$E$3,КАЛЬКУЛЯТОР!$C$21,IF(AND(A312>$E$3,A312<=$E$2),$E$4,\"\"))","v":""},{"$f":"IF(A312<=$E$2,-PMT(C312/12,IF(C312=КАЛЬКУЛЯТОР!$C$21,$E$2,$E$2-$E$3),IF(C312=КАЛЬКУЛЯТОР!$C$21,$I$11,$I$11-SUMIF($A$12:$A$371,\"<=\"&$E$3,$H$12:$H$371)),0,0)+E312,\"\")","v":""},{"$f":"IF($E$2>$A311,(I311+SUM(F312:F323))*($K$4+$K$5),0)","v":{"v":0,"d":"0.00"}},{"$f":"IFERROR((-IPMT(C312/12,B312,IF(C312=КАЛЬКУЛЯТОР!$C$21,$E$2,$E$2-$E$3),IF(C312=КАЛЬКУЛЯТОР!$C$21,$I$11,$I$11-SUMIF($A$12:$A$371,\"<=\"&$E$3,$H$12:$H$371)),0,0)),\"\")","v":""},{"$f":"IFERROR((-IPMT((C312-'КАЛЬКУЛЯТОР 1'!$P$1)/12,B312,IF(C312=КАЛЬКУЛЯТОР!$C$21,$E$2,$E$2-$E$3),IF(C312=КАЛЬКУЛЯТОР!$C$21,$I$11,$I$11-SUMIF($A$12:$A$371,\"<=\"&$E$3,$H$12:$H$371)),0,0)),\"\")","v":""},{"$f":"IFERROR((-PPMT(C312/12,B312,IF(C312=КАЛЬКУЛЯТОР!$C$21,$E$2,$E$2-$E$3),IF(C312=КАЛЬКУЛЯТОР!$C$21,$I$11,$I$11-SUMIF($A$12:$A$371,\"<=\"&$E$3,$H$12:$H$371)),0,0)),\"\")","v":""},"",{"$error":"#VALUE!"},{"$f":"PV($E$5/12,A312-1,0,-E312)","v":{"v":0,"d":"0.00"}},{"$error":"#VALUE!"},{"$error":"#VALUE!"},{"$error":"#VALUE!"},{"$error":"#VALUE!"},false]
[302,302,{"$f":"IF(A313<=$E$3,КАЛЬКУЛЯТОР!$C$21,IF(AND(A313>$E$3,A313<=$E$2),$E$4,\"\"))","v":""},{"$f":"IF(A313<=$E$2,-PMT(C313/12,IF(C313=КАЛЬКУЛЯТОР!$C$21,$E$2,$E$2-$E$3),IF(C313=КАЛЬКУЛЯТОР!$C$21,$I$11,$I$11-SUMIF($A$12:$A$371,\"<=\"&$E$3,$H$12:$H$371)),0,0),\"\")","v":""},null,{"$f":"IFERROR((-IPMT(C313/12,B313,IF(C313=КАЛЬКУЛЯТОР!$C$21,$E$2,$E$2-$E$3),IF(C313=КАЛЬКУЛЯТОР!$C$21,$I$11,$I$11-SUMIF($A$12:$A$371,\"<=\"&$E$3,$H$12:$H$371)),0,0)),\"\")","v":""},{"$f":"IFERROR((-IPMT((C313-'КАЛЬКУЛЯТОР 1'!$P$1)/12,B313,IF(C313=КАЛЬКУЛЯТОР!$C$21,$E$2,$E$2-$E$3),IF(C313=КАЛЬКУЛЯТОР!$C$21,$I$11,$I$11-SUMIF($A$12:$A$371,\"<=\"&$E$3,$H$12:$H$371)),0,0)),\"\")","v":""},{"$f":"IFERROR((-PPMT(C313/12,B313,IF(C313=КАЛЬКУЛЯТОР!$C$21,$E$2,$E$2-$E$3),IF(C313=КАЛЬКУЛЯТОР!$C$21,$I$11,$I$11-SUMIF($A$12:$A$371,\"<=\"&$E$3,$H$12:$H$371)),0,0)),\"\")","v":""},"",{"$error":"#VALUE!"},null,{"$error":"#VALUE!"},{"$error":"#VALUE!"},{"$error":"#VALUE!"},{"$error":"#VALUE!"},false]
[303,303,{"$f":"IF(A314<=$E$3,КАЛЬКУЛЯТОР!$C$21,IF(AND(A314>$E$3,A314<=$E$2),$E$4,\"\"))","v":""},{"$f":"IF(A314<=$E$2,-PMT(C314/12,IF(C314=КАЛЬКУЛЯТОР!$C$21,$E$2,$E$2-$E$3),IF(C314=КАЛЬКУЛЯТОР!$C$21,$I$11,$I$11-SUMIF($A$12:$A$371,\"<=\"&$E$3,$H$12:$H$371)),0,0),\"\")","v":""},null,{"$f":"IFERROR((-IPMT(C314/12,B314,IF(C314=КАЛЬКУЛЯТОР!$C$21,$E$2,$E$2-$E$3),IF(C314=КАЛЬКУЛЯТОР!$C$21,$I$11,$I$11-SUMIF($A$12:$A$371,\"<=\"&$E$3,$H$12:$H$371)),0,0)),\"\")","v":""},{"$f":"IFERROR((-IPMT((C314-'КАЛЬКУЛЯТОР 1'!$P$1)/12,B314,IF(C314=КАЛЬКУЛЯТОР!$C$21,$E$2,$E$2-$E$3),IF(C314=КАЛЬКУЛЯТОР!$C$21,$I$11,$I$11-SUMIF($A$12:$A$371,\"<=\"&$E$3,$H$12:$H$371)),0,0)),\"\")","v":""},{"$f":"IFERROR((-PPMT(C314/12,B314,IF(C314=КАЛЬКУЛЯТОР!$C$21,$E$2,$E$2-$E$3),IF(C314=КАЛЬКУЛЯТОР!$C$21,$I$11,$I$11-SUMIF($A$12:$A$371,\"<=\"&$E$3,$H$12:$H$371)),0,0)),\"\")","v":""},"",{"$error":"#VALUE!"},null,{"$error":"#VALUE!"},{"$error":"#VALUE!"},{"$error":"#VALUE!"},{"$error":"#VALUE!"},false]
[304,304,{"$f":"IF(A315<=$E$3,КАЛЬКУЛЯТОР!$C$21,IF(AND(A315>$E$3,A315<=$E$2),$E$4,\"\"))","v":""},{"$f":"IF(A315<=$E$2,-PMT(C315/12,IF(C315=КАЛЬКУЛЯТОР!$C$21,$E$2,$E$2-$E$3),IF(C315=КАЛЬКУЛЯТОР!$C$21,$I$11,$I$11-SUMIF($A$12:$A$371,\"<=\"&$E$3,$H$12:$H$371)),0,0),\"\")","v":""},null,{"$f":"IFERROR((-IPMT(C315/12,B315,IF(C315=КАЛЬКУЛЯТОР!$C$21,$E$2,$E$2-$E$3),IF(C315=КАЛЬКУЛЯТОР!$C$21,$I$11,$I$11-SUMIF($A$12:$A$371,\"<=\"&$E$3,$H$12:$H$371)),0,0)),\"\")","v":""},{"$f":"IFERROR((-IPMT((C315-'КАЛЬКУЛЯТОР 1'!$P$1)/12,B315,IF(C315=КАЛЬКУЛЯТОР!$C$21,$E$2,$E$2-$E$3),IF(C315=КАЛЬКУЛЯТОР!$C$21,$I$11,$I$11-SUMIF($A$12:$A$371,\"<=\"&$E$3,$H$12:$H$371)),0,0)),\"\")","v":""},{"$f":"IFERROR((-PPMT(C315/12,B315,IF(C315=КАЛЬКУЛЯТОР!$C$21,$E$2,$E$2-$E$3),IF(C315=КАЛЬКУЛЯТОР!$C$21,$I$11,$I$11-SUMIF($A$12:$A$371,\"<=\"&$E$3,$H$12:$H$371)),0,0)),\"\")","v":""},"",{"$error":"#VALUE!"},null,{"$error":"#VALUE!"},{"$error":"#VALUE!"},{"$error":"#VALUE!"},{"$error":"#VALUE!"},false]
[305,305,{"$f":"IF(A316<=$E$3,КАЛЬКУЛЯТОР!$C$21,IF(AND(A316>$E$3,A316<=$E$2),$E$4,\"\"))","v":""},{"$f":"IF(A316<=$E$2,-PMT(C316/12,IF(C316=КАЛЬКУЛЯТОР!$C$21,$E$2,$E$2-$E$3),IF(C316=КАЛЬКУЛЯТОР!$C$21,$I$11,$I$11-SUMIF($A$12:$A$371,\"<=\"&$E$3,$H$12:$H$371)),0,0),\"\")","v":""},null,{"$f":"IFERROR((-IPMT(C316/12,B316,IF(C316=КАЛЬКУЛЯТОР!$C$21,$E$2,$E$2-$E$3),IF(C316=КАЛЬКУЛЯТОР!$C$21,$I$11,$I$11-SUMIF($A$12:$A$371,\"<=\"&$E$3,$H$12:$H$371)),0,0)),\"\")","v":""},{"$f":"IFERROR((-IPMT((C316-'КАЛЬКУЛЯТОР 1'!$P$1)/12,B316,IF(C316=КАЛЬКУЛЯТОР!$C$21,$E$2,$E$2-$E$3),IF(C316=КАЛЬКУЛЯТОР!$C$21,$I$11,$I$11-SUMIF($A$12:$A$371,\"<=\"&$E$3,$H$12:$H$371)),0,0)),\"\")","v":""},{"$f":"IFERROR((-PPMT(C316/12,B316,IF(C316=КАЛЬКУЛЯТОР!$C$21,$E$2,$E$2-$E$3),IF(C316=КАЛЬКУЛЯТОР!$C$21,$I$11,$I$11-SUMIF($A$12:$A$371,\"<=\"&$E$3,$H$12:$H$371)),0,0)),\"\")","v":""},"",{"$error":"#VALUE!"},null,{"$error":"#VALUE!"},{"$error":"#VALUE!"},{"$error":"#VALUE!"},{"$error":"#VALUE!"},false]
[306,306,{"$f":"IF(A317<=$E$3,КАЛЬКУЛЯТОР!$C$21,IF(AND(A317>$E$3,A317<=$E$2),$E$4,\"\"))","v":""},{"$f":"IF(A317<=$E$2,-PMT(C317/12,IF(C317=КАЛЬКУЛЯТОР!$C$21,$E$2,$E$2-$E$3),IF(C317=КАЛЬКУЛЯТОР!$C$21,$I$11,$I$11-SUMIF($A$12:$A$371,\"<=\"&$E$3,$H$12:$H$371)),0,0),\"\")","v":""},null,{"$f":"IFERROR((-IPMT(C317/12,B317,IF(C317=КАЛЬКУЛЯТОР!$C$21,$E$2,$E$2-$E$3),IF(C317=КАЛЬКУЛЯТОР!$C$21,$I$11,$I$11-SUMIF($A$12:$A$371,\"<=\"&$E$3,$H$12:$H$371)),0,0)),\"\")","v":""},{"$f":"IFERROR((-IPMT((C317-'КАЛЬКУЛЯТОР 1'!$P$1)/12,B317,IF(C317=КАЛЬКУЛЯТОР!$C$21,$E$2,$E$2-$E$3),IF(C317=КАЛЬКУЛЯТОР!$C$21,$I$11,$I$11-SUMIF($A$12:$A$371,\"<=\"&$E$3,$H$12:$H$371)),0,0)),\"\")","v":""},{"$f":"IFERROR((-PPMT(C317/12,B317,IF(C317=КАЛЬКУЛЯТОР!$C$21,$E$2,$E$2-$E$3),IF(C317=КАЛЬКУЛЯТОР!$C$21,$I$11,$I$11-SUMIF($A$12:$A$371,\"<=\"&$E$3,$H$12:$H$371)),0,0)),\"\")","v":""},"",{"$error":"#VALUE!"},null,{"$error":"#VALUE!"},{"$error":"#VALUE!"},{"$error":"#VALUE!"},{"$error":"#VALUE!"},false]
[307,307,{"$f":"IF(A318<=$E$3,КАЛЬКУЛЯТОР!$C$21,IF(AND(A318>$E$3,A318<=$E$2),$E$4,\"\"))","v":""},{"$f":"IF(A318<=$E$2,-PMT(C318/12,IF(C318=КАЛЬКУЛЯТОР!$C$21,$E$2,$E$2-$E$3),IF(C318=КАЛЬКУЛЯТОР!$C$21,$I$11,$I$11-SUMIF($A$12:$A$371,\"<=\"&$E$3,$H$12:$H$371)),0,0),\"\")","v":""},null,{"$f":"IFERROR((-IPMT(C318/12,B318,IF(C318=КАЛЬКУЛЯТОР!$C$21,$E$2,$E$2-$E$3),IF(C318=КАЛЬКУЛЯТОР!$C$21,$I$11,$I$11-SUMIF($A$12:$A$371,\"<=\"&$E$3,$H$12:$H$371)),0,0)),\"\")","v":""},{"$f":"IFERROR((-IPMT((C318-'КАЛЬКУЛЯТОР 1'!$P$1)/12,B318,IF(C318=КАЛЬКУЛЯТОР!$C$21,$E$2,$E$2-$E$3),IF(C318=КАЛЬКУЛЯТОР!$C$21,$I$11,$I$11-SUMIF($A$12:$A$371,\"<=\"&$E$3,$H$12:$H$371)),0,0)),\"\")","v":""},{"$f":"IFERROR((-PPMT(C318/12,B318,IF(C318=КАЛЬКУЛЯТОР!$C$21,$E$2,$E$2-$E$3),IF(C318=КАЛЬКУЛЯТОР!$C$21,$I$11,$I$11-SUMIF($A$12:$A$371,\"<=\"&$E$3,$H$12:$H$371)),0,0)),\"\")","v":""},"",{"$error":"#VALUE!"},null,{"$error":"#VALUE!"},{"$error":"#VALUE!"},{"$error":"#VALUE!"},{"$error":"#VALUE!"},false]
[308,308,{"$f":"IF(A319<=$E$3,КАЛЬКУЛЯТОР!$C$21,IF(AND(A319>$E$3,A319<=$E$2),$E$4,\"\"))","v":""},{"$f":"IF(A319<=$E$2,-PMT(C319/12,IF(C319=КАЛЬКУЛЯТОР!$C$21,$E$2,$E$2-$E$3),IF(C319=КАЛЬКУЛЯТОР!$C$21,$I$11,$I$11-SUMIF($A$12:$A$371,\"<=\"&$E$3,$H$12:$H$371)),0,0),\"\")","v":""},null,{"$f":"IFERROR((-IPMT(C319/12,B319,IF(C319=КАЛЬКУЛЯТОР!$C$21,$E$2,$E$2-$E$3),IF(C319=КАЛЬКУЛЯТОР!$C$21,$I$11,$I$11-SUMIF($A$12:$A$371,\"<=\"&$E$3,$H$12:$H$371)),0,0)),\"\")","v":""},{"$f":"IFERROR((-IPMT((C319-'КАЛЬКУЛЯТОР 1'!$P$1)/12,B319,IF(C319=КАЛЬКУЛЯТОР!$C$21,$E$2,$E$2-$E$3),IF(C319=КАЛЬКУЛЯТОР!$C$21,$I$11,$I$11-SUMIF($A$12:$A$371,\"<=\"&$E$3,$H$12:$H$371)),0,0)),\"\")","v":""},{"$f":"IFERROR((-PPMT(C319/12,B319,IF(C319=КАЛЬКУЛЯТОР!$C$21,$E$2,$E$2-$E$3),IF(C319=КАЛЬКУЛЯТОР!$C$21,$I$11,$I$11-SUMIF($A$12:$A$371,\"<=\"&$E$3,$H$12:$H$371)),0,0)),\"\")","v":""},"",{"$error":"#VALUE!"},null,{"$error":"#VALUE!"},{"$error":"#VALUE!"},{"$error":"#VALUE!"},{"$error":"#VALUE!"},false]
[309,309,{"$f":"IF(A320<=$E$3,КАЛЬКУЛЯТОР!$C$21,IF(AND(A320>$E$3,A320<=$E$2),$E$4,\"\"))","v":""},{"$f":"IF(A320<=$E$2,-PMT(C320/12,IF(C320=КАЛЬКУЛЯТОР!$C$21,$E$2,$E$2-$E$3),IF(C320=КАЛЬКУЛЯТОР!$C$21,$I$11,$I$11-SUMIF($A$12:$A$371,\"<=\"&$E$3,$H$12:$H$371)),0,0),\"\")","v":""},null,{"$f":"IFERROR((-IPMT(C320/12,B320,IF(C320=КАЛЬКУЛЯТОР!$C$21,$E$2,$E$2-$E$3),IF(C320=КАЛЬКУЛЯТОР!$C$21,$I$11,$I$11-SUMIF($A$12:$A$371,\"<=\"&$E$3,$H$12:$H$371)),0,0)),\"\")","v":""},{"$f":"IFERROR((-IPMT((C320-'КАЛЬКУЛЯТОР 1'!$P$1)/12,B320,IF(C320=КАЛЬКУЛЯТОР!$C$21,$E$2,$E$2-$E$3),IF(C320=КАЛЬКУЛЯТОР!$C$21,$I$11,$I$11-SUMIF($A$12:$A$371,\"<=\"&$E$3,$H$12:$H$371)),0,0)),\"\")","v":""},{"$f":"IFERROR((-PPMT(C320/12,B320,IF(C320=КАЛЬКУЛЯТОР!$C$21,$E$2,$E$2-$E$3),IF(C320=КАЛЬКУЛЯТОР!$C$21,$I$11,$I$11-SUMIF($A$12:$A$371,\"<=\"&$E$3,$H$12:$H$371)),0,0)),\"\")","v":""},"",{"$error":"#VALUE!"},null,{"$error":"#VALUE!"},{"$error":"#VALUE!"},{"$error":"#VALUE!"},{"$error":"#VALUE!"},false]
[310,310,{"$f":"IF(A321<=$E$3,КАЛЬКУЛЯТОР!$C$21,IF(AND(A321>$E$3,A321<=$E$2),$E$4,\"\"))","v":""},{"$f":"IF(A321<=$E$2,-PMT(C321/12,IF(C321=КАЛЬКУЛЯТОР!$C$21,$E$2,$E$2-$E$3),IF(C321=КАЛЬКУЛЯТОР!$C$21,$I$11,$I$11-SUMIF($A$12:$A$371,\"<=\"&$E$3,$H$12:$H$371)),0,0),\"\")","v":""},null,{"$f":"IFERROR((-IPMT(C321/12,B321,IF(C321=КАЛЬКУЛЯТОР!$C$21,$E$2,$E$2-$E$3),IF(C321=КАЛЬКУЛЯТОР!$C$21,$I$11,$I$11-SUMIF($A$12:$A$371,\"<=\"&$E$3,$H$12:$H$371)),0,0)),\"\")","v":""},{"$f":"IFERROR((-IPMT((C321-'КАЛЬКУЛЯТОР 1'!$P$1)/12,B321,IF(C321=КАЛЬКУЛЯТОР!$C$21,$E$2,$E$2-$E$3),IF(C321=КАЛЬКУЛЯТОР!$C$21,$I$11,$I$11-SUMIF($A$12:$A$371,\"<=\"&$E$3,$H$12:$H$371)),0,0)),\"\")","v":""},{"$f":"IFERROR((-PPMT(C321/12,B321,IF(C321=КАЛЬКУЛЯТОР!$C$21,$E$2,$E$2-$E$3),IF(C321=КАЛЬКУЛЯТОР!$C$21,$I$11,$I$11-SUMIF($A$12:$A$371,\"<=\"&$E$3,$H$12:$H$371)),0,0)),\"\")","v":""},"",{"$error":"#VALUE!"},null,{"$error":"#VALUE!"},{"$error":"#VALUE!"},{"$error":"#VALUE!"},{"$error":"#VALUE!"},false]
[311,311,{"$f":"IF(A322<=$E$3,КАЛЬКУЛЯТОР!$C$21,IF(AND(A322>$E$3,A322<=$E$2),$E$4,\"\"))","v":""},{"$f":"IF(A322<=$E$2,-PMT(C322/12,IF(C322=КАЛЬКУЛЯТОР!$C$21,$E$2,$E$2-$E$3),IF(C322=КАЛЬКУЛЯТОР!$C$21,$I$11,$I$11-SUMIF($A$12:$A$371,\"<=\"&$E$3,$H$12:$H$371)),0,0),\"\")","v":""},null,{"$f":"IFERROR((-IPMT(C322/12,B322,IF(C322=КАЛЬКУЛЯТОР!$C$21,$E$2,$E$2-$E$3),IF(C322=КАЛЬКУЛЯТОР!$C$21,$I$11,$I$11-SUMIF($A$12:$A$371,\"<=\"&$E$3,$H$12:$H$371)),0,0)),\"\")","v":""},{"$f":"IFERROR((-IPMT((C322-'КАЛЬКУЛЯТОР 1'!$P$1)/12,B322,IF(C322=КАЛЬКУЛЯТОР!$C$21,$E$2,$E$2-$E$3),IF(C322=КАЛЬКУЛЯТОР!$C$21,$I$11,$I$11-SUMIF($A$12:$A$371,\"<=\"&$E$3,$H$12:$H$371)),0,0)),\"\")","v":""},{"$f":"IFERROR((-PPMT(C322/12,B322,IF(C322=КАЛЬКУЛЯТОР!$C$21,$E$2,$E$2-$E$3),IF(C322=КАЛЬКУЛЯТОР!$C$21,$I$11,$I$11-SUMIF($A$12:$A$371,\"<=\"&$E$3,$H$12:$H$371)),0,0)),\"\")","v":""},"",{"$error":"#VALUE!"},null,{"$error":"#VALUE!"},{"$error":"#VALUE!"},{"$error":"#VALUE!"},{"$error":"#VALUE!"},false]
[312,312,{"$f":"IF(A323<=$E$3,КАЛЬКУЛЯТОР!$C$21,IF(AND(A323>$E$3,A323<=$E$2),$E$4,\"\"))","v":""},{"$f":"IF(A323<=$E$2,-PMT(C323/12,IF(C323=КАЛЬКУЛЯТОР!$C$21,$E$2,$E$2-$E$3),IF(C323=КАЛЬКУЛЯТОР!$C$21,$I$11,$I$11-SUMIF($A$12:$A$371,\"<=\"&$E$3,$H$12:$H$371)),0,0),\"\")","v":""},null,{"$f":"IFERROR((-IPMT(C323/12,B323,IF(C323=КАЛЬКУЛЯТОР!$C$21,$E$2,$E$2-$E$3),IF(C323=КАЛЬКУЛЯТОР!$C$21,$I$11,$I$11-SUMIF($A$12:$A$371,\"<=\"&$E$3,$H$12:$H$371)),0,0)),\"\")","v":""},{"$f":"IFERROR((-IPMT((C323-'КАЛЬКУЛЯТОР 1'!$P$1)/12,B323,IF(C323=КАЛЬКУЛЯТОР!$C$21,$E$2,$E$2-$E$3),IF(C323=КАЛЬКУЛЯТОР!$C$21,$I$11,$I$11-SUMIF($A$12:$A$371,\"<=\"&$E$3,$H$12:$H$371)),0,0)),\"\")","v":""},{"$f":"IFERROR((-PPMT(C323/12,B323,IF(C323=КАЛЬКУЛЯТОР!$C$21,$E$2,$E$2-$E$3),IF(C323=КАЛЬКУЛЯТОР!$C$21,$I$11,$I$11-SUMIF($A$12:$A$371,\"<=\"&$E$3,$H$12:$H$371)),0,0)),\"\")","v":""},"",{"$error":"#VALUE!"},null,{"$error":"#VALUE!"},{"$error":"#VALUE!"},{"$error":"#VALUE!"},{"$error":"#VALUE!"},false]
[313,313,{"$f":"IF(A324<=$E$3,КАЛЬКУЛЯТОР!$C$21,IF(AND(A324>$E$3,A324<=$E$2),$E$4,\"\"))","v":""},{"$f":"IF(A324<=$E$2,-PMT(C324/12,IF(C324=КАЛЬКУЛЯТОР!$C$21,$E$2,$E$2-$E$3),IF(C324=КАЛЬКУЛЯТОР!$C$21,$I$11,$I$11-SUMIF($A$12:$A$371,\"<=\"&$E$3,$H$12:$H$371)),0,0)+E324,\"\")","v":""},{"$f":"IF($E$2>$A323,(I323+SUM(F324:F335))*($K$4+$K$5),0)","v":{"v":0,"d":"0.00"}},{"$f":"IFERROR((-IPMT(C324/12,B324,IF(C324=КАЛЬКУЛЯТОР!$C$21,$E$2,$E$2-$E$3),IF(C324=КАЛЬКУЛЯТОР!$C$21,$I$11,$I$11-SUMIF($A$12:$A$371,\"<=\"&$E$3,$H$12:$H$371)),0,0)),\"\")","v":""},{"$f":"IFERROR((-IPMT((C324-'КАЛЬКУЛЯТОР 1'!$P$1)/12,B324,IF(C324=КАЛЬКУЛЯТОР!$C$21,$E$2,$E$2-$E$3),IF(C324=КАЛЬКУЛЯТОР!$C$21,$I$11,$I$11-SUMIF($A$12:$A$371,\"<=\"&$E$3,$H$12:$H$371)),0,0)),\"\")","v":""},{"$f":"IFERROR((-PPMT(C324/12,B324,IF(C324=КАЛЬКУЛЯТОР!$C$21,$E$2,$E$2-$E$3),IF(C324=КАЛЬКУЛЯТОР!$C$21,$I$11,$I$11-SUMIF($A$12:$A$371,\"<=\"&$E$3,$H$12:$H$371)),0,0)),\"\")","v":""},"",{"$error":"#VALUE!"},{"$f":"PV($E$5/12,A324-1,0,-E324)","v":{"v":0,"d":"0.00"}},{"$error":"#VALUE!"},{"$error":"#VALUE!"},{"$error":"#VALUE!"},{"$error":"#VALUE!"},false]
[314,314,{"$f":"IF(A325<=$E$3,КАЛЬКУЛЯТОР!$C$21,IF(AND(A325>$E$3,A325<=$E$2),$E$4,\"\"))","v":""},{"$f":"IF(A325<=$E$2,-PMT(C325/12,IF(C325=КАЛЬКУЛЯТОР!$C$21,$E$2,$E$2-$E$3),IF(C325=КАЛЬКУЛЯТОР!$C$21,$I$11,$I$11-SUMIF($A$12:$A$371,\"<=\"&$E$3,$H$12:$H$371)),0,0),\"\")","v":""},null,{"$f":"IFERROR((-IPMT(C325/12,B325,IF(C325=КАЛЬКУЛЯТОР!$C$21,$E$2,$E$2-$E$3),IF(C325=КАЛЬКУЛЯТОР!$C$21,$I$11,$I$11-SUMIF($A$12:$A$371,\"<=\"&$E$3,$H$12:$H$371)),0,0)),\"\")","v":""},{"$f":"IFERROR((-IPMT((C325-'КАЛЬКУЛЯТОР 1'!$P$1)/12,B325,IF(C325=КАЛЬКУЛЯТОР!$C$21,$E$2,$E$2-$E$3),IF(C325=КАЛЬКУЛЯТОР!$C$21,$I$11,$I$11-SUMIF($A$12:$A$371,\"<=\"&$E$3,$H$12:$H$371)),0,0)),\"\")","v":""},{"$f":"IFERROR((-PPMT(C325/12,B325,IF(C325=КАЛЬКУЛЯТОР!$C$21,$E$2,$E$2-$E$3),IF(C325=КАЛЬКУЛЯТОР!$C$21,$I$11,$I$11-SUMIF($A$12:$A$371,\"<=\"&$E$3,$H$12:$H$371)),0,0)),\"\")","v":""},"",{"$error":"#VALUE!"},null,{"$error":"#VALUE!"},{"$error":"#VALUE!"},{"$error":"#VALUE!"},{"$error":"#VALUE!"},false]
[315,315,{"$f":"IF(A326<=$E$3,КАЛЬКУЛЯТОР!$C$21,IF(AND(A326>$E$3,A326<=$E$2),$E$4,\"\"))","v":""},{"$f":"IF(A326<=$E$2,-PMT(C326/12,IF(C326=КАЛЬКУЛЯТОР!$C$21,$E$2,$E$2-$E$3),IF(C326=КАЛЬКУЛЯТОР!$C$21,$I$11,$I$11-SUMIF($A$12:$A$371,\"<=\"&$E$3,$H$12:$H$371)),0,0),\"\")","v":""},null,{"$f":"IFERROR((-IPMT(C326/12,B326,IF(C326=КАЛЬКУЛЯТОР!$C$21,$E$2,$E$2-$E$3),IF(C326=КАЛЬКУЛЯТОР!$C$21,$I$11,$I$11-SUMIF($A$12:$A$371,\"<=\"&$E$3,$H$12:$H$371)),0,0)),\"\")","v":""},{"$f":"IFERROR((-IPMT((C326-'КАЛЬКУЛЯТОР 1'!$P$1)/12,B326,IF(C326=КАЛЬКУЛЯТОР!$C$21,$E$2,$E$2-$E$3),IF(C326=КАЛЬКУЛЯТОР!$C$21,$I$11,$I$11-SUMIF($A$12:$A$371,\"<=\"&$E$3,$H$12:$H$371)),0,0)),\"\")","v":""},{"$f":"IFERROR((-PPMT(C326/12,B326,IF(C326=КАЛЬКУЛЯТОР!$C$21,$E$2,$E$2-$E$3),IF(C326=КАЛЬКУЛЯТОР!$C$21,$I$11,$I$11-SUMIF($A$12:$A$371,\"<=\"&$E$3,$H$12:$H$371)),0,0)),\"\")","v":""},"",{"$error":"#VALUE!"},null,{"$error":"#VALUE!"},{"$error":"#VALUE!"},{"$error":"#VALUE!"},{"$error":"#VALUE!"},false]
[316,316,{"$f":"IF(A327<=$E$3,КАЛЬКУЛЯТОР!$C$21,IF(AND(A327>$E$3,A327<=$E$2),$E$4,\"\"))","v":""},{"$f":"IF(A327<=$E$2,-PMT(C327/12,IF(C327=КАЛЬКУЛЯТОР!$C$21,$E$2,$E$2-$E$3),IF(C327=КАЛЬКУЛЯТОР!$C$21,$I$11,$I$11-SUMIF($A$12:$A$371,\"<=\"&$E$3,$H$12:$H$371)),0,0),\"\")","v":""},null,{"$f":"IFERROR((-IPMT(C327/12,B327,IF(C327=КАЛЬКУЛЯТОР!$C$21,$E$2,$E$2-$E$3),IF(C327=КАЛЬКУЛЯТОР!$C$21,$I$11,$I$11-SUMIF($A$12:$A$371,\"<=\"&$E$3,$H$12:$H$371)),0,0)),\"\")","v":""},{"$f":"IFERROR((-IPMT((C327-'КАЛЬКУЛЯТОР 1'!$P$1)/12,B327,IF(C327=КАЛЬКУЛЯТОР!$C$21,$E$2,$E$2-$E$3),IF(C327=КАЛЬКУЛЯТОР!$C$21,$I$11,$I$11-SUMIF($A$12:$A$371,\"<=\"&$E$3,$H$12:$H$371)),0,0)),\"\")","v":""},{"$f":"IFERROR((-PPMT(C327/12,B327,IF(C327=КАЛЬКУЛЯТОР!$C$21,$E$2,$E$2-$E$3),IF(C327=КАЛЬКУЛЯТОР!$C$21,$I$11,$I$11-SUMIF($A$12:$A$371,\"<=\"&$E$3,$H$12:$H$371)),0,0)),\"\")","v":""},"",{"$error":"#VALUE!"},null,{"$error":"#VALUE!"},{"$error":"#VALUE!"},{"$error":"#VALUE!"},{"$error":"#VALUE!"},false]
[317,317,{"$f":"IF(A328<=$E$3,КАЛЬКУЛЯТОР!$C$21,IF(AND(A328>$E$3,A328<=$E$2),$E$4,\"\"))","v":""},{"$f":"IF(A328<=$E$2,-PMT(C328/12,IF(C328=КАЛЬКУЛЯТОР!$C$21,$E$2,$E$2-$E$3),IF(C328=КАЛЬКУЛЯТОР!$C$21,$I$11,$I$11-SUMIF($A$12:$A$371,\"<=\"&$E$3,$H$12:$H$371)),0,0),\"\")","v":""},null,{"$f":"IFERROR((-IPMT(C328/12,B328,IF(C328=КАЛЬКУЛЯТОР!$C$21,$E$2,$E$2-$E$3),IF(C328=КАЛЬКУЛЯТОР!$C$21,$I$11,$I$11-SUMIF($A$12:$A$371,\"<=\"&$E$3,$H$12:$H$371)),0,0)),\"\")","v":""},{"$f":"IFERROR((-IPMT((C328-'КАЛЬКУЛЯТОР 1'!$P$1)/12,B328,IF(C328=КАЛЬКУЛЯТОР!$C$21,$E$2,$E$2-$E$3),IF(C328=КАЛЬКУЛЯТОР!$C$21,$I$11,$I$11-SUMIF($A$12:$A$371,\"<=\"&$E$3,$H$12:$H$371)),0,0)),\"\")","v":""},{"$f":"IFERROR((-PPMT(C328/12,B328,IF(C328=КАЛЬКУЛЯТОР!$C$21,$E$2,$E$2-$E$3),IF(C328=КАЛЬКУЛЯТОР!$C$21,$I$11,$I$11-SUMIF($A$12:$A$371,\"<=\"&$E$3,$H$12:$H$371)),0,0)),\"\")","v":""},"",{"$error":"#VALUE!"},null,{"$error":"#VALUE!"},{"$error":"#VALUE!"},{"$error":"#VALUE!"},{"$error":"#VALUE!"},false]
[318,318,{"$f":"IF(A329<=$E$3,КАЛЬКУЛЯТОР!$C$21,IF(AND(A329>$E$3,A329<=$E$2),$E$4,\"\"))","v":""},{"$f":"IF(A329<=$E$2,-PMT(C329/12,IF(C329=КАЛЬКУЛЯТОР!$C$21,$E$2,$E$2-$E$3),IF(C329=КАЛЬКУЛЯТОР!$C$21,$I$11,$I$11-SUMIF($A$12:$A$371,\"<=\"&$E$3,$H$12:$H$371)),0,0),\"\")","v":""},null,{"$f":"IFERROR((-IPMT(C329/12,B329,IF(C329=КАЛЬКУЛЯТОР!$C$21,$E$2,$E$2-$E$3),IF(C329=КАЛЬКУЛЯТОР!$C$21,$I$11,$I$11-SUMIF($A$12:$A$371,\"<=\"&$E$3,$H$12:$H$371)),0,0)),\"\")","v":""},{"$f":"IFERROR((-IPMT((C329-'КАЛЬКУЛЯТОР 1'!$P$1)/12,B329,IF(C329=КАЛЬКУЛЯТОР!$C$21,$E$2,$E$2-$E$3),IF(C329=КАЛЬКУЛЯТОР!$C$21,$I$11,$I$11-SUMIF($A$12:$A$371,\"<=\"&$E$3,$H$12:$H$371)),0,0)),\"\")","v":""},{"$f":"IFERROR((-PPMT(C329/12,B329,IF(C329=КАЛЬКУЛЯТОР!$C$21,$E$2,$E$2-$E$3),IF(C329=КАЛЬКУЛЯТОР!$C$21,$I$11,$I$11-SUMIF($A$12:$A$371,\"<=\"&$E$3,$H$12:$H$371)),0,0)),\"\")","v":""},"",{"$error":"#VALUE!"},null,{"$error":"#VALUE!"},{"$error":"#VALUE!"},{"$error":"#VALUE!"},{"$error":"#VALUE!"},false]
[319,319,{"$f":"IF(A330<=$E$3,КАЛЬКУЛЯТОР!$C$21,IF(AND(A330>$E$3,A330<=$E$2),$E$4,\"\"))","v":""},{"$f":"IF(A330<=$E$2,-PMT(C330/12,IF(C330=КАЛЬКУЛЯТОР!$C$21,$E$2,$E$2-$E$3),IF(C330=КАЛЬКУЛЯТОР!$C$21,$I$11,$I$11-SUMIF($A$12:$A$371,\"<=\"&$E$3,$H$12:$H$371)),0,0),\"\")","v":""},null,{"$f":"IFERROR((-IPMT(C330/12,B330,IF(C330=КАЛЬКУЛЯТОР!$C$21,$E$2,$E$2-$E$3),IF(C330=КАЛЬКУЛЯТОР!$C$21,$I$11,$I$11-SUMIF($A$12:$A$371,\"<=\"&$E$3,$H$12:$H$371)),0,0)),\"\")","v":""},{"$f":"IFERROR((-IPMT((C330-'КАЛЬКУЛЯТОР 1'!$P$1)/12,B330,IF(C330=КАЛЬКУЛЯТОР!$C$21,$E$2,$E$2-$E$3),IF(C330=КАЛЬКУЛЯТОР!$C$21,$I$11,$I$11-SUMIF($A$12:$A$371,\"<=\"&$E$3,$H$12:$H$371)),0,0)),\"\")","v":""},{"$f":"IFERROR((-PPMT(C330/12,B330,IF(C330=КАЛЬКУЛЯТОР!$C$21,$E$2,$E$2-$E$3),IF(C330=КАЛЬКУЛЯТОР!$C$21,$I$11,$I$11-SUMIF($A$12:$A$371,\"<=\"&$E$3,$H$12:$H$371)),0,0)),\"\")","v":""},"",{"$error":"#VALUE!"},null,{"$error":"#VALUE!"},{"$error":"#VALUE!"},{"$error":"#VALUE!"},{"$error":"#VALUE!"},false]
[320,320,{"$f":"IF(A331<=$E$3,КАЛЬКУЛЯТОР!$C$21,IF(AND(A331>$E$3,A331<=$E$2),$E$4,\"\"))","v":""},{"$f":"IF(A331<=$E$2,-PMT(C331/12,IF(C331=КАЛЬКУЛЯТОР!$C$21,$E$2,$E$2-$E$3),IF(C331=КАЛЬКУЛЯТОР!$C$21,$I$11,$I$11-SUMIF($A$12:$A$371,\"<=\"&$E$3,$H$12:$H$371)),0,0),\"\")","v":""},null,{"$f":"IFERROR((-IPMT(C331/12,B331,IF(C331=КАЛЬКУЛЯТОР!$C$21,$E$2,$E$2-$E$3),IF(C331=КАЛЬКУЛЯТОР!$C$21,$I$11,$I$11-SUMIF($A$12:$A$371,\"<=\"&$E$3,$H$12:$H$371)),0,0)),\"\")","v":""},{"$f":"IFERROR((-IPMT((C331-'КАЛЬКУЛЯТОР 1'!$P$1)/12,B331,IF(C331=КАЛЬКУЛЯТОР!$C$21,$E$2,$E$2-$E$3),IF(C331=КАЛЬКУЛЯТОР!$C$21,$I$11,$I$11-SUMIF($A$12:$A$371,\"<=\"&$E$3,$H$12:$H$371)),0,0)),\"\")","v":""},{"$f":"IFERROR((-PPMT(C331/12,B331,IF(C331=КАЛЬКУЛЯТОР!$C$21,$E$2,$E$2-$E$3),IF(C331=КАЛЬКУЛЯТОР!$C$21,$I$11,$I$11-SUMIF($A$12:$A$371,\"<=\"&$E$3,$H$12:$H$371)),0,0)),\"\")","v":""},"",{"$error":"#VALUE!"},null,{"$error":"#VALUE!"},{"$error":"#VALUE!"},{"$error":"#VALUE!"},{"$error":"#VALUE!"},false]
[321,321,{"$f":"IF(A332<=$E$3,КАЛЬКУЛЯТОР!$C$21,IF(AND(A332>$E$3,A332<=$E$2),$E$4,\"\"))","v":""},{"$f":"IF(A332<=$E$2,-PMT(C332/12,IF(C332=КАЛЬКУЛЯТОР!$C$21,$E$2,$E$2-$E$3),IF(C332=КАЛЬКУЛЯТОР!$C$21,$I$11,$I$11-SUMIF($A$12:$A$371,\"<=\"&$E$3,$H$12:$H$371)),0,0),\"\")","v":""},null,{"$f":"IFERROR((-IPMT(C332/12,B332,IF(C332=КАЛЬКУЛЯТОР!$C$21,$E$2,$E$2-$E$3),IF(C332=КАЛЬКУЛЯТОР!$C$21,$I$11,$I$11-SUMIF($A$12:$A$371,\"<=\"&$E$3,$H$12:$H$371)),0,0)),\"\")","v":""},{"$f":"IFERROR((-IPMT((C332-'КАЛЬКУЛЯТОР 1'!$P$1)/12,B332,IF(C332=КАЛЬКУЛЯТОР!$C$21,$E$2,$E$2-$E$3),IF(C332=КАЛЬКУЛЯТОР!$C$21,$I$11,$I$11-SUMIF($A$12:$A$371,\"<=\"&$E$3,$H$12:$H$371)),0,0)),\"\")","v":""},{"$f":"IFERROR((-PPMT(C332/12,B332,IF(C332=КАЛЬКУЛЯТОР!$C$21,$E$2,$E$2-$E$3),IF(C332=КАЛЬКУЛЯТОР!$C$21,$I$11,$I$11-SUMIF($A$12:$A$371,\"<=\"&$E$3,$H$12:$H$371)),0,0)),\"\")","v":""},{"$f":"IFERROR(I331-H332,\"\")","v":""},{"$f":"PV($E$5/12,A332-1,0,-D332)","v":{"$error":"#VALUE!"}},null,{"$f":"PV($E$5/12,A332-1,0,-F332)","v":{"$error":"#VALUE!"}},{"$f":"PV($E$5/12,A332-1,0,-G332)","v":{"$error":"#VALUE!"}},{"$f":"PV($E$5/12,A332-1,0,-H332)","v":{"$error":"#VALUE!"}},{"$f":"O331-N332","v":{"$error":"#VALUE!"}},{"$f":"AND(A332<=$E$3)","v":false}]
[322,{"$f":"ROUND(IF(P333=$P$12,B332+1,A333-$E$3),0)","v":322},{"$f":"IF(A333<=$E$3,КАЛЬКУЛЯТОР!$C$21,IF(AND(A333>$E$3,A333<=$E$2),$E$4,\"\"))","v":""},{"$f":"IF(A333<=$E$2,-PMT(C333/12,IF(C333=КАЛЬКУЛЯТОР!$C$21,$E$2,$E$2-$E$3),IF(C333=КАЛЬКУЛЯТОР!$C$21,$I$11,$I$11-SUMIF($A$12:$A$371,\"<=\"&$E$3,$H$12:$H$371)),0,0),\"\")","v":""},null,{"$f":"IFERROR((-IPMT(C333/12,B333,IF(C333=КАЛЬКУЛЯТОР!$C$21,$E$2,$E$2-$E$3),IF(C333=КАЛЬКУЛЯТОР!$C$21,$I$11,$I$11-SUMIF($A$12:$A$371,\"<=\"&$E$3,$H$12:$H$371)),0,0)),\"\")","v":""},{"$f":"IFERROR((-IPMT((C333-'КАЛЬКУЛЯТОР 1'!$P$1)/12,B333,IF(C333=КАЛЬКУЛЯТОР!$C$21,$E$2,$E$2-$E$3),IF(C333=КАЛЬКУЛЯТОР!$C$21,$I$11,$I$11-SUMIF($A$12:$A$371,\"<=\"&$E$3,$H$12:$H$371)),0,0)),\"\")","v":""},{"$f":"IFERROR((-PPMT(C333/12,B333,IF(C333=КАЛЬКУЛЯТОР!$C$21,$E$2,$E$2-$E$3),IF(C333=КАЛЬКУЛЯТОР!$C$21,$I$11,$I$11-SUMIF($A$12:$A$371,\"<=\"&$E$3,$H$12:$H$371)),0,0)),\"\")","v":""},"",{"$error":"#VALUE!"},null,{"$error":"#VALUE!"},{"$error":"#VALUE!"},{"$error":"#VALUE!"},{"$error":"#VALUE!"},false]
[323,323,{"$f":"IF(A334<=$E$3,КАЛЬКУЛЯТОР!$C$21,IF(AND(A334>$E$3,A334<=$E$2),$E$4,\"\"))","v":""},{"$f":"IF(A334<=$E$2,-PMT(C334/12,IF(C334=КАЛЬКУЛЯТОР!$C$21,$E$2,$E$2-$E$3),IF(C334=КАЛЬКУЛЯТОР!$C$21,$I$11,$I$11-SUMIF($A$12:$A$371,\"<=\"&$E$3,$H$12:$H$371)),0,0),\"\")","v":""},null,{"$f":"IFERROR((-IPMT(C334/12,B334,IF(C334=КАЛЬКУЛЯТОР!$C$21,$E$2,$E$2-$E$3),IF(C334=КАЛЬКУЛЯТОР!$C$21,$I$11,$I$11-SUMIF($A$12:$A$371,\"<=\"&$E$3,$H$12:$H$371)),0,0)),\"\")","v":""},{"$f":"IFERROR((-IPMT((C334-'КАЛЬКУЛЯТОР 1'!$P$1)/12,B334,IF(C334=КАЛЬКУЛЯТОР!$C$21,$E$2,$E$2-$E$3),IF(C334=КАЛЬКУЛЯТОР!$C$21,$I$11,$I$11-SUMIF($A$12:$A$371,\"<=\"&$E$3,$H$12:$H$371)),0,0)),\"\")","v":""},{"$f":"IFERROR((-PPMT(C334/12,B334,IF(C334=КАЛЬКУЛЯТОР!$C$21,$E$2,$E$2-$E$3),IF(C334=КАЛЬКУЛЯТОР!$C$21,$I$11,$I$11-SUMIF($A$12:$A$371,\"<=\"&$E$3,$H$12:$H$371)),0,0)),\"\")","v":""},"",{"$error":"#VALUE!"},null,{"$error":"#VALUE!"},{"$error":"#VALUE!"},{"$error":"#VALUE!"},{"$error":"#VALUE!"},false]
[324,324,{"$f":"IF(A335<=$E$3,КАЛЬКУЛЯТОР!$C$21,IF(AND(A335>$E$3,A335<=$E$2),$E$4,\"\"))","v":""},{"$f":"IF(A335<=$E$2,-PMT(C335/12,IF(C335=КАЛЬКУЛЯТОР!$C$21,$E$2,$E$2-$E$3),IF(C335=КАЛЬКУЛЯТОР!$C$21,$I$11,$I$11-SUMIF($A$12:$A$371,\"<=\"&$E$3,$H$12:$H$371)),0,0),\"\")","v":""},null,{"$f":"IFERROR((-IPMT(C335/12,B335,IF(C335=КАЛЬКУЛЯТОР!$C$21,$E$2,$E$2-$E$3),IF(C335=КАЛЬКУЛЯТОР!$C$21,$I$11,$I$11-SUMIF($A$12:$A$371,\"<=\"&$E$3,$H$12:$H$371)),0,0)),\"\")","v":""},{"$f":"IFERROR((-IPMT((C335-'КАЛЬКУЛЯТОР 1'!$P$1)/12,B335,IF(C335=КАЛЬКУЛЯТОР!$C$21,$E$2,$E$2-$E$3),IF(C335=КАЛЬКУЛЯТОР!$C$21,$I$11,$I$11-SUMIF($A$12:$A$371,\"<=\"&$E$3,$H$12:$H$371)),0,0)),\"\")","v":""},{"$f":"IFERROR((-PPMT(C335/12,B335,IF(C335=КАЛЬКУЛЯТОР!$C$21,$E$2,$E$2-$E$3),IF(C335=КАЛЬКУЛЯТОР!$C$21,$I$11,$I$11-SUMIF($A$12:$A$371,\"<=\"&$E$3,$H$12:$H$371)),0,0)),\"\")","v":""},"",{"$error":"#VALUE!"},null,{"$error":"#VALUE!"},{"$error":"#VALUE!"},{"$error":"#VALUE!"},{"$error":"#VALUE!"},false]
[325,325,{"$f":"IF(A336<=$E$3,КАЛЬКУЛЯТОР!$C$21,IF(AND(A336>$E$3,A336<=$E$2),$E$4,\"\"))","v":""},{"$f":"IF(A336<=$E$2,-PMT(C336/12,IF(C336=КАЛЬКУЛЯТОР!$C$21,$E$2,$E$2-$E$3),IF(C336=КАЛЬКУЛЯТОР!$C$21,$I$11,$I$11-SUMIF($A$12:$A$371,\"<=\"&$E$3,$H$12:$H$371)),0,0)+E336,\"\")","v":""},{"$f":"IF($E$2>$A335,(I335+SUM(F336:F347))*($K$4+$K$5),0)","v":{"v":0,"d":"0.00"}},{"$f":"IFERROR((-IPMT(C336/12,B336,IF(C336=КАЛЬКУЛЯТОР!$C$21,$E$2,$E$2-$E$3),IF(C336=КАЛЬКУЛЯТОР!$C$21,$I$11,$I$11-SUMIF($A$12:$A$371,\"<=\"&$E$3,$H$12:$H$371)),0,0)),\"\")","v":""},{"$f":"IFERROR((-IPMT((C336-'КАЛЬКУЛЯТОР 1'!$P$1)/12,B336,IF(C336=КАЛЬКУЛЯТОР!$C$21,$E$2,$E$2-$E$3),IF(C336=КАЛЬКУЛЯТОР!$C$21,$I$11,$I$11-SUMIF($A$12:$A$371,\"<=\"&$E$3,$H$12:$H$371)),0,0)),\"\")","v":""},{"$f":"IFERROR((-PPMT(C336/12,B336,IF(C336=КАЛЬКУЛЯТОР!$C$21,$E$2,$E$2-$E$3),IF(C336=КАЛЬКУЛЯТОР!$C$21,$I$11,$I$11-SUMIF($A$12:$A$371,\"<=\"&$E$3,$H$12:$H$371)),0,0)),\"\")","v":""},"",{"$error":"#VALUE!"},{"$f":"PV($E$5/12,A336-1,0,-E336)","v":{"v":0,"d":"0.00"}},{"$error":"#VALUE!"},{"$error":"#VALUE!"},{"$error":"#VALUE!"},{"$error":"#VALUE!"},false]
[326,326,{"$f":"IF(A337<=$E$3,КАЛЬКУЛЯТОР!$C$21,IF(AND(A337>$E$3,A337<=$E$2),$E$4,\"\"))","v":""},{"$f":"IF(A337<=$E$2,-PMT(C337/12,IF(C337=КАЛЬКУЛЯТОР!$C$21,$E$2,$E$2-$E$3),IF(C337=КАЛЬКУЛЯТОР!$C$21,$I$11,$I$11-SUMIF($A$12:$A$371,\"<=\"&$E$3,$H$12:$H$371)),0,0),\"\")","v":""},null,{"$f":"IFERROR((-IPMT(C337/12,B337,IF(C337=КАЛЬКУЛЯТОР!$C$21,$E$2,$E$2-$E$3),IF(C337=КАЛЬКУЛЯТОР!$C$21,$I$11,$I$11-SUMIF($A$12:$A$371,\"<=\"&$E$3,$H$12:$H$371)),0,0)),\"\")","v":""},{"$f":"IFERROR((-IPMT((C337-'КАЛЬКУЛЯТОР 1'!$P$1)/12,B337,IF(C337=КАЛЬКУЛЯТОР!$C$21,$E$2,$E$2-$E$3),IF(C337=КАЛЬКУЛЯТОР!$C$21,$I$11,$I$11-SUMIF($A$12:$A$371,\"<=\"&$E$3,$H$12:$H$371)),0,0)),\"\")","v":""},{"$f":"IFERROR((-PPMT(C337/12,B337,IF(C337=КАЛЬКУЛЯТОР!$C$21,$E$2,$E$2-$E$3),IF(C337=КАЛЬКУЛЯТОР!$C$21,$I$11,$I$11-SUMIF($A$12:$A$371,\"<=\"&$E$3,$H$12:$H$371)),0,0)),\"\")","v":""},"",{"$error":"#VALUE!"},null,{"$error":"#VALUE!"},{"$error":"#VALUE!"},{"$error":"#VALUE!"},{"$error":"#VALUE!"},false]
[327,327,{"$f":"IF(A338<=$E$3,КАЛЬКУЛЯТОР!$C$21,IF(AND(A338>$E$3,A338<=$E$2),$E$4,\"\"))","v":""},{"$f":"IF(A338<=$E$2,-PMT(C338/12,IF(C338=КАЛЬКУЛЯТОР!$C$21,$E$2,$E$2-$E$3),IF(C338=КАЛЬКУЛЯТОР!$C$21,$I$11,$I$11-SUMIF($A$12:$A$371,\"<=\"&$E$3,$H$12:$H$371)),0,0),\"\")","v":""},null,{"$f":"IFERROR((-IPMT(C338/12,B338,IF(C338=КАЛЬКУЛЯТОР!$C$21,$E$2,$E$2-$E$3),IF(C338=КАЛЬКУЛЯТОР!$C$21,$I$11,$I$11-SUMIF($A$12:$A$371,\"<=\"&$E$3,$H$12:$H$371)),0,0)),\"\")","v":""},{"$f":"IFERROR((-IPMT((C338-'КАЛЬКУЛЯТОР 1'!$P$1)/12,B338,IF(C338=КАЛЬКУЛЯТОР!$C$21,$E$2,$E$2-$E$3),IF(C338=КАЛЬКУЛЯТОР!$C$21,$I$11,$I$11-SUMIF($A$12:$A$371,\"<=\"&$E$3,$H$12:$H$371)),0,0)),\"\")","v":""},{"$f":"IFERROR((-PPMT(C338/12,B338,IF(C338=КАЛЬКУЛЯТОР!$C$21,$E$2,$E$2-$E$3),IF(C338=КАЛЬКУЛЯТОР!$C$21,$I$11,$I$11-SUMIF($A$12:$A$371,\"<=\"&$E$3,$H$12:$H$371)),0,0)),\"\")","v":""},"",{"$error":"#VALUE!"},null,{"$error":"#VALUE!"},{"$error":"#VALUE!"},{"$error":"#VALUE!"},{"$error":"#VALUE!"},false]
[328,328,{"$f":"IF(A339<=$E$3,КАЛЬКУЛЯТОР!$C$21,IF(AND(A339>$E$3,A339<=$E$2),$E$4,\"\"))","v":""},{"$f":"IF(A339<=$E$2,-PMT(C339/12,IF(C339=КАЛЬКУЛЯТОР!$C$21,$E$2,$E$2-$E$3),IF(C339=КАЛЬКУЛЯТОР!$C$21,$I$11,$I$11-SUMIF($A$12:$A$371,\"<=\"&$E$3,$H$12:$H$371)),0,0),\"\")","v":""},null,{"$f":"IFERROR((-IPMT(C339/12,B339,IF(C339=КАЛЬКУЛЯТОР!$C$21,$E$2,$E$2-$E$3),IF(C339=КАЛЬКУЛЯТОР!$C$21,$I$11,$I$11-SUMIF($A$12:$A$371,\"<=\"&$E$3,$H$12:$H$371)),0,0)),\"\")","v":""},{"$f":"IFERROR((-IPMT((C339-'КАЛЬКУЛЯТОР 1'!$P$1)/12,B339,IF(C339=КАЛЬКУЛЯТОР!$C$21,$E$2,$E$2-$E$3),IF(C339=КАЛЬКУЛЯТОР!$C$21,$I$11,$I$11-SUMIF($A$12:$A$371,\"<=\"&$E$3,$H$12:$H$371)),0,0)),\"\")","v":""},{"$f":"IFERROR((-PPMT(C339/12,B339,IF(C339=КАЛЬКУЛЯТОР!$C$21,$E$2,$E$2-$E$3),IF(C339=КАЛЬКУЛЯТОР!$C$21,$I$11,$I$11-SUMIF($A$12:$A$371,\"<=\"&$E$3,$H$12:$H$371)),0,0)),\"\")","v":""},"",{"$error":"#VALUE!"},null,{"$error":"#VALUE!"},{"$error":"#VALUE!"},{"$error":"#VALUE!"},{"$error":"#VALUE!"},false]
[329,329,{"$f":"IF(A340<=$E$3,КАЛЬКУЛЯТОР!$C$21,IF(AND(A340>$E$3,A340<=$E$2),$E$4,\"\"))","v":""},{"$f":"IF(A340<=$E$2,-PMT(C340/12,IF(C340=КАЛЬКУЛЯТОР!$C$21,$E$2,$E$2-$E$3),IF(C340=КАЛЬКУЛЯТОР!$C$21,$I$11,$I$11-SUMIF($A$12:$A$371,\"<=\"&$E$3,$H$12:$H$371)),0,0),\"\")","v":""},null,{"$f":"IFERROR((-IPMT(C340/12,B340,IF(C340=КАЛЬКУЛЯТОР!$C$21,$E$2,$E$2-$E$3),IF(C340=КАЛЬКУЛЯТОР!$C$21,$I$11,$I$11-SUMIF($A$12:$A$371,\"<=\"&$E$3,$H$12:$H$371)),0,0)),\"\")","v":""},{"$f":"IFERROR((-IPMT((C340-'КАЛЬКУЛЯТОР 1'!$P$1)/12,B340,IF(C340=КАЛЬКУЛЯТОР!$C$21,$E$2,$E$2-$E$3),IF(C340=КАЛЬКУЛЯТОР!$C$21,$I$11,$I$11-SUMIF($A$12:$A$371,\"<=\"&$E$3,$H$12:$H$371)),0,0)),\"\")","v":""},{"$f":"IFERROR((-PPMT(C340/12,B340,IF(C340=КАЛЬКУЛЯТОР!$C$21,$E$2,$E$2-$E$3),IF(C340=КАЛЬКУЛЯТОР!$C$21,$I$11,$I$11-SUMIF($A$12:$A$371,\"<=\"&$E$3,$H$12:$H$371)),0,0)),\"\")","v":""},"",{"$error":"#VALUE!"},null,{"$error":"#VALUE!"},{"$error":"#VALUE!"},{"$error":"#VALUE!"},{"$error":"#VALUE!"},false]
[330,330,{"$f":"IF(A341<=$E$3,КАЛЬКУЛЯТОР!$C$21,IF(AND(A341>$E$3,A341<=$E$2),$E$4,\"\"))","v":""},{"$f":"IF(A341<=$E$2,-PMT(C341/12,IF(C341=КАЛЬКУЛЯТОР!$C$21,$E$2,$E$2-$E$3),IF(C341=КАЛЬКУЛЯТОР!$C$21,$I$11,$I$11-SUMIF($A$12:$A$371,\"<=\"&$E$3,$H$12:$H$371)),0,0),\"\")","v":""},null,{"$f":"IFERROR((-IPMT(C341/12,B341,IF(C341=КАЛЬКУЛЯТОР!$C$21,$E$2,$E$2-$E$3),IF(C341=КАЛЬКУЛЯТОР!$C$21,$I$11,$I$11-SUMIF($A$12:$A$371,\"<=\"&$E$3,$H$12:$H$371)),0,0)),\"\")","v":""},{"$f":"IFERROR((-IPMT((C341-'КАЛЬКУЛЯТОР 1'!$P$1)/12,B341,IF(C341=КАЛЬКУЛЯТОР!$C$21,$E$2,$E$2-$E$3),IF(C341=КАЛЬКУЛЯТОР!$C$21,$I$11,$I$11-SUMIF($A$12:$A$371,\"<=\"&$E$3,$H$12:$H$371)),0,0)),\"\")","v":""},{"$f":"IFERROR((-PPMT(C341/12,B341,IF(C341=КАЛЬКУЛЯТОР!$C$21,$E$2,$E$2-$E$3),IF(C341=КАЛЬКУЛЯТОР!$C$21,$I$11,$I$11-SUMIF($A$12:$A$371,\"<=\"&$E$3,$H$12:$H$371)),0,0)),\"\")","v":""},"",{"$error":"#VALUE!"},null,{"$error":"#VALUE!"},{"$error":"#VALUE!"},{"$error":"#VALUE!"},{"$error":"#VALUE!"},false]
[331,331,{"$f":"IF(A342<=$E$3,КАЛЬКУЛЯТОР!$C$21,IF(AND(A342>$E$3,A342<=$E$2),$E$4,\"\"))","v":""},{"$f":"IF(A342<=$E$2,-PMT(C342/12,IF(C342=КАЛЬКУЛЯТОР!$C$21,$E$2,$E$2-$E$3),IF(C342=КАЛЬКУЛЯТОР!$C$21,$I$11,$I$11-SUMIF($A$12:$A$371,\"<=\"&$E$3,$H$12:$H$371)),0,0),\"\")","v":""},null,{"$f":"IFERROR((-IPMT(C342/12,B342,IF(C342=КАЛЬКУЛЯТОР!$C$21,$E$2,$E$2-$E$3),IF(C342=КАЛЬКУЛЯТОР!$C$21,$I$11,$I$11-SUMIF($A$12:$A$371,\"<=\"&$E$3,$H$12:$H$371)),0,0)),\"\")","v":""},{"$f":"IFERROR((-IPMT((C342-'КАЛЬКУЛЯТОР 1'!$P$1)/12,B342,IF(C342=КАЛЬКУЛЯТОР!$C$21,$E$2,$E$2-$E$3),IF(C342=КАЛЬКУЛЯТОР!$C$21,$I$11,$I$11-SUMIF($A$12:$A$371,\"<=\"&$E$3,$H$12:$H$371)),0,0)),\"\")","v":""},{"$f":"IFERROR((-PPMT(C342/12,B342,IF(C342=КАЛЬКУЛЯТОР!$C$21,$E$2,$E$2-$E$3),IF(C342=КАЛЬКУЛЯТОР!$C$21,$I$11,$I$11-SUMIF($A$12:$A$371,\"<=\"&$E$3,$H$12:$H$371)),0,0)),\"\")","v":""},"",{"$error":"#VALUE!"},null,{"$error":"#VALUE!"},{"$error":"#VALUE!"},{"$error":"#VALUE!"},{"$error":"#VALUE!"},false]
[332,332,{"$f":"IF(A343<=$E$3,КАЛЬКУЛЯТОР!$C$21,IF(AND(A343>$E$3,A343<=$E$2),$E$4,\"\"))","v":""},{"$f":"IF(A343<=$E$2,-PMT(C343/12,IF(C343=КАЛЬКУЛЯТОР!$C$21,$E$2,$E$2-$E$3),IF(C343=КАЛЬКУЛЯТОР!$C$21,$I$11,$I$11-SUMIF($A$12:$A$371,\"<=\"&$E$3,$H$12:$H$371)),0,0),\"\")","v":""},null,{"$f":"IFERROR((-IPMT(C343/12,B343,IF(C343=КАЛЬКУЛЯТОР!$C$21,$E$2,$E$2-$E$3),IF(C343=КАЛЬКУЛЯТОР!$C$21,$I$11,$I$11-SUMIF($A$12:$A$371,\"<=\"&$E$3,$H$12:$H$371)),0,0)),\"\")","v":""},{"$f":"IFERROR((-IPMT((C343-'КАЛЬКУЛЯТОР 1'!$P$1)/12,B343,IF(C343=КАЛЬКУЛЯТОР!$C$21,$E$2,$E$2-$E$3),IF(C343=КАЛЬКУЛЯТОР!$C$21,$I$11,$I$11-SUMIF($A$12:$A$371,\"<=\"&$E$3,$H$12:$H$371)),0,0)),\"\")","v":""},{"$f":"IFERROR((-PPMT(C343/12,B343,IF(C343=КАЛЬКУЛЯТОР!$C$21,$E$2,$E$2-$E$3),IF(C343=КАЛЬКУЛЯТОР!$C$21,$I$11,$I$11-SUMIF($A$12:$A$371,\"<=\"&$E$3,$H$12:$H$371)),0,0)),\"\")","v":""},"",{"$error":"#VALUE!"},null,{"$error":"#VALUE!"},{"$error":"#VALUE!"},{"$error":"#VALUE!"},{"$error":"#VALUE!"},false]
[333,333,{"$f":"IF(A344<=$E$3,КАЛЬКУЛЯТОР!$C$21,IF(AND(A344>$E$3,A344<=$E$2),$E$4,\"\"))","v":""},{"$f":"IF(A344<=$E$2,-PMT(C344/12,IF(C344=КАЛЬКУЛЯТОР!$C$21,$E$2,$E$2-$E$3),IF(C344=КАЛЬКУЛЯТОР!$C$21,$I$11,$I$11-SUMIF($A$12:$A$371,\"<=\"&$E$3,$H$12:$H$371)),0,0),\"\")","v":""},null,{"$f":"IFERROR((-IPMT(C344/12,B344,IF(C344=КАЛЬКУЛЯТОР!$C$21,$E$2,$E$2-$E$3),IF(C344=КАЛЬКУЛЯТОР!$C$21,$I$11,$I$11-SUMIF($A$12:$A$371,\"<=\"&$E$3,$H$12:$H$371)),0,0)),\"\")","v":""},{"$f":"IFERROR((-IPMT((C344-'КАЛЬКУЛЯТОР 1'!$P$1)/12,B344,IF(C344=КАЛЬКУЛЯТОР!$C$21,$E$2,$E$2-$E$3),IF(C344=КАЛЬКУЛЯТОР!$C$21,$I$11,$I$11-SUMIF($A$12:$A$371,\"<=\"&$E$3,$H$12:$H$371)),0,0)),\"\")","v":""},{"$f":"IFERROR((-PPMT(C344/12,B344,IF(C344=КАЛЬКУЛЯТОР!$C$21,$E$2,$E$2-$E$3),IF(C344=КАЛЬКУЛЯТОР!$C$21,$I$11,$I$11-SUMIF($A$12:$A$371,\"<=\"&$E$3,$H$12:$H$371)),0,0)),\"\")","v":""},"",{"$error":"#VALUE!"},null,{"$error":"#VALUE!"},{"$error":"#VALUE!"},{"$error":"#VALUE!"},{"$error":"#VALUE!"},false]
[334,334,{"$f":"IF(A345<=$E$3,КАЛЬКУЛЯТОР!$C$21,IF(AND(A345>$E$3,A345<=$E$2),$E$4,\"\"))","v":""},{"$f":"IF(A345<=$E$2,-PMT(C345/12,IF(C345=КАЛЬКУЛЯТОР!$C$21,$E$2,$E$2-$E$3),IF(C345=КАЛЬКУЛЯТОР!$C$21,$I$11,$I$11-SUMIF($A$12:$A$371,\"<=\"&$E$3,$H$12:$H$371)),0,0),\"\")","v":""},null,{"$f":"IFERROR((-IPMT(C345/12,B345,IF(C345=КАЛЬКУЛЯТОР!$C$21,$E$2,$E$2-$E$3),IF(C345=КАЛЬКУЛЯТОР!$C$21,$I$11,$I$11-SUMIF($A$12:$A$371,\"<=\"&$E$3,$H$12:$H$371)),0,0)),\"\")","v":""},{"$f":"IFERROR((-IPMT((C345-'КАЛЬКУЛЯТОР 1'!$P$1)/12,B345,IF(C345=КАЛЬКУЛЯТОР!$C$21,$E$2,$E$2-$E$3),IF(C345=КАЛЬКУЛЯТОР!$C$21,$I$11,$I$11-SUMIF($A$12:$A$371,\"<=\"&$E$3,$H$12:$H$371)),0,0)),\"\")","v":""},{"$f":"IFERROR((-PPMT(C345/12,B345,IF(C345=КАЛЬКУЛЯТОР!$C$21,$E$2,$E$2-$E$3),IF(C345=КАЛЬКУЛЯТОР!$C$21,$I$11,$I$11-SUMIF($A$12:$A$371,\"<=\"&$E$3,$H$12:$H$371)),0,0)),\"\")","v":""},"",{"$error":"#VALUE!"},null,{"$error":"#VALUE!"},{"$error":"#VALUE!"},{"$error":"#VALUE!"},{"$error":"#VALUE!"},false]
[335,335,{"$f":"IF(A346<=$E$3,КАЛЬКУЛЯТОР!$C$21,IF(AND(A346>$E$3,A346<=$E$2),$E$4,\"\"))","v":""},{"$f":"IF(A346<=$E$2,-PMT(C346/12,IF(C346=КАЛЬКУЛЯТОР!$C$21,$E$2,$E$2-$E$3),IF(C346=КАЛЬКУЛЯТОР!$C$21,$I$11,$I$11-SUMIF($A$12:$A$371,\"<=\"&$E$3,$H$12:$H$371)),0,0),\"\")","v":""},null,{"$f":"IFERROR((-IPMT(C346/12,B346,IF(C346=КАЛЬКУЛЯТОР!$C$21,$E$2,$E$2-$E$3),IF(C346=КАЛЬКУЛЯТОР!$C$21,$I$11,$I$11-SUMIF($A$12:$A$371,\"<=\"&$E$3,$H$12:$H$371)),0,0)),\"\")","v":""},{"$f":"IFERROR((-IPMT((C346-'КАЛЬКУЛЯТОР 1'!$P$1)/12,B346,IF(C346=КАЛЬКУЛЯТОР!$C$21,$E$2,$E$2-$E$3),IF(C346=КАЛЬКУЛЯТОР!$C$21,$I$11,$I$11-SUMIF($A$12:$A$371,\"<=\"&$E$3,$H$12:$H$371)),0,0)),\"\")","v":""},{"$f":"IFERROR((-PPMT(C346/12,B346,IF(C346=КАЛЬКУЛЯТОР!$C$21,$E$2,$E$2-$E$3),IF(C346=КАЛЬКУЛЯТОР!$C$21,$I$11,$I$11-SUMIF($A$12:$A$371,\"<=\"&$E$3,$H$12:$H$371)),0,0)),\"\")","v":""},"",{"$error":"#VALUE!"},null,{"$error":"#VALUE!"},{"$error":"#VALUE!"},{"$error":"#VALUE!"},{"$error":"#VALUE!"},false]
[336,336,{"$f":"IF(A347<=$E$3,КАЛЬКУЛЯТОР!$C$21,IF(AND(A347>$E$3,A347<=$E$2),$E$4,\"\"))","v":""},{"$f":"IF(A347<=$E$2,-PMT(C347/12,IF(C347=КАЛЬКУЛЯТОР!$C$21,$E$2,$E$2-$E$3),IF(C347=КАЛЬКУЛЯТОР!$C$21,$I$11,$I$11-SUMIF($A$12:$A$371,\"<=\"&$E$3,$H$12:$H$371)),0,0),\"\")","v":""},null,{"$f":"IFERROR((-IPMT(C347/12,B347,IF(C347=КАЛЬКУЛЯТОР!$C$21,$E$2,$E$2-$E$3),IF(C347=КАЛЬКУЛЯТОР!$C$21,$I$11,$I$11-SUMIF($A$12:$A$371,\"<=\"&$E$3,$H$12:$H$371)),0,0)),\"\")","v":""},{"$f":"IFERROR((-IPMT((C347-'КАЛЬКУЛЯТОР 1'!$P$1)/12,B347,IF(C347=КАЛЬКУЛЯТОР!$C$21,$E$2,$E$2-$E$3),IF(C347=КАЛЬКУЛЯТОР!$C$21,$I$11,$I$11-SUMIF($A$12:$A$371,\"<=\"&$E$3,$H$12:$H$371)),0,0)),\"\")","v":""},{"$f":"IFERROR((-PPMT(C347/12,B347,IF(C347=КАЛЬКУЛЯТОР!$C$21,$E$2,$E$2-$E$3),IF(C347=КАЛЬКУЛЯТОР!$C$21,$I$11,$I$11-SUMIF($A$12:$A$371,\"<=\"&$E$3,$H$12:$H$371)),0,0)),\"\")","v":""},"",{"$error":"#VALUE!"},null,{"$error":"#VALUE!"},{"$error":"#VALUE!"},{"$error":"#VALUE!"},{"$error":"#VALUE!"},false]
[337,337,{"$f":"IF(A348<=$E$3,КАЛЬКУЛЯТОР!$C$21,IF(AND(A348>$E$3,A348<=$E$2),$E$4,\"\"))","v":""},{"$f":"IF(A348<=$E$2,-PMT(C348/12,IF(C348=КАЛЬКУЛЯТОР!$C$21,$E$2,$E$2-$E$3),IF(C348=КАЛЬКУЛЯТОР!$C$21,$I$11,$I$11-SUMIF($A$12:$A$371,\"<=\"&$E$3,$H$12:$H$371)),0,0)+E348,\"\")","v":""},{"$f":"IF($E$2>$A347,(I347+SUM(F348:F359))*($K$4+$K$5),0)","v":{"v":0,"d":"0.00"}},{"$f":"IFERROR((-IPMT(C348/12,B348,IF(C348=КАЛЬКУЛЯТОР!$C$21,$E$2,$E$2-$E$3),IF(C348=КАЛЬКУЛЯТОР!$C$21,$I$11,$I$11-SUMIF($A$12:$A$371,\"<=\"&$E$3,$H$12:$H$371)),0,0)),\"\")","v":""},{"$f":"IFERROR((-IPMT((C348-'КАЛЬКУЛЯТОР 1'!$P$1)/12,B348,IF(C348=КАЛЬКУЛЯТОР!$C$21,$E$2,$E$2-$E$3),IF(C348=КАЛЬКУЛЯТОР!$C$21,$I$11,$I$11-SUMIF($A$12:$A$371,\"<=\"&$E$3,$H$12:$H$371)),0,0)),\"\")","v":""},{"$f":"IFERROR((-PPMT(C348/12,B348,IF(C348=КАЛЬКУЛЯТОР!$C$21,$E$2,$E$2-$E$3),IF(C348=КАЛЬКУЛЯТОР!$C$21,$I$11,$I$11-SUMIF($A$12:$A$371,\"<=\"&$E$3,$H$12:$H$371)),0,0)),\"\")","v":""},"",{"$error":"#VALUE!"},{"$f":"PV($E$5/12,A348-1,0,-E348)","v":{"v":0,"d":"0.00"}},{"$error":"#VALUE!"},{"$error":"#VALUE!"},{"$error":"#VALUE!"},{"$error":"#VALUE!"},false]
[338,338,{"$f":"IF(A349<=$E$3,КАЛЬКУЛЯТОР!$C$21,IF(AND(A349>$E$3,A349<=$E$2),$E$4,\"\"))","v":""},{"$f":"IF(A349<=$E$2,-PMT(C349/12,IF(C349=КАЛЬКУЛЯТОР!$C$21,$E$2,$E$2-$E$3),IF(C349=КАЛЬКУЛЯТОР!$C$21,$I$11,$I$11-SUMIF($A$12:$A$371,\"<=\"&$E$3,$H$12:$H$371)),0,0),\"\")","v":""},null,{"$f":"IFERROR((-IPMT(C349/12,B349,IF(C349=КАЛЬКУЛЯТОР!$C$21,$E$2,$E$2-$E$3),IF(C349=КАЛЬКУЛЯТОР!$C$21,$I$11,$I$11-SUMIF($A$12:$A$371,\"<=\"&$E$3,$H$12:$H$371)),0,0)),\"\")","v":""},{"$f":"IFERROR((-IPMT((C349-'КАЛЬКУЛЯТОР 1'!$P$1)/12,B349,IF(C349=КАЛЬКУЛЯТОР!$C$21,$E$2,$E$2-$E$3),IF(C349=КАЛЬКУЛЯТОР!$C$21,$I$11,$I$11-SUMIF($A$12:$A$371,\"<=\"&$E$3,$H$12:$H$371)),0,0)),\"\")","v":""},{"$f":"IFERROR((-PPMT(C349/12,B349,IF(C349=КАЛЬКУЛЯТОР!$C$21,$E$2,$E$2-$E$3),IF(C349=КАЛЬКУЛЯТОР!$C$21,$I$11,$I$11-SUMIF($A$12:$A$371,\"<=\"&$E$3,$H$12:$H$371)),0,0)),\"\")","v":""},"",{"$error":"#VALUE!"},null,{"$error":"#VALUE!"},{"$error":"#VALUE!"},{"$error":"#VALUE!"},{"$error":"#VALUE!"},false]
[339,339,{"$f":"IF(A350<=$E$3,КАЛЬКУЛЯТОР!$C$21,IF(AND(A350>$E$3,A350<=$E$2),$E$4,\"\"))","v":""},{"$f":"IF(A350<=$E$2,-PMT(C350/12,IF(C350=КАЛЬКУЛЯТОР!$C$21,$E$2,$E$2-$E$3),IF(C350=КАЛЬКУЛЯТОР!$C$21,$I$11,$I$11-SUMIF($A$12:$A$371,\"<=\"&$E$3,$H$12:$H$371)),0,0),\"\")","v":""},null,{"$f":"IFERROR((-IPMT(C350/12,B350,IF(C350=КАЛЬКУЛЯТОР!$C$21,$E$2,$E$2-$E$3),IF(C350=КАЛЬКУЛЯТОР!$C$21,$I$11,$I$11-SUMIF($A$12:$A$371,\"<=\"&$E$3,$H$12:$H$371)),0,0)),\"\")","v":""},{"$f":"IFERROR((-IPMT((C350-'КАЛЬКУЛЯТОР 1'!$P$1)/12,B350,IF(C350=КАЛЬКУЛЯТОР!$C$21,$E$2,$E$2-$E$3),IF(C350=КАЛЬКУЛЯТОР!$C$21,$I$11,$I$11-SUMIF($A$12:$A$371,\"<=\"&$E$3,$H$12:$H$371)),0,0)),\"\")","v":""},{"$f":"IFERROR((-PPMT(C350/12,B350,IF(C350=КАЛЬКУЛЯТОР!$C$21,$E$2,$E$2-$E$3),IF(C350=КАЛЬКУЛЯТОР!$C$21,$I$11,$I$11-SUMIF($A$12:$A$371,\"<=\"&$E$3,$H$12:$H$371)),0,0)),\"\")","v":""},"",{"$error":"#VALUE!"},null,{"$error":"#VALUE!"},{"$error":"#VALUE!"},{"$error":"#VALUE!"},{"$error":"#VALUE!"},false]
[340,340,{"$f":"IF(A351<=$E$3,КАЛЬКУЛЯТОР!$C$21,IF(AND(A351>$E$3,A351<=$E$2),$E$4,\"\"))","v":""},{"$f":"IF(A351<=$E$2,-PMT(C351/12,IF(C351=КАЛЬКУЛЯТОР!$C$21,$E$2,$E$2-$E$3),IF(C351=КАЛЬКУЛЯТОР!$C$21,$I$11,$I$11-SUMIF($A$12:$A$371,\"<=\"&$E$3,$H$12:$H$371)),0,0),\"\")","v":""},null,{"$f":"IFERROR((-IPMT(C351/12,B351,IF(C351=КАЛЬКУЛЯТОР!$C$21,$E$2,$E$2-$E$3),IF(C351=КАЛЬКУЛЯТОР!$C$21,$I$11,$I$11-SUMIF($A$12:$A$371,\"<=\"&$E$3,$H$12:$H$371)),0,0)),\"\")","v":""},{"$f":"IFERROR((-IPMT((C351-'КАЛЬКУЛЯТОР 1'!$P$1)/12,B351,IF(C351=КАЛЬКУЛЯТОР!$C$21,$E$2,$E$2-$E$3),IF(C351=КАЛЬКУЛЯТОР!$C$21,$I$11,$I$11-SUMIF($A$12:$A$371,\"<=\"&$E$3,$H$12:$H$371)),0,0)),\"\")","v":""},{"$f":"IFERROR((-PPMT(C351/12,B351,IF(C351=КАЛЬКУЛЯТОР!$C$21,$E$2,$E$2-$E$3),IF(C351=КАЛЬКУЛЯТОР!$C$21,$I$11,$I$11-SUMIF($A$12:$A$371,\"<=\"&$E$3,$H$12:$H$371)),0,0)),\"\")","v":""},"",{"$error":"#VALUE!"},null,{"$error":"#VALUE!"},{"$error":"#VALUE!"},{"$error":"#VALUE!"},{"$error":"#VALUE!"},false]
[341,341,{"$f":"IF(A352<=$E$3,КАЛЬКУЛЯТОР!$C$21,IF(AND(A352>$E$3,A352<=$E$2),$E$4,\"\"))","v":""},{"$f":"IF(A352<=$E$2,-PMT(C352/12,IF(C352=КАЛЬКУЛЯТОР!$C$21,$E$2,$E$2-$E$3),IF(C352=КАЛЬКУЛЯТОР!$C$21,$I$11,$I$11-SUMIF($A$12:$A$371,\"<=\"&$E$3,$H$12:$H$371)),0,0),\"\")","v":""},null,{"$f":"IFERROR((-IPMT(C352/12,B352,IF(C352=КАЛЬКУЛЯТОР!$C$21,$E$2,$E$2-$E$3),IF(C352=КАЛЬКУЛЯТОР!$C$21,$I$11,$I$11-SUMIF($A$12:$A$371,\"<=\"&$E$3,$H$12:$H$371)),0,0)),\"\")","v":""},{"$f":"IFERROR((-IPMT((C352-'КАЛЬКУЛЯТОР 1'!$P$1)/12,B352,IF(C352=КАЛЬКУЛЯТОР!$C$21,$E$2,$E$2-$E$3),IF(C352=КАЛЬКУЛЯТОР!$C$21,$I$11,$I$11-SUMIF($A$12:$A$371,\"<=\"&$E$3,$H$12:$H$371)),0,0)),\"\")","v":""},{"$f":"IFERROR((-PPMT(C352/12,B352,IF(C352=КАЛЬКУЛЯТОР!$C$21,$E$2,$E$2-$E$3),IF(C352=КАЛЬКУЛЯТОР!$C$21,$I$11,$I$11-SUMIF($A$12:$A$371,\"<=\"&$E$3,$H$12:$H$371)),0,0)),\"\")","v":""},"",{"$error":"#VALUE!"},null,{"$error":"#VALUE!"},{"$error":"#VALUE!"},{"$error":"#VALUE!"},{"$error":"#VALUE!"},false]
[342,342,{"$f":"IF(A353<=$E$3,КАЛЬКУЛЯТОР!$C$21,IF(AND(A353>$E$3,A353<=$E$2),$E$4,\"\"))","v":""},{"$f":"IF(A353<=$E$2,-PMT(C353/12,IF(C353=КАЛЬКУЛЯТОР!$C$21,$E$2,$E$2-$E$3),IF(C353=КАЛЬКУЛЯТОР!$C$21,$I$11,$I$11-SUMIF($A$12:$A$371,\"<=\"&$E$3,$H$12:$H$371)),0,0),\"\")","v":""},null,{"$f":"IFERROR((-IPMT(C353/12,B353,IF(C353=КАЛЬКУЛЯТОР!$C$21,$E$2,$E$2-$E$3),IF(C353=КАЛЬКУЛЯТОР!$C$21,$I$11,$I$11-SUMIF($A$12:$A$371,\"<=\"&$E$3,$H$12:$H$371)),0,0)),\"\")","v":""},{"$f":"IFERROR((-IPMT((C353-'КАЛЬКУЛЯТОР 1'!$P$1)/12,B353,IF(C353=КАЛЬКУЛЯТОР!$C$21,$E$2,$E$2-$E$3),IF(C353=КАЛЬКУЛЯТОР!$C$21,$I$11,$I$11-SUMIF($A$12:$A$371,\"<=\"&$E$3,$H$12:$H$371)),0,0)),\"\")","v":""},{"$f":"IFERROR((-PPMT(C353/12,B353,IF(C353=КАЛЬКУЛЯТОР!$C$21,$E$2,$E$2-$E$3),IF(C353=КАЛЬКУЛЯТОР!$C$21,$I$11,$I$11-SUMIF($A$12:$A$371,\"<=\"&$E$3,$H$12:$H$371)),0,0)),\"\")","v":""},"",{"$error":"#VALUE!"},null,{"$error":"#VALUE!"},{"$error":"#VALUE!"},{"$error":"#VALUE!"},{"$error":"#VALUE!"},false]
[343,343,{"$f":"IF(A354<=$E$3,КАЛЬКУЛЯТОР!$C$21,IF(AND(A354>$E$3,A354<=$E$2),$E$4,\"\"))","v":""},{"$f":"IF(A354<=$E$2,-PMT(C354/12,IF(C354=КАЛЬКУЛЯТОР!$C$21,$E$2,$E$2-$E$3),IF(C354=КАЛЬКУЛЯТОР!$C$21,$I$11,$I$11-SUMIF($A$12:$A$371,\"<=\"&$E$3,$H$12:$H$371)),0,0),\"\")","v":""},null,{"$f":"IFERROR((-IPMT(C354/12,B354,IF(C354=КАЛЬКУЛЯТОР!$C$21,$E$2,$E$2-$E$3),IF(C354=КАЛЬКУЛЯТОР!$C$21,$I$11,$I$11-SUMIF($A$12:$A$371,\"<=\"&$E$3,$H$12:$H$371)),0,0)),\"\")","v":""},{"$f":"IFERROR((-IPMT((C354-'КАЛЬКУЛЯТОР 1'!$P$1)/12,B354,IF(C354=КАЛЬКУЛЯТОР!$C$21,$E$2,$E$2-$E$3),IF(C354=КАЛЬКУЛЯТОР!$C$21,$I$11,$I$11-SUMIF($A$12:$A$371,\"<=\"&$E$3,$H$12:$H$371)),0,0)),\"\")","v":""},{"$f":"IFERROR((-PPMT(C354/12,B354,IF(C354=КАЛЬКУЛЯТОР!$C$21,$E$2,$E$2-$E$3),IF(C354=КАЛЬКУЛЯТОР!$C$21,$I$11,$I$11-SUMIF($A$12:$A$371,\"<=\"&$E$3,$H$12:$H$371)),0,0)),\"\")","v":""},"",{"$error":"#VALUE!"},null,{"$error":"#VALUE!"},{"$error":"#VALUE!"},{"$error":"#VALUE!"},{"$error":"#VALUE!"},false]
[344,344,{"$f":"IF(A355<=$E$3,КАЛЬКУЛЯТОР!$C$21,IF(AND(A355>$E$3,A355<=$E$2),$E$4,\"\"))","v":""},{"$f":"IF(A355<=$E$2,-PMT(C355/12,IF(C355=КАЛЬКУЛЯТОР!$C$21,$E$2,$E$2-$E$3),IF(C355=КАЛЬКУЛЯТОР!$C$21,$I$11,$I$11-SUMIF($A$12:$A$371,\"<=\"&$E$3,$H$12:$H$371)),0,0),\"\")","v":""},null,{"$f":"IFERROR((-IPMT(C355/12,B355,IF(C355=КАЛЬКУЛЯТОР!$C$21,$E$2,$E$2-$E$3),IF(C355=КАЛЬКУЛЯТОР!$C$21,$I$11,$I$11-SUMIF($A$12:$A$371,\"<=\"&$E$3,$H$12:$H$371)),0,0)),\"\")","v":""},{"$f":"IFERROR((-IPMT((C355-'КАЛЬКУЛЯТОР 1'!$P$1)/12,B355,IF(C355=КАЛЬКУЛЯТОР!$C$21,$E$2,$E$2-$E$3),IF(C355=КАЛЬКУЛЯТОР!$C$21,$I$11,$I$11-SUMIF($A$12:$A$371,\"<=\"&$E$3,$H$12:$H$371)),0,0)),\"\")","v":""},{"$f":"IFERROR((-PPMT(C355/12,B355,IF(C355=КАЛЬКУЛЯТОР!$C$21,$E$2,$E$2-$E$3),IF(C355=КАЛЬКУЛЯТОР!$C$21,$I$11,$I$11-SUMIF($A$12:$A$371,\"<=\"&$E$3,$H$12:$H$371)),0,0)),\"\")","v":""},"",{"$error":"#VALUE!"},null,{"$error":"#VALUE!"},{"$error":"#VALUE!"},{"$error":"#VALUE!"},{"$error":"#VALUE!"},false]
[345,345,{"$f":"IF(A356<=$E$3,КАЛЬКУЛЯТОР!$C$21,IF(AND(A356>$E$3,A356<=$E$2),$E$4,\"\"))","v":""},{"$f":"IF(A356<=$E$2,-PMT(C356/12,IF(C356=КАЛЬКУЛЯТОР!$C$21,$E$2,$E$2-$E$3),IF(C356=КАЛЬКУЛЯТОР!$C$21,$I$11,$I$11-SUMIF($A$12:$A$371,\"<=\"&$E$3,$H$12:$H$371)),0,0),\"\")","v":""},null,{"$f":"IFERROR((-IPMT(C356/12,B356,IF(C356=КАЛЬКУЛЯТОР!$C$21,$E$2,$E$2-$E$3),IF(C356=КАЛЬКУЛЯТОР!$C$21,$I$11,$I$11-SUMIF($A$12:$A$371,\"<=\"&$E$3,$H$12:$H$371)),0,0)),\"\")","v":""},{"$f":"IFERROR((-IPMT((C356-'КАЛЬКУЛЯТОР 1'!$P$1)/12,B356,IF(C356=КАЛЬКУЛЯТОР!$C$21,$E$2,$E$2-$E$3),IF(C356=КАЛЬКУЛЯТОР!$C$21,$I$11,$I$11-SUMIF($A$12:$A$371,\"<=\"&$E$3,$H$12:$H$371)),0,0)),\"\")","v":""},{"$f":"IFERROR((-PPMT(C356/12,B356,IF(C356=КАЛЬКУЛЯТОР!$C$21,$E$2,$E$2-$E$3),IF(C356=КАЛЬКУЛЯТОР!$C$21,$I$11,$I$11-SUMIF($A$12:$A$371,\"<=\"&$E$3,$H$12:$H$371)),0,0)),\"\")","v":""},"",{"$error":"#VALUE!"},null,{"$error":"#VALUE!"},{"$error":"#VALUE!"},{"$error":"#VALUE!"},{"$error":"#VALUE!"},false]
[346,346,{"$f":"IF(A357<=$E$3,КАЛЬКУЛЯТОР!$C$21,IF(AND(A357>$E$3,A357<=$E$2),$E$4,\"\"))","v":""},{"$f":"IF(A357<=$E$2,-PMT(C357/12,IF(C357=КАЛЬКУЛЯТОР!$C$21,$E$2,$E$2-$E$3),IF(C357=КАЛЬКУЛЯТОР!$C$21,$I$11,$I$11-SUMIF($A$12:$A$371,\"<=\"&$E$3,$H$12:$H$371)),0,0),\"\")","v":""},null,{"$f":"IFERROR((-IPMT(C357/12,B357,IF(C357=КАЛЬКУЛЯТОР!$C$21,$E$2,$E$2-$E$3),IF(C357=КАЛЬКУЛЯТОР!$C$21,$I$11,$I$11-SUMIF($A$12:$A$371,\"<=\"&$E$3,$H$12:$H$371)),0,0)),\"\")","v":""},{"$f":"IFERROR((-IPMT((C357-'КАЛЬКУЛЯТОР 1'!$P$1)/12,B357,IF(C357=КАЛЬКУЛЯТОР!$C$21,$E$2,$E$2-$E$3),IF(C357=КАЛЬКУЛЯТОР!$C$21,$I$11,$I$11-SUMIF($A$12:$A$371,\"<=\"&$E$3,$H$12:$H$371)),0,0)),\"\")","v":""},{"$f":"IFERROR((-PPMT(C357/12,B357,IF(C357=КАЛЬКУЛЯТОР!$C$21,$E$2,$E$2-$E$3),IF(C357=КАЛЬКУЛЯТОР!$C$21,$I$11,$I$11-SUMIF($A$12:$A$371,\"<=\"&$E$3,$H$12:$H$371)),0,0)),\"\")","v":""},"",{"$error":"#VALUE!"},null,{"$error":"#VALUE!"},{"$error":"#VALUE!"},{"$error":"#VALUE!"},{"$error":"#VALUE!"},false]
[347,347,{"$f":"IF(A358<=$E$3,КАЛЬКУЛЯТОР!$C$21,IF(AND(A358>$E$3,A358<=$E$2),$E$4,\"\"))","v":""},{"$f":"IF(A358<=$E$2,-PMT(C358/12,IF(C358=КАЛЬКУЛЯТОР!$C$21,$E$2,$E$2-$E$3),IF(C358=КАЛЬКУЛЯТОР!$C$21,$I$11,$I$11-SUMIF($A$12:$A$371,\"<=\"&$E$3,$H$12:$H$371)),0,0),\"\")","v":""},null,{"$f":"IFERROR((-IPMT(C358/12,B358,IF(C358=КАЛЬКУЛЯТОР!$C$21,$E$2,$E$2-$E$3),IF(C358=КАЛЬКУЛЯТОР!$C$21,$I$11,$I$11-SUMIF($A$12:$A$371,\"<=\"&$E$3,$H$12:$H$371)),0,0)),\"\")","v":""},{"$f":"IFERROR((-IPMT((C358-'КАЛЬКУЛЯТОР 1'!$P$1)/12,B358,IF(C358=КАЛЬКУЛЯТОР!$C$21,$E$2,$E$2-$E$3),IF(C358=КАЛЬКУЛЯТОР!$C$21,$I$11,$I$11-SUMIF($A$12:$A$371,\"<=\"&$E$3,$H$12:$H$371)),0,0)),\"\")","v":""},{"$f":"IFERROR((-PPMT(C358/12,B358,IF(C358=КАЛЬКУЛЯТОР!$C$21,$E$2,$E$2-$E$3),IF(C358=КАЛЬКУЛЯТОР!$C$21,$I$11,$I$11-SUMIF($A$12:$A$371,\"<=\"&$E$3,$H$12:$H$371)),0,0)),\"\")","v":""},"",{"$error":"#VALUE!"},null,{"$error":"#VALUE!"},{"$error":"#VALUE!"},{"$error":"#VALUE!"},{"$error":"#VALUE!"},false]
[348,348,{"$f":"IF(A359<=$E$3,КАЛЬКУЛЯТОР!$C$21,IF(AND(A359>$E$3,A359<=$E$2),$E$4,\"\"))","v":""},{"$f":"IF(A359<=$E$2,-PMT(C359/12,IF(C359=КАЛЬКУЛЯТОР!$C$21,$E$2,$E$2-$E$3),IF(C359=КАЛЬКУЛЯТОР!$C$21,$I$11,$I$11-SUMIF($A$12:$A$371,\"<=\"&$E$3,$H$12:$H$371)),0,0),\"\")","v":""},null,{"$f":"IFERROR((-IPMT(C359/12,B359,IF(C359=КАЛЬКУЛЯТОР!$C$21,$E$2,$E$2-$E$3),IF(C359=КАЛЬКУЛЯТОР!$C$21,$I$11,$I$11-SUMIF($A$12:$A$371,\"<=\"&$E$3,$H$12:$H$371)),0,0)),\"\")","v":""},{"$f":"IFERROR((-IPMT((C359-'КАЛЬКУЛЯТОР 1'!$P$1)/12,B359,IF(C359=КАЛЬКУЛЯТОР!$C$21,$E$2,$E$2-$E$3),IF(C359=КАЛЬКУЛЯТОР!$C$21,$I$11,$I$11-SUMIF($A$12:$A$371,\"<=\"&$E$3,$H$12:$H$371)),0,0)),\"\")","v":""},{"$f":"IFERROR((-PPMT(C359/12,B359,IF(C359=КАЛЬКУЛЯТОР!$C$21,$E$2,$E$2-$E$3),IF(C359=КАЛЬКУЛЯТОР!$C$21,$I$11,$I$11-SUMIF($A$12:$A$371,\"<=\"&$E$3,$H$12:$H$371)),0,0)),\"\")","v":""},"",{"$error":"#VALUE!"},null,{"$error":"#VALUE!"},{"$error":"#VALUE!"},{"$error":"#VALUE!"},{"$error":"#VALUE!"},false]
[349,349,{"$f":"IF(A360<=$E$3,КАЛЬКУЛЯТОР!$C$21,IF(AND(A360>$E$3,A360<=$E$2),$E$4,\"\"))","v":""},{"$f":"IF(A360<=$E$2,-PMT(C360/12,IF(C360=КАЛЬКУЛЯТОР!$C$21,$E$2,$E$2-$E$3),IF(C360=КАЛЬКУЛЯТОР!$C$21,$I$11,$I$11-SUMIF($A$12:$A$371,\"<=\"&$E$3,$H$12:$H$371)),0,0)+E360,\"\")","v":""},{"$f":"IF($E$2>$A359,(I359+SUM(F360:F371))*($K$4+$K$5),0)","v":{"v":0,"d":"0.00"}},{"$f":"IFERROR((-IPMT(C360/12,B360,IF(C360=КАЛЬКУЛЯТОР!$C$21,$E$2,$E$2-$E$3),IF(C360=КАЛЬКУЛЯТОР!$C$21,$I$11,$I$11-SUMIF($A$12:$A$371,\"<=\"&$E$3,$H$12:$H$371)),0,0)),\"\")","v":""},{"$f":"IFERROR((-IPMT((C360-'КАЛЬКУЛЯТОР 1'!$P$1)/12,B360,IF(C360=КАЛЬКУЛЯТОР!$C$21,$E$2,$E$2-$E$3),IF(C360=КАЛЬКУЛЯТОР!$C$21,$I$11,$I$11-SUMIF($A$12:$A$371,\"<=\"&$E$3,$H$12:$H$371)),0,0)),\"\")","v":""},{"$f":"IFERROR((-PPMT(C360/12,B360,IF(C360=КАЛЬКУЛЯТОР!$C$21,$E$2,$E$2-$E$3),IF(C360=КАЛЬКУЛЯТОР!$C$21,$I$11,$I$11-SUMIF($A$12:$A$371,\"<=\"&$E$3,$H$12:$H$371)),0,0)),\"\")","v":""},"",{"$error":"#VALUE!"},{"$f":"PV($E$5/12,A360-1,0,-E360)","v":{"v":0,"d":"0.00"}},{"$error":"#VALUE!"},{"$error":"#VALUE!"},{"$error":"#VALUE!"},{"$error":"#VALUE!"},false]
[350,350,{"$f":"IF(A361<=$E$3,КАЛЬКУЛЯТОР!$C$21,IF(AND(A361>$E$3,A361<=$E$2),$E$4,\"\"))","v":""},{"$f":"IF(A361<=$E$2,-PMT(C361/12,IF(C361=КАЛЬКУЛЯТОР!$C$21,$E$2,$E$2-$E$3),IF(C361=КАЛЬКУЛЯТОР!$C$21,$I$11,$I$11-SUMIF($A$12:$A$371,\"<=\"&$E$3,$H$12:$H$371)),0,0),\"\")","v":""},null,{"$f":"IFERROR((-IPMT(C361/12,B361,IF(C361=КАЛЬКУЛЯТОР!$C$21,$E$2,$E$2-$E$3),IF(C361=КАЛЬКУЛЯТОР!$C$21,$I$11,$I$11-SUMIF($A$12:$A$371,\"<=\"&$E$3,$H$12:$H$371)),0,0)),\"\")","v":""},{"$f":"IFERROR((-IPMT((C361-'КАЛЬКУЛЯТОР 1'!$P$1)/12,B361,IF(C361=КАЛЬКУЛЯТОР!$C$21,$E$2,$E$2-$E$3),IF(C361=КАЛЬКУЛЯТОР!$C$21,$I$11,$I$11-SUMIF($A$12:$A$371,\"<=\"&$E$3,$H$12:$H$371)),0,0)),\"\")","v":""},{"$f":"IFERROR((-PPMT(C361/12,B361,IF(C361=КАЛЬКУЛЯТОР!$C$21,$E$2,$E$2-$E$3),IF(C361=КАЛЬКУЛЯТОР!$C$21,$I$11,$I$11-SUMIF($A$12:$A$371,\"<=\"&$E$3,$H$12:$H$371)),0,0)),\"\")","v":""},"",{"$error":"#VALUE!"},null,{"$error":"#VALUE!"},{"$error":"#VALUE!"},{"$error":"#VALUE!"},{"$error":"#VALUE!"},false]
[351,351,{"$f":"IF(A362<=$E$3,КАЛЬКУЛЯТОР!$C$21,IF(AND(A362>$E$3,A362<=$E$2),$E$4,\"\"))","v":""},{"$f":"IF(A362<=$E$2,-PMT(C362/12,IF(C362=КАЛЬКУЛЯТОР!$C$21,$E$2,$E$2-$E$3),IF(C362=КАЛЬКУЛЯТОР!$C$21,$I$11,$I$11-SUMIF($A$12:$A$371,\"<=\"&$E$3,$H$12:$H$371)),0,0),\"\")","v":""},null,{"$f":"IFERROR((-IPMT(C362/12,B362,IF(C362=КАЛЬКУЛЯТОР!$C$21,$E$2,$E$2-$E$3),IF(C362=КАЛЬКУЛЯТОР!$C$21,$I$11,$I$11-SUMIF($A$12:$A$371,\"<=\"&$E$3,$H$12:$H$371)),0,0)),\"\")","v":""},{"$f":"IFERROR((-IPMT((C362-'КАЛЬКУЛЯТОР 1'!$P$1)/12,B362,IF(C362=КАЛЬКУЛЯТОР!$C$21,$E$2,$E$2-$E$3),IF(C362=КАЛЬКУЛЯТОР!$C$21,$I$11,$I$11-SUMIF($A$12:$A$371,\"<=\"&$E$3,$H$12:$H$371)),0,0)),\"\")","v":""},{"$f":"IFERROR((-PPMT(C362/12,B362,IF(C362=КАЛЬКУЛЯТОР!$C$21,$E$2,$E$2-$E$3),IF(C362=КАЛЬКУЛЯТОР!$C$21,$I$11,$I$11-SUMIF($A$12:$A$371,\"<=\"&$E$3,$H$12:$H$371)),0,0)),\"\")","v":""},"",{"$error":"#VALUE!"},null,{"$error":"#VALUE!"},{"$error":"#VALUE!"},{"$error":"#VALUE!"},{"$error":"#VALUE!"},false]
[352,352,{"$f":"IF(A363<=$E$3,КАЛЬКУЛЯТОР!$C$21,IF(AND(A363>$E$3,A363<=$E$2),$E$4,\"\"))","v":""},{"$f":"IF(A363<=$E$2,-PMT(C363/12,IF(C363=КАЛЬКУЛЯТОР!$C$21,$E$2,$E$2-$E$3),IF(C363=КАЛЬКУЛЯТОР!$C$21,$I$11,$I$11-SUMIF($A$12:$A$371,\"<=\"&$E$3,$H$12:$H$371)),0,0),\"\")","v":""},null,{"$f":"IFERROR((-IPMT(C363/12,B363,IF(C363=КАЛЬКУЛЯТОР!$C$21,$E$2,$E$2-$E$3),IF(C363=КАЛЬКУЛЯТОР!$C$21,$I$11,$I$11-SUMIF($A$12:$A$371,\"<=\"&$E$3,$H$12:$H$371)),0,0)),\"\")","v":""},{"$f":"IFERROR((-IPMT((C363-'КАЛЬКУЛЯТОР 1'!$P$1)/12,B363,IF(C363=КАЛЬКУЛЯТОР!$C$21,$E$2,$E$2-$E$3),IF(C363=КАЛЬКУЛЯТОР!$C$21,$I$11,$I$11-SUMIF($A$12:$A$371,\"<=\"&$E$3,$H$12:$H$371)),0,0)),\"\")","v":""},{"$f":"IFERROR((-PPMT(C363/12,B363,IF(C363=КАЛЬКУЛЯТОР!$C$21,$E$2,$E$2-$E$3),IF(C363=КАЛЬКУЛЯТОР!$C$21,$I$11,$I$11-SUMIF($A$12:$A$371,\"<=\"&$E$3,$H$12:$H$371)),0,0)),\"\")","v":""},"",{"$error":"#VALUE!"},null,{"$error":"#VALUE!"},{"$error":"#VALUE!"},{"$error":"#VALUE!"},{"$error":"#VALUE!"},false]
[353,353,{"$f":"IF(A364<=$E$3,КАЛЬКУЛЯТОР!$C$21,IF(AND(A364>$E$3,A364<=$E$2),$E$4,\"\"))","v":""},{"$f":"IF(A364<=$E$2,-PMT(C364/12,IF(C364=КАЛЬКУЛЯТОР!$C$21,$E$2,$E$2-$E$3),IF(C364=КАЛЬКУЛЯТОР!$C$21,$I$11,$I$11-SUMIF($A$12:$A$371,\"<=\"&$E$3,$H$12:$H$371)),0,0),\"\")","v":""},null,{"$f":"IFERROR((-IPMT(C364/12,B364,IF(C364=КАЛЬКУЛЯТОР!$C$21,$E$2,$E$2-$E$3),IF(C364=КАЛЬКУЛЯТОР!$C$21,$I$11,$I$11-SUMIF($A$12:$A$371,\"<=\"&$E$3,$H$12:$H$371)),0,0)),\"\")","v":""},{"$f":"IFERROR((-IPMT((C364-'КАЛЬКУЛЯТОР 1'!$P$1)/12,B364,IF(C364=КАЛЬКУЛЯТОР!$C$21,$E$2,$E$2-$E$3),IF(C364=КАЛЬКУЛЯТОР!$C$21,$I$11,$I$11-SUMIF($A$12:$A$371,\"<=\"&$E$3,$H$12:$H$371)),0,0)),\"\")","v":""},{"$f":"IFERROR((-PPMT(C364/12,B364,IF(C364=КАЛЬКУЛЯТОР!$C$21,$E$2,$E$2-$E$3),IF(C364=КАЛЬКУЛЯТОР!$C$21,$I$11,$I$11-SUMIF($A$12:$A$371,\"<=\"&$E$3,$H$12:$H$371)),0,0)),\"\")","v":""},"",{"$error":"#VALUE!"},null,{"$error":"#VALUE!"},{"$error":"#VALUE!"},{"$error":"#VALUE!"},{"$error":"#VALUE!"},false]
[354,354,{"$f":"IF(A365<=$E$3,КАЛЬКУЛЯТОР!$C$21,IF(AND(A365>$E$3,A365<=$E$2),$E$4,\"\"))","v":""},{"$f":"IF(A365<=$E$2,-PMT(C365/12,IF(C365=КАЛЬКУЛЯТОР!$C$21,$E$2,$E$2-$E$3),IF(C365=КАЛЬКУЛЯТОР!$C$21,$I$11,$I$11-SUMIF($A$12:$A$371,\"<=\"&$E$3,$H$12:$H$371)),0,0),\"\")","v":""},null,{"$f":"IFERROR((-IPMT(C365/12,B365,IF(C365=КАЛЬКУЛЯТОР!$C$21,$E$2,$E$2-$E$3),IF(C365=КАЛЬКУЛЯТОР!$C$21,$I$11,$I$11-SUMIF($A$12:$A$371,\"<=\"&$E$3,$H$12:$H$371)),0,0)),\"\")","v":""},{"$f":"IFERROR((-IPMT((C365-'КАЛЬКУЛЯТОР 1'!$P$1)/12,B365,IF(C365=КАЛЬКУЛЯТОР!$C$21,$E$2,$E$2-$E$3),IF(C365=КАЛЬКУЛЯТОР!$C$21,$I$11,$I$11-SUMIF($A$12:$A$371,\"<=\"&$E$3,$H$12:$H$371)),0,0)),\"\")","v":""},{"$f":"IFERROR((-PPMT(C365/12,B365,IF(C365=КАЛЬКУЛЯТОР!$C$21,$E$2,$E$2-$E$3),IF(C365=КАЛЬКУЛЯТОР!$C$21,$I$11,$I$11-SUMIF($A$12:$A$371,\"<=\"&$E$3,$H$12:$H$371)),0,0)),\"\")","v":""},"",{"$error":"#VALUE!"},null,{"$error":"#VALUE!"},{"$error":"#VALUE!"},{"$error":"#VALUE!"},{"$error":"#VALUE!"},false]
[355,355,{"$f":"IF(A366<=$E$3,КАЛЬКУЛЯТОР!$C$21,IF(AND(A366>$E$3,A366<=$E$2),$E$4,\"\"))","v":""},{"$f":"IF(A366<=$E$2,-PMT(C366/12,IF(C366=КАЛЬКУЛЯТОР!$C$21,$E$2,$E$2-$E$3),IF(C366=КАЛЬКУЛЯТОР!$C$21,$I$11,$I$11-SUMIF($A$12:$A$371,\"<=\"&$E$3,$H$12:$H$371)),0,0),\"\")","v":""},null,{"$f":"IFERROR((-IPMT(C366/12,B366,IF(C366=КАЛЬКУЛЯТОР!$C$21,$E$2,$E$2-$E$3),IF(C366=КАЛЬКУЛЯТОР!$C$21,$I$11,$I$11-SUMIF($A$12:$A$371,\"<=\"&$E$3,$H$12:$H$371)),0,0)),\"\")","v":""},{"$f":"IFERROR((-IPMT((C366-'КАЛЬКУЛЯТОР 1'!$P$1)/12,B366,IF(C366=КАЛЬКУЛЯТОР!$C$21,$E$2,$E$2-$E$3),IF(C366=КАЛЬКУЛЯТОР!$C$21,$I$11,$I$11-SUMIF($A$12:$A$371,\"<=\"&$E$3,$H$12:$H$371)),0,0)),\"\")","v":""},{"$f":"IFERROR((-PPMT(C366/12,B366,IF(C366=КАЛЬКУЛЯТОР!$C$21,$E$2,$E$2-$E$3),IF(C366=КАЛЬКУЛЯТОР!$C$21,$I$11,$I$11-SUMIF($A$12:$A$371,\"<=\"&$E$3,$H$12:$H$371)),0,0)),\"\")","v":""},"",{"$error":"#VALUE!"},null,{"$error":"#VALUE!"},{"$error":"#VALUE!"},{"$error":"#VALUE!"},{"$error":"#VALUE!"},false]
[356,356,{"$f":"IF(A367<=$E$3,КАЛЬКУЛЯТОР!$C$21,IF(AND(A367>$E$3,A367<=$E$2),$E$4,\"\"))","v":""},{"$f":"IF(A367<=$E$2,-PMT(C367/12,IF(C367=КАЛЬКУЛЯТОР!$C$21,$E$2,$E$2-$E$3),IF(C367=КАЛЬКУЛЯТОР!$C$21,$I$11,$I$11-SUMIF($A$12:$A$371,\"<=\"&$E$3,$H$12:$H$371)),0,0),\"\")","v":""},null,{"$f":"IFERROR((-IPMT(C367/12,B367,IF(C367=КАЛЬКУЛЯТОР!$C$21,$E$2,$E$2-$E$3),IF(C367=КАЛЬКУЛЯТОР!$C$21,$I$11,$I$11-SUMIF($A$12:$A$371,\"<=\"&$E$3,$H$12:$H$371)),0,0)),\"\")","v":""},{"$f":"IFERROR((-IPMT((C367-'КАЛЬКУЛЯТОР 1'!$P$1)/12,B367,IF(C367=КАЛЬКУЛЯТОР!$C$21,$E$2,$E$2-$E$3),IF(C367=КАЛЬКУЛЯТОР!$C$21,$I$11,$I$11-SUMIF($A$12:$A$371,\"<=\"&$E$3,$H$12:$H$371)),0,0)),\"\")","v":""},{"$f":"IFERROR((-PPMT(C367/12,B367,IF(C367=КАЛЬКУЛЯТОР!$C$21,$E$2,$E$2-$E$3),IF(C367=КАЛЬКУЛЯТОР!$C$21,$I$11,$I$11-SUMIF($A$12:$A$371,\"<=\"&$E$3,$H$12:$H$371)),0,0)),\"\")","v":""},"",{"$error":"#VALUE!"},null,{"$error":"#VALUE!"},{"$error":"#VALUE!"},{"$error":"#VALUE!"},{"$error":"#VALUE!"},false]
[357,357,{"$f":"IF(A368<=$E$3,КАЛЬКУЛЯТОР!$C$21,IF(AND(A368>$E$3,A368<=$E$2),$E$4,\"\"))","v":""},{"$f":"IF(A368<=$E$2,-PMT(C368/12,IF(C368=КАЛЬКУЛЯТОР!$C$21,$E$2,$E$2-$E$3),IF(C368=КАЛЬКУЛЯТОР!$C$21,$I$11,$I$11-SUMIF($A$12:$A$371,\"<=\"&$E$3,$H$12:$H$371)),0,0),\"\")","v":""},null,{"$f":"IFERROR((-IPMT(C368/12,B368,IF(C368=КАЛЬКУЛЯТОР!$C$21,$E$2,$E$2-$E$3),IF(C368=КАЛЬКУЛЯТОР!$C$21,$I$11,$I$11-SUMIF($A$12:$A$371,\"<=\"&$E$3,$H$12:$H$371)),0,0)),\"\")","v":""},{"$f":"IFERROR((-IPMT((C368-'КАЛЬКУЛЯТОР 1'!$P$1)/12,B368,IF(C368=КАЛЬКУЛЯТОР!$C$21,$E$2,$E$2-$E$3),IF(C368=КАЛЬКУЛЯТОР!$C$21,$I$11,$I$11-SUMIF($A$12:$A$371,\"<=\"&$E$3,$H$12:$H$371)),0,0)),\"\")","v":""},{"$f":"IFERROR((-PPMT(C368/12,B368,IF(C368=КАЛЬКУЛЯТОР!$C$21,$E$2,$E$2-$E$3),IF(C368=КАЛЬКУЛЯТОР!$C$21,$I$11,$I$11-SUMIF($A$12:$A$371,\"<=\"&$E$3,$H$12:$H$371)),0,0)),\"\")","v":""},"",{"$error":"#VALUE!"},null,{"$error":"#VALUE!"},{"$error":"#VALUE!"},{"$error":"#VALUE!"},{"$error":"#VALUE!"},false]
[358,358,{"$f":"IF(A369<=$E$3,КАЛЬКУЛЯТОР!$C$21,IF(AND(A369>$E$3,A369<=$E$2),$E$4,\"\"))","v":""},{"$f":"IF(A369<=$E$2,-PMT(C369/12,IF(C369=КАЛЬКУЛЯТОР!$C$21,$E$2,$E$2-$E$3),IF(C369=КАЛЬКУЛЯТОР!$C$21,$I$11,$I$11-SUMIF($A$12:$A$371,\"<=\"&$E$3,$H$12:$H$371)),0,0),\"\")","v":""},null,{"$f":"IFERROR((-IPMT(C369/12,B369,IF(C369=КАЛЬКУЛЯТОР!$C$21,$E$2,$E$2-$E$3),IF(C369=КАЛЬКУЛЯТОР!$C$21,$I$11,$I$11-SUMIF($A$12:$A$371,\"<=\"&$E$3,$H$12:$H$371)),0,0)),\"\")","v":""},{"$f":"IFERROR((-IPMT((C369-'КАЛЬКУЛЯТОР 1'!$P$1)/12,B369,IF(C369=КАЛЬКУЛЯТОР!$C$21,$E$2,$E$2-$E$3),IF(C369=КАЛЬКУЛЯТОР!$C$21,$I$11,$I$11-SUMIF($A$12:$A$371,\"<=\"&$E$3,$H$12:$H$371)),0,0)),\"\")","v":""},{"$f":"IFERROR((-PPMT(C369/12,B369,IF(C369=КАЛЬКУЛЯТОР!$C$21,$E$2,$E$2-$E$3),IF(C369=КАЛЬКУЛЯТОР!$C$21,$I$11,$I$11-SUMIF($A$12:$A$371,\"<=\"&$E$3,$H$12:$H$371)),0,0)),\"\")","v":""},"",{"$error":"#VALUE!"},null,{"$error":"#VALUE!"},{"$error":"#VALUE!"},{"$error":"#VALUE!"},{"$error":"#VALUE!"},false]
[359,359,{"$f":"IF(A370<=$E$3,КАЛЬКУЛЯТОР!$C$21,IF(AND(A370>$E$3,A370<=$E$2),$E$4,\"\"))","v":""},{"$f":"IF(A370<=$E$2,-PMT(C370/12,IF(C370=КАЛЬКУЛЯТОР!$C$21,$E$2,$E$2-$E$3),IF(C370=КАЛЬКУЛЯТОР!$C$21,$I$11,$I$11-SUMIF($A$12:$A$371,\"<=\"&$E$3,$H$12:$H$371)),0,0),\"\")","v":""},null,{"$f":"IFERROR((-IPMT(C370/12,B370,IF(C370=КАЛЬКУЛЯТОР!$C$21,$E$2,$E$2-$E$3),IF(C370=КАЛЬКУЛЯТОР!$C$21,$I$11,$I$11-SUMIF($A$12:$A$371,\"<=\"&$E$3,$H$12:$H$371)),0,0)),\"\")","v":""},{"$f":"IFERROR((-IPMT((C370-'КАЛЬКУЛЯТОР 1'!$P$1)/12,B370,IF(C370=КАЛЬКУЛЯТОР!$C$21,$E$2,$E$2-$E$3),IF(C370=КАЛЬКУЛЯТОР!$C$21,$I$11,$I$11-SUMIF($A$12:$A$371,\"<=\"&$E$3,$H$12:$H$371)),0,0)),\"\")","v":""},{"$f":"IFERROR((-PPMT(C370/12,B370,IF(C370=КАЛЬКУЛЯТОР!$C$21,$E$2,$E$2-$E$3),IF(C370=КАЛЬКУЛЯТОР!$C$21,$I$11,$I$11-SUMIF($A$12:$A$371,\"<=\"&$E$3,$H$12:$H$371)),0,0)),\"\")","v":""},"",{"$error":"#VALUE!"},null,{"$error":"#VALUE!"},{"$error":"#VALUE!"},{"$error":"#VALUE!"},{"$error":"#VALUE!"},false]
[360,360,{"$f":"IF(A371<=$E$3,КАЛЬКУЛЯТОР!$C$21,IF(AND(A371>$E$3,A371<=$E$2),$E$4,\"\"))","v":""},{"$f":"IF(A371<=$E$2,-PMT(C371/12,IF(C371=КАЛЬКУЛЯТОР!$C$21,$E$2,$E$2-$E$3),IF(C371=КАЛЬКУЛЯТОР!$C$21,$I$11,$I$11-SUMIF($A$12:$A$371,\"<=\"&$E$3,$H$12:$H$371)),0,0),\"\")","v":""},null,{"$f":"IFERROR((-IPMT(C371/12,B371,IF(C371=КАЛЬКУЛЯТОР!$C$21,$E$2,$E$2-$E$3),IF(C371=КАЛЬКУЛЯТОР!$C$21,$I$11,$I$11-SUMIF($A$12:$A$371,\"<=\"&$E$3,$H$12:$H$371)),0,0)),\"\")","v":""},{"$f":"IFERROR((-IPMT((C371-'КАЛЬКУЛЯТОР 1'!$P$1)/12,B371,IF(C371=КАЛЬКУЛЯТОР!$C$21,$E$2,$E$2-$E$3),IF(C371=КАЛЬКУЛЯТОР!$C$21,$I$11,$I$11-SUMIF($A$12:$A$371,\"<=\"&$E$3,$H$12:$H$371)),0,0)),\"\")","v":""},{"$f":"IFERROR((-PPMT(C371/12,B371,IF(C371=КАЛЬКУЛЯТОР!$C$21,$E$2,$E$2-$E$3),IF(C371=КАЛЬКУЛЯТОР!$C$21,$I$11,$I$11-SUMIF($A$12:$A$371,\"<=\"&$E$3,$H$12:$H$371)),0,0)),\"\")","v":""},"",{"$error":"#VALUE!"},null,{"$error":"#VALUE!"},{"$error":"#VALUE!"},{"$error":"#VALUE!"},{"$error":"#VALUE!"},false]

{"sheet":"КАЛЬКУЛЯТОР 2.1","index":7,"n_rows":371,"n_cols":16,"rows_kept":371,"hidden":true,"merged":[[0,0,0,3],[1,0,1,3],[3,0,3,3],[4,0,4,3],[5,0,5,3],[6,0,6,3],[7,9,7,14]]}
[{"$f":"КАЛЬКУЛЯТОР!A9","v":"Сумма кредита (основной долг), руб.:"},{"$nulls":3},{"$f":"КАЛЬКУЛЯТОР!$C$9","v":0},null,null,"1. КОМИССИЯ ЗА ОТКР. АККРЕДИТИВА",null,null,{"$f":"'КАЛЬКУЛЯТОР 1'!$K$1","v":{"v":7000,"d":"7,000.00 ₽"}}]
["Срок кредита по договору, в мес.:",{"$nulls":3},{"$f":"'КАЛЬКУЛЯТОР 1.1'!$E$2","v":120},null,null,"2. КОМИССИЯ ЗА ЭРС",null,null,{"$f":"'КАЛЬКУЛЯТОР 1'!$K$2","v":{"v":8300,"d":"8,300.00 ₽"}}]
["Срок льготного периода, в мес.:",{"$nulls":3},{"$f":"IF(КАЛЬКУЛЯТОР!$C$19=\"Весь срок кредитования\",$E$2,IF(AND(КАЛЬКУЛЯТОР!$C$19=\"Частичное субсидирование\",КАЛЬКУЛЯТОР!C20>$E$2),$E$2,КАЛЬКУЛЯТОР!$C$20))","v":0},null,null,"3. ПЛАТА ЗА ОЦЕНКУ НЕДВ.ИМУЩЕСТВА",null,null,{"$f":"'КАЛЬКУЛЯТОР 1'!$K$3","v":{"v":3000,"d":"3,000.00 ₽"}}]
[{"$f":"КАЛЬКУЛЯТОР!$A$17","v":"ИТОГО размер процентной ставки по комбо-ипотеке, % годовых:"},{"$nulls":3},{"$f":"КАЛЬКУЛЯТОР!$C$24","v":""},null,null,"4. СТРАХОВАНИЕ ЖИЗНИ",null,null,{"$f":"'КАЛЬКУЛЯТОР 1'!$K$4","v":{"v":0.006,"d":"0.60%"}}]
["Инфляция IP, % годовых",{"$nulls":3},{"$f":"КАЛЬКУЛЯТОР!$C$25","v":{"v":0.09,"d":"9.00%"}},null,null,"5. СТРАХОВАНИЕ ИМУЩЕСТВА",null,null,{"$f":"'КАЛЬКУЛЯТОР 1'!$K$5","v":{"v":1E-3,"d":"0.10%"}}]
["Доходность операций БФР, % годовых",{"$nulls":3},{"$f":"'КАЛЬКУЛЯТОР 2'!$E$6","v":{"v":0.16332368592467403,"d":"16.33%"}}]
["Доход Банка от реинвестирования субсидии, руб./год",{"$nulls":3},{"$f":"(КАЛЬКУЛЯТОР!$C$9*КАЛЬКУЛЯТОР!$C$26)*$E$6*(100%-КАЛЬКУЛЯТОР!$C$25)","v":{"$error":"#VALUE!"}}]
[{"$nulls":9},"С УЧЕТОМ ВЛИЯНИЯ ИНФЛЯЦИИ"]
["ИТОГО:",null,null,{"$f":"SUMIF(A12:A371,\"<=\"&E2,D12:D371)","v":{"$error":"#VALUE!"}},{"$f":"SUMIF(A12:A371,\"<=\"&E2,E11:E371)","v":{"$error":"#VALUE!"}},{"$f":"SUMIF($A$12:$A$371,\"<=\"&$E$2,F12:F371)","v":{"v":0,"d":"0.00"}},{"$f":"SUMIF($A$12:$A$371,\"<=\"&$E$2,G12:G371)","v":{"v":0,"d":"0.00"}},{"$f":"SUMIF(A12:A371,\"<=\"&E2,H12:H371)","v":{"v":0,"d":"0.00"}},null,{"$f":"SUMIF(A12:A371,\"<=\"&E2,J12:J371)","v":{"$error":"#VALUE!"}},{"$f":"SUMIF(A12:A371,\"<=\"&E2,K12:K371)","v":{"$error":"#VALUE!"}},{"$f":"SUMIF($A$12:$A$371,\"<=\"&$E$2,L12:L371)","v":{"$error":"#VALUE!"}},{"$f":"SUMIF($A$12:$A$371,\"<=\"&$E$2,M12:M371)","v":{"$error":"#VALUE!"}},{"$f":"SUMIF(A12:A371,\"<=\"&E2,N12:N371)","v":{"$error":"#VALUE!"}}]
["Месяцы \nплатежа","Период \nплатежа","Процентная \nставка","Ежемесячный платеж","Доп. платежи","Процентные \nплатежи","ЧПД Банка","Основной \nдолг","Остаток ссудной задолженности","Ежемесячный платеж","Доп. платежи","Процентные \nплатежи","ЧПД Банка","Основной \nдолг","Остаток ссудной задолженности"]
[0,null,null,{"$f":"-КАЛЬКУЛЯТОР!C9","v":{"v":0,"d":"0.00"}},{"$nulls":4},{"$f":"$E$1","v":{"v":0,"d":"0.00"}},{"$f":"-КАЛЬКУЛЯТОР!C9","v":{"v":0,"d":"0.00"}},{"$nulls":4},{"$f":"I11","v":{"v":0,"d":"0.00"}}]
[1,1,{"$f":"IF(A12<=$E$3,КАЛЬКУЛЯТОР!$C$21,IF(AND(A12>$E$3,A12<=$E$2),$E$4,\"\"))","v":""},{"$f":"IF(A12<=$E$2,-PMT(C12/12,IF(C12=КАЛЬКУЛЯТОР!$C$21,$E$2,$E$2-$E$3),IF(C12=КАЛЬКУЛЯТОР!$C$21,$I$11,$I$11-SUMIF($A$12:$A$371,\"<=\"&$E$3,$H$12:$H$371)),0,0),\"\")","v":{"$error":"#VALUE!"}},{"$f":"K1+K2+K3+((I11+SUM(F12:F23))*($K$4+$K$5))","v":{"v":18300,"d":"18,300.00"}},{"$f":"IFERROR((-IPMT(C12/12,B12,IF(C12=КАЛЬКУЛЯТОР!$C$21,$E$2,$E$2-$E$3),IF(C12=КАЛЬКУЛЯТОР!$C$21,$I$11,$I$11-SUMIF($A$12:$A$371,\"<=\"&$E$3,$H$12:$H$371)),0,0)),\"\")","v":""},{"$f":"IFERROR((-IPMT((C12-'КАЛЬКУЛЯТОР 1'!$P$1)/12,B12,IF(C12=КАЛЬКУЛЯТОР!$C$21,$E$2,$E$2-$E$3),IF(C12=КАЛЬКУЛЯТОР!$C$21,$I$11,$I$11-SUMIF($A$12:$A$371,\"<=\"&$E$3,$H$12:$H$371)),0,0)),\"\")","v":""},{"$f":"IFERROR((-PPMT(C12/12,B12,IF(C12=КАЛЬКУЛЯТОР!$C$21,$E$2,$E$2-$E$3),IF(C12=КАЛЬКУЛЯТОР!$C$21,$I$11,$I$11-SUMIF($A$12:$A$371,\"<=\"&$E$3,$H$12:$H$371)),0,0)),\"\")","v":""},{"$f":"IFERROR(I11-H12,\"\")","v":""},{"$f":"PV($E$5/12,A12-1,0,-D12)","v":{"$error":"#VALUE!"}},{"$f":"PV($E$5/12,A12-1,0,-E12)","v":{"v":18300,"d":"18,300.00"}},{"$f":"PV($E$5/12,A12-1,0,-F12)","v":{"$error":"#VALUE!"}},{"$f":"PV($E$5/12,A12-1,0,-G12)","v":{"$error":"#VALUE!"}},{"$f":"PV($E$5/12,A12-1,0,-H12)","v":{"$error":"#VALUE!"}},{"$f":"O11-N12","v":{"$error":"#VALUE!"}},{"$f":"AND(A12<=$E$3)","v":false}]
[2,{"$f":"ROUND(IF(P13=$P$12,B12+1,A13-$E$3),0)","v":2},{"$f":"IF(A13<=$E$3,КАЛЬКУЛЯТОР!$C$21,IF(AND(A13>$E$3,A13<=$E$2),$E$4,\"\"))","v":""},{"$f":"IF(A13<=$E$2,-PMT(C13/12,IF(C13=КАЛЬКУЛЯТОР!$C$21,$E$2,$E$2-$E$3),IF(C13=КАЛЬКУЛЯТОР!$C$21,$I$11,$I$11-SUMIF($A$12:$A$371,\"<=\"&$E$3,$H$12:$H$371)),0,0),\"\")","v":{"$error":"#VALUE!"}},null,{"$f":"IFERROR((-IPMT(C13/12,B13,IF(C13=КАЛЬКУЛЯТОР!$C$21,$E$2,$E$2-$E$3),IF(C13=КАЛЬКУЛЯТОР!$C$21,$I$11,$I$11-SUMIF($A$12:$A$371,\"<=\"&$E$3,$H$12:$H$371)),0,0)),\"\")","v":""},{"$f":"IFERROR((-IPMT((C13-'КАЛЬКУЛЯТОР 1'!$P$1)/12,B13,IF(C13=КАЛЬКУЛЯТОР!$C$21,$E$2,$E$2-$E$3),IF(C13=КАЛЬКУЛЯТОР!$C$21,$I$11,$I$11-SUMIF($A$12:$A$371,\"<=\"&$E$3,$H$12:$H$371)),0,0)),\"\")","v":""},{"$f":"IFERROR((-PPMT(C13/12,B13,IF(C13=КАЛЬКУЛЯТОР!$C$21,$E$2,$E$2-$E$3),IF(C13=КАЛЬКУЛЯТОР!$C$21,$I$11,$I$11-SUMIF($A$12:$A$371,\"<=\"&$E$3,$H$12:$H$371)),0,0)),\"\")","v":""},"",{"$error":"#VALUE!"},null,{"$error":"#VALUE!"},{"$f":"PV($E$5/12,A13-1,0,-G13)","v":{"$error":"#VALUE!"}},{"$error":"#VALUE!"},{"$error":"#VALUE!"},false]
[3,3,{"$f":"IF(A14<=$E$3,КАЛЬКУЛЯТОР!$C$21,IF(AND(A14>$E$3,A14<=$E$2),$E$4,\"\"))","v":""},{"$f":"IF(A14<=$E$2,-PMT(C14/12,IF(C14=КАЛЬКУЛЯТОР!$C$21,$E$2,$E$2-$E$3),IF(C14=КАЛЬКУЛЯТОР!$C$21,$I$11,$I$11-SUMIF($A$12:$A$371,\"<=\"&$E$3,$H$12:$H$371)),0,0),\"\")","v":{"$error":"#VALUE!"}},null,{"$f":"IFERROR((-IPMT(C14/12,B14,IF(C14=КАЛЬКУЛЯТОР!$C$21,$E$2,$E$2-$E$3),IF(C14=КАЛЬКУЛЯТОР!$C$21,$I$11,$I$11-SUMIF($A$12:$A$371,\"<=\"&$E$3,$H$12:$H$371)),0,0)),\"\")","v":""},{"$f":"IFERROR((-IPMT((C14-'КАЛЬКУЛЯТОР 1'!$P$1)/12,B14,IF(C14=КАЛЬКУЛЯТОР!$C$21,$E$2,$E$2-$E$3),IF(C14=КАЛЬКУЛЯТОР!$C$21,$I$11,$I$11-SUMIF($A$12:$A$371,\"<=\"&$E$3,$H$12:$H$371)),0,0)),\"\")","v":""},{"$f":"IFERROR((-PPMT(C14/12,B14,IF(C14=КАЛЬКУЛЯТОР!$C$21,$E$2,$E$2-$E$3),IF(C14=КАЛЬКУЛЯТОР!$C$21,$I$11,$I$11-SUMIF($A$12:$A$371,\"<=\"&$E$3,$H$12:$H$371)),0,0)),\"\")","v":""},"",{"$error":"#VALUE!"},null,{"$error":"#VALUE!"},{"$error":"#VALUE!"},{"$error":"#VALUE!"},{"$error":"#VALUE!"},false]
[4,4,{"$f":"IF(A15<=$E$3,КАЛЬКУЛЯТОР!$C$21,IF(AND(A15>$E$3,A15<=$E$2),$E$4,\"\"))","v":""},{"$f":"IF(A15<=$E$2,-PMT(C15/12,IF(C15=КАЛЬКУЛЯТОР!$C$21,$E$2,$E$2-$E$3),IF(C15=КАЛЬКУЛЯТОР!$C$21,$I$11,$I$11-SUMIF($A$12:$A$371,\"<=\"&$E$3,$H$12:$H$371)),0,0),\"\")","v":{"$error":"#VALUE!"}},null,{"$f":"IFERROR((-IPMT(C15/12,B15,IF(C15=КАЛЬКУЛЯТОР!$C$21,$E$2,$E$2-$E$3),IF(C15=КАЛЬКУЛЯТОР!$C$21,$I$11,$I$11-SUMIF($A$12:$A$371,\"<=\"&$E$3,$H$12:$H$371)),0,0)),\"\")","v":""},{"$f":"IFERROR((-IPMT((C15-'КАЛЬКУЛЯТОР 1'!$P$1)/12,B15,IF(C15=КАЛЬКУЛЯТОР!$C$21,$E$2,$E$2-$E$3),IF(C15=КАЛЬКУЛЯТОР!$C$21,$I$11,$I$11-SUMIF($A$12:$A$371,\"<=\"&$E$3,$H$12:$H$371)),0,0)),\"\")","v":""},{"$f":"IFERROR((-PPMT(C15/12,B15,IF(C15=КАЛЬКУЛЯТОР!$C$21,$E$2,$E$2-$E$3),IF(C15=КАЛЬКУЛЯТОР!$C$21,$I$11,$I$11-SUMIF($A$12:$A$371,\"<=\"&$E$3,$H$12:$H$371)),0,0)),\"\")","v":""},"",{"$error":"#VALUE!"},null,{"$error":"#VALUE!"},{"$error":"#VALUE!"},{"$error":"#VALUE!"},{"$error":"#VALUE!"},false]
[5,5,{"$f":"IF(A16<=$E$3,КАЛЬКУЛЯТОР!$C$21,IF(AND(A16>$E$3,A16<=$E$2),$E$4,\"\"))","v":""},{"$f":"IF(A16<=$E$2,-PMT(C16/12,IF(C16=КАЛЬКУЛЯТОР!$C$21,$E$2,$E$2-$E$3),IF(C16=КАЛЬКУЛЯТОР!$C$21,$I$11,$I$11-SUMIF($A$12:$A$371,\"<=\"&$E$3,$H$12:$H$371)),0,0),\"\")","v":{"$error":"#VALUE!"}},null,{"$f":"IFERROR((-IPMT(C16/12,B16,IF(C16=КАЛЬКУЛЯТОР!$C$21,$E$2,$E$2-$E$3),IF(C16=КАЛЬКУЛЯТОР!$C$21,$I$11,$I$11-SUMIF($A$12:$A$371,\"<=\"&$E$3,$H$12:$H$371)),0,0)),\"\")","v":""},{"$f":"IFERROR((-IPMT((C16-'КАЛЬКУЛЯТОР 1'!$P$1)/12,B16,IF(C16=КАЛЬКУЛЯТОР!$C$21,$E$2,$E$2-$E$3),IF(C16=КАЛЬКУЛЯТОР!$C$21,$I$11,$I$11-SUMIF($A$12:$A$371,\"<=\"&$E$3,$H$12:$H$371)),0,0)),\"\")","v":""},{"$f":"IFERROR((-PPMT(C16/12,B16,IF(C16=КАЛЬКУЛЯТОР!$C$21,$E$2,$E$2-$E$3),IF(C16=КАЛЬКУЛЯТОР!$C$21,$I$11,$I$11-SUMIF($A$12:$A$371,\"<=\"&$E$3,$H$12:$H$371)),0,0)),\"\")","v":""},"",{"$error":"#VALUE!"},null,{"$error":"#VALUE!"},{"$error":"#VALUE!"},{"$error":"#VALUE!"},{"$error":"#VALUE!"},false]
[6,6,{"$f":"IF(A17<=$E$3,КАЛЬКУЛЯТОР!$C$21,IF(AND(A17>$E$3,A17<=$E$2),$E$4,\"\"))","v":""},{"$f":"IF(A17<=$E$2,-PMT(C17/12,IF(C17=КАЛЬКУЛЯТОР!$C$21,$E$2,$E$2-$E$3),IF(C17=КАЛЬКУЛЯТОР!$C$21,$I$11,$I$11-SUMIF($A$12:$A$371,\"<=\"&$E$3,$H$12:$H$371)),0,0),\"\")","v":{"$error":"#VALUE!"}},null,{"$f":"IFERROR((-IPMT(C17/12,B17,IF(C17=КАЛЬКУЛЯТОР!$C$21,$E$2,$E$2-$E$3),IF(C17=КАЛЬКУЛЯТОР!$C$21,$I$11,$I$11-SUMIF($A$12:$A$371,\"<=\"&$E$3,$H$12:$H$371)),0,0)),\"\")","v":""},{"$f":"IFERROR((-IPMT((C17-'КАЛЬКУЛЯТОР 1'!$P$1)/12,B17,IF(C17=КАЛЬКУЛЯТОР!$C$21,$E$2,$E$2-$E$3),IF(C17=КАЛЬКУЛЯТОР!$C$21,$I$11,$I$11-SUMIF($A$12:$A$371,\"<=\"&$E$3,$H$12:$H$371)),0,0)),\"\")","v":""},{"$f":"IFERROR((-PPMT(C17/12,B17,IF(C17=КАЛЬКУЛЯТОР!$C$21,$E$2,$E$2-$E$3),IF(C17=КАЛЬКУЛЯТОР!$C$21,$I$11,$I$11-SUMIF($A$12:$A$371,\"<=\"&$E$3,$H$12:$H$371)),0,0)),\"\")","v":""},"",{"$error":"#VALUE!"},null,{"$error":"#VALUE!"},{"$error":"#VALUE!"},{"$error":"#VALUE!"},{"$error":"#VALUE!"},false]
[7,7,{"$f":"IF(A18<=$E$3,КАЛЬКУЛЯТОР!$C$21,IF(AND(A18>$E$3,A18<=$E$2),$E$4,\"\"))","v":""},{"$f":"IF(A18<=$E$2,-PMT(C18/12,IF(C18=КАЛЬКУЛЯТОР!$C$21,$E$2,$E$2-$E$3),IF(C18=КАЛЬКУЛЯТОР!$C$21,$I$11,$I$11-SUMIF($A$12:$A$371,\"<=\"&$E$3,$H$12:$H$371)),0,0),\"\")","v":{"$error":"#VALUE!"}},null,{"$f":"IFERROR((-IPMT(C18/12,B18,IF(C18=КАЛЬКУЛЯТОР!$C$21,$E$2,$E$2-$E$3),IF(C18=КАЛЬКУЛЯТОР!$C$21,$I$11,$I$11-SUMIF($A$12:$A$371,\"<=\"&$E$3,$H$12:$H$371)),0,0)),\"\")","v":""},{"$f":"IFERROR((-IPMT((C18-'КАЛЬКУЛЯТОР 1'!$P$1)/12,B18,IF(C18=КАЛЬКУЛЯТОР!$C$21,$E$2,$E$2-$E$3),IF(C18=КАЛЬКУЛЯТОР!$C$21,$I$11,$I$11-SUMIF($A$12:$A$371,\"<=\"&$E$3,$H$12:$H$371)),0,0)),\"\")","v":""},{"$f":"IFERROR((-PPMT(C18/12,B18,IF(C18=КАЛЬКУЛЯТОР!$C$21,$E$2,$E$2-$E$3),IF(C18=КАЛЬКУЛЯТОР!$C$21,$I$11,$I$11-SUMIF($A$12:$A$371,\"<=\"&$E$3,$H$12:$H$371)),0,0)),\"\")","v":""},"",{"$error":"#VALUE!"},null,{"$error":"#VALUE!"},{"$error":"#VALUE!"},{"$error":"#VALUE!"},{"$error":"#VALUE!"},false]
[8,8,{"$f":"IF(A19<=$E$3,КАЛЬКУЛЯТОР!$C$21,IF(AND(A19>$E$3,A19<=$E$2),$E$4,\"\"))","v":""},{"$f":"IF(A19<=$E$2,-PMT(C19/12,IF(C19=КАЛЬКУЛЯТОР!$C$21,$E$2,$E$2-$E$3),IF(C19=КАЛЬКУЛЯТОР!$C$21,$I$11,$I$11-SUMIF($A$12:$A$371,\"<=\"&$E$3,$H$12:$H$371)),0,0),\"\")","v":{"$error":"#VALUE!"}},null,{"$f":"IFERROR((-IPMT(C19/12,B19,IF(C19=КАЛЬКУЛЯТОР!$C$21,$E$2,$E$2-$E$3),IF(C19=КАЛЬКУЛЯТОР!$C$21,$I$11,$I$11-SUMIF($A$12:$A$371,\"<=\"&$E$3,$H$12:$H$371)),0,0)),\"\")","v":""},{"$f":"IFERROR((-IPMT((C19-'КАЛЬКУЛЯТОР 1'!$P$1)/12,B19,IF(C19=КАЛЬКУЛЯТОР!$C$21,$E$2,$E$2-$E$3),IF(C19=КАЛЬКУЛЯТОР!$C$21,$I$11,$I$11-SUMIF($A$12:$A$371,\"<=\"&$E$3,$H$12:$H$371)),0,0)),\"\")","v":""},{"$f":"IFERROR((-PPMT(C19/12,B19,IF(C19=КАЛЬКУЛЯТОР!$C$21,$E$2,$E$2-$E$3),IF(C19=КАЛЬКУЛЯТОР!$C$21,$I$11,$I$11-SUMIF($A$12:$A$371,\"<=\"&$E$3,$H$12:$H$371)),0,0)),\"\")","v":""},"",{"$error":"#VALUE!"},null,{"$error":"#VALUE!"},{"$error":"#VALUE!"},{"$error":"#VALUE!"},{"$error":"#VALUE!"},false]
[9,9,{"$f":"IF(A20<=$E$3,КАЛЬКУЛЯТОР!$C$21,IF(AND(A20>$E$3,A20<=$E$2),$E$4,\"\"))","v":""},{"$f":"IF(A20<=$E$2,-PMT(C20/12,IF(C20=КАЛЬКУЛЯТОР!$C$21,$E$2,$E$2-$E$3),IF(C20=КАЛЬКУЛЯТОР!$C$21,$I$11,$I$11-SUMIF($A$12:$A$371,\"<=\"&$E$3,$H$12:$H$371)),0,0),\"\")","v":{"$error":"#VALUE!"}},null,{"$f":"IFERROR((-IPMT(C20/12,B20,IF(C20=КАЛЬКУЛЯТОР!$C$21,$E$2,$E$2-$E$3),IF(C20=КАЛЬКУЛЯТОР!$C$21,$I$11,$I$11-SUMIF($A$12:$A$371,\"<=\"&$E$3,$H$12:$H$371)),0,0)),\"\")","v":""},{"$f":"IFERROR((-IPMT((C20-'КАЛЬКУЛЯТОР 1'!$P$1)/12,B20,IF(C20=КАЛЬКУЛЯТОР!$C$21,$E$2,$E$2-$E$3),IF(C20=КАЛЬКУЛЯТОР!$C$21,$I$11,$I$11-SUMIF($A$12:$A$371,\"<=\"&$E$3,$H$12:$H$371)),0,0)),\"\")","v":""},{"$f":"IFERROR((-PPMT(C20/12,B20,IF(C20=КАЛЬКУЛЯТОР!$C$21,$E$2,$E$2-$E$3),IF(C20=КАЛЬКУЛЯТОР!$C$21,$I$11,$I$11-SUMIF($A$12:$A$371,\"<=\"&$E$3,$H$12:$H$371)),0,0)),\"\")","v":""},"",{"$error":"#VALUE!"},null,{"$error":"#VALUE!"},{"$error":"#VALUE!"},{"$error":"#VALUE!"},{"$error":"#VALUE!"},false]
[10,10,{"$f":"IF(A21<=$E$3,КАЛЬКУЛЯТОР!$C$21,IF(AND(A21>$E$3,A21<=$E$2),$E$4,\"\"))","v":""},{"$f":"IF(A21<=$E$2,-PMT(C21/12,IF(C21=КАЛЬКУЛЯТОР!$C$21,$E$2,$E$2-$E$3),IF(C21=КАЛЬКУЛЯТОР!$C$21,$I$11,$I$11-SUMIF($A$12:$A$371,\"<=\"&$E$3,$H$12:$H$371)),0,0),\"\")","v":{"$error":"#VALUE!"}},null,{"$f":"IFERROR((-IPMT(C21/12,B21,IF(C21=КАЛЬКУЛЯТОР!$C$21,$E$2,$E$2-$E$3),IF(C21=КАЛЬКУЛЯТОР!$C$21,$I$11,$I$11-SUMIF($A$12:$A$371,\"<=\"&$E$3,$H$12:$H$371)),0,0)),\"\")","v":""},{"$f":"IFERROR((-IPMT((C21-'КАЛЬКУЛЯТОР 1'!$P$1)/12,B21,IF(C21=КАЛЬКУЛЯТОР!$C$21,$E$2,$E$2-$E$3),IF(C21=КАЛЬКУЛЯТОР!$C$21,$I$11,$I$11-SUMIF($A$12:$A$371,\"<=\"&$E$3,$H$12:$H$371)),0,0)),\"\")","v":""},{"$f":"IFERROR((-PPMT(C21/12,B21,IF(C21=КАЛЬКУЛЯТОР!$C$21,$E$2,$E$2-$E$3),IF(C21=КАЛЬКУЛЯТОР!$C$21,$I$11,$I$11-SUMIF($A$12:$A$371,\"<=\"&$E$3,$H$12:$H$371)),0,0)),\"\")","v":""},"",{"$error":"#VALUE!"},null,{"$error":"#VALUE!"},{"$error":"#VALUE!"},{"$error":"#VALUE!"},{"$error":"#VALUE!"},false]
[11,11,{"$f":"IF(A22<=$E$3,КАЛЬКУЛЯТОР!$C$21,IF(AND(A22>$E$3,A22<=$E$2),$E$4,\"\"))","v":""},{"$f":"IF(A22<=$E$2,-PMT(C22/12,IF(C22=КАЛЬКУЛЯТОР!$C$21,$E$2,$E$2-$E$3),IF(C22=КАЛЬКУЛЯТОР!$C$21,$I$11,$I$11-SUMIF($A$12:$A$371,\"<=\"&$E$3,$H$12:$H$371)),0,0),\"\")","v":{"$error":"#VALUE!"}},null,{"$f":"IFERROR((-IPMT(C22/12,B22,IF(C22=КАЛЬКУЛЯТОР!$C$21,$E$2,$E$2-$E$3),IF(C22=КАЛЬКУЛЯТОР!$C$21,$I$11,$I$11-SUMIF($A$12:$A$371,\"<=\"&$E$3,$H$12:$H$371)),0,0)),\"\")","v":""},{"$f":"IFERROR((-IPMT((C22-'КАЛЬКУЛЯТОР 1'!$P$1)/12,B22,IF(C22=КАЛЬКУЛЯТОР!$C$21,$E$2,$E$2-$E$3),IF(C22=КАЛЬКУЛЯТОР!$C$21,$I$11,$I$11-SUMIF($A$12:$A$371,\"<=\"&$E$3,$H$12:$H$371)),0,0)),\"\")","v":""},{"$f":"IFERROR((-PPMT(C22/12,B22,IF(C22=КАЛЬКУЛЯТОР!$C$21,$E$2,$E$2-$E$3),IF(C22=КАЛЬКУЛЯТОР!$C$21,$I$11,$I$11-SUMIF($A$12:$A$371,\"<=\"&$E$3,$H$12:$H$371)),0,0)),\"\")","v":""},"",{"$error":"#VALUE!"},null,{"$error":"#VALUE!"},{"$error":"#VALUE!"},{"$error":"#VALUE!"},{"$error":"#VALUE!"},false]
[12,12,{"$f":"IF(A23<=$E$3,КАЛЬКУЛЯТОР!$C$21,IF(AND(A23>$E$3,A23<=$E$2),$E$4,\"\"))","v":""},{"$f":"IF(A23<=$E$2,-PMT(C23/12,IF(C23=КАЛЬКУЛЯТОР!$C$21,$E$2,$E$2-$E$3),IF(C23=КАЛЬКУЛЯТОР!$C$21,$I$11,$I$11-SUMIF($A$12:$A$371,\"<=\"&$E$3,$H$12:$H$371)),0,0),\"\")","v":{"$error":"#VALUE!"}},null,{"$f":"IFERROR((-IPMT(C23/12,B23,IF(C23=КАЛЬКУЛЯТОР!$C$21,$E$2,$E$2-$E$3),IF(C23=КАЛЬКУЛЯТОР!$C$21,$I$11,$I$11-SUMIF($A$12:$A$371,\"<=\"&$E$3,$H$12:$H$371)),0,0)),\"\")","v":""},{"$f":"IFERROR((-IPMT((C23-'КАЛЬКУЛЯТОР 1'!$P$1)/12,B23,IF(C23=КАЛЬКУЛЯТОР!$C$21,$E$2,$E$2-$E$3),IF(C23=КАЛЬКУЛЯТОР!$C$21,$I$11,$I$11-SUMIF($A$12:$A$371,\"<=\"&$E$3,$H$12:$H$371)),0,0)),\"\")","v":""},{"$f":"IFERROR((-PPMT(C23/12,B23,IF(C23=КАЛЬКУЛЯТОР!$C$21,$E$2,$E$2-$E$3),IF(C23=КАЛЬКУЛЯТОР!$C$21,$I$11,$I$11-SUMIF($A$12:$A$371,\"<=\"&$E$3,$H$12:$H$371)),0,0)),\"\")","v":""},"",{"$error":"#VALUE!"},null,{"$error":"#VALUE!"},{"$error":"#VALUE!"},{"$error":"#VALUE!"},{"$error":"#VALUE!"},false]
[13,13,{"$f":"IF(A24<=$E$3,КАЛЬКУЛЯТОР!$C$21,IF(AND(A24>$E$3,A24<=$E$2),$E$4,\"\"))","v":""},{"$f":"IF(A24<=$E$2,-PMT(C24/12,IF(C24=КАЛЬКУЛЯТОР!$C$21,$E$2,$E$2-$E$3),IF(C24=КАЛЬКУЛЯТОР!$C$21,$I$11,$I$11-SUMIF($A$12:$A$371,\"<=\"&$E$3,$H$12:$H$371)),0,0),\"\")","v":{"$error":"#VALUE!"}},{"$f":"IF($E$2>$A23,(I23+SUM(F24:F35))*($K$4+$K$5),0)","v":{"$error":"#VALUE!"}},{"$f":"IFERROR((-IPMT(C24/12,B24,IF(C24=КАЛЬКУЛЯТОР!$C$21,$E$2,$E$2-$E$3),IF(C24=КАЛЬКУЛЯТОР!$C$21,$I$11,$I$11-SUMIF($A$12:$A$371,\"<=\"&$E$3,$H$12:$H$371)),0,0)),\"\")","v":""},{"$f":"IFERROR((-IPMT((C24-'КАЛЬКУЛЯТОР 1'!$P$1)/12,B24,IF(C24=КАЛЬКУЛЯТОР!$C$21,$E$2,$E$2-$E$3),IF(C24=КАЛЬКУЛЯТОР!$C$21,$I$11,$I$11-SUMIF($A$12:$A$371,\"<=\"&$E$3,$H$12:$H$371)),0,0)),\"\")","v":""},{"$f":"IFERROR((-PPMT(C24/12,B24,IF(C24=КАЛЬКУЛЯТОР!$C$21,$E$2,$E$2-$E$3),IF(C24=КАЛЬКУЛЯТОР!$C$21,$I$11,$I$11-SUMIF($A$12:$A$371,\"<=\"&$E$3,$H$12:$H$371)),0,0)),\"\")","v":""},"",{"$error":"#VALUE!"},{"$f":"PV($E$5/12,A24-1,0,-E24)","v":{"$error":"#VALUE!"}},{"$error":"#VALUE!"},{"$error":"#VALUE!"},{"$error":"#VALUE!"},{"$error":"#VALUE!"},false]
[14,14,{"$f":"IF(A25<=$E$3,КАЛЬКУЛЯТОР!$C$21,IF(AND(A25>$E$3,A25<=$E$2),$E$4,\"\"))","v":""},{"$f":"IF(A25<=$E$2,-PMT(C25/12,IF(C25=КАЛЬКУЛЯТОР!$C$21,$E$2,$E$2-$E$3),IF(C25=КАЛЬКУЛЯТОР!$C$21,$I$11,$I$11-SUMIF($A$12:$A$371,\"<=\"&$E$3,$H$12:$H$371)),0,0),\"\")","v":{"$error":"#VALUE!"}},null,{"$f":"IFERROR((-IPMT(C25/12,B25,IF(C25=КАЛЬКУЛЯТОР!$C$21,$E$2,$E$2-$E$3),IF(C25=КАЛЬКУЛЯТОР!$C$21,$I$11,$I$11-SUMIF($A$12:$A$371,\"<=\"&$E$3,$H$12:$H$371)),0,0)),\"\")","v":""},{"$f":"IFERROR((-IPMT((C25-'КАЛЬКУЛЯТОР 1'!$P$1)/12,B25,IF(C25=КАЛЬКУЛЯТОР!$C$21,$E$2,$E$2-$E$3),IF(C25=КАЛЬКУЛЯТОР!$C$21,$I$11,$I$11-SUMIF($A$12:$A$371,\"<=\"&$E$3,$H$12:$H$371)),0,0)),\"\")","v":""},{"$f":"IFERROR((-PPMT(C25/12,B25,IF(C25=КАЛЬКУЛЯТОР!$C$21,$E$2,$E$2-$E$3),IF(C25=КАЛЬКУЛЯТОР!$C$21,$I$11,$I$11-SUMIF($A$12:$A$371,\"<=\"&$E$3,$H$12:$H$371)),0,0)),\"\")","v":""},"",{"$error":"#VALUE!"},null,{"$error":"#VALUE!"},{"$error":"#VALUE!"},{"$error":"#VALUE!"},{"$error":"#VALUE!"},false]
[15,15,{"$f":"IF(A26<=$E$3,КАЛЬКУЛЯТОР!$C$21,IF(AND(A26>$E$3,A26<=$E$2),$E$4,\"\"))","v":""},{"$f":"IF(A26<=$E$2,-PMT(C26/12,IF(C26=КАЛЬКУЛЯТОР!$C$21,$E$2,$E$2-$E$3),IF(C26=КАЛЬКУЛЯТОР!$C$21,$I$11,$I$11-SUMIF($A$12:$A$371,\"<=\"&$E$3,$H$12:$H$371)),0,0),\"\")","v":{"$error":"#VALUE!"}},null,{"$f":"IFERROR((-IPMT(C26/12,B26,IF(C26=КАЛЬКУЛЯТОР!$C$21,$E$2,$E$2-$E$3),IF(C26=КАЛЬКУЛЯТОР!$C$21,$I$11,$I$11-SUMIF($A$12:$A$371,\"<=\"&$E$3,$H$12:$H$371)),0,0)),\"\")","v":""},{"$f":"IFERROR((-IPMT((C26-'КАЛЬКУЛЯТОР 1'!$P$1)/12,B26,IF(C26=КАЛЬКУЛЯТОР!$C$21,$E$2,$E$2-$E$3),IF(C26=КАЛЬКУЛЯТОР!$C$21,$I$11,$I$11-SUMIF($A$12:$A$371,\"<=\"&$E$3,$H$12:$H$371)),0,0)),\"\")","v":""},{"$f":"IFERROR((-PPMT(C26/12,B26,IF(C26=КАЛЬКУЛЯТОР!$C$21,$E$2,$E$2-$E$3),IF(C26=КАЛЬКУЛЯТОР!$C$21,$I$11,$I$11-SUMIF($A$12:$A$371,\"<=\"&$E$3,$H$12:$H$371)),0,0)),\"\")","v":""},"",{"$error":"#VALUE!"},null,{"$error":"#VALUE!"},{"$error":"#VALUE!"},{"$error":"#VALUE!"},{"$error":"#VALUE!"},false]
[16,16,{"$f":"IF(A27<=$E$3,КАЛЬКУЛЯТОР!$C$21,IF(AND(A27>$E$3,A27<=$E$2),$E$4,\"\"))","v":""},{"$f":"IF(A27<=$E$2,-PMT(C27/12,IF(C27=КАЛЬКУЛЯТОР!$C$21,$E$2,$E$2-$E$3),IF(C27=КАЛЬКУЛЯТОР!$C$21,$I$11,$I$11-SUMIF($A$12:$A$371,\"<=\"&$E$3,$H$12:$H$371)),0,0),\"\")","v":{"$error":"#VALUE!"}},null,{"$f":"IFERROR((-IPMT(C27/12,B27,IF(C27=КАЛЬКУЛЯТОР!$C$21,$E$2,$E$2-$E$3),IF(C27=КАЛЬКУЛЯТОР!$C$21,$I$11,$I$11-SUMIF($A$12:$A$371,\"<=\"&$E$3,$H$12:$H$371)),0,0)),\"\")","v":""},{"$f":"IFERROR((-IPMT((C27-'КАЛЬКУЛЯТОР 1'!$P$1)/12,B27,IF(C27=КАЛЬКУЛЯТОР!$C$21,$E$2,$E$2-$E$3),IF(C27=КАЛЬКУЛЯТОР!$C$21,$I$11,$I$11-SUMIF($A$12:$A$371,\"<=\"&$E$3,$H$12:$H$371)),0,0)),\"\")","v":""},{"$f":"IFERROR((-PPMT(C27/12,B27,IF(C27=КАЛЬКУЛЯТОР!$C$21,$E$2,$E$2-$E$3),IF(C27=КАЛЬКУЛЯТОР!$C$21,$I$11,$I$11-SUMIF($A$12:$A$371,\"<=\"&$E$3,$H$12:$H$371)),0,0)),\"\")","v":""},"",{"$error":"#VALUE!"},null,{"$error":"#VALUE!"},{"$error":"#VALUE!"},{"$error":"#VALUE!"},{"$error":"#VALUE!"},false]
[17,17,{"$f":"IF(A28<=$E$3,КАЛЬКУЛЯТОР!$C$21,IF(AND(A28>$E$3,A28<=$E$2),$E$4,\"\"))","v":""},{"$f":"IF(A28<=$E$2,-PMT(C28/12,IF(C28=КАЛЬКУЛЯТОР!$C$21,$E$2,$E$2-$E$3),IF(C28=КАЛЬКУЛЯТОР!$C$21,$I$11,$I$11-SUMIF($A$12:$A$371,\"<=\"&$E$3,$H$12:$H$371)),0,0),\"\")","v":{"$error":"#VALUE!"}},null,{"$f":"IFERROR((-IPMT(C28/12,B28,IF(C28=КАЛЬКУЛЯТОР!$C$21,$E$2,$E$2-$E$3),IF(C28=КАЛЬКУЛЯТОР!$C$21,$I$11,$I$11-SUMIF($A$12:$A$371,\"<=\"&$E$3,$H$12:$H$371)),0,0)),\"\")","v":""},{"$f":"IFERROR((-IPMT((C28-'КАЛЬКУЛЯТОР 1'!$P$1)/12,B28,IF(C28=КАЛЬКУЛЯТОР!$C$21,$E$2,$E$2-$E$3),IF(C28=КАЛЬКУЛЯТОР!$C$21,$I$11,$I$11-SUMIF($A$12:$A$371,\"<=\"&$E$3,$H$12:$H$371)),0,0)),\"\")","v":""},{"$f":"IFERROR((-PPMT(C28/12,B28,IF(C28=КАЛЬКУЛЯТОР!$C$21,$E$2,$E$2-$E$3),IF(C28=КАЛЬКУЛЯТОР!$C$21,$I$11,$I$11-SUMIF($A$12:$A$371,\"<=\"&$E$3,$H$12:$H$371)),0,0)),\"\")","v":""},"",{"$error":"#VALUE!"},null,{"$error":"#VALUE!"},{"$error":"#VALUE!"},{"$error":"#VALUE!"},{"$error":"#VALUE!"},false]
[18,18,{"$f":"IF(A29<=$E$3,КАЛЬКУЛЯТОР!$C$21,IF(AND(A29>$E$3,A29<=$E$2),$E$4,\"\"))","v":""},{"$f":"IF(A29<=$E$2,-PMT(C29/12,IF(C29=КАЛЬКУЛЯТОР!$C$21,$E$2,$E$2-$E$3),IF(C29=КАЛЬКУЛЯТОР!$C$21,$I$11,$I$11-SUMIF($A$12:$A$371,\"<=\"&$E$3,$H$12:$H$371)),0,0),\"\")","v":{"$error":"#VALUE!"}},null,{"$f":"IFERROR((-IPMT(C29/12,B29,IF(C29=КАЛЬКУЛЯТОР!$C$21,$E$2,$E$2-$E$3),IF(C29=КАЛЬКУЛЯТОР!$C$21,$I$11,$I$11-SUMIF($A$12:$A$371,\"<=\"&$E$3,$H$12:$H$371)),0,0)),\"\")","v":""},{"$f":"IFERROR((-IPMT((C29-'КАЛЬКУЛЯТОР 1'!$P$1)/12,B29,IF(C29=КАЛЬКУЛЯТОР!$C$21,$E$2,$E$2-$E$3),IF(C29=КАЛЬКУЛЯТОР!$C$21,$I$11,$I$11-SUMIF($A$12:$A$371,\"<=\"&$E$3,$H$12:$H$371)),0,0)),\"\")","v":""},{"$f":"IFERROR((-PPMT(C29/12,B29,IF(C29=КАЛЬКУЛЯТОР!$C$21,$E$2,$E$2-$E$3),IF(C29=КАЛЬКУЛЯТОР!$C$21,$I$11,$I$11-SUMIF($A$12:$A$371,\"<=\"&$E$3,$H$12:$H$371)),0,0)),\"\")","v":""},"",{"$error":"#VALUE!"},null,{"$error":"#VALUE!"},{"$error":"#VALUE!"},{"$error":"#VALUE!"},{"$error":"#VALUE!"},false]
[19,19,{"$f":"IF(A30<=$E$3,КАЛЬКУЛЯТОР!$C$21,IF(AND(A30>$E$3,A30<=$E$2),$E$4,\"\"))","v":""},{"$f":"IF(A30<=$E$2,-PMT(C30/12,IF(C30=КАЛЬКУЛЯТОР!$C$21,$E$2,$E$2-$E$3),IF(C30=КАЛЬКУЛЯТОР!$C$21,$I$11,$I$11-SUMIF($A$12:$A$371,\"<=\"&$E$3,$H$12:$H$371)),0,0),\"\")","v":{"$error":"#VALUE!"}},null,{"$f":"IFERROR((-IPMT(C30/12,B30,IF(C30=КАЛЬКУЛЯТОР!$C$21,$E$2,$E$2-$E$3),IF(C30=КАЛЬКУЛЯТОР!$C$21,$I$11,$I$11-SUMIF($A$12:$A$371,\"<=\"&$E$3,$H$12:$H$371)),0,0)),\"\")","v":""},{"$f":"IFERROR((-IPMT((C30-'КАЛЬКУЛЯТОР 1'!$P$1)/12,B30,IF(C30=КАЛЬКУЛЯТОР!$C$21,$E$2,$E$2-$E$3),IF(C30=КАЛЬКУЛЯТОР!$C$21,$I$11,$I$11-SUMIF($A$12:$A$371,\"<=\"&$E$3,$H$12:$H$371)),0,0)),\"\")","v":""},{"$f":"IFERROR((-PPMT(C30/12,B30,IF(C30=КАЛЬКУЛЯТОР!$C$21,$E$2,$E$2-$E$3),IF(C30=КАЛЬКУЛЯТОР!$C$21,$I$11,$I$11-SUMIF($A$12:$A$371,\"<=\"&$E$3,$H$12:$H$371)),0,0)),\"\")","v":""},"",{"$error":"#VALUE!"},null,{"$error":"#VALUE!"},{"$error":"#VALUE!"},{"$error":"#VALUE!"},{"$error":"#VALUE!"},false]
[20,20,{"$f":"IF(A31<=$E$3,КАЛЬКУЛЯТОР!$C$21,IF(AND(A31>$E$3,A31<=$E$2),$E$4,\"\"))","v":""},{"$f":"IF(A31<=$E$2,-PMT(C31/12,IF(C31=КАЛЬКУЛЯТОР!$C$21,$E$2,$E$2-$E$3),IF(C31=КАЛЬКУЛЯТОР!$C$21,$I$11,$I$11-SUMIF($A$12:$A$371,\"<=\"&$E$3,$H$12:$H$371)),0,0),\"\")","v":{"$error":"#VALUE!"}},null,{"$f":"IFERROR((-IPMT(C31/12,B31,IF(C31=КАЛЬКУЛЯТОР!$C$21,$E$2,$E$2-$E$3),IF(C31=КАЛЬКУЛЯТОР!$C$21,$I$11,$I$11-SUMIF($A$12:$A$371,\"<=\"&$E$3,$H$12:$H$371)),0,0)),\"\")","v":""},{"$f":"IFERROR((-IPMT((C31-'КАЛЬКУЛЯТОР 1'!$P$1)/12,B31,IF(C31=КАЛЬКУЛЯТОР!$C$21,$E$2,$E$2-$E$3),IF(C31=КАЛЬКУЛЯТОР!$C$21,$I$11,$I$11-SUMIF($A$12:$A$371,\"<=\"&$E$3,$H$12:$H$371)),0,0)),\"\")","v":""},{"$f":"IFERROR((-PPMT(C31/12,B31,IF(C31=КАЛЬКУЛЯТОР!$C$21,$E$2,$E$2-$E$3),IF(C31=КАЛЬКУЛЯТОР!$C$21,$I$11,$I$11-SUMIF($A$12:$A$371,\"<=\"&$E$3,$H$12:$H$371)),0,0)),\"\")","v":""},"",{"$error":"#VALUE!"},null,{"$error":"#VALUE!"},{"$error":"#VALUE!"},{"$error":"#VALUE!"},{"$error":"#VALUE!"},false]
[21,21,{"$f":"IF(A32<=$E$3,КАЛЬКУЛЯТОР!$C$21,IF(AND(A32>$E$3,A32<=$E$2),$E$4,\"\"))","v":""},{"$f":"IF(A32<=$E$2,-PMT(C32/12,IF(C32=КАЛЬКУЛЯТОР!$C$21,$E$2,$E$2-$E$3),IF(C32=КАЛЬКУЛЯТОР!$C$21,$I$11,$I$11-SUMIF($A$12:$A$371,\"<=\"&$E$3,$H$12:$H$371)),0,0),\"\")","v":{"$error":"#VALUE!"}},null,{"$f":"IFERROR((-IPMT(C32/12,B32,IF(C32=КАЛЬКУЛЯТОР!$C$21,$E$2,$E$2-$E$3),IF(C32=КАЛЬКУЛЯТОР!$C$21,$I$11,$I$11-SUMIF($A$12:$A$371,\"<=\"&$E$3,$H$12:$H$371)),0,0)),\"\")","v":""},{"$f":"IFERROR((-IPMT((C32-'КАЛЬКУЛЯТОР 1'!$P$1)/12,B32,IF(C32=КАЛЬКУЛЯТОР!$C$21,$E$2,$E$2-$E$3),IF(C32=КАЛЬКУЛЯТОР!$C$21,$I$11,$I$11-SUMIF($A$12:$A$371,\"<=\"&$E$3,$H$12:$H$371)),0,0)),\"\")","v":""},{"$f":"IFERROR((-PPMT(C32/12,B32,IF(C32=КАЛЬКУЛЯТОР!$C$21,$E$2,$E$2-$E$3),IF(C32=КАЛЬКУЛЯТОР!$C$21,$I$11,$I$11-SUMIF($A$12:$A$371,\"<=\"&$E$3,$H$12:$H$371)),0,0)),\"\")","v":""},"",{"$error":"#VALUE!"},null,{"$error":"#VALUE!"},{"$error":"#VALUE!"},{"$error":"#VALUE!"},{"$error":"#VALUE!"},false]
[22,22,{"$f":"IF(A33<=$E$3,КАЛЬКУЛЯТОР!$C$21,IF(AND(A33>$E$3,A33<=$E$2),$E$4,\"\"))","v":""},{"$f":"IF(A33<=$E$2,-PMT(C33/12,IF(C33=КАЛЬКУЛЯТОР!$C$21,$E$2,$E$2-$E$3),IF(C33=КАЛЬКУЛЯТОР!$C$21,$I$11,$I$11-SUMIF($A$12:$A$371,\"<=\"&$E$3,$H$12:$H$371)),0,0),\"\")","v":{"$error":"#VALUE!"}},null,{"$f":"IFERROR((-IPMT(C33/12,B33,IF(C33=КАЛЬКУЛЯТОР!$C$21,$E$2,$E$2-$E$3),IF(C33=КАЛЬКУЛЯТОР!$C$21,$I$11,$I$11-SUMIF($A$12:$A$371,\"<=\"&$E$3,$H$12:$H$371)),0,0)),\"\")","v":""},{"$f":"IFERROR((-IPMT((C33-'КАЛЬКУЛЯТОР 1'!$P$1)/12,B33,IF(C33=КАЛЬКУЛЯТОР!$C$21,$E$2,$E$2-$E$3),IF(C33=КАЛЬКУЛЯТОР!$C$21,$I$11,$I$11-SUMIF($A$12:$A$371,\"<=\"&$E$3,$H$12:$H$371)),0,0)),\"\")","v":""},{"$f":"IFERROR((-PPMT(C33/12,B33,IF(C33=КАЛЬКУЛЯТОР!$C$21,$E$2,$E$2-$E$3),IF(C33=КАЛЬКУЛЯТОР!$C$21,$I$11,$I$11-SUMIF($A$12:$A$371,\"<=\"&$E$3,$H$12:$H$371)),0,0)),\"\")","v":""},"",{"$error":"#VALUE!"},null,{"$error":"#VALUE!"},{"$error":"#VALUE!"},{"$error":"#VALUE!"},{"$error":"#VALUE!"},false]
[23,23,{"$f":"IF(A34<=$E$3,КАЛЬКУЛЯТОР!$C$21,IF(AND(A34>$E$3,A34<=$E$2),$E$4,\"\"))","v":""},{"$f":"IF(A34<=$E$2,-PMT(C34/12,IF(C34=КАЛЬКУЛЯТОР!$C$21,$E$2,$E$2-$E$3),IF(C34=КАЛЬКУЛЯТОР!$C$21,$I$11,$I$11-SUMIF($A$12:$A$371,\"<=\"&$E$3,$H$12:$H$371)),0,0),\"\")","v":{"$error":"#VALUE!"}},null,{"$f":"IFERROR((-IPMT(C34/12,B34,IF(C34=КАЛЬКУЛЯТОР!$C$21,$E$2,$E$2-$E$3),IF(C34=КАЛЬКУЛЯТОР!$C$21,$I$11,$I$11-SUMIF($A$12:$A$371,\"<=\"&$E$3,$H$12:$H$371)),0,0)),\"\")","v":""},{"$f":"IFERROR((-IPMT((C34-'КАЛЬКУЛЯТОР 1'!$P$1)/12,B34,IF(C34=КАЛЬКУЛЯТОР!$C$21,$E$2,$E$2-$E$3),IF(C34=КАЛЬКУЛЯТОР!$C$21,$I$11,$I$11-SUMIF($A$12:$A$371,\"<=\"&$E$3,$H$12:$H$371)),0,0)),\"\")","v":""},{"$f":"IFERROR((-PPMT(C34/12,B34,IF(C34=КАЛЬКУЛЯТОР!$C$21,$E$2,$E$2-$E$3),IF(C34=КАЛЬКУЛЯТОР!$C$21,$I$11,$I$11-SUMIF($A$12:$A$371,\"<=\"&$E$3,$H$12:$H$371)),0,0)),\"\")","v":""},"",{"$error":"#VALUE!"},null,{"$error":"#VALUE!"},{"$error":"#VALUE!"},{"$error":"#VALUE!"},{"$error":"#VALUE!"},false]
[24,24,{"$f":"IF(A35<=$E$3,КАЛЬКУЛЯТОР!$C$21,IF(AND(A35>$E$3,A35<=$E$2),$E$4,\"\"))","v":""},{"$f":"IF(A35<=$E$2,-PMT(C35/12,IF(C35=КАЛЬКУЛЯТОР!$C$21,$E$2,$E$2-$E$3),IF(C35=КАЛЬКУЛЯТОР!$C$21,$I$11,$I$11-SUMIF($A$12:$A$371,\"<=\"&$E$3,$H$12:$H$371)),0,0),\"\")","v":{"$error":"#VALUE!"}},null,{"$f":"IFERROR((-IPMT(C35/12,B35,IF(C35=КАЛЬКУЛЯТОР!$C$21,$E$2,$E$2-$E$3),IF(C35=КАЛЬКУЛЯТОР!$C$21,$I$11,$I$11-SUMIF($A$12:$A$371,\"<=\"&$E$3,$H$12:$H$371)),0,0)),\"\")","v":""},{"$f":"IFERROR((-IPMT((C35-'КАЛЬКУЛЯТОР 1'!$P$1)/12,B35,IF(C35=КАЛЬКУЛЯТОР!$C$21,$E$2,$E$2-$E$3),IF(C35=КАЛЬКУЛЯТОР!$C$21,$I$11,$I$11-SUMIF($A$12:$A$371,\"<=\"&$E$3,$H$12:$H$371)),0,0)),\"\")","v":""},{"$f":"IFERROR((-PPMT(C35/12,B35,IF(C35=КАЛЬКУЛЯТОР!$C$21,$E$2,$E$2-$E$3),IF(C35=КАЛЬКУЛЯТОР!$C$21,$I$11,$I$11-SUMIF($A$12:$A$371,\"<=\"&$E$3,$H$12:$H$371)),0,0)),\"\")","v":""},"",{"$error":"#VALUE!"},null,{"$error":"#VALUE!"},{"$error":"#VALUE!"},{"$error":"#VALUE!"},{"$error":"#VALUE!"},false]
[25,25,{"$f":"IF(A36<=$E$3,КАЛЬКУЛЯТОР!$C$21,IF(AND(A36>$E$3,A36<=$E$2),$E$4,\"\"))","v":""},{"$f":"IF(A36<=$E$2,-PMT(C36/12,IF(C36=КАЛЬКУЛЯТОР!$C$21,$E$2,$E$2-$E$3),IF(C36=КАЛЬКУЛЯТОР!$C$21,$I$11,$I$11-SUMIF($A$12:$A$371,\"<=\"&$E$3,$H$12:$H$371)),0,0),\"\")","v":{"$error":"#VALUE!"}},{"$f":"IF($E$2>$A35,(I35+SUM(F36:F47))*($K$4+$K$5),0)","v":{"$error":"#VALUE!"}},{"$f":"IFERROR((-IPMT(C36/12,B36,IF(C36=КАЛЬКУЛЯТОР!$C$21,$E$2,$E$2-$E$3),IF(C36=КАЛЬКУЛЯТОР!$C$21,$I$11,$I$11-SUMIF($A$12:$A$371,\"<=\"&$E$3,$H$12:$H$371)),0,0)),\"\")","v":""},{"$f":"IFERROR((-IPMT((C36-'КАЛЬКУЛЯТОР 1'!$P$1)/12,B36,IF(C36=КАЛЬКУЛЯТОР!$C$21,$E$2,$E$2-$E$3),IF(C36=КАЛЬКУЛЯТОР!$C$21,$I$11,$I$11-SUMIF($A$12:$A$371,\"<=\"&$E$3,$H$12:$H$371)),0,0)),\"\")","v":""},{"$f":"IFERROR((-PPMT(C36/12,B36,IF(C36=КАЛЬКУЛЯТОР!$C$21,$E$2,$E$2-$E$3),IF(C36=КАЛЬКУЛЯТОР!$C$21,$I$11,$I$11-SUMIF($A$12:$A$371,\"<=\"&$E$3,$H$12:$H$371)),0,0)),\"\")","v":""},"",{"$error":"#VALUE!"},{"$f":"PV($E$5/12,A36-1,0,-E36)","v":{"$error":"#VALUE!"}},{"$error":"#VALUE!"},{"$error":"#VALUE!"},{"$error":"#VALUE!"},{"$error":"#VALUE!"},false]
[26,26,{"$f":"IF(A37<=$E$3,КАЛЬКУЛЯТОР!$C$21,IF(AND(A37>$E$3,A37<=$E$2),$E$4,\"\"))","v":""},{"$f":"IF(A37<=$E$2,-PMT(C37/12,IF(C37=КАЛЬКУЛЯТОР!$C$21,$E$2,$E$2-$E$3),IF(C37=КАЛЬКУЛЯТОР!$C$21,$I$11,$I$11-SUMIF($A$12:$A$371,\"<=\"&$E$3,$H$12:$H$371)),0,0),\"\")","v":{"$error":"#VALUE!"}},null,{"$f":"IFERROR((-IPMT(C37/12,B37,IF(C37=КАЛЬКУЛЯТОР!$C$21,$E$2,$E$2-$E$3),IF(C37=КАЛЬКУЛЯТОР!$C$21,$I$11,$I$11-SUMIF($A$12:$A$371,\"<=\"&$E$3,$H$12:$H$371)),0,0)),\"\")","v":""},{"$f":"IFERROR((-IPMT((C37-'КАЛЬКУЛЯТОР 1'!$P$1)/12,B37,IF(C37=КАЛЬКУЛЯТОР!$C$21,$E$2,$E$2-$E$3),IF(C37=КАЛЬКУЛЯТОР!$C$21,$I$11,$I$11-SUMIF($A$12:$A$371,\"<=\"&$E$3,$H$12:$H$371)),0,0)),\"\")","v":""},{"$f":"IFERROR((-PPMT(C37/12,B37,IF(C37=КАЛЬКУЛЯТОР!$C$21,$E$2,$E$2-$E$3),IF(C37=КАЛЬКУЛЯТОР!$C$21,$I$11,$I$11-SUMIF($A$12:$A$371,\"<=\"&$E$3,$H$12:$H$371)),0,0)),\"\")","v":""},"",{"$error":"#VALUE!"},null,{"$error":"#VALUE!"},{"$error":"#VALUE!"},{"$error":"#VALUE!"},{"$error":"#VALUE!"},false]
[27,27,{"$f":"IF(A38<=$E$3,КАЛЬКУЛЯТОР!$C$21,IF(AND(A38>$E$3,A38<=$E$2),$E$4,\"\"))","v":""},{"$f":"IF(A38<=$E$2,-PMT(C38/12,IF(C38=КАЛЬКУЛЯТОР!$C$21,$E$2,$E$2-$E$3),IF(C38=КАЛЬКУЛЯТОР!$C$21,$I$11,$I$11-SUMIF($A$12:$A$371,\"<=\"&$E$3,$H$12:$H$371)),0,0),\"\")","v":{"$error":"#VALUE!"}},null,{"$f":"IFERROR((-IPMT(C38/12,B38,IF(C38=КАЛЬКУЛЯТОР!$C$21,$E$2,$E$2-$E$3),IF(C38=КАЛЬКУЛЯТОР!$C$21,$I$11,$I$11-SUMIF($A$12:$A$371,\"<=\"&$E$3,$H$12:$H$371)),0,0)),\"\")","v":""},{"$f":"IFERROR((-IPMT((C38-'КАЛЬКУЛЯТОР 1'!$P$1)/12,B38,IF(C38=КАЛЬКУЛЯТОР!$C$21,$E$2,$E$2-$E$3),IF(C38=КАЛЬКУЛЯТОР!$C$21,$I$11,$I$11-SUMIF($A$12:$A$371,\"<=\"&$E$3,$H$12:$H$371)),0,0)),\"\")","v":""},{"$f":"IFERROR((-PPMT(C38/12,B38,IF(C38=КАЛЬКУЛЯТОР!$C$21,$E$2,$E$2-$E$3),IF(C38=КАЛЬКУЛЯТОР!$C$21,$I$11,$I$11-SUMIF($A$12:$A$371,\"<=\"&$E$3,$H$12:$H$371)),0,0)),\"\")","v":""},"",{"$error":"#VALUE!"},null,{"$error":"#VALUE!"},{"$error":"#VALUE!"},{"$error":"#VALUE!"},{"$error":"#VALUE!"},false]
[28,28,{"$f":"IF(A39<=$E$3,КАЛЬКУЛЯТОР!$C$21,IF(AND(A39>$E$3,A39<=$E$2),$E$4,\"\"))","v":""},{"$f":"IF(A39<=$E$2,-PMT(C39/12,IF(C39=КАЛЬКУЛЯТОР!$C$21,$E$2,$E$2-$E$3),IF(C39=КАЛЬКУЛЯТОР!$C$21,$I$11,$I$11-SUMIF($A$12:$A$371,\"<=\"&$E$3,$H$12:$H$371)),0,0),\"\")","v":{"$error":"#VALUE!"}},null,{"$f":"IFERROR((-IPMT(C39/12,B39,IF(C39=КАЛЬКУЛЯТОР!$C$21,$E$2,$E$2-$E$3),IF(C39=КАЛЬКУЛЯТОР!$C$21,$I$11,$I$11-SUMIF($A$12:$A$371,\"<=\"&$E$3,$H$12:$H$371)),0,0)),\"\")","v":""},{"$f":"IFERROR((-IPMT((C39-'КАЛЬКУЛЯТОР 1'!$P$1)/12,B39,IF(C39=КАЛЬКУЛЯТОР!$C$21,$E$2,$E$2-$E$3),IF(C39=КАЛЬКУЛЯТОР!$C$21,$I$11,$I$11-SUMIF($A$12:$A$371,\"<=\"&$E$3,$H$12:$H$371)),0,0)),\"\")","v":""},{"$f":"IFERROR((-PPMT(C39/12,B39,IF(C39=КАЛЬКУЛЯТОР!$C$21,$E$2,$E$2-$E$3),IF(C39=КАЛЬКУЛЯТОР!$C$21,$I$11,$I$11-SUMIF($A$12:$A$371,\"<=\"&$E$3,$H$12:$H$371)),0,0)),\"\")","v":""},"",{"$error":"#VALUE!"},null,{"$error":"#VALUE!"},{"$error":"#VALUE!"},{"$error":"#VALUE!"},{"$error":"#VALUE!"},false]
[29,29,{"$f":"IF(A40<=$E$3,КАЛЬКУЛЯТОР!$C$21,IF(AND(A40>$E$3,A40<=$E$2),$E$4,\"\"))","v":""},{"$f":"IF(A40<=$E$2,-PMT(C40/12,IF(C40=КАЛЬКУЛЯТОР!$C$21,$E$2,$E$2-$E$3),IF(C40=КАЛЬКУЛЯТОР!$C$21,$I$11,$I$11-SUMIF($A$12:$A$371,\"<=\"&$E$3,$H$12:$H$371)),0,0),\"\")","v":{"$error":"#VALUE!"}},null,{"$f":"IFERROR((-IPMT(C40/12,B40,IF(C40=КАЛЬКУЛЯТОР!$C$21,$E$2,$E$2-$E$3),IF(C40=КАЛЬКУЛЯТОР!$C$21,$I$11,$I$11-SUMIF($A$12:$A$371,\"<=\"&$E$3,$H$12:$H$371)),0,0)),\"\")","v":""},{"$f":"IFERROR((-IPMT((C40-'КАЛЬКУЛЯТОР 1'!$P$1)/12,B40,IF(C40=КАЛЬКУЛЯТОР!$C$21,$E$2,$E$2-$E$3),IF(C40=КАЛЬКУЛЯТОР!$C$21,$I$11,$I$11-SUMIF($A$12:$A$371,\"<=\"&$E$3,$H$12:$H$371)),0,0)),\"\")","v":""},{"$f":"IFERROR((-PPMT(C40/12,B40,IF(C40=КАЛЬКУЛЯТОР!$C$21,$E$2,$E$2-$E$3),IF(C40=КАЛЬКУЛЯТОР!$C$21,$I$11,$I$11-SUMIF($A$12:$A$371,\"<=\"&$E$3,$H$12:$H$371)),0,0)),\"\")","v":""},"",{"$error":"#VALUE!"},null,{"$error":"#VALUE!"},{"$error":"#VALUE!"},{"$error":"#VALUE!"},{"$error":"#VALUE!"},false]
[30,30,{"$f":"IF(A41<=$E$3,КАЛЬКУЛЯТОР!$C$21,IF(AND(A41>$E$3,A41<=$E$2),$E$4,\"\"))","v":""},{"$f":"IF(A41<=$E$2,-PMT(C41/12,IF(C41=КАЛЬКУЛЯТОР!$C$21,$E$2,$E$2-$E$3),IF(C41=КАЛЬКУЛЯТОР!$C$21,$I$11,$I$11-SUMIF($A$12:$A$371,\"<=\"&$E$3,$H$12:$H$371)),0,0),\"\")","v":{"$error":"#VALUE!"}},null,{"$f":"IFERROR((-IPMT(C41/12,B41,IF(C41=КАЛЬКУЛЯТОР!$C$21,$E$2,$E$2-$E$3),IF(C41=КАЛЬКУЛЯТОР!$C$21,$I$11,$I$11-SUMIF($A$12:$A$371,\"<=\"&$E$3,$H$12:$H$371)),0,0)),\"\")","v":""},{"$f":"IFERROR((-IPMT((C41-'КАЛЬКУЛЯТОР 1'!$P$1)/12,B41,IF(C41=КАЛЬКУЛЯТОР!$C$21,$E$2,$E$2-$E$3),IF(C41=КАЛЬКУЛЯТОР!$C$21,$I$11,$I$11-SUMIF($A$12:$A$371,\"<=\"&$E$3,$H$12:$H$371)),0,0)),\"\")","v":""},{"$f":"IFERROR((-PPMT(C41/12,B41,IF(C41=КАЛЬКУЛЯТОР!$C$21,$E$2,$E$2-$E$3),IF(C41=КАЛЬКУЛЯТОР!$C$21,$I$11,$I$11-SUMIF($A$12:$A$371,\"<=\"&$E$3,$H$12:$H$371)),0,0)),\"\")","v":""},"",{"$error":"#VALUE!"},null,{"$error":"#VALUE!"},{"$error":"#VALUE!"},{"$error":"#VALUE!"},{"$error":"#VALUE!"},false]
[31,31,{"$f":"IF(A42<=$E$3,КАЛЬКУЛЯТОР!$C$21,IF(AND(A42>$E$3,A42<=$E$2),$E$4,\"\"))","v":""},{"$f":"IF(A42<=$E$2,-PMT(C42/12,IF(C42=КАЛЬКУЛЯТОР!$C$21,$E$2,$E$2-$E$3),IF(C42=КАЛЬКУЛЯТОР!$C$21,$I$11,$I$11-SUMIF($A$12:$A$371,\"<=\"&$E$3,$H$12:$H$371)),0,0),\"\")","v":{"$error":"#VALUE!"}},null,{"$f":"IFERROR((-IPMT(C42/12,B42,IF(C42=КАЛЬКУЛЯТОР!$C$21,$E$2,$E$2-$E$3),IF(C42=КАЛЬКУЛЯТОР!$C$21,$I$11,$I$11-SUMIF($A$12:$A$371,\"<=\"&$E$3,$H$12:$H$371)),0,0)),\"\")","v":""},{"$f":"IFERROR((-IPMT((C42-'КАЛЬКУЛЯТОР 1'!$P$1)/12,B42,IF(C42=КАЛЬКУЛЯТОР!$C$21,$E$2,$E$2-$E$3),IF(C42=КАЛЬКУЛЯТОР!$C$21,$I$11,$I$11-SUMIF($A$12:$A$371,\"<=\"&$E$3,$H$12:$H$371)),0,0)),\"\")","v":""},{"$f":"IFERROR((-PPMT(C42/12,B42,IF(C42=КАЛЬКУЛЯТОР!$C$21,$E$2,$E$2-$E$3),IF(C42=КАЛЬКУЛЯТОР!$C$21,$I$11,$I$11-SUMIF($A$12:$A$371,\"<=\"&$E$3,$H$12:$H$371)),0,0)),\"\")","v":""},"",{"$error":"#VALUE!"},null,{"$error":"#VALUE!"},{"$error":"#VALUE!"},{"$error":"#VALUE!"},{"$error":"#VALUE!"},false]
[32,32,{"$f":"IF(A43<=$E$3,КАЛЬКУЛЯТОР!$C$21,IF(AND(A43>$E$3,A43<=$E$2),$E$4,\"\"))","v":""},{"$f":"IF(A43<=$E$2,-PMT(C43/12,IF(C43=КАЛЬКУЛЯТОР!$C$21,$E$2,$E$2-$E$3),IF(C43=КАЛЬКУЛЯТОР!$C$21,$I$11,$I$11-SUMIF($A$12:$A$371,\"<=\"&$E$3,$H$12:$H$371)),0,0),\"\")","v":{"$error":"#VALUE!"}},null,{"$f":"IFERROR((-IPMT(C43/12,B43,IF(C43=КАЛЬКУЛЯТОР!$C$21,$E$2,$E$2-$E$3),IF(C43=КАЛЬКУЛЯТОР!$C$21,$I$11,$I$11-SUMIF($A$12:$A$371,\"<=\"&$E$3,$H$12:$H$371)),0,0)),\"\")","v":""},{"$f":"IFERROR((-IPMT((C43-'КАЛЬКУЛЯТОР 1'!$P$1)/12,B43,IF(C43=КАЛЬКУЛЯТОР!$C$21,$E$2,$E$2-$E$3),IF(C43=КАЛЬКУЛЯТОР!$C$21,$I$11,$I$11-SUMIF($A$12:$A$371,\"<=\"&$E$3,$H$12:$H$371)),0,0)),\"\")","v":""},{"$f":"IFERROR((-PPMT(C43/12,B43,IF(C43=КАЛЬКУЛЯТОР!$C$21,$E$2,$E$2-$E$3),IF(C43=КАЛЬКУЛЯТОР!$C$21,$I$11,$I$11-SUMIF($A$12:$A$371,\"<=\"&$E$3,$H$12:$H$371)),0,0)),\"\")","v":""},"",{"$error":"#VALUE!"},null,{"$error":"#VALUE!"},{"$error":"#VALUE!"},{"$error":"#VALUE!"},{"$error":"#VALUE!"},false]
[33,33,{"$f":"IF(A44<=$E$3,КАЛЬКУЛЯТОР!$C$21,IF(AND(A44>$E$3,A44<=$E$2),$E$4,\"\"))","v":""},{"$f":"IF(A44<=$E$2,-PMT(C44/12,IF(C44=КАЛЬКУЛЯТОР!$C$21,$E$2,$E$2-$E$3),IF(C44=КАЛЬКУЛЯТОР!$C$21,$I$11,$I$11-SUMIF($A$12:$A$371,\"<=\"&$E$3,$H$12:$H$371)),0,0),\"\")","v":{"$error":"#VALUE!"}},null,{"$f":"IFERROR((-IPMT(C44/12,B44,IF(C44=КАЛЬКУЛЯТОР!$C$21,$E$2,$E$2-$E$3),IF(C44=КАЛЬКУЛЯТОР!$C$21,$I$11,$I$11-SUMIF($A$12:$A$371,\"<=\"&$E$3,$H$12:$H$371)),0,0)),\"\")","v":""},{"$f":"IFERROR((-IPMT((C44-'КАЛЬКУЛЯТОР 1'!$P$1)/12,B44,IF(C44=КАЛЬКУЛЯТОР!$C$21,$E$2,$E$2-$E$3),IF(C44=КАЛЬКУЛЯТОР!$C$21,$I$11,$I$11-SUMIF($A$12:$A$371,\"<=\"&$E$3,$H$12:$H$371)),0,0)),\"\")","v":""},{"$f":"IFERROR((-PPMT(C44/12,B44,IF(C44=КАЛЬКУЛЯТОР!$C$21,$E$2,$E$2-$E$3),IF(C44=КАЛЬКУЛЯТОР!$C$21,$I$11,$I$11-SUMIF($A$12:$A$371,\"<=\"&$E$3,$H$12:$H$371)),0,0)),\"\")","v":""},"",{"$error":"#VALUE!"},null,{"$error":"#VALUE!"},{"$error":"#VALUE!"},{"$error":"#VALUE!"},{"$error":"#VALUE!"},false]
[34,34,{"$f":"IF(A45<=$E$3,КАЛЬКУЛЯТОР!$C$21,IF(AND(A45>$E$3,A45<=$E$2),$E$4,\"\"))","v":""},{"$f":"IF(A45<=$E$2,-PMT(C45/12,IF(C45=КАЛЬКУЛЯТОР!$C$21,$E$2,$E$2-$E$3),IF(C45=КАЛЬКУЛЯТОР!$C$21,$I$11,$I$11-SUMIF($A$12:$A$371,\"<=\"&$E$3,$H$12:$H$371)),0,0),\"\")","v":{"$error":"#VALUE!"}},null,{"$f":"IFERROR((-IPMT(C45/12,B45,IF(C45=КАЛЬКУЛЯТОР!$C$21,$E$2,$E$2-$E$3),IF(C45=КАЛЬКУЛЯТОР!$C$21,$I$11,$I$11-SUMIF($A$12:$A$371,\"<=\"&$E$3,$H$12:$H$371)),0,0)),\"\")","v":""},{"$f":"IFERROR((-IPMT((C45-'КАЛЬКУЛЯТОР 1'!$P$1)/12,B45,IF(C45=КАЛЬКУЛЯТОР!$C$21,$E$2,$E$2-$E$3),IF(C45=КАЛЬКУЛЯТОР!$C$21,$I$11,$I$11-SUMIF($A$12:$A$371,\"<=\"&$E$3,$H$12:$H$371)),0,0)),\"\")","v":""},{"$f":"IFERROR((-PPMT(C45/12,B45,IF(C45=КАЛЬКУЛЯТОР!$C$21,$E$2,$E$2-$E$3),IF(C45=КАЛЬКУЛЯТОР!$C$21,$I$11,$I$11-SUMIF($A$12:$A$371,\"<=\"&$E$3,$H$12:$H$371)),0,0)),\"\")","v":""},"",{"$error":"#VALUE!"},null,{"$error":"#VALUE!"},{"$error":"#VALUE!"},{"$error":"#VALUE!"},{"$error":"#VALUE!"},false]
[35,35,{"$f":"IF(A46<=$E$3,КАЛЬКУЛЯТОР!$C$21,IF(AND(A46>$E$3,A46<=$E$2),$E$4,\"\"))","v":""},{"$f":"IF(A46<=$E$2,-PMT(C46/12,IF(C46=КАЛЬКУЛЯТОР!$C$21,$E$2,$E$2-$E$3),IF(C46=КАЛЬКУЛЯТОР!$C$21,$I$11,$I$11-SUMIF($A$12:$A$371,\"<=\"&$E$3,$H$12:$H$371)),0,0),\"\")","v":{"$error":"#VALUE!"}},null,{"$f":"IFERROR((-IPMT(C46/12,B46,IF(C46=КАЛЬКУЛЯТОР!$C$21,$E$2,$E$2-$E$3),IF(C46=КАЛЬКУЛЯТОР!$C$21,$I$11,$I$11-SUMIF($A$12:$A$371,\"<=\"&$E$3,$H$12:$H$371)),0,0)),\"\")","v":""},{"$f":"IFERROR((-IPMT((C46-'КАЛЬКУЛЯТОР 1'!$P$1)/12,B46,IF(C46=КАЛЬКУЛЯТОР!$C$21,$E$2,$E$2-$E$3),IF(C46=КАЛЬКУЛЯТОР!$C$21,$I$11,$I$11-SUMIF($A$12:$A$371,\"<=\"&$E$3,$H$12:$H$371)),0,0)),\"\")","v":""},{"$f":"IFERROR((-PPMT(C46/12,B46,IF(C46=КАЛЬКУЛЯТОР!$C$21,$E$2,$E$2-$E$3),IF(C46=КАЛЬКУЛЯТОР!$C$21,$I$11,$I$11-SUMIF($A$12:$A$371,\"<=\"&$E$3,$H$12:$H$371)),0,0)),\"\")","v":""},"",{"$error":"#VALUE!"},null,{"$error":"#VALUE!"},{"$error":"#VALUE!"},{"$error":"#VALUE!"},{"$error":"#VALUE!"},false]
[36,36,{"$f":"IF(A47<=$E$3,КАЛЬКУЛЯТОР!$C$21,IF(AND(A47>$E$3,A47<=$E$2),$E$4,\"\"))","v":""},{"$f":"IF(A47<=$E$2,-PMT(C47/12,IF(C47=КАЛЬКУЛЯТОР!$C$21,$E$2,$E$2-$E$3),IF(C47=КАЛЬКУЛЯТОР!$C$21,$I$11,$I$11-SUMIF($A$12:$A$371,\"<=\"&$E$3,$H$12:$H$371)),0,0),\"\")","v":{"$error":"#VALUE!"}},null,{"$f":"IFERROR((-IPMT(C47/12,B47,IF(C47=КАЛЬКУЛЯТОР!$C$21,$E$2,$E$2-$E$3),IF(C47=КАЛЬКУЛЯТОР!$C$21,$I$11,$I$11-SUMIF($A$12:$A$371,\"<=\"&$E$3,$H$12:$H$371)),0,0)),\"\")","v":""},{"$f":"IFERROR((-IPMT((C47-'КАЛЬКУЛЯТОР 1'!$P$1)/12,B47,IF(C47=КАЛЬКУЛЯТОР!$C$21,$E$2,$E$2-$E$3),IF(C47=КАЛЬКУЛЯТОР!$C$21,$I$11,$I$11-SUMIF($A$12:$A$371,\"<=\"&$E$3,$H$12:$H$371)),0,0)),\"\")","v":""},{"$f":"IFERROR((-PPMT(C47/12,B47,IF(C47=КАЛЬКУЛЯТОР!$C$21,$E$2,$E$2-$E$3),IF(C47=КАЛЬКУЛЯТОР!$C$21,$I$11,$I$11-SUMIF($A$12:$A$371,\"<=\"&$E$3,$H$12:$H$371)),0,0)),\"\")","v":""},"",{"$error":"#VALUE!"},null,{"$error":"#VALUE!"},{"$error":"#VALUE!"},{"$error":"#VALUE!"},{"$error":"#VALUE!"},false]
[37,37,{"$f":"IF(A48<=$E$3,КАЛЬКУЛЯТОР!$C$21,IF(AND(A48>$E$3,A48<=$E$2),$E$4,\"\"))","v":""},{"$f":"IF(A48<=$E$2,-PMT(C48/12,IF(C48=КАЛЬКУЛЯТОР!$C$21,$E$2,$E$2-$E$3),IF(C48=КАЛЬКУЛЯТОР!$C$21,$I$11,$I$11-SUMIF($A$12:$A$371,\"<=\"&$E$3,$H$12:$H$371)),0,0),\"\")","v":{"$error":"#VALUE!"}},{"$f":"IF($E$2>$A47,(I47+SUM(F48:F59))*($K$4+$K$5),0)","v":{"$error":"#VALUE!"}},{"$f":"IFERROR((-IPMT(C48/12,B48,IF(C48=КАЛЬКУЛЯТОР!$C$21,$E$2,$E$2-$E$3),IF(C48=КАЛЬКУЛЯТОР!$C$21,$I$11,$I$11-SUMIF($A$12:$A$371,\"<=\"&$E$3,$H$12:$H$371)),0,0)),\"\")","v":""},{"$f":"IFERROR((-IPMT((C48-'КАЛЬКУЛЯТОР 1'!$P$1)/12,B48,IF(C48=КАЛЬКУЛЯТОР!$C$21,$E$2,$E$2-$E$3),IF(C48=КАЛЬКУЛЯТОР!$C$21,$I$11,$I$11-SUMIF($A$12:$A$371,\"<=\"&$E$3,$H$12:$H$371)),0,0)),\"\")","v":""},{"$f":"IFERROR((-PPMT(C48/12,B48,IF(C48=КАЛЬКУЛЯТОР!$C$21,$E$2,$E$2-$E$3),IF(C48=КАЛЬКУЛЯТОР!$C$21,$I$11,$I$11-SUMIF($A$12:$A$371,\"<=\"&$E$3,$H$12:$H$371)),0,0)),\"\")","v":""},"",{"$error":"#VALUE!"},{"$f":"PV($E$5/12,A48-1,0,-E48)","v":{"$error":"#VALUE!"}},{"$error":"#VALUE!"},{"$error":"#VALUE!"},{"$error":"#VALUE!"},{"$error":"#VALUE!"},false]
[38,38,{"$f":"IF(A49<=$E$3,КАЛЬКУЛЯТОР!$C$21,IF(AND(A49>$E$3,A49<=$E$2),$E$4,\"\"))","v":""},{"$f":"IF(A49<=$E$2,-PMT(C49/12,IF(C49=КАЛЬКУЛЯТОР!$C$21,$E$2,$E$2-$E$3),IF(C49=КАЛЬКУЛЯТОР!$C$21,$I$11,$I$11-SUMIF($A$12:$A$371,\"<=\"&$E$3,$H$12:$H$371)),0,0),\"\")","v":{"$error":"#VALUE!"}},null,{"$f":"IFERROR((-IPMT(C49/12,B49,IF(C49=КАЛЬКУЛЯТОР!$C$21,$E$2,$E$2-$E$3),IF(C49=КАЛЬКУЛЯТОР!$C$21,$I$11,$I$11-SUMIF($A$12:$A$371,\"<=\"&$E$3,$H$12:$H$371)),0,0)),\"\")","v":""},{"$f":"IFERROR((-IPMT((C49-'КАЛЬКУЛЯТОР 1'!$P$1)/12,B49,IF(C49=КАЛЬКУЛЯТОР!$C$21,$E$2,$E$2-$E$3),IF(C49=КАЛЬКУЛЯТОР!$C$21,$I$11,$I$11-SUMIF($A$12:$A$371,\"<=\"&$E$3,$H$12:$H$371)),0,0)),\"\")","v":""},{"$f":"IFERROR((-PPMT(C49/12,B49,IF(C49=КАЛЬКУЛЯТОР!$C$21,$E$2,$E$2-$E$3),IF(C49=КАЛЬКУЛЯТОР!$C$21,$I$11,$I$11-SUMIF($A$12:$A$371,\"<=\"&$E$3,$H$12:$H$371)),0,0)),\"\")","v":""},"",{"$error":"#VALUE!"},null,{"$error":"#VALUE!"},{"$error":"#VALUE!"},{"$error":"#VALUE!"},{"$error":"#VALUE!"},false]
[39,39,{"$f":"IF(A50<=$E$3,КАЛЬКУЛЯТОР!$C$21,IF(AND(A50>$E$3,A50<=$E$2),$E$4,\"\"))","v":""},{"$f":"IF(A50<=$E$2,-PMT(C50/12,IF(C50=КАЛЬКУЛЯТОР!$C$21,$E$2,$E$2-$E$3),IF(C50=КАЛЬКУЛЯТОР!$C$21,$I$11,$I$11-SUMIF($A$12:$A$371,\"<=\"&$E$3,$H$12:$H$371)),0,0),\"\")","v":{"$error":"#VALUE!"}},null,{"$f":"IFERROR((-IPMT(C50/12,B50,IF(C50=КАЛЬКУЛЯТОР!$C$21,$E$2,$E$2-$E$3),IF(C50=КАЛЬКУЛЯТОР!$C$21,$I$11,$I$11-SUMIF($A$12:$A$371,\"<=\"&$E$3,$H$12:$H$371)),0,0)),\"\")","v":""},{"$f":"IFERROR((-IPMT((C50-'КАЛЬКУЛЯТОР 1'!$P$1)/12,B50,IF(C50=КАЛЬКУЛЯТОР!$C$21,$E$2,$E$2-$E$3),IF(C50=КАЛЬКУЛЯТОР!$C$21,$I$11,$I$11-SUMIF($A$12:$A$371,\"<=\"&$E$3,$H$12:$H$371)),0,0)),\"\")","v":""},{"$f":"IFERROR((-PPMT(C50/12,B50,IF(C50=КАЛЬКУЛЯТОР!$C$21,$E$2,$E$2-$E$3),IF(C50=КАЛЬКУЛЯТОР!$C$21,$I$11,$I$11-SUMIF($A$12:$A$371,\"<=\"&$E$3,$H$12:$H$371)),0,0)),\"\")","v":""},"",{"$error":"#VALUE!"},null,{"$error":"#VALUE!"},{"$error":"#VALUE!"},{"$error":"#VALUE!"},{"$error":"#VALUE!"},false]
[40,40,{"$f":"IF(A51<=$E$3,КАЛЬКУЛЯТОР!$C$21,IF(AND(A51>$E$3,A51<=$E$2),$E$4,\"\"))","v":""},{"$f":"IF(A51<=$E$2,-PMT(C51/12,IF(C51=КАЛЬКУЛЯТОР!$C$21,$E$2,$E$2-$E$3),IF(C51=КАЛЬКУЛЯТОР!$C$21,$I$11,$I$11-SUMIF($A$12:$A$371,\"<=\"&$E$3,$H$12:$H$371)),0,0),\"\")","v":{"$error":"#VALUE!"}},null,{"$f":"IFERROR((-IPMT(C51/12,B51,IF(C51=КАЛЬКУЛЯТОР!$C$21,$E$2,$E$2-$E$3),IF(C51=КАЛЬКУЛЯТОР!$C$21,$I$11,$I$11-SUMIF($A$12:$A$371,\"<=\"&$E$3,$H$12:$H$371)),0,0)),\"\")","v":""},{"$f":"IFERROR((-IPMT((C51-'КАЛЬКУЛЯТОР 1'!$P$1)/12,B51,IF(C51=КАЛЬКУЛЯТОР!$C$21,$E$2,$E$2-$E$3),IF(C51=КАЛЬКУЛЯТОР!$C$21,$I$11,$I$11-SUMIF($A$12:$A$371,\"<=\"&$E$3,$H$12:$H$371)),0,0)),\"\")","v":""},{"$f":"IFERROR((-PPMT(C51/12,B51,IF(C51=КАЛЬКУЛЯТОР!$C$21,$E$2,$E$2-$E$3),IF(C51=КАЛЬКУЛЯТОР!$C$21,$I$11,$I$11-SUMIF($A$12:$A$371,\"<=\"&$E$3,$H$12:$H$371)),0,0)),\"\")","v":""},"",{"$error":"#VALUE!"},null,{"$error":"#VALUE!"},{"$error":"#VALUE!"},{"$error":"#VALUE!"},{"$error":"#VALUE!"},false]
[41,41,{"$f":"IF(A52<=$E$3,КАЛЬКУЛЯТОР!$C$21,IF(AND(A52>$E$3,A52<=$E$2),$E$4,\"\"))","v":""},{"$f":"IF(A52<=$E$2,-PMT(C52/12,IF(C52=КАЛЬКУЛЯТОР!$C$21,$E$2,$E$2-$E$3),IF(C52=КАЛЬКУЛЯТОР!$C$21,$I$11,$I$11-SUMIF($A$12:$A$371,\"<=\"&$E$3,$H$12:$H$371)),0,0),\"\")","v":{"$error":"#VALUE!"}},null,{"$f":"IFERROR((-IPMT(C52/12,B52,IF(C52=КАЛЬКУЛЯТОР!$C$21,$E$2,$E$2-$E$3),IF(C52=КАЛЬКУЛЯТОР!$C$21,$I$11,$I$11-SUMIF($A$12:$A$371,\"<=\"&$E$3,$H$12:$H$371)),0,0)),\"\")","v":""},{"$f":"IFERROR((-IPMT((C52-'КАЛЬКУЛЯТОР 1'!$P$1)/12,B52,IF(C52=КАЛЬКУЛЯТОР!$C$21,$E$2,$E$2-$E$3),IF(C52=КАЛЬКУЛЯТОР!$C$21,$I$11,$I$11-SUMIF($A$12:$A$371,\"<=\"&$E$3,$H$12:$H$371)),0,0)),\"\")","v":""},{"$f":"IFERROR((-PPMT(C52/12,B52,IF(C52=КАЛЬКУЛЯТОР!$C$21,$E$2,$E$2-$E$3),IF(C52=КАЛЬКУЛЯТОР!$C$21,$I$11,$I$11-SUMIF($A$12:$A$371,\"<=\"&$E$3,$H$12:$H$371)),0,0)),\"\")","v":""},"",{"$error":"#VALUE!"},null,{"$error":"#VALUE!"},{"$error":"#VALUE!"},{"$error":"#VALUE!"},{"$error":"#VALUE!"},false]
[42,42,{"$f":"IF(A53<=$E$3,КАЛЬКУЛЯТОР!$C$21,IF(AND(A53>$E$3,A53<=$E$2),$E$4,\"\"))","v":""},{"$f":"IF(A53<=$E$2,-PMT(C53/12,IF(C53=КАЛЬКУЛЯТОР!$C$21,$E$2,$E$2-$E$3),IF(C53=КАЛЬКУЛЯТОР!$C$21,$I$11,$I$11-SUMIF($A$12:$A$371,\"<=\"&$E$3,$H$12:$H$371)),0,0),\"\")","v":{"$error":"#VALUE!"}},null,{"$f":"IFERROR((-IPMT(C53/12,B53,IF(C53=КАЛЬКУЛЯТОР!$C$21,$E$2,$E$2-$E$3),IF(C53=КАЛЬКУЛЯТОР!$C$21,$I$11,$I$11-SUMIF($A$12:$A$371,\"<=\"&$E$3,$H$12:$H$371)),0,0)),\"\")","v":""},{"$f":"IFERROR((-IPMT((C53-'КАЛЬКУЛЯТОР 1'!$P$1)/12,B53,IF(C53=КАЛЬКУЛЯТОР!$C$21,$E$2,$E$2-$E$3),IF(C53=КАЛЬКУЛЯТОР!$C$21,$I$11,$I$11-SUMIF($A$12:$A$371,\"<=\"&$E$3,$H$12:$H$371)),0,0)),\"\")","v":""},{"$f":"IFERROR((-PPMT(C53/12,B53,IF(C53=КАЛЬКУЛЯТОР!$C$21,$E$2,$E$2-$E$3),IF(C53=КАЛЬКУЛЯТОР!$C$21,$I$11,$I$11-SUMIF($A$12:$A$371,\"<=\"&$E$3,$H$12:$H$371)),0,0)),\"\")","v":""},"",{"$error":"#VALUE!"},null,{"$error":"#VALUE!"},{"$error":"#VALUE!"},{"$error":"#VALUE!"},{"$error":"#VALUE!"},false]
[43,43,{"$f":"IF(A54<=$E$3,КАЛЬКУЛЯТОР!$C$21,IF(AND(A54>$E$3,A54<=$E$2),$E$4,\"\"))","v":""},{"$f":"IF(A54<=$E$2,-PMT(C54/12,IF(C54=КАЛЬКУЛЯТОР!$C$21,$E$2,$E$2-$E$3),IF(C54=КАЛЬКУЛЯТОР!$C$21,$I$11,$I$11-SUMIF($A$12:$A$371,\"<=\"&$E$3,$H$12:$H$371)),0,0),\"\")","v":{"$error":"#VALUE!"}},null,{"$f":"IFERROR((-IPMT(C54/12,B54,IF(C54=КАЛЬКУЛЯТОР!$C$21,$E$2,$E$2-$E$3),IF(C54=КАЛЬКУЛЯТОР!$C$21,$I$11,$I$11-SUMIF($A$12:$A$371,\"<=\"&$E$3,$H$12:$H$371)),0,0)),\"\")","v":""},{"$f":"IFERROR((-IPMT((C54-'КАЛЬКУЛЯТОР 1'!$P$1)/12,B54,IF(C54=КАЛЬКУЛЯТОР!$C$21,$E$2,$E$2-$E$3),IF(C54=КАЛЬКУЛЯТОР!$C$21,$I$11,$I$11-SUMIF($A$12:$A$371,\"<=\"&$E$3,$H$12:$H$371)),0,0)),\"\")","v":""},{"$f":"IFERROR((-PPMT(C54/12,B54,IF(C54=КАЛЬКУЛЯТОР!$C$21,$E$2,$E$2-$E$3),IF(C54=КАЛЬКУЛЯТОР!$C$21,$I$11,$I$11-SUMIF($A$12:$A$371,\"<=\"&$E$3,$H$12:$H$371)),0,0)),\"\")","v":""},"",{"$error":"#VALUE!"},null,{"$error":"#VALUE!"},{"$error":"#VALUE!"},{"$error":"#VALUE!"},{"$error":"#VALUE!"},false]
[44,44,{"$f":"IF(A55<=$E$3,КАЛЬКУЛЯТОР!$C$21,IF(AND(A55>$E$3,A55<=$E$2),$E$4,\"\"))","v":""},{"$f":"IF(A55<=$E$2,-PMT(C55/12,IF(C55=КАЛЬКУЛЯТОР!$C$21,$E$2,$E$2-$E$3),IF(C55=КАЛЬКУЛЯТОР!$C$21,$I$11,$I$11-SUMIF($A$12:$A$371,\"<=\"&$E$3,$H$12:$H$371)),0,0),\"\")","v":{"$error":"#VALUE!"}},null,{"$f":"IFERROR((-IPMT(C55/12,B55,IF(C55=КАЛЬКУЛЯТОР!$C$21,$E$2,$E$2-$E$3),IF(C55=КАЛЬКУЛЯТОР!$C$21,$I$11,$I$11-SUMIF($A$12:$A$371,\"<=\"&$E$3,$H$12:$H$371)),0,0)),\"\")","v":""},{"$f":"IFERROR((-IPMT((C55-'КАЛЬКУЛЯТОР 1'!$P$1)/12,B55,IF(C55=КАЛЬКУЛЯТОР!$C$21,$E$2,$E$2-$E$3),IF(C55=КАЛЬКУЛЯТОР!$C$21,$I$11,$I$11-SUMIF($A$12:$A$371,\"<=\"&$E$3,$H$12:$H$371)),0,0)),\"\")","v":""},{"$f":"IFERROR((-PPMT(C55/12,B55,IF(C55=КАЛЬКУЛЯТОР!$C$21,$E$2,$E$2-$E$3),IF(C55=КАЛЬКУЛЯТОР!$C$21,$I$11,$I$11-SUMIF($A$12:$A$371,\"<=\"&$E$3,$H$12:$H$371)),0,0)),\"\")","v":""},"",{"$error":"#VALUE!"},null,{"$error":"#VALUE!"},{"$error":"#VALUE!"},{"$error":"#VALUE!"},{"$error":"#VALUE!"},false]
[45,45,{"$f":"IF(A56<=$E$3,КАЛЬКУЛЯТОР!$C$21,IF(AND(A56>$E$3,A56<=$E$2),$E$4,\"\"))","v":""},{"$f":"IF(A56<=$E$2,-PMT(C56/12,IF(C56=КАЛЬКУЛЯТОР!$C$21,$E$2,$E$2-$E$3),IF(C56=КАЛЬКУЛЯТОР!$C$21,$I$11,$I$11-SUMIF($A$12:$A$371,\"<=\"&$E$3,$H$12:$H$371)),0,0),\"\")","v":{"$error":"#VALUE!"}},null,{"$f":"IFERROR((-IPMT(C56/12,B56,IF(C56=КАЛЬКУЛЯТОР!$C$21,$E$2,$E$2-$E$3),IF(C56=КАЛЬКУЛЯТОР!$C$21,$I$11,$I$11-SUMIF($A$12:$A$371,\"<=\"&$E$3,$H$12:$H$371)),0,0)),\"\")","v":""},{"$f":"IFERROR((-IPMT((C56-'КАЛЬКУЛЯТОР 1'!$P$1)/12,B56,IF(C56=КАЛЬКУЛЯТОР!$C$21,$E$2,$E$2-$E$3),IF(C56=КАЛЬКУЛЯТОР!$C$21,$I$11,$I$11-SUMIF($A$12:$A$371,\"<=\"&$E$3,$H$12:$H$371)),0,0)),\"\")","v":""},{"$f":"IFERROR((-PPMT(C56/12,B56,IF(C56=КАЛЬКУЛЯТОР!$C$21,$E$2,$E$2-$E$3),IF(C56=КАЛЬКУЛЯТОР!$C$21,$I$11,$I$11-SUMIF($A$12:$A$371,\"<=\"&$E$3,$H$12:$H$371)),0,0)),\"\")","v":""},"",{"$error":"#VALUE!"},null,{"$error":"#VALUE!"},{"$error":"#VALUE!"},{"$error":"#VALUE!"},{"$error":"#VALUE!"},false]
[46,46,{"$f":"IF(A57<=$E$3,КАЛЬКУЛЯТОР!$C$21,IF(AND(A57>$E$3,A57<=$E$2),$E$4,\"\"))","v":""},{"$f":"IF(A57<=$E$2,-PMT(C57/12,IF(C57=КАЛЬКУЛЯТОР!$C$21,$E$2,$E$2-$E$3),IF(C57=КАЛЬКУЛЯТОР!$C$21,$I$11,$I$11-SUMIF($A$12:$A$371,\"<=\"&$E$3,$H$12:$H$371)),0,0),\"\")","v":{"$error":"#VALUE!"}},null,{"$f":"IFERROR((-IPMT(C57/12,B57,IF(C57=КАЛЬКУЛЯТОР!$C$21,$E$2,$E$2-$E$3),IF(C57=КАЛЬКУЛЯТОР!$C$21,$I$11,$I$11-SUMIF($A$12:$A$371,\"<=\"&$E$3,$H$12:$H$371)),0,0)),\"\")","v":""},{"$f":"IFERROR((-IPMT((C57-'КАЛЬКУЛЯТОР 1'!$P$1)/12,B57,IF(C57=КАЛЬКУЛЯТОР!$C$21,$E$2,$E$2-$E$3),IF(C57=КАЛЬКУЛЯТОР!$C$21,$I$11,$I$11-SUMIF($A$12:$A$371,\"<=\"&$E$3,$H$12:$H$371)),0,0)),\"\")","v":""},{"$f":"IFERROR((-PPMT(C57/12,B57,IF(C57=КАЛЬКУЛЯТОР!$C$21,$E$2,$E$2-$E$3),IF(C57=КАЛЬКУЛЯТОР!$C$21,$I$11,$I$11-SUMIF($A$12:$A$371,\"<=\"&$E$3,$H$12:$H$371)),0,0)),\"\")","v":""},"",{"$error":"#VALUE!"},null,{"$error":"#VALUE!"},{"$error":"#VALUE!"},{"$error":"#VALUE!"},{"$error":"#VALUE!"},false]
[47,47,{"$f":"IF(A58<=$E$3,КАЛЬКУЛЯТОР!$C$21,IF(AND(A58>$E$3,A58<=$E$2),$E$4,\"\"))","v":""},{"$f":"IF(A58<=$E$2,-PMT(C58/12,IF(C58=КАЛЬКУЛЯТОР!$C$21,$E$2,$E$2-$E$3),IF(C58=КАЛЬКУЛЯТОР!$C$21,$I$11,$I$11-SUMIF($A$12:$A$371,\"<=\"&$E$3,$H$12:$H$371)),0,0),\"\")","v":{"$error":"#VALUE!"}},null,{"$f":"IFERROR((-IPMT(C58/12,B58,IF(C58=КАЛЬКУЛЯТОР!$C$21,$E$2,$E$2-$E$3),IF(C58=КАЛЬКУЛЯТОР!$C$21,$I$11,$I$11-SUMIF($A$12:$A$371,\"<=\"&$E$3,$H$12:$H$371)),0,0)),\"\")","v":""},{"$f":"IFERROR((-IPMT((C58-'КАЛЬКУЛЯТОР 1'!$P$1)/12,B58,IF(C58=КАЛЬКУЛЯТОР!$C$21,$E$2,$E$2-$E$3),IF(C58=КАЛЬКУЛЯТОР!$C$21,$I$11,$I$11-SUMIF($A$12:$A$371,\"<=\"&$E$3,$H$12:$H$371)),0,0)),\"\")","v":""},{"$f":"IFERROR((-PPMT(C58/12,B58,IF(C58=КАЛЬКУЛЯТОР!$C$21,$E$2,$E$2-$E$3),IF(C58=КАЛЬКУЛЯТОР!$C$21,$I$11,$I$11-SUMIF($A$12:$A$371,\"<=\"&$E$3,$H$12:$H$371)),0,0)),\"\")","v":""},"",{"$error":"#VALUE!"},null,{"$error":"#VALUE!"},{"$error":"#VALUE!"},{"$error":"#VALUE!"},{"$error":"#VALUE!"},false]
[48,48,{"$f":"IF(A59<=$E$3,КАЛЬКУЛЯТОР!$C$21,IF(AND(A59>$E$3,A59<=$E$2),$E$4,\"\"))","v":""},{"$f":"IF(A59<=$E$2,-PMT(C59/12,IF(C59=КАЛЬКУЛЯТОР!$C$21,$E$2,$E$2-$E$3),IF(C59=КАЛЬКУЛЯТОР!$C$21,$I$11,$I$11-SUMIF($A$12:$A$371,\"<=\"&$E$3,$H$12:$H$371)),0,0),\"\")","v":{"$error":"#VALUE!"}},null,{"$f":"IFERROR((-IPMT(C59/12,B59,IF(C59=КАЛЬКУЛЯТОР!$C$21,$E$2,$E$2-$E$3),IF(C59=КАЛЬКУЛЯТОР!$C$21,$I$11,$I$11-SUMIF($A$12:$A$371,\"<=\"&$E$3,$H$12:$H$371)),0,0)),\"\")","v":""},{"$f":"IFERROR((-IPMT((C59-'КАЛЬКУЛЯТОР 1'!$P$1)/12,B59,IF(C59=КАЛЬКУЛЯТОР!$C$21,$E$2,$E$2-$E$3),IF(C59=КАЛЬКУЛЯТОР!$C$21,$I$11,$I$11-SUMIF($A$12:$A$371,\"<=\"&$E$3,$H$12:$H$371)),0,0)),\"\")","v":""},{"$f":"IFERROR((-PPMT(C59/12,B59,IF(C59=КАЛЬКУЛЯТОР!$C$21,$E$2,$E$2-$E$3),IF(C59=КАЛЬКУЛЯТОР!$C$21,$I$11,$I$11-SUMIF($A$12:$A$371,\"<=\"&$E$3,$H$12:$H$371)),0,0)),\"\")","v":""},"",{"$error":"#VALUE!"},null,{"$error":"#VALUE!"},{"$error":"#VALUE!"},{"$error":"#VALUE!"},{"$error":"#VALUE!"},false]
[49,49,{"$f":"IF(A60<=$E$3,КАЛЬКУЛЯТОР!$C$21,IF(AND(A60>$E$3,A60<=$E$2),$E$4,\"\"))","v":""},{"$f":"IF(A60<=$E$2,-PMT(C60/12,IF(C60=КАЛЬКУЛЯТОР!$C$21,$E$2,$E$2-$E$3),IF(C60=КАЛЬКУЛЯТОР!$C$21,$I$11,$I$11-SUMIF($A$12:$A$371,\"<=\"&$E$3,$H$12:$H$371)),0,0),\"\")","v":{"$error":"#VALUE!"}},{"$f":"IF($E$2>$A59,(I59+SUM(F60:F71))*($K$4+$K$5),0)","v":{"$error":"#VALUE!"}},{"$f":"IFERROR((-IPMT(C60/12,B60,IF(C60=КАЛЬКУЛЯТОР!$C$21,$E$2,$E$2-$E$3),IF(C60=КАЛЬКУЛЯТОР!$C$21,$I$11,$I$11-SUMIF($A$12:$A$371,\"<=\"&$E$3,$H$12:$H$371)),0,0)),\"\")","v":""},{"$f":"IFERROR((-IPMT((C60-'КАЛЬКУЛЯТОР 1'!$P$1)/12,B60,IF(C60=КАЛЬКУЛЯТОР!$C$21,$E$2,$E$2-$E$3),IF(C60=КАЛЬКУЛЯТОР!$C$21,$I$11,$I$11-SUMIF($A$12:$A$371,\"<=\"&$E$3,$H$12:$H$371)),0,0)),\"\")","v":""},{"$f":"IFERROR((-PPMT(C60/12,B60,IF(C60=КАЛЬКУЛЯТОР!$C$21,$E$2,$E$2-$E$3),IF(C60=КАЛЬКУЛЯТОР!$C$21,$I$11,$I$11-SUMIF($A$12:$A$371,\"<=\"&$E$3,$H$12:$H$371)),0,0)),\"\")","v":""},"",{"$error":"#VALUE!"},{"$f":"PV($E$5/12,A60-1,0,-E60)","v":{"$error":"#VALUE!"}},{"$error":"#VALUE!"},{"$error":"#VALUE!"},{"$error":"#VALUE!"},{"$error":"#VALUE!"},false]
[50,50,{"$f":"IF(A61<=$E$3,КАЛЬКУЛЯТОР!$C$21,IF(AND(A61>$E$3,A61<=$E$2),$E$4,\"\"))","v":""},{"$f":"IF(A61<=$E$2,-PMT(C61/12,IF(C61=КАЛЬКУЛЯТОР!$C$21,$E$2,$E$2-$E$3),IF(C61=КАЛЬКУЛЯТОР!$C$21,$I$11,$I$11-SUMIF($A$12:$A$371,\"<=\"&$E$3,$H$12:$H$371)),0,0),\"\")","v":{"$error":"#VALUE!"}},null,{"$f":"IFERROR((-IPMT(C61/12,B61,IF(C61=КАЛЬКУЛЯТОР!$C$21,$E$2,$E$2-$E$3),IF(C61=КАЛЬКУЛЯТОР!$C$21,$I$11,$I$11-SUMIF($A$12:$A$371,\"<=\"&$E$3,$H$12:$H$371)),0,0)),\"\")","v":""},{"$f":"IFERROR((-IPMT((C61-'КАЛЬКУЛЯТОР 1'!$P$1)/12,B61,IF(C61=КАЛЬКУЛЯТОР!$C$21,$E$2,$E$2-$E$3),IF(C61=КАЛЬКУЛЯТОР!$C$21,$I$11,$I$11-SUMIF($A$12:$A$371,\"<=\"&$E$3,$H$12:$H$371)),0,0)),\"\")","v":""},{"$f":"IFERROR((-PPMT(C61/12,B61,IF(C61=КАЛЬКУЛЯТОР!$C$21,$E$2,$E$2-$E$3),IF(C61=КАЛЬКУЛЯТОР!$C$21,$I$11,$I$11-SUMIF($A$12:$A$371,\"<=\"&$E$3,$H$12:$H$371)),0,0)),\"\")","v":""},"",{"$error":"#VALUE!"},null,{"$error":"#VALUE!"},{"$error":"#VALUE!"},{"$error":"#VALUE!"},{"$error":"#VALUE!"},false]
[51,51,{"$f":"IF(A62<=$E$3,КАЛЬКУЛЯТОР!$C$21,IF(AND(A62>$E$3,A62<=$E$2),$E$4,\"\"))","v":""},{"$f":"IF(A62<=$E$2,-PMT(C62/12,IF(C62=КАЛЬКУЛЯТОР!$C$21,$E$2,$E$2-$E$3),IF(C62=КАЛЬКУЛЯТОР!$C$21,$I$11,$I$11-SUMIF($A$12:$A$371,\"<=\"&$E$3,$H$12:$H$371)),0,0),\"\")","v":{"$error":"#VALUE!"}},null,{"$f":"IFERROR((-IPMT(C62/12,B62,IF(C62=КАЛЬКУЛЯТОР!$C$21,$E$2,$E$2-$E$3),IF(C62=КАЛЬКУЛЯТОР!$C$21,$I$11,$I$11-SUMIF($A$12:$A$371,\"<=\"&$E$3,$H$12:$H$371)),0,0)),\"\")","v":""},{"$f":"IFERROR((-IPMT((C62-'КАЛЬКУЛЯТОР 1'!$P$1)/12,B62,IF(C62=КАЛЬКУЛЯТОР!$C$21,$E$2,$E$2-$E$3),IF(C62=КАЛЬКУЛЯТОР!$C$21,$I$11,$I$11-SUMIF($A$12:$A$371,\"<=\"&$E$3,$H$12:$H$371)),0,0)),\"\")","v":""},{"$f":"IFERROR((-PPMT(C62/12,B62,IF(C62=КАЛЬКУЛЯТОР!$C$21,$E$2,$E$2-$E$3),IF(C62=КАЛЬКУЛЯТОР!$C$21,$I$11,$I$11-SUMIF($A$12:$A$371,\"<=\"&$E$3,$H$12:$H$371)),0,0)),\"\")","v":""},"",{"$error":"#VALUE!"},null,{"$error":"#VALUE!"},{"$error":"#VALUE!"},{"$error":"#VALUE!"},{"$error":"#VALUE!"},false]
[52,52,{"$f":"IF(A63<=$E$3,КАЛЬКУЛЯТОР!$C$21,IF(AND(A63>$E$3,A63<=$E$2),$E$4,\"\"))","v":""},{"$f":"IF(A63<=$E$2,-PMT(C63/12,IF(C63=КАЛЬКУЛЯТОР!$C$21,$E$2,$E$2-$E$3),IF(C63=КАЛЬКУЛЯТОР!$C$21,$I$11,$I$11-SUMIF($A$12:$A$371,\"<=\"&$E$3,$H$12:$H$371)),0,0),\"\")","v":{"$error":"#VALUE!"}},null,{"$f":"IFERROR((-IPMT(C63/12,B63,IF(C63=КАЛЬКУЛЯТОР!$C$21,$E$2,$E$2-$E$3),IF(C63=КАЛЬКУЛЯТОР!$C$21,$I$11,$I$11-SUMIF($A$12:$A$371,\"<=\"&$E$3,$H$12:$H$371)),0,0)),\"\")","v":""},{"$f":"IFERROR((-IPMT((C63-'КАЛЬКУЛЯТОР 1'!$P$1)/12,B63,IF(C63=КАЛЬКУЛЯТОР!$C$21,$E$2,$E$2-$E$3),IF(C63=КАЛЬКУЛЯТОР!$C$21,$I$11,$I$11-SUMIF($A$12:$A$371,\"<=\"&$E$3,$H$12:$H$371)),0,0)),\"\")","v":""},{"$f":"IFERROR((-PPMT(C63/12,B63,IF(C63=КАЛЬКУЛЯТОР!$C$21,$E$2,$E$2-$E$3),IF(C63=КАЛЬКУЛЯТОР!$C$21,$I$11,$I$11-SUMIF($A$12:$A$371,\"<=\"&$E$3,$H$12:$H$371)),0,0)),\"\")","v":""},"",{"$error":"#VALUE!"},null,{"$error":"#VALUE!"},{"$error":"#VALUE!"},{"$error":"#VALUE!"},{"$error":"#VALUE!"},false]
[53,53,{"$f":"IF(A64<=$E$3,КАЛЬКУЛЯТОР!$C$21,IF(AND(A64>$E$3,A64<=$E$2),$E$4,\"\"))","v":""},{"$f":"IF(A64<=$E$2,-PMT(C64/12,IF(C64=КАЛЬКУЛЯТОР!$C$21,$E$2,$E$2-$E$3),IF(C64=КАЛЬКУЛЯТОР!$C$21,$I$11,$I$11-SUMIF($A$12:$A$371,\"<=\"&$E$3,$H$12:$H$371)),0,0),\"\")","v":{"$error":"#VALUE!"}},null,{"$f":"IFERROR((-IPMT(C64/12,B64,IF(C64=КАЛЬКУЛЯТОР!$C$21,$E$2,$E$2-$E$3),IF(C64=КАЛЬКУЛЯТОР!$C$21,$I$11,$I$11-SUMIF($A$12:$A$371,\"<=\"&$E$3,$H$12:$H$371)),0,0)),\"\")","v":""},{"$f":"IFERROR((-IPMT((C64-'КАЛЬКУЛЯТОР 1'!$P$1)/12,B64,IF(C64=КАЛЬКУЛЯТОР!$C$21,$E$2,$E$2-$E$3),IF(C64=КАЛЬКУЛЯТОР!$C$21,$I$11,$I$11-SUMIF($A$12:$A$371,\"<=\"&$E$3,$H$12:$H$371)),0,0)),\"\")","v":""},{"$f":"IFERROR((-PPMT(C64/12,B64,IF(C64=КАЛЬКУЛЯТОР!$C$21,$E$2,$E$2-$E$3),IF(C64=КАЛЬКУЛЯТОР!$C$21,$I$11,$I$11-SUMIF($A$12:$A$371,\"<=\"&$E$3,$H$12:$H$371)),0,0)),\"\")","v":""},"",{"$error":"#VALUE!"},null,{"$error":"#VALUE!"},{"$error":"#VALUE!"},{"$error":"#VALUE!"},{"$error":"#VALUE!"},false]
[54,54,{"$f":"IF(A65<=$E$3,КАЛЬКУЛЯТОР!$C$21,IF(AND(A65>$E$3,A65<=$E$2),$E$4,\"\"))","v":""},{"$f":"IF(A65<=$E$2,-PMT(C65/12,IF(C65=КАЛЬКУЛЯТОР!$C$21,$E$2,$E$2-$E$3),IF(C65=КАЛЬКУЛЯТОР!$C$21,$I$11,$I$11-SUMIF($A$12:$A$371,\"<=\"&$E$3,$H$12:$H$371)),0,0),\"\")","v":{"$error":"#VALUE!"}},null,{"$f":"IFERROR((-IPMT(C65/12,B65,IF(C65=КАЛЬКУЛЯТОР!$C$21,$E$2,$E$2-$E$3),IF(C65=КАЛЬКУЛЯТОР!$C$21,$I$11,$I$11-SUMIF($A$12:$A$371,\"<=\"&$E$3,$H$12:$H$371)),0,0)),\"\")","v":""},{"$f":"IFERROR((-IPMT((C65-'КАЛЬКУЛЯТОР 1'!$P$1)/12,B65,IF(C65=КАЛЬКУЛЯТОР!$C$21,$E$2,$E$2-$E$3),IF(C65=КАЛЬКУЛЯТОР!$C$21,$I$11,$I$11-SUMIF($A$12:$A$371,\"<=\"&$E$3,$H$12:$H$371)),0,0)),\"\")","v":""},{"$f":"IFERROR((-PPMT(C65/12,B65,IF(C65=КАЛЬКУЛЯТОР!$C$21,$E$2,$E$2-$E$3),IF(C65=КАЛЬКУЛЯТОР!$C$21,$I$11,$I$11-SUMIF($A$12:$A$371,\"<=\"&$E$3,$H$12:$H$371)),0,0)),\"\")","v":""},"",{"$error":"#VALUE!"},null,{"$error":"#VALUE!"},{"$error":"#VALUE!"},{"$error":"#VALUE!"},{"$error":"#VALUE!"},false]
[55,55,{"$f":"IF(A66<=$E$3,КАЛЬКУЛЯТОР!$C$21,IF(AND(A66>$E$3,A66<=$E$2),$E$4,\"\"))","v":""},{"$f":"IF(A66<=$E$2,-PMT(C66/12,IF(C66=КАЛЬКУЛЯТОР!$C$21,$E$2,$E$2-$E$3),IF(C66=КАЛЬКУЛЯТОР!$C$21,$I$11,$I$11-SUMIF($A$12:$A$371,\"<=\"&$E$3,$H$12:$H$371)),0,0),\"\")","v":{"$error":"#VALUE!"}},null,{"$f":"IFERROR((-IPMT(C66/12,B66,IF(C66=КАЛЬКУЛЯТОР!$C$21,$E$2,$E$2-$E$3),IF(C66=КАЛЬКУЛЯТОР!$C$21,$I$11,$I$11-SUMIF($A$12:$A$371,\"<=\"&$E$3,$H$12:$H$371)),0,0)),\"\")","v":""},{"$f":"IFERROR((-IPMT((C66-'КАЛЬКУЛЯТОР 1'!$P$1)/12,B66,IF(C66=КАЛЬКУЛЯТОР!$C$21,$E$2,$E$2-$E$3),IF(C66=КАЛЬКУЛЯТОР!$C$21,$I$11,$I$11-SUMIF($A$12:$A$371,\"<=\"&$E$3,$H$12:$H$371)),0,0)),\"\")","v":""},{"$f":"IFERROR((-PPMT(C66/12,B66,IF(C66=КАЛЬКУЛЯТОР!$C$21,$E$2,$E$2-$E$3),IF(C66=КАЛЬКУЛЯТОР!$C$21,$I$11,$I$11-SUMIF($A$12:$A$371,\"<=\"&$E$3,$H$12:$H$371)),0,0)),\"\")","v":""},"",{"$error":"#VALUE!"},null,{"$error":"#VALUE!"},{"$error":"#VALUE!"},{"$error":"#VALUE!"},{"$error":"#VALUE!"},false]
[56,56,{"$f":"IF(A67<=$E$3,КАЛЬКУЛЯТОР!$C$21,IF(AND(A67>$E$3,A67<=$E$2),$E$4,\"\"))","v":""},{"$f":"IF(A67<=$E$2,-PMT(C67/12,IF(C67=КАЛЬКУЛЯТОР!$C$21,$E$2,$E$2-$E$3),IF(C67=КАЛЬКУЛЯТОР!$C$21,$I$11,$I$11-SUMIF($A$12:$A$371,\"<=\"&$E$3,$H$12:$H$371)),0,0),\"\")","v":{"$error":"#VALUE!"}},null,{"$f":"IFERROR((-IPMT(C67/12,B67,IF(C67=КАЛЬКУЛЯТОР!$C$21,$E$2,$E$2-$E$3),IF(C67=КАЛЬКУЛЯТОР!$C$21,$I$11,$I$11-SUMIF($A$12:$A$371,\"<=\"&$E$3,$H$12:$H$371)),0,0)),\"\")","v":""},{"$f":"IFERROR((-IPMT((C67-'КАЛЬКУЛЯТОР 1'!$P$1)/12,B67,IF(C67=КАЛЬКУЛЯТОР!$C$21,$E$2,$E$2-$E$3),IF(C67=КАЛЬКУЛЯТОР!$C$21,$I$11,$I$11-SUMIF($A$12:$A$371,\"<=\"&$E$3,$H$12:$H$371)),0,0)),\"\")","v":""},{"$f":"IFERROR((-PPMT(C67/12,B67,IF(C67=КАЛЬКУЛЯТОР!$C$21,$E$2,$E$2-$E$3),IF(C67=КАЛЬКУЛЯТОР!$C$21,$I$11,$I$11-SUMIF($A$12:$A$371,\"<=\"&$E$3,$H$12:$H$371)),0,0)),\"\")","v":""},"",{"$error":"#VALUE!"},null,{"$error":"#VALUE!"},{"$error":"#VALUE!"},{"$error":"#VALUE!"},{"$error":"#VALUE!"},false]
[57,57,{"$f":"IF(A68<=$E$3,КАЛЬКУЛЯТОР!$C$21,IF(AND(A68>$E$3,A68<=$E$2),$E$4,\"\"))","v":""},{"$f":"IF(A68<=$E$2,-PMT(C68/12,IF(C68=КАЛЬКУЛЯТОР!$C$21,$E$2,$E$2-$E$3),IF(C68=КАЛЬКУЛЯТОР!$C$21,$I$11,$I$11-SUMIF($A$12:$A$371,\"<=\"&$E$3,$H$12:$H$371)),0,0),\"\")","v":{"$error":"#VALUE!"}},null,{"$f":"IFERROR((-IPMT(C68/12,B68,IF(C68=КАЛЬКУЛЯТОР!$C$21,$E$2,$E$2-$E$3),IF(C68=КАЛЬКУЛЯТОР!$C$21,$I$11,$I$11-SUMIF($A$12:$A$371,\"<=\"&$E$3,$H$12:$H$371)),0,0)),\"\")","v":""},{"$f":"IFERROR((-IPMT((C68-'КАЛЬКУЛЯТОР 1'!$P$1)/12,B68,IF(C68=КАЛЬКУЛЯТОР!$C$21,$E$2,$E$2-$E$3),IF(C68=КАЛЬКУЛЯТОР!$C$21,$I$11,$I$11-SUMIF($A$12:$A$371,\"<=\"&$E$3,$H$12:$H$371)),0,0)),\"\")","v":""},{"$f":"IFERROR((-PPMT(C68/12,B68,IF(C68=КАЛЬКУЛЯТОР!$C$21,$E$2,$E$2-$E$3),IF(C68=КАЛЬКУЛЯТОР!$C$21,$I$11,$I$11-SUMIF($A$12:$A$371,\"<=\"&$E$3,$H$12:$H$371)),0,0)),\"\")","v":""},"",{"$error":"#VALUE!"},null,{"$error":"#VALUE!"},{"$error":"#VALUE!"},{"$error":"#VALUE!"},{"$error":"#VALUE!"},false]
[58,58,{"$f":"IF(A69<=$E$3,КАЛЬКУЛЯТОР!$C$21,IF(AND(A69>$E$3,A69<=$E$2),$E$4,\"\"))","v":""},{"$f":"IF(A69<=$E$2,-PMT(C69/12,IF(C69=КАЛЬКУЛЯТОР!$C$21,$E$2,$E$2-$E$3),IF(C69=КАЛЬКУЛЯТОР!$C$21,$I$11,$I$11-SUMIF($A$12:$A$371,\"<=\"&$E$3,$H$12:$H$371)),0,0),\"\")","v":{"$error":"#VALUE!"}},null,{"$f":"IFERROR((-IPMT(C69/12,B69,IF(C69=КАЛЬКУЛЯТОР!$C$21,$E$2,$E$2-$E$3),IF(C69=КАЛЬКУЛЯТОР!$C$21,$I$11,$I$11-SUMIF($A$12:$A$371,\"<=\"&$E$3,$H$12:$H$371)),0,0)),\"\")","v":""},{"$f":"IFERROR((-IPMT((C69-'КАЛЬКУЛЯТОР 1'!$P$1)/12,B69,IF(C69=КАЛЬКУЛЯТОР!$C$21,$E$2,$E$2-$E$3),IF(C69=КАЛЬКУЛЯТОР!$C$21,$I$11,$I$11-SUMIF($A$12:$A$371,\"<=\"&$E$3,$H$12:$H$371)),0,0)),\"\")","v":""},{"$f":"IFERROR((-PPMT(C69/12,B69,IF(C69=КАЛЬКУЛЯТОР!$C$21,$E$2,$E$2-$E$3),IF(C69=КАЛЬКУЛЯТОР!$C$21,$I$11,$I$11-SUMIF($A$12:$A$371,\"<=\"&$E$3,$H$12:$H$371)),0,0)),\"\")","v":""},"",{"$error":"#VALUE!"},null,{"$error":"#VALUE!"},{"$error":"#VALUE!"},{"$error":"#VALUE!"},{"$error":"#VALUE!"},false]
[59,59,{"$f":"IF(A70<=$E$3,КАЛЬКУЛЯТОР!$C$21,IF(AND(A70>$E$3,A70<=$E$2),$E$4,\"\"))","v":""},{"$f":"IF(A70<=$E$2,-PMT(C70/12,IF(C70=КАЛЬКУЛЯТОР!$C$21,$E$2,$E$2-$E$3),IF(C70=КАЛЬКУЛЯТОР!$C$21,$I$11,$I$11-SUMIF($A$12:$A$371,\"<=\"&$E$3,$H$12:$H$371)),0,0),\"\")","v":{"$error":"#VALUE!"}},null,{"$f":"IFERROR((-IPMT(C70/12,B70,IF(C70=КАЛЬКУЛЯТОР!$C$21,$E$2,$E$2-$E$3),IF(C70=КАЛЬКУЛЯТОР!$C$21,$I$11,$I$11-SUMIF($A$12:$A$371,\"<=\"&$E$3,$H$12:$H$371)),0,0)),\"\")","v":""},{"$f":"IFERROR((-IPMT((C70-'КАЛЬКУЛЯТОР 1'!$P$1)/12,B70,IF(C70=КАЛЬКУЛЯТОР!$C$21,$E$2,$E$2-$E$3),IF(C70=КАЛЬКУЛЯТОР!$C$21,$I$11,$I$11-SUMIF($A$12:$A$371,\"<=\"&$E$3,$H$12:$H$371)),0,0)),\"\")","v":""},{"$f":"IFERROR((-PPMT(C70/12,B70,IF(C70=КАЛЬКУЛЯТОР!$C$21,$E$2,$E$2-$E$3),IF(C70=КАЛЬКУЛЯТОР!$C$21,$I$11,$I$11-SUMIF($A$12:$A$371,\"<=\"&$E$3,$H$12:$H$371)),0,0)),\"\")","v":""},"",{"$error":"#VALUE!"},null,{"$error":"#VALUE!"},{"$error":"#VALUE!"},{"$error":"#VALUE!"},{"$error":"#VALUE!"},false]
[60,60,{"$f":"IF(A71<=$E$3,КАЛЬКУЛЯТОР!$C$21,IF(AND(A71>$E$3,A71<=$E$2),$E$4,\"\"))","v":""},{"$f":"IF(A71<=$E$2,-PMT(C71/12,IF(C71=КАЛЬКУЛЯТОР!$C$21,$E$2,$E$2-$E$3),IF(C71=КАЛЬКУЛЯТОР!$C$21,$I$11,$I$11-SUMIF($A$12:$A$371,\"<=\"&$E$3,$H$12:$H$371)),0,0),\"\")","v":{"$error":"#VALUE!"}},null,{"$f":"IFERROR((-IPMT(C71/12,B71,IF(C71=КАЛЬКУЛЯТОР!$C$21,$E$2,$E$2-$E$3),IF(C71=КАЛЬКУЛЯТОР!$C$21,$I$11,$I$11-SUMIF($A$12:$A$371,\"<=\"&$E$3,$H$12:$H$371)),0,0)),\"\")","v":""},{"$f":"IFERROR((-IPMT((C71-'КАЛЬКУЛЯТОР 1'!$P$1)/12,B71,IF(C71=КАЛЬКУЛЯТОР!$C$21,$E$2,$E$2-$E$3),IF(C71=КАЛЬКУЛЯТОР!$C$21,$I$11,$I$11-SUMIF($A$12:$A$371,\"<=\"&$E$3,$H$12:$H$371)),0,0)),\"\")","v":""},{"$f":"IFERROR((-PPMT(C71/12,B71,IF(C71=КАЛЬКУЛЯТОР!$C$21,$E$2,$E$2-$E$3),IF(C71=КАЛЬКУЛЯТОР!$C$21,$I$11,$I$11-SUMIF($A$12:$A$371,\"<=\"&$E$3,$H$12:$H$371)),0,0)),\"\")","v":""},"",{"$error":"#VALUE!"},null,{"$error":"#VALUE!"},{"$error":"#VALUE!"},{"$error":"#VALUE!"},{"$error":"#VALUE!"},false]
[61,61,{"$f":"IF(A72<=$E$3,КАЛЬКУЛЯТОР!$C$21,IF(AND(A72>$E$3,A72<=$E$2),$E$4,\"\"))","v":""},{"$f":"IF(A72<=$E$2,-PMT(C72/12,IF(C72=КАЛЬКУЛЯТОР!$C$21,$E$2,$E$2-$E$3),IF(C72=КАЛЬКУЛЯТОР!$C$21,$I$11,$I$11-SUMIF($A$12:$A$371,\"<=\"&$E$3,$H$12:$H$371)),0,0),\"\")","v":{"$error":"#VALUE!"}},{"$f":"IF($E$2>$A71,(I71+SUM(F72:F83))*($K$4+$K$5),0)","v":{"$error":"#VALUE!"}},{"$f":"IFERROR((-IPMT(C72/12,B72,IF(C72=КАЛЬКУЛЯТОР!$C$21,$E$2,$E$2-$E$3),IF(C72=КАЛЬКУЛЯТОР!$C$21,$I$11,$I$11-SUMIF($A$12:$A$371,\"<=\"&$E$3,$H$12:$H$371)),0,0)),\"\")","v":""},{"$f":"IFERROR((-IPMT((C72-'КАЛЬКУЛЯТОР 1'!$P$1)/12,B72,IF(C72=КАЛЬКУЛЯТОР!$C$21,$E$2,$E$2-$E$3),IF(C72=КАЛЬКУЛЯТОР!$C$21,$I$11,$I$11-SUMIF($A$12:$A$371,\"<=\"&$E$3,$H$12:$H$371)),0,0)),\"\")","v":""},{"$f":"IFERROR((-PPMT(C72/12,B72,IF(C72=КАЛЬКУЛЯТОР!$C$21,$E$2,$E$2-$E$3),IF(C72=КАЛЬКУЛЯТОР!$C$21,$I$11,$I$11-SUMIF($A$12:$A$371,\"<=\"&$E$3,$H$12:$H$371)),0,0)),\"\")","v":""},"",{"$error":"#VALUE!"},{"$f":"PV($E$5/12,A72-1,0,-E72)","v":{"$error":"#VALUE!"}},{"$error":"#VALUE!"},{"$error":"#VALUE!"},{"$error":"#VALUE!"},{"$error":"#VALUE!"},false]
[62,62,{"$f":"IF(A73<=$E$3,КАЛЬКУЛЯТОР!$C$21,IF(AND(A73>$E$3,A73<=$E$2),$E$4,\"\"))","v":""},{"$f":"IF(A73<=$E$2,-PMT(C73/12,IF(C73=КАЛЬКУЛЯТОР!$C$21,$E$2,$E$2-$E$3),IF(C73=КАЛЬКУЛЯТОР!$C$21,$I$11,$I$11-SUMIF($A$12:$A$371,\"<=\"&$E$3,$H$12:$H$371)),0,0),\"\")","v":{"$error":"#VALUE!"}},null,{"$f":"IFERROR((-IPMT(C73/12,B73,IF(C73=КАЛЬКУЛЯТОР!$C$21,$E$2,$E$2-$E$3),IF(C73=КАЛЬКУЛЯТОР!$C$21,$I$11,$I$11-SUMIF($A$12:$A$371,\"<=\"&$E$3,$H$12:$H$371)),0,0)),\"\")","v":""},{"$f":"IFERROR((-IPMT((C73-'КАЛЬКУЛЯТОР 1'!$P$1)/12,B73,IF(C73=КАЛЬКУЛЯТОР!$C$21,$E$2,$E$2-$E$3),IF(C73=КАЛЬКУЛЯТОР!$C$21,$I$11,$I$11-SUMIF($A$12:$A$371,\"<=\"&$E$3,$H$12:$H$371)),0,0)),\"\")","v":""},{"$f":"IFERROR((-PPMT(C73/12,B73,IF(C73=КАЛЬКУЛЯТОР!$C$21,$E$2,$E$2-$E$3),IF(C73=КАЛЬКУЛЯТОР!$C$21,$I$11,$I$11-SUMIF($A$12:$A$371,\"<=\"&$E$3,$H$12:$H$371)),0,0)),\"\")","v":""},"",{"$error":"#VALUE!"},null,{"$error":"#VALUE!"},{"$error":"#VALUE!"},{"$error":"#VALUE!"},{"$error":"#VALUE!"},false]
[63,63,{"$f":"IF(A74<=$E$3,КАЛЬКУЛЯТОР!$C$21,IF(AND(A74>$E$3,A74<=$E$2),$E$4,\"\"))","v":""},{"$f":"IF(A74<=$E$2,-PMT(C74/12,IF(C74=КАЛЬКУЛЯТОР!$C$21,$E$2,$E$2-$E$3),IF(C74=КАЛЬКУЛЯТОР!$C$21,$I$11,$I$11-SUMIF($A$12:$A$371,\"<=\"&$E$3,$H$12:$H$371)),0,0),\"\")","v":{"$error":"#VALUE!"}},null,{"$f":"IFERROR((-IPMT(C74/12,B74,IF(C74=КАЛЬКУЛЯТОР!$C$21,$E$2,$E$2-$E$3),IF(C74=КАЛЬКУЛЯТОР!$C$21,$I$11,$I$11-SUMIF($A$12:$A$371,\"<=\"&$E$3,$H$12:$H$371)),0,0)),\"\")","v":""},{"$f":"IFERROR((-IPMT((C74-'КАЛЬКУЛЯТОР 1'!$P$1)/12,B74,IF(C74=КАЛЬКУЛЯТОР!$C$21,$E$2,$E$2-$E$3),IF(C74=КАЛЬКУЛЯТОР!$C$21,$I$11,$I$11-SUMIF($A$12:$A$371,\"<=\"&$E$3,$H$12:$H$371)),0,0)),\"\")","v":""},{"$f":"IFERROR((-PPMT(C74/12,B74,IF(C74=КАЛЬКУЛЯТОР!$C$21,$E$2,$E$2-$E$3),IF(C74=КАЛЬКУЛЯТОР!$C$21,$I$11,$I$11-SUMIF($A$12:$A$371,\"<=\"&$E$3,$H$12:$H$371)),0,0)),\"\")","v":""},"",{"$error":"#VALUE!"},null,{"$error":"#VALUE!"},{"$error":"#VALUE!"},{"$error":"#VALUE!"},{"$error":"#VALUE!"},false]
[64,64,{"$f":"IF(A75<=$E$3,КАЛЬКУЛЯТОР!$C$21,IF(AND(A75>$E$3,A75<=$E$2),$E$4,\"\"))","v":""},{"$f":"IF(A75<=$E$2,-PMT(C75/12,IF(C75=КАЛЬКУЛЯТОР!$C$21,$E$2,$E$2-$E$3),IF(C75=КАЛЬКУЛЯТОР!$C$21,$I$11,$I$11-SUMIF($A$12:$A$371,\"<=\"&$E$3,$H$12:$H$371)),0,0),\"\")","v":{"$error":"#VALUE!"}},null,{"$f":"IFERROR((-IPMT(C75/12,B75,IF(C75=КАЛЬКУЛЯТОР!$C$21,$E$2,$E$2-$E$3),IF(C75=КАЛЬКУЛЯТОР!$C$21,$I$11,$I$11-SUMIF($A$12:$A$371,\"<=\"&$E$3,$H$12:$H$371)),0,0)),\"\")","v":""},{"$f":"IFERROR((-IPMT((C75-'КАЛЬКУЛЯТОР 1'!$P$1)/12,B75,IF(C75=КАЛЬКУЛЯТОР!$C$21,$E$2,$E$2-$E$3),IF(C75=КАЛЬКУЛЯТОР!$C$21,$I$11,$I$11-SUMIF($A$12:$A$371,\"<=\"&$E$3,$H$12:$H$371)),0,0)),\"\")","v":""},{"$f":"IFERROR((-PPMT(C75/12,B75,IF(C75=КАЛЬКУЛЯТОР!$C$21,$E$2,$E$2-$E$3),IF(C75=КАЛЬКУЛЯТОР!$C$21,$I$11,$I$11-SUMIF($A$12:$A$371,\"<=\"&$E$3,$H$12:$H$371)),0,0)),\"\")","v":""},"",{"$error":"#VALUE!"},null,{"$error":"#VALUE!"},{"$error":"#VALUE!"},{"$error":"#VALUE!"},{"$error":"#VALUE!"},false]
[65,65,{"$f":"IF(A76<=$E$3,КАЛЬКУЛЯТОР!$C$21,IF(AND(A76>$E$3,A76<=$E$2),$E$4,\"\"))","v":""},{"$f":"IF(A76<=$E$2,-PMT(C76/12,IF(C76=КАЛЬКУЛЯТОР!$C$21,$E$2,$E$2-$E$3),IF(C76=КАЛЬКУЛЯТОР!$C$21,$I$11,$I$11-SUMIF($A$12:$A$371,\"<=\"&$E$3,$H$12:$H$371)),0,0),\"\")","v":{"$error":"#VALUE!"}},null,{"$f":"IFERROR((-IPMT(C76/12,B76,IF(C76=КАЛЬКУЛЯТОР!$C$21,$E$2,$E$2-$E$3),IF(C76=КАЛЬКУЛЯТОР!$C$21,$I$11,$I$11-SUMIF($A$12:$A$371,\"<=\"&$E$3,$H$12:$H$371)),0,0)),\"\")","v":""},{"$f":"IFERROR((-IPMT((C76-'КАЛЬКУЛЯТОР 1'!$P$1)/12,B76,IF(C76=КАЛЬКУЛЯТОР!$C$21,$E$2,$E$2-$E$3),IF(C76=КАЛЬКУЛЯТОР!$C$21,$I$11,$I$11-SUMIF($A$12:$A$371,\"<=\"&$E$3,$H$12:$H$371)),0,0)),\"\")","v":""},{"$f":"IFERROR((-PPMT(C76/12,B76,IF(C76=КАЛЬКУЛЯТОР!$C$21,$E$2,$E$2-$E$3),IF(C76=КАЛЬКУЛЯТОР!$C$21,$I$11,$I$11-SUMIF($A$12:$A$371,\"<=\"&$E$3,$H$12:$H$371)),0,0)),\"\")","v":""},{"$f":"IFERROR(I75-H76,\"\")","v":""},{"$f":"PV($E$5/12,A76-1,0,-D76)","v":{"$error":"#VALUE!"}},null,{"$f":"PV($E$5/12,A76-1,0,-F76)","v":{"$error":"#VALUE!"}},{"$f":"PV($E$5/12,A76-1,0,-G76)","v":{"$error":"#VALUE!"}},{"$f":"PV($E$5/12,A76-1,0,-H76)","v":{"$error":"#VALUE!"}},{"$f":"O75-N76","v":{"$error":"#VALUE!"}},{"$f":"AND(A76<=$E$3)","v":false}]
[66,{"$f":"ROUND(IF(P77=$P$12,B76+1,A77-$E$3),0)","v":66},{"$f":"IF(A77<=$E$3,КАЛЬКУЛЯТОР!$C$21,IF(AND(A77>$E$3,A77<=$E$2),$E$4,\"\"))","v":""},{"$f":"IF(A77<=$E$2,-PMT(C77/12,IF(C77=КАЛЬКУЛЯТОР!$C$21,$E$2,$E$2-$E$3),IF(C77=КАЛЬКУЛЯТОР!$C$21,$I$11,$I$11-SUMIF($A$12:$A$371,\"<=\"&$E$3,$H$12:$H$371)),0,0),\"\")","v":{"$error":"#VALUE!"}},null,{"$f":"IFERROR((-IPMT(C77/12,B77,IF(C77=КАЛЬКУЛЯТОР!$C$21,$E$2,$E$2-$E$3),IF(C77=КАЛЬКУЛЯТОР!$C$21,$I$11,$I$11-SUMIF($A$12:$A$371,\"<=\"&$E$3,$H$12:$H$371)),0,0)),\"\")","v":""},{"$f":"IFERROR((-IPMT((C77-'КАЛЬКУЛЯТОР 1'!$P$1)/12,B77,IF(C77=КАЛЬКУЛЯТОР!$C$21,$E$2,$E$2-$E$3),IF(C77=КАЛЬКУЛЯТОР!$C$21,$I$11,$I$11-SUMIF($A$12:$A$371,\"<=\"&$E$3,$H$12:$H$371)),0,0)),\"\")","v":""},{"$f":"IFERROR((-PPMT(C77/12,B77,IF(C77=КАЛЬКУЛЯТОР!$C$21,$E$2,$E$2-$E$3),IF(C77=КАЛЬКУЛЯТОР!$C$21,$I$11,$I$11-SUMIF($A$12:$A$371,\"<=\"&$E$3,$H$12:$H$371)),0,0)),\"\")","v":""},"",{"$error":"#VALUE!"},null,{"$error":"#VALUE!"},{"$error":"#VALUE!"},{"$error":"#VALUE!"},{"$error":"#VALUE!"},false]
[67,67,{"$f":"IF(A78<=$E$3,КАЛЬКУЛЯТОР!$C$21,IF(AND(A78>$E$3,A78<=$E$2),$E$4,\"\"))","v":""},{"$f":"IF(A78<=$E$2,-PMT(C78/12,IF(C78=КАЛЬКУЛЯТОР!$C$21,$E$2,$E$2-$E$3),IF(C78=КАЛЬКУЛЯТОР!$C$21,$I$11,$I$11-SUMIF($A$12:$A$371,\"<=\"&$E$3,$H$12:$H$371)),0,0),\"\")","v":{"$error":"#VALUE!"}},null,{"$f":"IFERROR((-IPMT(C78/12,B78,IF(C78=КАЛЬКУЛЯТОР!$C$21,$E$2,$E$2-$E$3),IF(C78=КАЛЬКУЛЯТОР!$C$21,$I$11,$I$11-SUMIF($A$12:$A$371,\"<=\"&$E$3,$H$12:$H$371)),0,0)),\"\")","v":""},{"$f":"IFERROR((-IPMT((C78-'КАЛЬКУЛЯТОР 1'!$P$1)/12,B78,IF(C78=КАЛЬКУЛЯТОР!$C$21,$E$2,$E$2-$E$3),IF(C78=КАЛЬКУЛЯТОР!$C$21,$I$11,$I$11-SUMIF($A$12:$A$371,\"<=\"&$E$3,$H$12:$H$371)),0,0)),\"\")","v":""},{"$f":"IFERROR((-PPMT(C78/12,B78,IF(C78=КАЛЬКУЛЯТОР!$C$21,$E$2,$E$2-$E$3),IF(C78=КАЛЬКУЛЯТОР!$C$21,$I$11,$I$11-SUMIF($A$12:$A$371,\"<=\"&$E$3,$H$12:$H$371)),0,0)),\"\")","v":""},"",{"$error":"#VALUE!"},null,{"$error":"#VALUE!"},{"$error":"#VALUE!"},{"$error":"#VALUE!"},{"$error":"#VALUE!"},false]
[68,68,{"$f":"IF(A79<=$E$3,КАЛЬКУЛЯТОР!$C$21,IF(AND(A79>$E$3,A79<=$E$2),$E$4,\"\"))","v":""},{"$f":"IF(A79<=$E$2,-PMT(C79/12,IF(C79=КАЛЬКУЛЯТОР!$C$21,$E$2,$E$2-$E$3),IF(C79=КАЛЬКУЛЯТОР!$C$21,$I$11,$I$11-SUMIF($A$12:$A$371,\"<=\"&$E$3,$H$12:$H$371)),0,0),\"\")","v":{"$error":"#VALUE!"}},null,{"$f":"IFERROR((-IPMT(C79/12,B79,IF(C79=КАЛЬКУЛЯТОР!$C$21,$E$2,$E$2-$E$3),IF(C79=КАЛЬКУЛЯТОР!$C$21,$I$11,$I$11-SUMIF($A$12:$A$371,\"<=\"&$E$3,$H$12:$H$371)),0,0)),\"\")","v":""},{"$f":"IFERROR((-IPMT((C79-'КАЛЬКУЛЯТОР 1'!$P$1)/12,B79,IF(C79=КАЛЬКУЛЯТОР!$C$21,$E$2,$E$2-$E$3),IF(C79=КАЛЬКУЛЯТОР!$C$21,$I$11,$I$11-SUMIF($A$12:$A$371,\"<=\"&$E$3,$H$12:$H$371)),0,0)),\"\")","v":""},{"$f":"IFERROR((-PPMT(C79/12,B79,IF(C79=КАЛЬКУЛЯТОР!$C$21,$E$2,$E$2-$E$3),IF(C79=КАЛЬКУЛЯТОР!$C$21,$I$11,$I$11-SUMIF($A$12:$A$371,\"<=\"&$E$3,$H$12:$H$371)),0,0)),\"\")","v":""},"",{"$error":"#VALUE!"},null,{"$error":"#VALUE!"},{"$error":"#VALUE!"},{"$error":"#VALUE!"},{"$error":"#VALUE!"},false]
[69,69,{"$f":"IF(A80<=$E$3,КАЛЬКУЛЯТОР!$C$21,IF(AND(A80>$E$3,A80<=$E$2),$E$4,\"\"))","v":""},{"$f":"IF(A80<=$E$2,-PMT(C80/12,IF(C80=КАЛЬКУЛЯТОР!$C$21,$E$2,$E$2-$E$3),IF(C80=КАЛЬКУЛЯТОР!$C$21,$I$11,$I$11-SUMIF($A$12:$A$371,\"<=\"&$E$3,$H$12:$H$371)),0,0),\"\")","v":{"$error":"#VALUE!"}},null,{"$f":"IFERROR((-IPMT(C80/12,B80,IF(C80=КАЛЬКУЛЯТОР!$C$21,$E$2,$E$2-$E$3),IF(C80=КАЛЬКУЛЯТОР!$C$21,$I$11,$I$11-SUMIF($A$12:$A$371,\"<=\"&$E$3,$H$12:$H$371)),0,0)),\"\")","v":""},{"$f":"IFERROR((-IPMT((C80-'КАЛЬКУЛЯТОР 1'!$P$1)/12,B80,IF(C80=КАЛЬКУЛЯТОР!$C$21,$E$2,$E$2-$E$3),IF(C80=КАЛЬКУЛЯТОР!$C$21,$I$11,$I$11-SUMIF($A$12:$A$371,\"<=\"&$E$3,$H$12:$H$371)),0,0)),\"\")","v":""},{"$f":"IFERROR((-PPMT(C80/12,B80,IF(C80=КАЛЬКУЛЯТОР!$C$21,$E$2,$E$2-$E$3),IF(C80=КАЛЬКУЛЯТОР!$C$21,$I$11,$I$11-SUMIF($A$12:$A$371,\"<=\"&$E$3,$H$12:$H$371)),0,0)),\"\")","v":""},"",{"$error":"#VALUE!"},null,{"$error":"#VALUE!"},{"$error":"#VALUE!"},{"$error":"#VALUE!"},{"$error":"#VALUE!"},false]
[70,70,{"$f":"IF(A81<=$E$3,КАЛЬКУЛЯТОР!$C$21,IF(AND(A81>$E$3,A81<=$E$2),$E$4,\"\"))","v":""},{"$f":"IF(A81<=$E$2,-PMT(C81/12,IF(C81=КАЛЬКУЛЯТОР!$C$21,$E$2,$E$2-$E$3),IF(C81=КАЛЬКУЛЯТОР!$C$21,$I$11,$I$11-SUMIF($A$12:$A$371,\"<=\"&$E$3,$H$12:$H$371)),0,0),\"\")","v":{"$error":"#VALUE!"}},null,{"$f":"IFERROR((-IPMT(C81/12,B81,IF(C81=КАЛЬКУЛЯТОР!$C$21,$E$2,$E$2-$E$3),IF(C81=КАЛЬКУЛЯТОР!$C$21,$I$11,$I$11-SUMIF($A$12:$A$371,\"<=\"&$E$3,$H$12:$H$371)),0,0)),\"\")","v":""},{"$f":"IFERROR((-IPMT((C81-'КАЛЬКУЛЯТОР 1'!$P$1)/12,B81,IF(C81=КАЛЬКУЛЯТОР!$C$21,$E$2,$E$2-$E$3),IF(C81=КАЛЬКУЛЯТОР!$C$21,$I$11,$I$11-SUMIF($A$12:$A$371,\"<=\"&$E$3,$H$12:$H$371)),0,0)),\"\")","v":""},{"$f":"IFERROR((-PPMT(C81/12,B81,IF(C81=КАЛЬКУЛЯТОР!$C$21,$E$2,$E$2-$E$3),IF(C81=КАЛЬКУЛЯТОР!$C$21,$I$11,$I$11-SUMIF($A$12:$A$371,\"<=\"&$E$3,$H$12:$H$371)),0,0)),\"\")","v":""},"",{"$error":"#VALUE!"},null,{"$error":"#VALUE!"},{"$error":"#VALUE!"},{"$error":"#VALUE!"},{"$error":"#VALUE!"},false]
[71,71,{"$f":"IF(A82<=$E$3,КАЛЬКУЛЯТОР!$C$21,IF(AND(A82>$E$3,A82<=$E$2),$E$4,\"\"))","v":""},{"$f":"IF(A82<=$E$2,-PMT(C82/12,IF(C82=КАЛЬКУЛЯТОР!$C$21,$E$2,$E$2-$E$3),IF(C82=КАЛЬКУЛЯТОР!$C$21,$I$11,$I$11-SUMIF($A$12:$A$371,\"<=\"&$E$3,$H$12:$H$371)),0,0),\"\")","v":{"$error":"#VALUE!"}},null,{"$f":"IFERROR((-IPMT(C82/12,B82,IF(C82=КАЛЬКУЛЯТОР!$C$21,$E$2,$E$2-$E$3),IF(C82=КАЛЬКУЛЯТОР!$C$21,$I$11,$I$11-SUMIF($A$12:$A$371,\"<=\"&$E$3,$H$12:$H$371)),0,0)),\"\")","v":""},{"$f":"IFERROR((-IPMT((C82-'КАЛЬКУЛЯТОР 1'!$P$1)/12,B82,IF(C82=КАЛЬКУЛЯТОР!$C$21,$E$2,$E$2-$E$3),IF(C82=КАЛЬКУЛЯТОР!$C$21,$I$11,$I$11-SUMIF($A$12:$A$371,\"<=\"&$E$3,$H$12:$H$371)),0,0)),\"\")","v":""},{"$f":"IFERROR((-PPMT(C82/12,B82,IF(C82=КАЛЬКУЛЯТОР!$C$21,$E$2,$E$2-$E$3),IF(C82=КАЛЬКУЛЯТОР!$C$21,$I$11,$I$11-SUMIF($A$12:$A$371,\"<=\"&$E$3,$H$12:$H$371)),0,0)),\"\")","v":""},"",{"$error":"#VALUE!"},null,{"$error":"#VALUE!"},{"$error":"#VALUE!"},{"$error":"#VALUE!"},{"$error":"#VALUE!"},false]
[72,72,{"$f":"IF(A83<=$E$3,КАЛЬКУЛЯТОР!$C$21,IF(AND(A83>$E$3,A83<=$E$2),$E$4,\"\"))","v":""},{"$f":"IF(A83<=$E$2,-PMT(C83/12,IF(C83=КАЛЬКУЛЯТОР!$C$21,$E$2,$E$2-$E$3),IF(C83=КАЛЬКУЛЯТОР!$C$21,$I$11,$I$11-SUMIF($A$12:$A$371,\"<=\"&$E$3,$H$12:$H$371)),0,0),\"\")","v":{"$error":"#VALUE!"}},null,{"$f":"IFERROR((-IPMT(C83/12,B83,IF(C83=КАЛЬКУЛЯТОР!$C$21,$E$2,$E$2-$E$3),IF(C83=КАЛЬКУЛЯТОР!$C$21,$I$11,$I$11-SUMIF($A$12:$A$371,\"<=\"&$E$3,$H$12:$H$371)),0,0)),\"\")","v":""},{"$f":"IFERROR((-IPMT((C83-'КАЛЬКУЛЯТОР 1'!$P$1)/12,B83,IF(C83=КАЛЬКУЛЯТОР!$C$21,$E$2,$E$2-$E$3),IF(C83=КАЛЬКУЛЯТОР!$C$21,$I$11,$I$11-SUMIF($A$12:$A$371,\"<=\"&$E$3,$H$12:$H$371)),0,0)),\"\")","v":""},{"$f":"IFERROR((-PPMT(C83/12,B83,IF(C83=КАЛЬКУЛЯТОР!$C$21,$E$2,$E$2-$E$3),IF(C83=КАЛЬКУЛЯТОР!$C$21,$I$11,$I$11-SUMIF($A$12:$A$371,\"<=\"&$E$3,$H$12:$H$371)),0,0)),\"\")","v":""},"",{"$error":"#VALUE!"},null,{"$error":"#VALUE!"},{"$error":"#VALUE!"},{"$error":"#VALUE!"},{"$error":"#VALUE!"},false]
[73,73,{"$f":"IF(A84<=$E$3,КАЛЬКУЛЯТОР!$C$21,IF(AND(A84>$E$3,A84<=$E$2),$E$4,\"\"))","v":""},{"$f":"IF(A84<=$E$2,-PMT(C84/12,IF(C84=КАЛЬКУЛЯТОР!$C$21,$E$2,$E$2-$E$3),IF(C84=КАЛЬКУЛЯТОР!$C$21,$I$11,$I$11-SUMIF($A$12:$A$371,\"<=\"&$E$3,$H$12:$H$371)),0,0),\"\")","v":{"$error":"#VALUE!"}},{"$f":"IF($E$2>$A83,(I83+SUM(F84:F95))*($K$4+$K$5),0)","v":{"$error":"#VALUE!"}},{"$f":"IFERROR((-IPMT(C84/12,B84,IF(C84=КАЛЬКУЛЯТОР!$C$21,$E$2,$E$2-$E$3),IF(C84=КАЛЬКУЛЯТОР!$C$21,$I$11,$I$11-SUMIF($A$12:$A$371,\"<=\"&$E$3,$H$12:$H$371)),0,0)),\"\")","v":""},{"$f":"IFERROR((-IPMT((C84-'КАЛЬКУЛЯТОР 1'!$P$1)/12,B84,IF(C84=КАЛЬКУЛЯТОР!$C$21,$E$2,$E$2-$E$3),IF(C84=КАЛЬКУЛЯТОР!$C$21,$I$11,$I$11-SUMIF($A$12:$A$371,\"<=\"&$E$3,$H$12:$H$371)),0,0)),\"\")","v":""},{"$f":"IFERROR((-PPMT(C84/12,B84,IF(C84=КАЛЬКУЛЯТОР!$C$21,$E$2,$E$2-$E$3),IF(C84=КАЛЬКУЛЯТОР!$C$21,$I$11,$I$11-SUMIF($A$12:$A$371,\"<=\"&$E$3,$H$12:$H$371)),0,0)),\"\")","v":""},"",{"$error":"#VALUE!"},{"$f":"PV($E$5/12,A84-1,0,-E84)","v":{"$error":"#VALUE!"}},{"$error":"#VALUE!"},{"$error":"#VALUE!"},{"$error":"#VALUE!"},{"$error":"#VALUE!"},false]
[74,74,{"$f":"IF(A85<=$E$3,КАЛЬКУЛЯТОР!$C$21,IF(AND(A85>$E$3,A85<=$E$2),$E$4,\"\"))","v":""},{"$f":"IF(A85<=$E$2,-PMT(C85/12,IF(C85=КАЛЬКУЛЯТОР!$C$21,$E$2,$E$2-$E$3),IF(C85=КАЛЬКУЛЯТОР!$C$21,$I$11,$I$11-SUMIF($A$12:$A$371,\"<=\"&$E$3,$H$12:$H$371)),0,0),\"\")","v":{"$error":"#VALUE!"}},null,{"$f":"IFERROR((-IPMT(C85/12,B85,IF(C85=КАЛЬКУЛЯТОР!$C$21,$E$2,$E$2-$E$3),IF(C85=КАЛЬКУЛЯТОР!$C$21,$I$11,$I$11-SUMIF($A$12:$A$371,\"<=\"&$E$3,$H$12:$H$371)),0,0)),\"\")","v":""},{"$f":"IFERROR((-IPMT((C85-'КАЛЬКУЛЯТОР 1'!$P$1)/12,B85,IF(C85=КАЛЬКУЛЯТОР!$C$21,$E$2,$E$2-$E$3),IF(C85=КАЛЬКУЛЯТОР!$C$21,$I$11,$I$11-SUMIF($A$12:$A$371,\"<=\"&$E$3,$H$12:$H$371)),0,0)),\"\")","v":""},{"$f":"IFERROR((-PPMT(C85/12,B85,IF(C85=КАЛЬКУЛЯТОР!$C$21,$E$2,$E$2-$E$3),IF(C85=КАЛЬКУЛЯТОР!$C$21,$I$11,$I$11-SUMIF($A$12:$A$371,\"<=\"&$E$3,$H$12:$H$371)),0,0)),\"\")","v":""},"",{"$error":"#VALUE!"},null,{"$error":"#VALUE!"},{"$error":"#VALUE!"},{"$error":"#VALUE!"},{"$error":"#VALUE!"},false]
[75,75,{"$f":"IF(A86<=$E$3,КАЛЬКУЛЯТОР!$C$21,IF(AND(A86>$E$3,A86<=$E$2),$E$4,\"\"))","v":""},{"$f":"IF(A86<=$E$2,-PMT(C86/12,IF(C86=КАЛЬКУЛЯТОР!$C$21,$E$2,$E$2-$E$3),IF(C86=КАЛЬКУЛЯТОР!$C$21,$I$11,$I$11-SUMIF($A$12:$A$371,\"<=\"&$E$3,$H$12:$H$371)),0,0),\"\")","v":{"$error":"#VALUE!"}},null,{"$f":"IFERROR((-IPMT(C86/12,B86,IF(C86=КАЛЬКУЛЯТОР!$C$21,$E$2,$E$2-$E$3),IF(C86=КАЛЬКУЛЯТОР!$C$21,$I$11,$I$11-SUMIF($A$12:$A$371,\"<=\"&$E$3,$H$12:$H$371)),0,0)),\"\")","v":""},{"$f":"IFERROR((-IPMT((C86-'КАЛЬКУЛЯТОР 1'!$P$1)/12,B86,IF(C86=КАЛЬКУЛЯТОР!$C$21,$E$2,$E$2-$E$3),IF(C86=КАЛЬКУЛЯТОР!$C$21,$I$11,$I$11-SUMIF($A$12:$A$371,\"<=\"&$E$3,$H$12:$H$371)),0,0)),\"\")","v":""},{"$f":"IFERROR((-PPMT(C86/12,B86,IF(C86=КАЛЬКУЛЯТОР!$C$21,$E$2,$E$2-$E$3),IF(C86=КАЛЬКУЛЯТОР!$C$21,$I$11,$I$11-SUMIF($A$12:$A$371,\"<=\"&$E$3,$H$12:$H$371)),0,0)),\"\")","v":""},"",{"$error":"#VALUE!"},null,{"$error":"#VALUE!"},{"$error":"#VALUE!"},{"$error":"#VALUE!"},{"$error":"#VALUE!"},false]
[76,76,{"$f":"IF(A87<=$E$3,КАЛЬКУЛЯТОР!$C$21,IF(AND(A87>$E$3,A87<=$E$2),$E$4,\"\"))","v":""},{"$f":"IF(A87<=$E$2,-PMT(C87/12,IF(C87=КАЛЬКУЛЯТОР!$C$21,$E$2,$E$2-$E$3),IF(C87=КАЛЬКУЛЯТОР!$C$21,$I$11,$I$11-SUMIF($A$12:$A$371,\"<=\"&$E$3,$H$12:$H$371)),0,0),\"\")","v":{"$error":"#VALUE!"}},null,{"$f":"IFERROR((-IPMT(C87/12,B87,IF(C87=КАЛЬКУЛЯТОР!$C$21,$E$2,$E$2-$E$3),IF(C87=КАЛЬКУЛЯТОР!$C$21,$I$11,$I$11-SUMIF($A$12:$A$371,\"<=\"&$E$3,$H$12:$H$371)),0,0)),\"\")","v":""},{"$f":"IFERROR((-IPMT((C87-'КАЛЬКУЛЯТОР 1'!$P$1)/12,B87,IF(C87=КАЛЬКУЛЯТОР!$C$21,$E$2,$E$2-$E$3),IF(C87=КАЛЬКУЛЯТОР!$C$21,$I$11,$I$11-SUMIF($A$12:$A$371,\"<=\"&$E$3,$H$12:$H$371)),0,0)),\"\")","v":""},{"$f":"IFERROR((-PPMT(C87/12,B87,IF(C87=КАЛЬКУЛЯТОР!$C$21,$E$2,$E$2-$E$3),IF(C87=КАЛЬКУЛЯТОР!$C$21,$I$11,$I$11-SUMIF($A$12:$A$371,\"<=\"&$E$3,$H$12:$H$371)),0,0)),\"\")","v":""},"",{"$error":"#VALUE!"},null,{"$error":"#VALUE!"},{"$error":"#VALUE!"},{"$error":"#VALUE!"},{"$error":"#VALUE!"},false]
[77,77,{"$f":"IF(A88<=$E$3,КАЛЬКУЛЯТОР!$C$21,IF(AND(A88>$E$3,A88<=$E$2),$E$4,\"\"))","v":""},{"$f":"IF(A88<=$E$2,-PMT(C88/12,IF(C88=КАЛЬКУЛЯТОР!$C$21,$E$2,$E$2-$E$3),IF(C88=КАЛЬКУЛЯТОР!$C$21,$I$11,$I$11-SUMIF($A$12:$A$371,\"<=\"&$E$3,$H$12:$H$371)),0,0),\"\")","v":{"$error":"#VALUE!"}},null,{"$f":"IFERROR((-IPMT(C88/12,B88,IF(C88=КАЛЬКУЛЯТОР!$C$21,$E$2,$E$2-$E$3),IF(C88=КАЛЬКУЛЯТОР!$C$21,$I$11,$I$11-SUMIF($A$12:$A$371,\"<=\"&$E$3,$H$12:$H$371)),0,0)),\"\")","v":""},{"$f":"IFERROR((-IPMT((C88-'КАЛЬКУЛЯТОР 1'!$P$1)/12,B88,IF(C88=КАЛЬКУЛЯТОР!$C$21,$E$2,$E$2-$E$3),IF(C88=КАЛЬКУЛЯТОР!$C$21,$I$11,$I$11-SUMIF($A$12:$A$371,\"<=\"&$E$3,$H$12:$H$371)),0,0)),\"\")","v":""},{"$f":"IFERROR((-PPMT(C88/12,B88,IF(C88=КАЛЬКУЛЯТОР!$C$21,$E$2,$E$2-$E$3),IF(C88=КАЛЬКУЛЯТОР!$C$21,$I$11,$I$11-SUMIF($A$12:$A$371,\"<=\"&$E$3,$H$12:$H$371)),0,0)),\"\")","v":""},"",{"$error":"#VALUE!"},null,{"$error":"#VALUE!"},{"$error":"#VALUE!"},{"$error":"#VALUE!"},{"$error":"#VALUE!"},false]
[78,78,{"$f":"IF(A89<=$E$3,КАЛЬКУЛЯТОР!$C$21,IF(AND(A89>$E$3,A89<=$E$2),$E$4,\"\"))","v":""},{"$f":"IF(A89<=$E$2,-PMT(C89/12,IF(C89=КАЛЬКУЛЯТОР!$C$21,$E$2,$E$2-$E$3),IF(C89=КАЛЬКУЛЯТОР!$C$21,$I$11,$I$11-SUMIF($A$12:$A$371,\"<=\"&$E$3,$H$12:$H$371)),0,0),\"\")","v":{"$error":"#VALUE!"}},null,{"$f":"IFERROR((-IPMT(C89/12,B89,IF(C89=КАЛЬКУЛЯТОР!$C$21,$E$2,$E$2-$E$3),IF(C89=КАЛЬКУЛЯТОР!$C$21,$I$11,$I$11-SUMIF($A$12:$A$371,\"<=\"&$E$3,$H$12:$H$371)),0,0)),\"\")","v":""},{"$f":"IFERROR((-IPMT((C89-'КАЛЬКУЛЯТОР 1'!$P$1)/12,B89,IF(C89=КАЛЬКУЛЯТОР!$C$21,$E$2,$E$2-$E$3),IF(C89=КАЛЬКУЛЯТОР!$C$21,$I$11,$I$11-SUMIF($A$12:$A$371,\"<=\"&$E$3,$H$12:$H$371)),0,0)),\"\")","v":""},{"$f":"IFERROR((-PPMT(C89/12,B89,IF(C89=КАЛЬКУЛЯТОР!$C$21,$E$2,$E$2-$E$3),IF(C89=КАЛЬКУЛЯТОР!$C$21,$I$11,$I$11-SUMIF($A$12:$A$371,\"<=\"&$E$3,$H$12:$H$371)),0,0)),\"\")","v":""},"",{"$error":"#VALUE!"},null,{"$error":"#VALUE!"},{"$error":"#VALUE!"},{"$error":"#VALUE!"},{"$error":"#VALUE!"},false]
[79,79,{"$f":"IF(A90<=$E$3,КАЛЬКУЛЯТОР!$C$21,IF(AND(A90>$E$3,A90<=$E$2),$E$4,\"\"))","v":""},{"$f":"IF(A90<=$E$2,-PMT(C90/12,IF(C90=КАЛЬКУЛЯТОР!$C$21,$E$2,$E$2-$E$3),IF(C90=КАЛЬКУЛЯТОР!$C$21,$I$11,$I$11-SUMIF($A$12:$A$371,\"<=\"&$E$3,$H$12:$H$371)),0,0),\"\")","v":{"$error":"#VALUE!"}},null,{"$f":"IFERROR((-IPMT(C90/12,B90,IF(C90=КАЛЬКУЛЯТОР!$C$21,$E$2,$E$2-$E$3),IF(C90=КАЛЬКУЛЯТОР!$C$21,$I$11,$I$11-SUMIF($A$12:$A$371,\"<=\"&$E$3,$H$12:$H$371)),0,0)),\"\")","v":""},{"$f":"IFERROR((-IPMT((C90-'КАЛЬКУЛЯТОР 1'!$P$1)/12,B90,IF(C90=КАЛЬКУЛЯТОР!$C$21,$E$2,$E$2-$E$3),IF(C90=КАЛЬКУЛЯТОР!$C$21,$I$11,$I$11-SUMIF($A$12:$A$371,\"<=\"&$E$3,$H$12:$H$371)),0,0)),\"\")","v":""},{"$f":"IFERROR((-PPMT(C90/12,B90,IF(C90=КАЛЬКУЛЯТОР!$C$21,$E$2,$E$2-$E$3),IF(C90=КАЛЬКУЛЯТОР!$C$21,$I$11,$I$11-SUMIF($A$12:$A$371,\"<=\"&$E$3,$H$12:$H$371)),0,0)),\"\")","v":""},"",{"$error":"#VALUE!"},null,{"$error":"#VALUE!"},{"$error":"#VALUE!"},{"$error":"#VALUE!"},{"$error":"#VALUE!"},false]
[80,80,{"$f":"IF(A91<=$E$3,КАЛЬКУЛЯТОР!$C$21,IF(AND(A91>$E$3,A91<=$E$2),$E$4,\"\"))","v":""},{"$f":"IF(A91<=$E$2,-PMT(C91/12,IF(C91=КАЛЬКУЛЯТОР!$C$21,$E$2,$E$2-$E$3),IF(C91=КАЛЬКУЛЯТОР!$C$21,$I$11,$I$11-SUMIF($A$12:$A$371,\"<=\"&$E$3,$H$12:$H$371)),0,0),\"\")","v":{"$error":"#VALUE!"}},null,{"$f":"IFERROR((-IPMT(C91/12,B91,IF(C91=КАЛЬКУЛЯТОР!$C$21,$E$2,$E$2-$E$3),IF(C91=КАЛЬКУЛЯТОР!$C$21,$I$11,$I$11-SUMIF($A$12:$A$371,\"<=\"&$E$3,$H$12:$H$371)),0,0)),\"\")","v":""},{"$f":"IFERROR((-IPMT((C91-'КАЛЬКУЛЯТОР 1'!$P$1)/12,B91,IF(C91=КАЛЬКУЛЯТОР!$C$21,$E$2,$E$2-$E$3),IF(C91=КАЛЬКУЛЯТОР!$C$21,$I$11,$I$11-SUMIF($A$12:$A$371,\"<=\"&$E$3,$H$12:$H$371)),0,0)),\"\")","v":""},{"$f":"IFERROR((-PPMT(C91/12,B91,IF(C91=КАЛЬКУЛЯТОР!$C$21,$E$2,$E$2-$E$3),IF(C91=КАЛЬКУЛЯТОР!$C$21,$I$11,$I$11-SUMIF($A$12:$A$371,\"<=\"&$E$3,$H$12:$H$371)),0,0)),\"\")","v":""},"",{"$error":"#VALUE!"},null,{"$error":"#VALUE!"},{"$error":"#VALUE!"},{"$error":"#VALUE!"},{"$error":"#VALUE!"},false]
[81,81,{"$f":"IF(A92<=$E$3,КАЛЬКУЛЯТОР!$C$21,IF(AND(A92>$E$3,A92<=$E$2),$E$4,\"\"))","v":""},{"$f":"IF(A92<=$E$2,-PMT(C92/12,IF(C92=КАЛЬКУЛЯТОР!$C$21,$E$2,$E$2-$E$3),IF(C92=КАЛЬКУЛЯТОР!$C$21,$I$11,$I$11-SUMIF($A$12:$A$371,\"<=\"&$E$3,$H$12:$H$371)),0,0),\"\")","v":{"$error":"#VALUE!"}},null,{"$f":"IFERROR((-IPMT(C92/12,B92,IF(C92=КАЛЬКУЛЯТОР!$C$21,$E$2,$E$2-$E$3),IF(C92=КАЛЬКУЛЯТОР!$C$21,$I$11,$I$11-SUMIF($A$12:$A$371,\"<=\"&$E$3,$H$12:$H$371)),0,0)),\"\")","v":""},{"$f":"IFERROR((-IPMT((C92-'КАЛЬКУЛЯТОР 1'!$P$1)/12,B92,IF(C92=КАЛЬКУЛЯТОР!$C$21,$E$2,$E$2-$E$3),IF(C92=КАЛЬКУЛЯТОР!$C$21,$I$11,$I$11-SUMIF($A$12:$A$371,\"<=\"&$E$3,$H$12:$H$371)),0,0)),\"\")","v":""},{"$f":"IFERROR((-PPMT(C92/12,B92,IF(C92=КАЛЬКУЛЯТОР!$C$21,$E$2,$E$2-$E$3),IF(C92=КАЛЬКУЛЯТОР!$C$21,$I$11,$I$11-SUMIF($A$12:$A$371,\"<=\"&$E$3,$H$12:$H$371)),0,0)),\"\")","v":""},"",{"$error":"#VALUE!"},null,{"$error":"#VALUE!"},{"$error":"#VALUE!"},{"$error":"#VALUE!"},{"$error":"#VALUE!"},false]
[82,82,{"$f":"IF(A93<=$E$3,КАЛЬКУЛЯТОР!$C$21,IF(AND(A93>$E$3,A93<=$E$2),$E$4,\"\"))","v":""},{"$f":"IF(A93<=$E$2,-PMT(C93/12,IF(C93=КАЛЬКУЛЯТОР!$C$21,$E$2,$E$2-$E$3),IF(C93=КАЛЬКУЛЯТОР!$C$21,$I$11,$I$11-SUMIF($A$12:$A$371,\"<=\"&$E$3,$H$12:$H$371)),0,0),\"\")","v":{"$error":"#VALUE!"}},null,{"$f":"IFERROR((-IPMT(C93/12,B93,IF(C93=КАЛЬКУЛЯТОР!$C$21,$E$2,$E$2-$E$3),IF(C93=КАЛЬКУЛЯТОР!$C$21,$I$11,$I$11-SUMIF($A$12:$A$371,\"<=\"&$E$3,$H$12:$H$371)),0,0)),\"\")","v":""},{"$f":"IFERROR((-IPMT((C93-'КАЛЬКУЛЯТОР 1'!$P$1)/12,B93,IF(C93=КАЛЬКУЛЯТОР!$C$21,$E$2,$E$2-$E$3),IF(C93=КАЛЬКУЛЯТОР!$C$21,$I$11,$I$11-SUMIF($A$12:$A$371,\"<=\"&$E$3,$H$12:$H$371)),0,0)),\"\")","v":""},{"$f":"IFERROR((-PPMT(C93/12,B93,IF(C93=КАЛЬКУЛЯТОР!$C$21,$E$2,$E$2-$E$3),IF(C93=КАЛЬКУЛЯТОР!$C$21,$I$11,$I$11-SUMIF($A$12:$A$371,\"<=\"&$E$3,$H$12:$H$371)),0,0)),\"\")","v":""},"",{"$error":"#VALUE!"},null,{"$error":"#VALUE!"},{"$error":"#VALUE!"},{"$error":"#VALUE!"},{"$error":"#VALUE!"},false]
[83,83,{"$f":"IF(A94<=$E$3,КАЛЬКУЛЯТОР!$C$21,IF(AND(A94>$E$3,A94<=$E$2),$E$4,\"\"))","v":""},{"$f":"IF(A94<=$E$2,-PMT(C94/12,IF(C94=КАЛЬКУЛЯТОР!$C$21,$E$2,$E$2-$E$3),IF(C94=КАЛЬКУЛЯТОР!$C$21,$I$11,$I$11-SUMIF($A$12:$A$371,\"<=\"&$E$3,$H$12:$H$371)),0,0),\"\")","v":{"$error":"#VALUE!"}},null,{"$f":"IFERROR((-IPMT(C94/12,B94,IF(C94=КАЛЬКУЛЯТОР!$C$21,$E$2,$E$2-$E$3),IF(C94=КАЛЬКУЛЯТОР!$C$21,$I$11,$I$11-SUMIF($A$12:$A$371,\"<=\"&$E$3,$H$12:$H$371)),0,0)),\"\")","v":""},{"$f":"IFERROR((-IPMT((C94-'КАЛЬКУЛЯТОР 1'!$P$1)/12,B94,IF(C94=КАЛЬКУЛЯТОР!$C$21,$E$2,$E$2-$E$3),IF(C94=КАЛЬКУЛЯТОР!$C$21,$I$11,$I$11-SUMIF($A$12:$A$371,\"<=\"&$E$3,$H$12:$H$371)),0,0)),\"\")","v":""},{"$f":"IFERROR((-PPMT(C94/12,B94,IF(C94=КАЛЬКУЛЯТОР!$C$21,$E$2,$E$2-$E$3),IF(C94=КАЛЬКУЛЯТОР!$C$21,$I$11,$I$11-SUMIF($A$12:$A$371,\"<=\"&$E$3,$H$12:$H$371)),0,0)),\"\")","v":""},"",{"$error":"#VALUE!"},null,{"$error":"#VALUE!"},{"$error":"#VALUE!"},{"$error":"#VALUE!"},{"$error":"#VALUE!"},false]
[84,84,{"$f":"IF(A95<=$E$3,КАЛЬКУЛЯТОР!$C$21,IF(AND(A95>$E$3,A95<=$E$2),$E$4,\"\"))","v":""},{"$f":"IF(A95<=$E$2,-PMT(C95/12,IF(C95=КАЛЬКУЛЯТОР!$C$21,$E$2,$E$2-$E$3),IF(C95=КАЛЬКУЛЯТОР!$C$21,$I$11,$I$11-SUMIF($A$12:$A$371,\"<=\"&$E$3,$H$12:$H$371)),0,0),\"\")","v":{"$error":"#VALUE!"}},null,{"$f":"IFERROR((-IPMT(C95/12,B95,IF(C95=КАЛЬКУЛЯТОР!$C$21,$E$2,$E$2-$E$3),IF(C95=КАЛЬКУЛЯТОР!$C$21,$I$11,$I$11-SUMIF($A$12:$A$371,\"<=\"&$E$3,$H$12:$H$371)),0,0)),\"\")","v":""},{"$f":"IFERROR((-IPMT((C95-'КАЛЬКУЛЯТОР 1'!$P$1)/12,B95,IF(C95=КАЛЬКУЛЯТОР!$C$21,$E$2,$E$2-$E$3),IF(C95=КАЛЬКУЛЯТОР!$C$21,$I$11,$I$11-SUMIF($A$12:$A$371,\"<=\"&$E$3,$H$12:$H$371)),0,0)),\"\")","v":""},{"$f":"IFERROR((-PPMT(C95/12,B95,IF(C95=КАЛЬКУЛЯТОР!$C$21,$E$2,$E$2-$E$3),IF(C95=КАЛЬКУЛЯТОР!$C$21,$I$11,$I$11-SUMIF($A$12:$A$371,\"<=\"&$E$3,$H$12:$H$371)),0,0)),\"\")","v":""},"",{"$error":"#VALUE!"},null,{"$error":"#VALUE!"},{"$error":"#VALUE!"},{"$error":"#VALUE!"},{"$error":"#VALUE!"},false]
[85,85,{"$f":"IF(A96<=$E$3,КАЛЬКУЛЯТОР!$C$21,IF(AND(A96>$E$3,A96<=$E$2),$E$4,\"\"))","v":""},{"$f":"IF(A96<=$E$2,-PMT(C96/12,IF(C96=КАЛЬКУЛЯТОР!$C$21,$E$2,$E$2-$E$3),IF(C96=КАЛЬКУЛЯТОР!$C$21,$I$11,$I$11-SUMIF($A$12:$A$371,\"<=\"&$E$3,$H$12:$H$371)),0,0),\"\")","v":{"$error":"#VALUE!"}},{"$f":"IF($E$2>$A95,(I95+SUM(F96:F107))*($K$4+$K$5),0)","v":{"$error":"#VALUE!"}},{"$f":"IFERROR((-IPMT(C96/12,B96,IF(C96=КАЛЬКУЛЯТОР!$C$21,$E$2,$E$2-$E$3),IF(C96=КАЛЬКУЛЯТОР!$C$21,$I$11,$I$11-SUMIF($A$12:$A$371,\"<=\"&$E$3,$H$12:$H$371)),0,0)),\"\")","v":""},{"$f":"IFERROR((-IPMT((C96-'КАЛЬКУЛЯТОР 1'!$P$1)/12,B96,IF(C96=КАЛЬКУЛЯТОР!$C$21,$E$2,$E$2-$E$3),IF(C96=КАЛЬКУЛЯТОР!$C$21,$I$11,$I$11-SUMIF($A$12:$A$371,\"<=\"&$E$3,$H$12:$H$371)),0,0)),\"\")","v":""},{"$f":"IFERROR((-PPMT(C96/12,B96,IF(C96=КАЛЬКУЛЯТОР!$C$21,$E$2,$E$2-$E$3),IF(C96=КАЛЬКУЛЯТОР!$C$21,$I$11,$I$11-SUMIF($A$12:$A$371,\"<=\"&$E$3,$H$12:$H$371)),0,0)),\"\")","v":""},"",{"$error":"#VALUE!"},{"$f":"PV($E$5/12,A96-1,0,-E96)","v":{"$error":"#VALUE!"}},{"$error":"#VALUE!"},{"$error":"#VALUE!"},{"$error":"#VALUE!"},{"$error":"#VALUE!"},false]
[86,86,{"$f":"IF(A97<=$E$3,КАЛЬКУЛЯТОР!$C$21,IF(AND(A97>$E$3,A97<=$E$2),$E$4,\"\"))","v":""},{"$f":"IF(A97<=$E$2,-PMT(C97/12,IF(C97=КАЛЬКУЛЯТОР!$C$21,$E$2,$E$2-$E$3),IF(C97=КАЛЬКУЛЯТОР!$C$21,$I$11,$I$11-SUMIF($A$12:$A$371,\"<=\"&$E$3,$H$12:$H$371)),0,0),\"\")","v":{"$error":"#VALUE!"}},null,{"$f":"IFERROR((-IPMT(C97/12,B97,IF(C97=КАЛЬКУЛЯТОР!$C$21,$E$2,$E$2-$E$3),IF(C97=КАЛЬКУЛЯТОР!$C$21,$I$11,$I$11-SUMIF($A$12:$A$371,\"<=\"&$E$3,$H$12:$H$371)),0,0)),\"\")","v":""},{"$f":"IFERROR((-IPMT((C97-'КАЛЬКУЛЯТОР 1'!$P$1)/12,B97,IF(C97=КАЛЬКУЛЯТОР!$C$21,$E$2,$E$2-$E$3),IF(C97=КАЛЬКУЛЯТОР!$C$21,$I$11,$I$11-SUMIF($A$12:$A$371,\"<=\"&$E$3,$H$12:$H$371)),0,0)),\"\")","v":""},{"$f":"IFERROR((-PPMT(C97/12,B97,IF(C97=КАЛЬКУЛЯТОР!$C$21,$E$2,$E$2-$E$3),IF(C97=КАЛЬКУЛЯТОР!$C$21,$I$11,$I$11-SUMIF($A$12:$A$371,\"<=\"&$E$3,$H$12:$H$371)),0,0)),\"\")","v":""},"",{"$error":"#VALUE!"},null,{"$error":"#VALUE!"},{"$error":"#VALUE!"},{"$error":"#VALUE!"},{"$error":"#VALUE!"},false]
[87,87,{"$f":"IF(A98<=$E$3,КАЛЬКУЛЯТОР!$C$21,IF(AND(A98>$E$3,A98<=$E$2),$E$4,\"\"))","v":""},{"$f":"IF(A98<=$E$2,-PMT(C98/12,IF(C98=КАЛЬКУЛЯТОР!$C$21,$E$2,$E$2-$E$3),IF(C98=КАЛЬКУЛЯТОР!$C$21,$I$11,$I$11-SUMIF($A$12:$A$371,\"<=\"&$E$3,$H$12:$H$371)),0,0),\"\")","v":{"$error":"#VALUE!"}},null,{"$f":"IFERROR((-IPMT(C98/12,B98,IF(C98=КАЛЬКУЛЯТОР!$C$21,$E$2,$E$2-$E$3),IF(C98=КАЛЬКУЛЯТОР!$C$21,$I$11,$I$11-SUMIF($A$12:$A$371,\"<=\"&$E$3,$H$12:$H$371)),0,0)),\"\")","v":""},{"$f":"IFERROR((-IPMT((C98-'КАЛЬКУЛЯТОР 1'!$P$1)/12,B98,IF(C98=КАЛЬКУЛЯТОР!$C$21,$E$2,$E$2-$E$3),IF(C98=КАЛЬКУЛЯТОР!$C$21,$I$11,$I$11-SUMIF($A$12:$A$371,\"<=\"&$E$3,$H$12:$H$371)),0,0)),\"\")","v":""},{"$f":"IFERROR((-PPMT(C98/12,B98,IF(C98=КАЛЬКУЛЯТОР!$C$21,$E$2,$E$2-$E$3),IF(C98=КАЛЬКУЛЯТОР!$C$21,$I$11,$I$11-SUMIF($A$12:$A$371,\"<=\"&$E$3,$H$12:$H$371)),0,0)),\"\")","v":""},"",{"$error":"#VALUE!"},null,{"$error":"#VALUE!"},{"$error":"#VALUE!"},{"$error":"#VALUE!"},{"$error":"#VALUE!"},false]
[88,88,{"$f":"IF(A99<=$E$3,КАЛЬКУЛЯТОР!$C$21,IF(AND(A99>$E$3,A99<=$E$2),$E$4,\"\"))","v":""},{"$f":"IF(A99<=$E$2,-PMT(C99/12,IF(C99=КАЛЬКУЛЯТОР!$C$21,$E$2,$E$2-$E$3),IF(C99=КАЛЬКУЛЯТОР!$C$21,$I$11,$I$11-SUMIF($A$12:$A$371,\"<=\"&$E$3,$H$12:$H$371)),0,0),\"\")","v":{"$error":"#VALUE!"}},null,{"$f":"IFERROR((-IPMT(C99/12,B99,IF(C99=КАЛЬКУЛЯТОР!$C$21,$E$2,$E$2-$E$3),IF(C99=КАЛЬКУЛЯТОР!$C$21,$I$11,$I$11-SUMIF($A$12:$A$371,\"<=\"&$E$3,$H$12:$H$371)),0,0)),\"\")","v":""},{"$f":"IFERROR((-IPMT((C99-'КАЛЬКУЛЯТОР 1'!$P$1)/12,B99,IF(C99=КАЛЬКУЛЯТОР!$C$21,$E$2,$E$2-$E$3),IF(C99=КАЛЬКУЛЯТОР!$C$21,$I$11,$I$11-SUMIF($A$12:$A$371,\"<=\"&$E$3,$H$12:$H$371)),0,0)),\"\")","v":""},{"$f":"IFERROR((-PPMT(C99/12,B99,IF(C99=КАЛЬКУЛЯТОР!$C$21,$E$2,$E$2-$E$3),IF(C99=КАЛЬКУЛЯТОР!$C$21,$I$11,$I$11-SUMIF($A$12:$A$371,\"<=\"&$E$3,$H$12:$H$371)),0,0)),\"\")","v":""},"",{"$error":"#VALUE!"},null,{"$error":"#VALUE!"},{"$error":"#VALUE!"},{"$error":"#VALUE!"},{"$error":"#VALUE!"},false]
[89,89,{"$f":"IF(A100<=$E$3,КАЛЬКУЛЯТОР!$C$21,IF(AND(A100>$E$3,A100<=$E$2),$E$4,\"\"))","v":""},{"$f":"IF(A100<=$E$2,-PMT(C100/12,IF(C100=КАЛЬКУЛЯТОР!$C$21,$E$2,$E$2-$E$3),IF(C100=КАЛЬКУЛЯТОР!$C$21,$I$11,$I$11-SUMIF($A$12:$A$371,\"<=\"&$E$3,$H$12:$H$371)),0,0),\"\")","v":{"$error":"#VALUE!"}},null,{"$f":"IFERROR((-IPMT(C100/12,B100,IF(C100=КАЛЬКУЛЯТОР!$C$21,$E$2,$E$2-$E$3),IF(C100=КАЛЬКУЛЯТОР!$C$21,$I$11,$I$11-SUMIF($A$12:$A$371,\"<=\"&$E$3,$H$12:$H$371)),0,0)),\"\")","v":""},{"$f":"IFERROR((-IPMT((C100-'КАЛЬКУЛЯТОР 1'!$P$1)/12,B100,IF(C100=КАЛЬКУЛЯТОР!$C$21,$E$2,$E$2-$E$3),IF(C100=КАЛЬКУЛЯТОР!$C$21,$I$11,$I$11-SUMIF($A$12:$A$371,\"<=\"&$E$3,$H$12:$H$371)),0,0)),\"\")","v":""},{"$f":"IFERROR((-PPMT(C100/12,B100,IF(C100=КАЛЬКУЛЯТОР!$C$21,$E$2,$E$2-$E$3),IF(C100=КАЛЬКУЛЯТОР!$C$21,$I$11,$I$11-SUMIF($A$12:$A$371,\"<=\"&$E$3,$H$12:$H$371)),0,0)),\"\")","v":""},"",{"$error":"#VALUE!"},null,{"$error":"#VALUE!"},{"$error":"#VALUE!"},{"$error":"#VALUE!"},{"$error":"#VALUE!"},false]
[90,90,{"$f":"IF(A101<=$E$3,КАЛЬКУЛЯТОР!$C$21,IF(AND(A101>$E$3,A101<=$E$2),$E$4,\"\"))","v":""},{"$f":"IF(A101<=$E$2,-PMT(C101/12,IF(C101=КАЛЬКУЛЯТОР!$C$21,$E$2,$E$2-$E$3),IF(C101=КАЛЬКУЛЯТОР!$C$21,$I$11,$I$11-SUMIF($A$12:$A$371,\"<=\"&$E$3,$H$12:$H$371)),0,0),\"\")","v":{"$error":"#VALUE!"}},null,{"$f":"IFERROR((-IPMT(C101/12,B101,IF(C101=КАЛЬКУЛЯТОР!$C$21,$E$2,$E$2-$E$3),IF(C101=КАЛЬКУЛЯТОР!$C$21,$I$11,$I$11-SUMIF($A$12:$A$371,\"<=\"&$E$3,$H$12:$H$371)),0,0)),\"\")","v":""},{"$f":"IFERROR((-IPMT((C101-'КАЛЬКУЛЯТОР 1'!$P$1)/12,B101,IF(C101=КАЛЬКУЛЯТОР!$C$21,$E$2,$E$2-$E$3),IF(C101=КАЛЬКУЛЯТОР!$C$21,$I$11,$I$11-SUMIF($A$12:$A$371,\"<=\"&$E$3,$H$12:$H$371)),0,0)),\"\")","v":""},{"$f":"IFERROR((-PPMT(C101/12,B101,IF(C101=КАЛЬКУЛЯТОР!$C$21,$E$2,$E$2-$E$3),IF(C101=КАЛЬКУЛЯТОР!$C$21,$I$11,$I$11-SUMIF($A$12:$A$371,\"<=\"&$E$3,$H$12:$H$371)),0,0)),\"\")","v":""},"",{"$error":"#VALUE!"},null,{"$error":"#VALUE!"},{"$error":"#VALUE!"},{"$error":"#VALUE!"},{"$error":"#VALUE!"},false]
[91,91,{"$f":"IF(A102<=$E$3,КАЛЬКУЛЯТОР!$C$21,IF(AND(A102>$E$3,A102<=$E$2),$E$4,\"\"))","v":""},{"$f":"IF(A102<=$E$2,-PMT(C102/12,IF(C102=КАЛЬКУЛЯТОР!$C$21,$E$2,$E$2-$E$3),IF(C102=КАЛЬКУЛЯТОР!$C$21,$I$11,$I$11-SUMIF($A$12:$A$371,\"<=\"&$E$3,$H$12:$H$371)),0,0),\"\")","v":{"$error":"#VALUE!"}},null,{"$f":"IFERROR((-IPMT(C102/12,B102,IF(C102=КАЛЬКУЛЯТОР!$C$21,$E$2,$E$2-$E$3),IF(C102=КАЛЬКУЛЯТОР!$C$21,$I$11,$I$11-SUMIF($A$12:$A$371,\"<=\"&$E$3,$H$12:$H$371)),0,0)),\"\")","v":""},{"$f":"IFERROR((-IPMT((C102-'КАЛЬКУЛЯТОР 1'!$P$1)/12,B102,IF(C102=КАЛЬКУЛЯТОР!$C$21,$E$2,$E$2-$E$3),IF(C102=КАЛЬКУЛЯТОР!$C$21,$I$11,$I$11-SUMIF($A$12:$A$371,\"<=\"&$E$3,$H$12:$H$371)),0,0)),\"\")","v":""},{"$f":"IFERROR((-PPMT(C102/12,B102,IF(C102=КАЛЬКУЛЯТОР!$C$21,$E$2,$E$2-$E$3),IF(C102=КАЛЬКУЛЯТОР!$C$21,$I$11,$I$11-SUMIF($A$12:$A$371,\"<=\"&$E$3,$H$12:$H$371)),0,0)),\"\")","v":""},"",{"$error":"#VALUE!"},null,{"$error":"#VALUE!"},{"$error":"#VALUE!"},{"$error":"#VALUE!"},{"$error":"#VALUE!"},false]
[92,92,{"$f":"IF(A103<=$E$3,КАЛЬКУЛЯТОР!$C$21,IF(AND(A103>$E$3,A103<=$E$2),$E$4,\"\"))","v":""},{"$f":"IF(A103<=$E$2,-PMT(C103/12,IF(C103=КАЛЬКУЛЯТОР!$C$21,$E$2,$E$2-$E$3),IF(C103=КАЛЬКУЛЯТОР!$C$21,$I$11,$I$11-SUMIF($A$12:$A$371,\"<=\"&$E$3,$H$12:$H$371)),0,0),\"\")","v":{"$error":"#VALUE!"}},null,{"$f":"IFERROR((-IPMT(C103/12,B103,IF(C103=КАЛЬКУЛЯТОР!$C$21,$E$2,$E$2-$E$3),IF(C103=КАЛЬКУЛЯТОР!$C$21,$I$11,$I$11-SUMIF($A$12:$A$371,\"<=\"&$E$3,$H$12:$H$371)),0,0)),\"\")","v":""},{"$f":"IFERROR((-IPMT((C103-'КАЛЬКУЛЯТОР 1'!$P$1)/12,B103,IF(C103=КАЛЬКУЛЯТОР!$C$21,$E$2,$E$2-$E$3),IF(C103=КАЛЬКУЛЯТОР!$C$21,$I$11,$I$11-SUMIF($A$12:$A$371,\"<=\"&$E$3,$H$12:$H$371)),0,0)),\"\")","v":""},{"$f":"IFERROR((-PPMT(C103/12,B103,IF(C103=КАЛЬКУЛЯТОР!$C$21,$E$2,$E$2-$E$3),IF(C103=КАЛЬКУЛЯТОР!$C$21,$I$11,$I$11-SUMIF($A$12:$A$371,\"<=\"&$E$3,$H$12:$H$371)),0,0)),\"\")","v":""},"",{"$error":"#VALUE!"},null,{"$error":"#VALUE!"},{"$error":"#VALUE!"},{"$error":"#VALUE!"},{"$error":"#VALUE!"},false]
[93,93,{"$f":"IF(A104<=$E$3,КАЛЬКУЛЯТОР!$C$21,IF(AND(A104>$E$3,A104<=$E$2),$E$4,\"\"))","v":""},{"$f":"IF(A104<=$E$2,-PMT(C104/12,IF(C104=КАЛЬКУЛЯТОР!$C$21,$E$2,$E$2-$E$3),IF(C104=КАЛЬКУЛЯТОР!$C$21,$I$11,$I$11-SUMIF($A$12:$A$371,\"<=\"&$E$3,$H$12:$H$371)),0,0),\"\")","v":{"$error":"#VALUE!"}},null,{"$f":"IFERROR((-IPMT(C104/12,B104,IF(C104=КАЛЬКУЛЯТОР!$C$21,$E$2,$E$2-$E$3),IF(C104=КАЛЬКУЛЯТОР!$C$21,$I$11,$I$11-SUMIF($A$12:$A$371,\"<=\"&$E$3,$H$12:$H$371)),0,0)),\"\")","v":""},{"$f":"IFERROR((-IPMT((C104-'КАЛЬКУЛЯТОР 1'!$P$1)/12,B104,IF(C104=КАЛЬКУЛЯТОР!$C$21,$E$2,$E$2-$E$3),IF(C104=КАЛЬКУЛЯТОР!$C$21,$I$11,$I$11-SUMIF($A$12:$A$371,\"<=\"&$E$3,$H$12:$H$371)),0,0)),\"\")","v":""},{"$f":"IFERROR((-PPMT(C104/12,B104,IF(C104=КАЛЬКУЛЯТОР!$C$21,$E$2,$E$2-$E$3),IF(C104=КАЛЬКУЛЯТОР!$C$21,$I$11,$I$11-SUMIF($A$12:$A$371,\"<=\"&$E$3,$H$12:$H$371)),0,0)),\"\")","v":""},"",{"$error":"#VALUE!"},null,{"$error":"#VALUE!"},{"$error":"#VALUE!"},{"$error":"#VALUE!"},{"$error":"#VALUE!"},false]
[94,94,{"$f":"IF(A105<=$E$3,КАЛЬКУЛЯТОР!$C$21,IF(AND(A105>$E$3,A105<=$E$2),$E$4,\"\"))","v":""},{"$f":"IF(A105<=$E$2,-PMT(C105/12,IF(C105=КАЛЬКУЛЯТОР!$C$21,$E$2,$E$2-$E$3),IF(C105=КАЛЬКУЛЯТОР!$C$21,$I$11,$I$11-SUMIF($A$12:$A$371,\"<=\"&$E$3,$H$12:$H$371)),0,0),\"\")","v":{"$error":"#VALUE!"}},null,{"$f":"IFERROR((-IPMT(C105/12,B105,IF(C105=КАЛЬКУЛЯТОР!$C$21,$E$2,$E$2-$E$3),IF(C105=КАЛЬКУЛЯТОР!$C$21,$I$11,$I$11-SUMIF($A$12:$A$371,\"<=\"&$E$3,$H$12:$H$371)),0,0)),\"\")","v":""},{"$f":"IFERROR((-IPMT((C105-'КАЛЬКУЛЯТОР 1'!$P$1)/12,B105,IF(C105=КАЛЬКУЛЯТОР!$C$21,$E$2,$E$2-$E$3),IF(C105=КАЛЬКУЛЯТОР!$C$21,$I$11,$I$11-SUMIF($A$12:$A$371,\"<=\"&$E$3,$H$12:$H$371)),0,0)),\"\")","v":""},{"$f":"IFERROR((-PPMT(C105/12,B105,IF(C105=КАЛЬКУЛЯТОР!$C$21,$E$2,$E$2-$E$3),IF(C105=КАЛЬКУЛЯТОР!$C$21,$I$11,$I$11-SUMIF($A$12:$A$371,\"<=\"&$E$3,$H$12:$H$371)),0,0)),\"\")","v":""},"",{"$error":"#VALUE!"},null,{"$error":"#VALUE!"},{"$error":"#VALUE!"},{"$error":"#VALUE!"},{"$error":"#VALUE!"},false]
[95,95,{"$f":"IF(A106<=$E$3,КАЛЬКУЛЯТОР!$C$21,IF(AND(A106>$E$3,A106<=$E$2),$E$4,\"\"))","v":""},{"$f":"IF(A106<=$E$2,-PMT(C106/12,IF(C106=КАЛЬКУЛЯТОР!$C$21,$E$2,$E$2-$E$3),IF(C106=КАЛЬКУЛЯТОР!$C$21,$I$11,$I$11-SUMIF($A$12:$A$371,\"<=\"&$E$3,$H$12:$H$371)),0,0),\"\")","v":{"$error":"#VALUE!"}},null,{"$f":"IFERROR((-IPMT(C106/12,B106,IF(C106=КАЛЬКУЛЯТОР!$C$21,$E$2,$E$2-$E$3),IF(C106=КАЛЬКУЛЯТОР!$C$21,$I$11,$I$11-SUMIF($A$12:$A$371,\"<=\"&$E$3,$H$12:$H$371)),0,0)),\"\")","v":""},{"$f":"IFERROR((-IPMT((C106-'КАЛЬКУЛЯТОР 1'!$P$1)/12,B106,IF(C106=КАЛЬКУЛЯТОР!$C$21,$E$2,$E$2-$E$3),IF(C106=КАЛЬКУЛЯТОР!$C$21,$I$11,$I$11-SUMIF($A$12:$A$371,\"<=\"&$E$3,$H$12:$H$371)),0,0)),\"\")","v":""},{"$f":"IFERROR((-PPMT(C106/12,B106,IF(C106=КАЛЬКУЛЯТОР!$C$21,$E$2,$E$2-$E$3),IF(C106=КАЛЬКУЛЯТОР!$C$21,$I$11,$I$11-SUMIF($A$12:$A$371,\"<=\"&$E$3,$H$12:$H$371)),0,0)),\"\")","v":""},"",{"$error":"#VALUE!"},null,{"$error":"#VALUE!"},{"$error":"#VALUE!"},{"$error":"#VALUE!"},{"$error":"#VALUE!"},false]
[96,96,{"$f":"IF(A107<=$E$3,КАЛЬКУЛЯТОР!$C$21,IF(AND(A107>$E$3,A107<=$E$2),$E$4,\"\"))","v":""},{"$f":"IF(A107<=$E$2,-PMT(C107/12,IF(C107=КАЛЬКУЛЯТОР!$C$21,$E$2,$E$2-$E$3),IF(C107=КАЛЬКУЛЯТОР!$C$21,$I$11,$I$11-SUMIF($A$12:$A$371,\"<=\"&$E$3,$H$12:$H$371)),0,0),\"\")","v":{"$error":"#VALUE!"}},null,{"$f":"IFERROR((-IPMT(C107/12,B107,IF(C107=КАЛЬКУЛЯТОР!$C$21,$E$2,$E$2-$E$3),IF(C107=КАЛЬКУЛЯТОР!$C$21,$I$11,$I$11-SUMIF($A$12:$A$371,\"<=\"&$E$3,$H$12:$H$371)),0,0)),\"\")","v":""},{"$f":"IFERROR((-IPMT((C107-'КАЛЬКУЛЯТОР 1'!$P$1)/12,B107,IF(C107=КАЛЬКУЛЯТОР!$C$21,$E$2,$E$2-$E$3),IF(C107=КАЛЬКУЛЯТОР!$C$21,$I$11,$I$11-SUMIF($A$12:$A$371,\"<=\"&$E$3,$H$12:$H$371)),0,0)),\"\")","v":""},{"$f":"IFERROR((-PPMT(C107/12,B107,IF(C107=КАЛЬКУЛЯТОР!$C$21,$E$2,$E$2-$E$3),IF(C107=КАЛЬКУЛЯТОР!$C$21,$I$11,$I$11-SUMIF($A$12:$A$371,\"<=\"&$E$3,$H$12:$H$371)),0,0)),\"\")","v":""},"",{"$error":"#VALUE!"},null,{"$error":"#VALUE!"},{"$error":"#VALUE!"},{"$error":"#VALUE!"},{"$error":"#VALUE!"},false]
[97,97,{"$f":"IF(A108<=$E$3,КАЛЬКУЛЯТОР!$C$21,IF(AND(A108>$E$3,A108<=$E$2),$E$4,\"\"))","v":""},{"$f":"IF(A108<=$E$2,-PMT(C108/12,IF(C108=КАЛЬКУЛЯТОР!$C$21,$E$2,$E$2-$E$3),IF(C108=КАЛЬКУЛЯТОР!$C$21,$I$11,$I$11-SUMIF($A$12:$A$371,\"<=\"&$E$3,$H$12:$H$371)),0,0),\"\")","v":{"$error":"#VALUE!"}},{"$f":"IF($E$2>$A107,(I107+SUM(F108:F119))*($K$4+$K$5),0)","v":{"$error":"#VALUE!"}},{"$f":"IFERROR((-IPMT(C108/12,B108,IF(C108=КАЛЬКУЛЯТОР!$C$21,$E$2,$E$2-$E$3),IF(C108=КАЛЬКУЛЯТОР!$C$21,$I$11,$I$11-SUMIF($A$12:$A$371,\"<=\"&$E$3,$H$12:$H$371)),0,0)),\"\")","v":""},{"$f":"IFERROR((-IPMT((C108-'КАЛЬКУЛЯТОР 1'!$P$1)/12,B108,IF(C108=КАЛЬКУЛЯТОР!$C$21,$E$2,$E$2-$E$3),IF(C108=КАЛЬКУЛЯТОР!$C$21,$I$11,$I$11-SUMIF($A$12:$A$371,\"<=\"&$E$3,$H$12:$H$371)),0,0)),\"\")","v":""},{"$f":"IFERROR((-PPMT(C108/12,B108,IF(C108=КАЛЬКУЛЯТОР!$C$21,$E$2,$E$2-$E$3),IF(C108=КАЛЬКУЛЯТОР!$C$21,$I$11,$I$11-SUMIF($A$12:$A$371,\"<=\"&$E$3,$H$12:$H$371)),0,0)),\"\")","v":""},"",{"$error":"#VALUE!"},{"$f":"PV($E$5/12,A108-1,0,-E108)","v":{"$error":"#VALUE!"}},{"$error":"#VALUE!"},{"$error":"#VALUE!"},{"$error":"#VALUE!"},{"$error":"#VALUE!"},false]
[98,98,{"$f":"IF(A109<=$E$3,КАЛЬКУЛЯТОР!$C$21,IF(AND(A109>$E$3,A109<=$E$2),$E$4,\"\"))","v":""},{"$f":"IF(A109<=$E$2,-PMT(C109/12,IF(C109=КАЛЬКУЛЯТОР!$C$21,$E$2,$E$2-$E$3),IF(C109=КАЛЬКУЛЯТОР!$C$21,$I$11,$I$11-SUMIF($A$12:$A$371,\"<=\"&$E$3,$H$12:$H$371)),0,0),\"\")","v":{"$error":"#VALUE!"}},null,{"$f":"IFERROR((-IPMT(C109/12,B109,IF(C109=КАЛЬКУЛЯТОР!$C$21,$E$2,$E$2-$E$3),IF(C109=КАЛЬКУЛЯТОР!$C$21,$I$11,$I$11-SUMIF($A$12:$A$371,\"<=\"&$E$3,$H$12:$H$371)),0,0)),\"\")","v":""},{"$f":"IFERROR((-IPMT((C109-'КАЛЬКУЛЯТОР 1'!$P$1)/12,B109,IF(C109=КАЛЬКУЛЯТОР!$C$21,$E$2,$E$2-$E$3),IF(C109=КАЛЬКУЛЯТОР!$C$21,$I$11,$I$11-SUMIF($A$12:$A$371,\"<=\"&$E$3,$H$12:$H$371)),0,0)),\"\")","v":""},{"$f":"IFERROR((-PPMT(C109/12,B109,IF(C109=КАЛЬКУЛЯТОР!$C$21,$E$2,$E$2-$E$3),IF(C109=КАЛЬКУЛЯТОР!$C$21,$I$11,$I$11-SUMIF($A$12:$A$371,\"<=\"&$E$3,$H$12:$H$371)),0,0)),\"\")","v":""},"",{"$error":"#VALUE!"},null,{"$error":"#VALUE!"},{"$error":"#VALUE!"},{"$error":"#VALUE!"},{"$error":"#VALUE!"},false]
[99,99,{"$f":"IF(A110<=$E$3,КАЛЬКУЛЯТОР!$C$21,IF(AND(A110>$E$3,A110<=$E$2),$E$4,\"\"))","v":""},{"$f":"IF(A110<=$E$2,-PMT(C110/12,IF(C110=КАЛЬКУЛЯТОР!$C$21,$E$2,$E$2-$E$3),IF(C110=КАЛЬКУЛЯТОР!$C$21,$I$11,$I$11-SUMIF($A$12:$A$371,\"<=\"&$E$3,$H$12:$H$371)),0,0),\"\")","v":{"$error":"#VALUE!"}},null,{"$f":"IFERROR((-IPMT(C110/12,B110,IF(C110=КАЛЬКУЛЯТОР!$C$21,$E$2,$E$2-$E$3),IF(C110=КАЛЬКУЛЯТОР!$C$21,$I$11,$I$11-SUMIF($A$12:$A$371,\"<=\"&$E$3,$H$12:$H$371)),0,0)),\"\")","v":""},{"$f":"IFERROR((-IPMT((C110-'КАЛЬКУЛЯТОР 1'!$P$1)/12,B110,IF(C110=КАЛЬКУЛЯТОР!$C$21,$E$2,$E$2-$E$3),IF(C110=КАЛЬКУЛЯТОР!$C$21,$I$11,$I$11-SUMIF($A$12:$A$371,\"<=\"&$E$3,$H$12:$H$371)),0,0)),\"\")","v":""},{"$f":"IFERROR((-PPMT(C110/12,B110,IF(C110=КАЛЬКУЛЯТОР!$C$21,$E$2,$E$2-$E$3),IF(C110=КАЛЬКУЛЯТОР!$C$21,$I$11,$I$11-SUMIF($A$12:$A$371,\"<=\"&$E$3,$H$12:$H$371)),0,0)),\"\")","v":""},"",{"$error":"#VALUE!"},null,{"$error":"#VALUE!"},{"$error":"#VALUE!"},{"$error":"#VALUE!"},{"$error":"#VALUE!"},false]
[100,100,{"$f":"IF(A111<=$E$3,КАЛЬКУЛЯТОР!$C$21,IF(AND(A111>$E$3,A111<=$E$2),$E$4,\"\"))","v":""},{"$f":"IF(A111<=$E$2,-PMT(C111/12,IF(C111=КАЛЬКУЛЯТОР!$C$21,$E$2,$E$2-$E$3),IF(C111=КАЛЬКУЛЯТОР!$C$21,$I$11,$I$11-SUMIF($A$12:$A$371,\"<=\"&$E$3,$H$12:$H$371)),0,0),\"\")","v":{"$error":"#VALUE!"}},null,{"$f":"IFERROR((-IPMT(C111/12,B111,IF(C111=КАЛЬКУЛЯТОР!$C$21,$E$2,$E$2-$E$3),IF(C111=КАЛЬКУЛЯТОР!$C$21,$I$11,$I$11-SUMIF($A$12:$A$371,\"<=\"&$E$3,$H$12:$H$371)),0,0)),\"\")","v":""},{"$f":"IFERROR((-IPMT((C111-'КАЛЬКУЛЯТОР 1'!$P$1)/12,B111,IF(C111=КАЛЬКУЛЯТОР!$C$21,$E$2,$E$2-$E$3),IF(C111=КАЛЬКУЛЯТОР!$C$21,$I$11,$I$11-SUMIF($A$12:$A$371,\"<=\"&$E$3,$H$12:$H$371)),0,0)),\"\")","v":""},{"$f":"IFERROR((-PPMT(C111/12,B111,IF(C111=КАЛЬКУЛЯТОР!$C$21,$E$2,$E$2-$E$3),IF(C111=КАЛЬКУЛЯТОР!$C$21,$I$11,$I$11-SUMIF($A$12:$A$371,\"<=\"&$E$3,$H$12:$H$371)),0,0)),\"\")","v":""},"",{"$error":"#VALUE!"},null,{"$error":"#VALUE!"},{"$error":"#VALUE!"},{"$error":"#VALUE!"},{"$error":"#VALUE!"},false]
[101,101,{"$f":"IF(A112<=$E$3,КАЛЬКУЛЯТОР!$C$21,IF(AND(A112>$E$3,A112<=$E$2),$E$4,\"\"))","v":""},{"$f":"IF(A112<=$E$2,-PMT(C112/12,IF(C112=КАЛЬКУЛЯТОР!$C$21,$E$2,$E$2-$E$3),IF(C112=КАЛЬКУЛЯТОР!$C$21,$I$11,$I$11-SUMIF($A$12:$A$371,\"<=\"&$E$3,$H$12:$H$371)),0,0),\"\")","v":{"$error":"#VALUE!"}},null,{"$f":"IFERROR((-IPMT(C112/12,B112,IF(C112=КАЛЬКУЛЯТОР!$C$21,$E$2,$E$2-$E$3),IF(C112=КАЛЬКУЛЯТОР!$C$21,$I$11,$I$11-SUMIF($A$12:$A$371,\"<=\"&$E$3,$H$12:$H$371)),0,0)),\"\")","v":""},{"$f":"IFERROR((-IPMT((C112-'КАЛЬКУЛЯТОР 1'!$P$1)/12,B112,IF(C112=КАЛЬКУЛЯТОР!$C$21,$E$2,$E$2-$E$3),IF(C112=КАЛЬКУЛЯТОР!$C$21,$I$11,$I$11-SUMIF($A$12:$A$371,\"<=\"&$E$3,$H$12:$H$371)),0,0)),\"\")","v":""},{"$f":"IFERROR((-PPMT(C112/12,B112,IF(C112=КАЛЬКУЛЯТОР!$C$21,$E$2,$E$2-$E$3),IF(C112=КАЛЬКУЛЯТОР!$C$21,$I$11,$I$11-SUMIF($A$12:$A$371,\"<=\"&$E$3,$H$12:$H$371)),0,0)),\"\")","v":""},"",{"$error":"#VALUE!"},null,{"$error":"#VALUE!"},{"$error":"#VALUE!"},{"$error":"#VALUE!"},{"$error":"#VALUE!"},false]
[102,102,{"$f":"IF(A113<=$E$3,КАЛЬКУЛЯТОР!$C$21,IF(AND(A113>$E$3,A113<=$E$2),$E$4,\"\"))","v":""},{"$f":"IF(A113<=$E$2,-PMT(C113/12,IF(C113=КАЛЬКУЛЯТОР!$C$21,$E$2,$E$2-$E$3),IF(C113=КАЛЬКУЛЯТОР!$C$21,$I$11,$I$11-SUMIF($A$12:$A$371,\"<=\"&$E$3,$H$12:$H$371)),0,0),\"\")","v":{"$error":"#VALUE!"}},null,{"$f":"IFERROR((-IPMT(C113/12,B113,IF(C113=КАЛЬКУЛЯТОР!$C$21,$E$2,$E$2-$E$3),IF(C113=КАЛЬКУЛЯТОР!$C$21,$I$11,$I$11-SUMIF($A$12:$A$371,\"<=\"&$E$3,$H$12:$H$371)),0,0)),\"\")","v":""},{"$f":"IFERROR((-IPMT((C113-'КАЛЬКУЛЯТОР 1'!$P$1)/12,B113,IF(C113=КАЛЬКУЛЯТОР!$C$21,$E$2,$E$2-$E$3),IF(C113=КАЛЬКУЛЯТОР!$C$21,$I$11,$I$11-SUMIF($A$12:$A$371,\"<=\"&$E$3,$H$12:$H$371)),0,0)),\"\")","v":""},{"$f":"IFERROR((-PPMT(C113/12,B113,IF(C113=КАЛЬКУЛЯТОР!$C$21,$E$2,$E$2-$E$3),IF(C113=КАЛЬКУЛЯТОР!$C$21,$I$11,$I$11-SUMIF($A$12:$A$371,\"<=\"&$E$3,$H$12:$H$371)),0,0)),\"\")","v":""},"",{"$error":"#VALUE!"},null,{"$error":"#VALUE!"},{"$error":"#VALUE!"},{"$error":"#VALUE!"},{"$error":"#VALUE!"},false]
[103,103,{"$f":"IF(A114<=$E$3,КАЛЬКУЛЯТОР!$C$21,IF(AND(A114>$E$3,A114<=$E$2),$E$4,\"\"))","v":""},{"$f":"IF(A114<=$E$2,-PMT(C114/12,IF(C114=КАЛЬКУЛЯТОР!$C$21,$E$2,$E$2-$E$3),IF(C114=КАЛЬКУЛЯТОР!$C$21,$I$11,$I$11-SUMIF($A$12:$A$371,\"<=\"&$E$3,$H$12:$H$371)),0,0),\"\")","v":{"$error":"#VALUE!"}},null,{"$f":"IFERROR((-IPMT(C114/12,B114,IF(C114=КАЛЬКУЛЯТОР!$C$21,$E$2,$E$2-$E$3),IF(C114=КАЛЬКУЛЯТОР!$C$21,$I$11,$I$11-SUMIF($A$12:$A$371,\"<=\"&$E$3,$H$12:$H$371)),0,0)),\"\")","v":""},{"$f":"IFERROR((-IPMT((C114-'КАЛЬКУЛЯТОР 1'!$P$1)/12,B114,IF(C114=КАЛЬКУЛЯТОР!$C$21,$E$2,$E$2-$E$3),IF(C114=КАЛЬКУЛЯТОР!$C$21,$I$11,$I$11-SUMIF($A$12:$A$371,\"<=\"&$E$3,$H$12:$H$371)),0,0)),\"\")","v":""},{"$f":"IFERROR((-PPMT(C114/12,B114,IF(C114=КАЛЬКУЛЯТОР!$C$21,$E$2,$E$2-$E$3),IF(C114=КАЛЬКУЛЯТОР!$C$21,$I$11,$I$11-SUMIF($A$12:$A$371,\"<=\"&$E$3,$H$12:$H$371)),0,0)),\"\")","v":""},"",{"$error":"#VALUE!"},null,{"$error":"#VALUE!"},{"$error":"#VALUE!"},{"$error":"#VALUE!"},{"$error":"#VALUE!"},false]
[104,104,{"$f":"IF(A115<=$E$3,КАЛЬКУЛЯТОР!$C$21,IF(AND(A115>$E$3,A115<=$E$2),$E$4,\"\"))","v":""},{"$f":"IF(A115<=$E$2,-PMT(C115/12,IF(C115=КАЛЬКУЛЯТОР!$C$21,$E$2,$E$2-$E$3),IF(C115=КАЛЬКУЛЯТОР!$C$21,$I$11,$I$11-SUMIF($A$12:$A$371,\"<=\"&$E$3,$H$12:$H$371)),0,0),\"\")","v":{"$error":"#VALUE!"}},null,{"$f":"IFERROR((-IPMT(C115/12,B115,IF(C115=КАЛЬКУЛЯТОР!$C$21,$E$2,$E$2-$E$3),IF(C115=КАЛЬКУЛЯТОР!$C$21,$I$11,$I$11-SUMIF($A$12:$A$371,\"<=\"&$E$3,$H$12:$H$371)),0,0)),\"\")","v":""},{"$f":"IFERROR((-IPMT((C115-'КАЛЬКУЛЯТОР 1'!$P$1)/12,B115,IF(C115=КАЛЬКУЛЯТОР!$C$21,$E$2,$E$2-$E$3),IF(C115=КАЛЬКУЛЯТОР!$C$21,$I$11,$I$11-SUMIF($A$12:$A$371,\"<=\"&$E$3,$H$12:$H$371)),0,0)),\"\")","v":""},{"$f":"IFERROR((-PPMT(C115/12,B115,IF(C115=КАЛЬКУЛЯТОР!$C$21,$E$2,$E$2-$E$3),IF(C115=КАЛЬКУЛЯТОР!$C$21,$I$11,$I$11-SUMIF($A$12:$A$371,\"<=\"&$E$3,$H$12:$H$371)),0,0)),\"\")","v":""},"",{"$error":"#VALUE!"},null,{"$error":"#VALUE!"},{"$error":"#VALUE!"},{"$error":"#VALUE!"},{"$error":"#VALUE!"},false]
[105,105,{"$f":"IF(A116<=$E$3,КАЛЬКУЛЯТОР!$C$21,IF(AND(A116>$E$3,A116<=$E$2),$E$4,\"\"))","v":""},{"$f":"IF(A116<=$E$2,-PMT(C116/12,IF(C116=КАЛЬКУЛЯТОР!$C$21,$E$2,$E$2-$E$3),IF(C116=КАЛЬКУЛЯТОР!$C$21,$I$11,$I$11-SUMIF($A$12:$A$371,\"<=\"&$E$3,$H$12:$H$371)),0,0),\"\")","v":{"$error":"#VALUE!"}},null,{"$f":"IFERROR((-IPMT(C116/12,B116,IF(C116=КАЛЬКУЛЯТОР!$C$21,$E$2,$E$2-$E$3),IF(C116=КАЛЬКУЛЯТОР!$C$21,$I$11,$I$11-SUMIF($A$12:$A$371,\"<=\"&$E$3,$H$12:$H$371)),0,0)),\"\")","v":""},{"$f":"IFERROR((-IPMT((C116-'КАЛЬКУЛЯТОР 1'!$P$1)/12,B116,IF(C116=КАЛЬКУЛЯТОР!$C$21,$E$2,$E$2-$E$3),IF(C116=КАЛЬКУЛЯТОР!$C$21,$I$11,$I$11-SUMIF($A$12:$A$371,\"<=\"&$E$3,$H$12:$H$371)),0,0)),\"\")","v":""},{"$f":"IFERROR((-PPMT(C116/12,B116,IF(C116=КАЛЬКУЛЯТОР!$C$21,$E$2,$E$2-$E$3),IF(C116=КАЛЬКУЛЯТОР!$C$21,$I$11,$I$11-SUMIF($A$12:$A$371,\"<=\"&$E$3,$H$12:$H$371)),0,0)),\"\")","v":""},"",{"$error":"#VALUE!"},null,{"$error":"#VALUE!"},{"$error":"#VALUE!"},{"$error":"#VALUE!"},{"$error":"#VALUE!"},false]
[106,106,{"$f":"IF(A117<=$E$3,КАЛЬКУЛЯТОР!$C$21,IF(AND(A117>$E$3,A117<=$E$2),$E$4,\"\"))","v":""},{"$f":"IF(A117<=$E$2,-PMT(C117/12,IF(C117=КАЛЬКУЛЯТОР!$C$21,$E$2,$E$2-$E$3),IF(C117=КАЛЬКУЛЯТОР!$C$21,$I$11,$I$11-SUMIF($A$12:$A$371,\"<=\"&$E$3,$H$12:$H$371)),0,0),\"\")","v":{"$error":"#VALUE!"}},null,{"$f":"IFERROR((-IPMT(C117/12,B117,IF(C117=КАЛЬКУЛЯТОР!$C$21,$E$2,$E$2-$E$3),IF(C117=КАЛЬКУЛЯТОР!$C$21,$I$11,$I$11-SUMIF($A$12:$A$371,\"<=\"&$E$3,$H$12:$H$371)),0,0)),\"\")","v":""},{"$f":"IFERROR((-IPMT((C117-'КАЛЬКУЛЯТОР 1'!$P$1)/12,B117,IF(C117=КАЛЬКУЛЯТОР!$C$21,$E$2,$E$2-$E$3),IF(C117=КАЛЬКУЛЯТОР!$C$21,$I$11,$I$11-SUMIF($A$12:$A$371,\"<=\"&$E$3,$H$12:$H$371)),0,0)),\"\")","v":""},{"$f":"IFERROR((-PPMT(C117/12,B117,IF(C117=КАЛЬКУЛЯТОР!$C$21,$E$2,$E$2-$E$3),IF(C117=КАЛЬКУЛЯТОР!$C$21,$I$11,$I$11-SUMIF($A$12:$A$371,\"<=\"&$E$3,$H$12:$H$371)),0,0)),\"\")","v":""},"",{"$error":"#VALUE!"},null,{"$error":"#VALUE!"},{"$error":"#VALUE!"},{"$error":"#VALUE!"},{"$error":"#VALUE!"},false]
[107,107,{"$f":"IF(A118<=$E$3,КАЛЬКУЛЯТОР!$C$21,IF(AND(A118>$E$3,A118<=$E$2),$E$4,\"\"))","v":""},{"$f":"IF(A118<=$E$2,-PMT(C118/12,IF(C118=КАЛЬКУЛЯТОР!$C$21,$E$2,$E$2-$E$3),IF(C118=КАЛЬКУЛЯТОР!$C$21,$I$11,$I$11-SUMIF($A$12:$A$371,\"<=\"&$E$3,$H$12:$H$371)),0,0),\"\")","v":{"$error":"#VALUE!"}},null,{"$f":"IFERROR((-IPMT(C118/12,B118,IF(C118=КАЛЬКУЛЯТОР!$C$21,$E$2,$E$2-$E$3),IF(C118=КАЛЬКУЛЯТОР!$C$21,$I$11,$I$11-SUMIF($A$12:$A$371,\"<=\"&$E$3,$H$12:$H$371)),0,0)),\"\")","v":""},{"$f":"IFERROR((-IPMT((C118-'КАЛЬКУЛЯТОР 1'!$P$1)/12,B118,IF(C118=КАЛЬКУЛЯТОР!$C$21,$E$2,$E$2-$E$3),IF(C118=КАЛЬКУЛЯТОР!$C$21,$I$11,$I$11-SUMIF($A$12:$A$371,\"<=\"&$E$3,$H$12:$H$371)),0,0)),\"\")","v":""},{"$f":"IFERROR((-PPMT(C118/12,B118,IF(C118=КАЛЬКУЛЯТОР!$C$21,$E$2,$E$2-$E$3),IF(C118=КАЛЬКУЛЯТОР!$C$21,$I$11,$I$11-SUMIF($A$12:$A$371,\"<=\"&$E$3,$H$12:$H$371)),0,0)),\"\")","v":""},"",{"$error":"#VALUE!"},null,{"$error":"#VALUE!"},{"$error":"#VALUE!"},{"$error":"#VALUE!"},{"$error":"#VALUE!"},false]
[108,108,{"$f":"IF(A119<=$E$3,КАЛЬКУЛЯТОР!$C$21,IF(AND(A119>$E$3,A119<=$E$2),$E$4,\"\"))","v":""},{"$f":"IF(A119<=$E$2,-PMT(C119/12,IF(C119=КАЛЬКУЛЯТОР!$C$21,$E$2,$E$2-$E$3),IF(C119=КАЛЬКУЛЯТОР!$C$21,$I$11,$I$11-SUMIF($A$12:$A$371,\"<=\"&$E$3,$H$12:$H$371)),0,0),\"\")","v":{"$error":"#VALUE!"}},null,{"$f":"IFERROR((-IPMT(C119/12,B119,IF(C119=КАЛЬКУЛЯТОР!$C$21,$E$2,$E$2-$E$3),IF(C119=КАЛЬКУЛЯТОР!$C$21,$I$11,$I$11-SUMIF($A$12:$A$371,\"<=\"&$E$3,$H$12:$H$371)),0,0)),\"\")","v":""},{"$f":"IFERROR((-IPMT((C119-'КАЛЬКУЛЯТОР 1'!$P$1)/12,B119,IF(C119=КАЛЬКУЛЯТОР!$C$21,$E$2,$E$2-$E$3),IF(C119=КАЛЬКУЛЯТОР!$C$21,$I$11,$I$11-SUMIF($A$12:$A$371,\"<=\"&$E$3,$H$12:$H$371)),0,0)),\"\")","v":""},{"$f":"IFERROR((-PPMT(C119/12,B119,IF(C119=КАЛЬКУЛЯТОР!$C$21,$E$2,$E$2-$E$3),IF(C119=КАЛЬКУЛЯТОР!$C$21,$I$11,$I$11-SUMIF($A$12:$A$371,\"<=\"&$E$3,$H$12:$H$371)),0,0)),\"\")","v":""},"",{"$error":"#VALUE!"},null,{"$error":"#VALUE!"},{"$error":"#VALUE!"},{"$error":"#VALUE!"},{"$error":"#VALUE!"},false]
[109,109,{"$f":"IF(A120<=$E$3,КАЛЬКУЛЯТОР!$C$21,IF(AND(A120>$E$3,A120<=$E$2),$E$4,\"\"))","v":""},{"$f":"IF(A120<=$E$2,-PMT(C120/12,IF(C120=КАЛЬКУЛЯТОР!$C$21,$E$2,$E$2-$E$3),IF(C120=КАЛЬКУЛЯТОР!$C$21,$I$11,$I$11-SUMIF($A$12:$A$371,\"<=\"&$E$3,$H$12:$H$371)),0,0),\"\")","v":{"$error":"#VALUE!"}},{"$f":"IF($E$2>$A119,(I119+SUM(F120:F131))*($K$4+$K$5),0)","v":{"$error":"#VALUE!"}},{"$f":"IFERROR((-IPMT(C120/12,B120,IF(C120=КАЛЬКУЛЯТОР!$C$21,$E$2,$E$2-$E$3),IF(C120=КАЛЬКУЛЯТОР!$C$21,$I$11,$I$11-SUMIF($A$12:$A$371,\"<=\"&$E$3,$H$12:$H$371)),0,0)),\"\")","v":""},{"$f":"IFERROR((-IPMT((C120-'КАЛЬКУЛЯТОР 1'!$P$1)/12,B120,IF(C120=КАЛЬКУЛЯТОР!$C$21,$E$2,$E$2-$E$3),IF(C120=КАЛЬКУЛЯТОР!$C$21,$I$11,$I$11-SUMIF($A$12:$A$371,\"<=\"&$E$3,$H$12:$H$371)),0,0)),\"\")","v":""},{"$f":"IFERROR((-PPMT(C120/12,B120,IF(C120=КАЛЬКУЛЯТОР!$C$21,$E$2,$E$2-$E$3),IF(C120=КАЛЬКУЛЯТОР!$C$21,$I$11,$I$11-SUMIF($A$12:$A$371,\"<=\"&$E$3,$H$12:$H$371)),0,0)),\"\")","v":""},"",{"$error":"#VALUE!"},{"$f":"PV($E$5/12,A120-1,0,-E120)","v":{"$error":"#VALUE!"}},{"$error":"#VALUE!"},{"$error":"#VALUE!"},{"$error":"#VALUE!"},{"$error":"#VALUE!"},false]
[110,110,{"$f":"IF(A121<=$E$3,КАЛЬКУЛЯТОР!$C$21,IF(AND(A121>$E$3,A121<=$E$2),$E$4,\"\"))","v":""},{"$f":"IF(A121<=$E$2,-PMT(C121/12,IF(C121=КАЛЬКУЛЯТОР!$C$21,$E$2,$E$2-$E$3),IF(C121=КАЛЬКУЛЯТОР!$C$21,$I$11,$I$11-SUMIF($A$12:$A$371,\"<=\"&$E$3,$H$12:$H$371)),0,0),\"\")","v":{"$error":"#VALUE!"}},null,{"$f":"IFERROR((-IPMT(C121/12,B121,IF(C121=КАЛЬКУЛЯТОР!$C$21,$E$2,$E$2-$E$3),IF(C121=КАЛЬКУЛЯТОР!$C$21,$I$11,$I$11-SUMIF($A$12:$A$371,\"<=\"&$E$3,$H$12:$H$371)),0,0)),\"\")","v":""},{"$f":"IFERROR((-IPMT((C121-'КАЛЬКУЛЯТОР 1'!$P$1)/12,B121,IF(C121=КАЛЬКУЛЯТОР!$C$21,$E$2,$E$2-$E$3),IF(C121=КАЛЬКУЛЯТОР!$C$21,$I$11,$I$11-SUMIF($A$12:$A$371,\"<=\"&$E$3,$H$12:$H$371)),0,0)),\"\")","v":""},{"$f":"IFERROR((-PPMT(C121/12,B121,IF(C121=КАЛЬКУЛЯТОР!$C$21,$E$2,$E$2-$E$3),IF(C121=КАЛЬКУЛЯТОР!$C$21,$I$11,$I$11-SUMIF($A$12:$A$371,\"<=\"&$E$3,$H$12:$H$371)),0,0)),\"\")","v":""},"",{"$error":"#VALUE!"},null,{"$error":"#VALUE!"},{"$error":"#VALUE!"},{"$error":"#VALUE!"},{"$error":"#VALUE!"},false]
[111,111,{"$f":"IF(A122<=$E$3,КАЛЬКУЛЯТОР!$C$21,IF(AND(A122>$E$3,A122<=$E$2),$E$4,\"\"))","v":""},{"$f":"IF(A122<=$E$2,-PMT(C122/12,IF(C122=КАЛЬКУЛЯТОР!$C$21,$E$2,$E$2-$E$3),IF(C122=КАЛЬКУЛЯТОР!$C$21,$I$11,$I$11-SUMIF($A$12:$A$371,\"<=\"&$E$3,$H$12:$H$371)),0,0),\"\")","v":{"$error":"#VALUE!"}},null,{"$f":"IFERROR((-IPMT(C122/12,B122,IF(C122=КАЛЬКУЛЯТОР!$C$21,$E$2,$E$2-$E$3),IF(C122=КАЛЬКУЛЯТОР!$C$21,$I$11,$I$11-SUMIF($A$12:$A$371,\"<=\"&$E$3,$H$12:$H$371)),0,0)),\"\")","v":""},{"$f":"IFERROR((-IPMT((C122-'КАЛЬКУЛЯТОР 1'!$P$1)/12,B122,IF(C122=КАЛЬКУЛЯТОР!$C$21,$E$2,$E$2-$E$3),IF(C122=КАЛЬКУЛЯТОР!$C$21,$I$11,$I$11-SUMIF($A$12:$A$371,\"<=\"&$E$3,$H$12:$H$371)),0,0)),\"\")","v":""},{"$f":"IFERROR((-PPMT(C122/12,B122,IF(C122=КАЛЬКУЛЯТОР!$C$21,$E$2,$E$2-$E$3),IF(C122=КАЛЬКУЛЯТОР!$C$21,$I$11,$I$11-SUMIF($A$12:$A$371,\"<=\"&$E$3,$H$12:$H$371)),0,0)),\"\")","v":""},"",{"$error":"#VALUE!"},null,{"$error":"#VALUE!"},{"$error":"#VALUE!"},{"$error":"#VALUE!"},{"$error":"#VALUE!"},false]
[112,112,{"$f":"IF(A123<=$E$3,КАЛЬКУЛЯТОР!$C$21,IF(AND(A123>$E$3,A123<=$E$2),$E$4,\"\"))","v":""},{"$f":"IF(A123<=$E$2,-PMT(C123/12,IF(C123=КАЛЬКУЛЯТОР!$C$21,$E$2,$E$2-$E$3),IF(C123=КАЛЬКУЛЯТОР!$C$21,$I$11,$I$11-SUMIF($A$12:$A$371,\"<=\"&$E$3,$H$12:$H$371)),0,0),\"\")","v":{"$error":"#VALUE!"}},null,{"$f":"IFERROR((-IPMT(C123/12,B123,IF(C123=КАЛЬКУЛЯТОР!$C$21,$E$2,$E$2-$E$3),IF(C123=КАЛЬКУЛЯТОР!$C$21,$I$11,$I$11-SUMIF($A$12:$A$371,\"<=\"&$E$3,$H$12:$H$371)),0,0)),\"\")","v":""},{"$f":"IFERROR((-IPMT((C123-'КАЛЬКУЛЯТОР 1'!$P$1)/12,B123,IF(C123=КАЛЬКУЛЯТОР!$C$21,$E$2,$E$2-$E$3),IF(C123=КАЛЬКУЛЯТОР!$C$21,$I$11,$I$11-SUMIF($A$12:$A$371,\"<=\"&$E$3,$H$12:$H$371)),0,0)),\"\")","v":""},{"$f":"IFERROR((-PPMT(C123/12,B123,IF(C123=КАЛЬКУЛЯТОР!$C$21,$E$2,$E$2-$E$3),IF(C123=КАЛЬКУЛЯТОР!$C$21,$I$11,$I$11-SUMIF($A$12:$A$371,\"<=\"&$E$3,$H$12:$H$371)),0,0)),\"\")","v":""},"",{"$error":"#VALUE!"},null,{"$error":"#VALUE!"},{"$error":"#VALUE!"},{"$error":"#VALUE!"},{"$error":"#VALUE!"},false]
[113,113,{"$f":"IF(A124<=$E$3,КАЛЬКУЛЯТОР!$C$21,IF(AND(A124>$E$3,A124<=$E$2),$E$4,\"\"))","v":""},{"$f":"IF(A124<=$E$2,-PMT(C124/12,IF(C124=КАЛЬКУЛЯТОР!$C$21,$E$2,$E$2-$E$3),IF(C124=КАЛЬКУЛЯТОР!$C$21,$I$11,$I$11-SUMIF($A$12:$A$371,\"<=\"&$E$3,$H$12:$H$371)),0,0),\"\")","v":{"$error":"#VALUE!"}},null,{"$f":"IFERROR((-IPMT(C124/12,B124,IF(C124=КАЛЬКУЛЯТОР!$C$21,$E$2,$E$2-$E$3),IF(C124=КАЛЬКУЛЯТОР!$C$21,$I$11,$I$11-SUMIF($A$12:$A$371,\"<=\"&$E$3,$H$12:$H$371)),0,0)),\"\")","v":""},{"$f":"IFERROR((-IPMT((C124-'КАЛЬКУЛЯТОР 1'!$P$1)/12,B124,IF(C124=КАЛЬКУЛЯТОР!$C$21,$E$2,$E$2-$E$3),IF(C124=КАЛЬКУЛЯТОР!$C$21,$I$11,$I$11-SUMIF($A$12:$A$371,\"<=\"&$E$3,$H$12:$H$371)),0,0)),\"\")","v":""},{"$f":"IFERROR((-PPMT(C124/12,B124,IF(C124=КАЛЬКУЛЯТОР!$C$21,$E$2,$E$2-$E$3),IF(C124=КАЛЬКУЛЯТОР!$C$21,$I$11,$I$11-SUMIF($A$12:$A$371,\"<=\"&$E$3,$H$12:$H$371)),0,0)),\"\")","v":""},"",{"$error":"#VALUE!"},null,{"$error":"#VALUE!"},{"$error":"#VALUE!"},{"$error":"#VALUE!"},{"$error":"#VALUE!"},false]
[114,114,{"$f":"IF(A125<=$E$3,КАЛЬКУЛЯТОР!$C$21,IF(AND(A125>$E$3,A125<=$E$2),$E$4,\"\"))","v":""},{"$f":"IF(A125<=$E$2,-PMT(C125/12,IF(C125=КАЛЬКУЛЯТОР!$C$21,$E$2,$E$2-$E$3),IF(C125=КАЛЬКУЛЯТОР!$C$21,$I$11,$I$11-SUMIF($A$12:$A$371,\"<=\"&$E$3,$H$12:$H$371)),0,0),\"\")","v":{"$error":"#VALUE!"}},null,{"$f":"IFERROR((-IPMT(C125/12,B125,IF(C125=КАЛЬКУЛЯТОР!$C$21,$E$2,$E$2-$E$3),IF(C125=КАЛЬКУЛЯТОР!$C$21,$I$11,$I$11-SUMIF($A$12:$A$371,\"<=\"&$E$3,$H$12:$H$371)),0,0)),\"\")","v":""},{"$f":"IFERROR((-IPMT((C125-'КАЛЬКУЛЯТОР 1'!$P$1)/12,B125,IF(C125=КАЛЬКУЛЯТОР!$C$21,$E$2,$E$2-$E$3),IF(C125=КАЛЬКУЛЯТОР!$C$21,$I$11,$I$11-SUMIF($A$12:$A$371,\"<=\"&$E$3,$H$12:$H$371)),0,0)),\"\")","v":""},{"$f":"IFERROR((-PPMT(C125/12,B125,IF(C125=КАЛЬКУЛЯТОР!$C$21,$E$2,$E$2-$E$3),IF(C125=КАЛЬКУЛЯТОР!$C$21,$I$11,$I$11-SUMIF($A$12:$A$371,\"<=\"&$E$3,$H$12:$H$371)),0,0)),\"\")","v":""},"",{"$error":"#VALUE!"},null,{"$error":"#VALUE!"},{"$error":"#VALUE!"},{"$error":"#VALUE!"},{"$error":"#VALUE!"},false]
[115,115,{"$f":"IF(A126<=$E$3,КАЛЬКУЛЯТОР!$C$21,IF(AND(A126>$E$3,A126<=$E$2),$E$4,\"\"))","v":""},{"$f":"IF(A126<=$E$2,-PMT(C126/12,IF(C126=КАЛЬКУЛЯТОР!$C$21,$E$2,$E$2-$E$3),IF(C126=КАЛЬКУЛЯТОР!$C$21,$I$11,$I$11-SUMIF($A$12:$A$371,\"<=\"&$E$3,$H$12:$H$371)),0,0),\"\")","v":{"$error":"#VALUE!"}},null,{"$f":"IFERROR((-IPMT(C126/12,B126,IF(C126=КАЛЬКУЛЯТОР!$C$21,$E$2,$E$2-$E$3),IF(C126=КАЛЬКУЛЯТОР!$C$21,$I$11,$I$11-SUMIF($A$12:$A$371,\"<=\"&$E$3,$H$12:$H$371)),0,0)),\"\")","v":""},{"$f":"IFERROR((-IPMT((C126-'КАЛЬКУЛЯТОР 1'!$P$1)/12,B126,IF(C126=КАЛЬКУЛЯТОР!$C$21,$E$2,$E$2-$E$3),IF(C126=КАЛЬКУЛЯТОР!$C$21,$I$11,$I$11-SUMIF($A$12:$A$371,\"<=\"&$E$3,$H$12:$H$371)),0,0)),\"\")","v":""},{"$f":"IFERROR((-PPMT(C126/12,B126,IF(C126=КАЛЬКУЛЯТОР!$C$21,$E$2,$E$2-$E$3),IF(C126=КАЛЬКУЛЯТОР!$C$21,$I$11,$I$11-SUMIF($A$12:$A$371,\"<=\"&$E$3,$H$12:$H$371)),0,0)),\"\")","v":""},"",{"$error":"#VALUE!"},null,{"$error":"#VALUE!"},{"$error":"#VALUE!"},{"$error":"#VALUE!"},{"$error":"#VALUE!"},false]
[116,116,{"$f":"IF(A127<=$E$3,КАЛЬКУЛЯТОР!$C$21,IF(AND(A127>$E$3,A127<=$E$2),$E$4,\"\"))","v":""},{"$f":"IF(A127<=$E$2,-PMT(C127/12,IF(C127=КАЛЬКУЛЯТОР!$C$21,$E$2,$E$2-$E$3),IF(C127=КАЛЬКУЛЯТОР!$C$21,$I$11,$I$11-SUMIF($A$12:$A$371,\"<=\"&$E$3,$H$12:$H$371)),0,0),\"\")","v":{"$error":"#VALUE!"}},null,{"$f":"IFERROR((-IPMT(C127/12,B127,IF(C127=КАЛЬКУЛЯТОР!$C$21,$E$2,$E$2-$E$3),IF(C127=КАЛЬКУЛЯТОР!$C$21,$I$11,$I$11-SUMIF($A$12:$A$371,\"<=\"&$E$3,$H$12:$H$371)),0,0)),\"\")","v":""},{"$f":"IFERROR((-IPMT((C127-'КАЛЬКУЛЯТОР 1'!$P$1)/12,B127,IF(C127=КАЛЬКУЛЯТОР!$C$21,$E$2,$E$2-$E$3),IF(C127=КАЛЬКУЛЯТОР!$C$21,$I$11,$I$11-SUMIF($A$12:$A$371,\"<=\"&$E$3,$H$12:$H$371)),0,0)),\"\")","v":""},{"$f":"IFERROR((-PPMT(C127/12,B127,IF(C127=КАЛЬКУЛЯТОР!$C$21,$E$2,$E$2-$E$3),IF(C127=КАЛЬКУЛЯТОР!$C$21,$I$11,$I$11-SUMIF($A$12:$A$371,\"<=\"&$E$3,$H$12:$H$371)),0,0)),\"\")","v":""},"",{"$error":"#VALUE!"},null,{"$error":"#VALUE!"},{"$error":"#VALUE!"},{"$error":"#VALUE!"},{"$error":"#VALUE!"},false]
[117,117,{"$f":"IF(A128<=$E$3,КАЛЬКУЛЯТОР!$C$21,IF(AND(A128>$E$3,A128<=$E$2),$E$4,\"\"))","v":""},{"$f":"IF(A128<=$E$2,-PMT(C128/12,IF(C128=КАЛЬКУЛЯТОР!$C$21,$E$2,$E$2-$E$3),IF(C128=КАЛЬКУЛЯТОР!$C$21,$I$11,$I$11-SUMIF($A$12:$A$371,\"<=\"&$E$3,$H$12:$H$371)),0,0),\"\")","v":{"$error":"#VALUE!"}},null,{"$f":"IFERROR((-IPMT(C128/12,B128,IF(C128=КАЛЬКУЛЯТОР!$C$21,$E$2,$E$2-$E$3),IF(C128=КАЛЬКУЛЯТОР!$C$21,$I$11,$I$11-SUMIF($A$12:$A$371,\"<=\"&$E$3,$H$12:$H$371)),0,0)),\"\")","v":""},{"$f":"IFERROR((-IPMT((C128-'КАЛЬКУЛЯТОР 1'!$P$1)/12,B128,IF(C128=КАЛЬКУЛЯТОР!$C$21,$E$2,$E$2-$E$3),IF(C128=КАЛЬКУЛЯТОР!$C$21,$I$11,$I$11-SUMIF($A$12:$A$371,\"<=\"&$E$3,$H$12:$H$371)),0,0)),\"\")","v":""},{"$f":"IFERROR((-PPMT(C128/12,B128,IF(C128=КАЛЬКУЛЯТОР!$C$21,$E$2,$E$2-$E$3),IF(C128=КАЛЬКУЛЯТОР!$C$21,$I$11,$I$11-SUMIF($A$12:$A$371,\"<=\"&$E$3,$H$12:$H$371)),0,0)),\"\")","v":""},"",{"$error":"#VALUE!"},null,{"$error":"#VALUE!"},{"$error":"#VALUE!"},{"$error":"#VALUE!"},{"$error":"#VALUE!"},false]
[118,118,{"$f":"IF(A129<=$E$3,КАЛЬКУЛЯТОР!$C$21,IF(AND(A129>$E$3,A129<=$E$2),$E$4,\"\"))","v":""},{"$f":"IF(A129<=$E$2,-PMT(C129/12,IF(C129=КАЛЬКУЛЯТОР!$C$21,$E$2,$E$2-$E$3),IF(C129=КАЛЬКУЛЯТОР!$C$21,$I$11,$I$11-SUMIF($A$12:$A$371,\"<=\"&$E$3,$H$12:$H$371)),0,0),\"\")","v":{"$error":"#VALUE!"}},null,{"$f":"IFERROR((-IPMT(C129/12,B129,IF(C129=КАЛЬКУЛЯТОР!$C$21,$E$2,$E$2-$E$3),IF(C129=КАЛЬКУЛЯТОР!$C$21,$I$11,$I$11-SUMIF($A$12:$A$371,\"<=\"&$E$3,$H$12:$H$371)),0,0)),\"\")","v":""},{"$f":"IFERROR((-IPMT((C129-'КАЛЬКУЛЯТОР 1'!$P$1)/12,B129,IF(C129=КАЛЬКУЛЯТОР!$C$21,$E$2,$E$2-$E$3),IF(C129=КАЛЬКУЛЯТОР!$C$21,$I$11,$I$11-SUMIF($A$12:$A$371,\"<=\"&$E$3,$H$12:$H$371)),0,0)),\"\")","v":""},{"$f":"IFERROR((-PPMT(C129/12,B129,IF(C129=КАЛЬКУЛЯТОР!$C$21,$E$2,$E$2-$E$3),IF(C129=КАЛЬКУЛЯТОР!$C$21,$I$11,$I$11-SUMIF($A$12:$A$371,\"<=\"&$E$3,$H$12:$H$371)),0,0)),\"\")","v":""},"",{"$error":"#VALUE!"},null,{"$error":"#VALUE!"},{"$error":"#VALUE!"},{"$error":"#VALUE!"},{"$error":"#VALUE!"},false]
[119,119,{"$f":"IF(A130<=$E$3,КАЛЬКУЛЯТОР!$C$21,IF(AND(A130>$E$3,A130<=$E$2),$E$4,\"\"))","v":""},{"$f":"IF(A130<=$E$2,-PMT(C130/12,IF(C130=КАЛЬКУЛЯТОР!$C$21,$E$2,$E$2-$E$3),IF(C130=КАЛЬКУЛЯТОР!$C$21,$I$11,$I$11-SUMIF($A$12:$A$371,\"<=\"&$E$3,$H$12:$H$371)),0,0),\"\")","v":{"$error":"#VALUE!"}},null,{"$f":"IFERROR((-IPMT(C130/12,B130,IF(C130=КАЛЬКУЛЯТОР!$C$21,$E$2,$E$2-$E$3),IF(C130=КАЛЬКУЛЯТОР!$C$21,$I$11,$I$11-SUMIF($A$12:$A$371,\"<=\"&$E$3,$H$12:$H$371)),0,0)),\"\")","v":""},{"$f":"IFERROR((-IPMT((C130-'КАЛЬКУЛЯТОР 1'!$P$1)/12,B130,IF(C130=КАЛЬКУЛЯТОР!$C$21,$E$2,$E$2-$E$3),IF(C130=КАЛЬКУЛЯТОР!$C$21,$I$11,$I$11-SUMIF($A$12:$A$371,\"<=\"&$E$3,$H$12:$H$371)),0,0)),\"\")","v":""},{"$f":"IFERROR((-PPMT(C130/12,B130,IF(C130=КАЛЬКУЛЯТОР!$C$21,$E$2,$E$2-$E$3),IF(C130=КАЛЬКУЛЯТОР!$C$21,$I$11,$I$11-SUMIF($A$12:$A$371,\"<=\"&$E$3,$H$12:$H$371)),0,0)),\"\")","v":""},"",{"$error":"#VALUE!"},null,{"$error":"#VALUE!"},{"$error":"#VALUE!"},{"$error":"#VALUE!"},{"$error":"#VALUE!"},false]
[120,120,{"$f":"IF(A131<=$E$3,КАЛЬКУЛЯТОР!$C$21,IF(AND(A131>$E$3,A131<=$E$2),$E$4,\"\"))","v":""},{"$f":"IF(A131<=$E$2,-PMT(C131/12,IF(C131=КАЛЬКУЛЯТОР!$C$21,$E$2,$E$2-$E$3),IF(C131=КАЛЬКУЛЯТОР!$C$21,$I$11,$I$11-SUMIF($A$12:$A$371,\"<=\"&$E$3,$H$12:$H$371)),0,0),\"\")","v":{"$error":"#VALUE!"}},null,{"$f":"IFERROR((-IPMT(C131/12,B131,IF(C131=КАЛЬКУЛЯТОР!$C$21,$E$2,$E$2-$E$3),IF(C131=КАЛЬКУЛЯТОР!$C$21,$I$11,$I$11-SUMIF($A$12:$A$371,\"<=\"&$E$3,$H$12:$H$371)),0,0)),\"\")","v":""},{"$f":"IFERROR((-IPMT((C131-'КАЛЬКУЛЯТОР 1'!$P$1)/12,B131,IF(C131=КАЛЬКУЛЯТОР!$C$21,$E$2,$E$2-$E$3),IF(C131=КАЛЬКУЛЯТОР!$C$21,$I$11,$I$11-SUMIF($A$12:$A$371,\"<=\"&$E$3,$H$12:$H$371)),0,0)),\"\")","v":""},{"$f":"IFERROR((-PPMT(C131/12,B131,IF(C131=КАЛЬКУЛЯТОР!$C$21,$E$2,$E$2-$E$3),IF(C131=КАЛЬКУЛЯТОР!$C$21,$I$11,$I$11-SUMIF($A$12:$A$371,\"<=\"&$E$3,$H$12:$H$371)),0,0)),\"\")","v":""},"",{"$error":"#VALUE!"},null,{"$error":"#VALUE!"},{"$error":"#VALUE!"},{"$error":"#VALUE!"},{"$error":"#VALUE!"},false]
[121,121,{"$f":"IF(A132<=$E$3,КАЛЬКУЛЯТОР!$C$21,IF(AND(A132>$E$3,A132<=$E$2),$E$4,\"\"))","v":""},{"$f":"IF(A132<=$E$2,-PMT(C132/12,IF(C132=КАЛЬКУЛЯТОР!$C$21,$E$2,$E$2-$E$3),IF(C132=КАЛЬКУЛЯТОР!$C$21,$I$11,$I$11-SUMIF($A$12:$A$371,\"<=\"&$E$3,$H$12:$H$371)),0,0),\"\")","v":""},{"$f":"IF($E$2>$A131,(I131+SUM(F132:F143))*($K$4+$K$5),\"\")","v":""},{"$f":"IFERROR((-IPMT(C132/12,B132,IF(C132=КАЛЬКУЛЯТОР!$C$21,$E$2,$E$2-$E$3),IF(C132=КАЛЬКУЛЯТОР!$C$21,$I$11,$I$11-SUMIF($A$12:$A$371,\"<=\"&$E$3,$H$12:$H$371)),0,0)),\"\")","v":""},{"$f":"IFERROR((-IPMT((C132-'КАЛЬКУЛЯТОР 1'!$P$1)/12,B132,IF(C132=КАЛЬКУЛЯТОР!$C$21,$E$2,$E$2-$E$3),IF(C132=КАЛЬКУЛЯТОР!$C$21,$I$11,$I$11-SUMIF($A$12:$A$371,\"<=\"&$E$3,$H$12:$H$371)),0,0)),\"\")","v":""},{"$f":"IFERROR((-PPMT(C132/12,B132,IF(C132=КАЛЬКУЛЯТОР!$C$21,$E$2,$E$2-$E$3),IF(C132=КАЛЬКУЛЯТОР!$C$21,$I$11,$I$11-SUMIF($A$12:$A$371,\"<=\"&$E$3,$H$12:$H$371)),0,0)),\"\")","v":""},"",{"$error":"#VALUE!"},{"$f":"PV($E$5/12,A132-1,0,-E132)","v":{"$error":"#VALUE!"}},{"$error":"#VALUE!"},{"$error":"#VALUE!"},{"$error":"#VALUE!"},{"$error":"#VALUE!"},false]
[122,122,{"$f":"IF(A133<=$E$3,КАЛЬКУЛЯТОР!$C$21,IF(AND(A133>$E$3,A133<=$E$2),$E$4,\"\"))","v":""},{"$f":"IF(A133<=$E$2,-PMT(C133/12,IF(C133=КАЛЬКУЛЯТОР!$C$21,$E$2,$E$2-$E$3),IF(C133=КАЛЬКУЛЯТОР!$C$21,$I$11,$I$11-SUMIF($A$12:$A$371,\"<=\"&$E$3,$H$12:$H$371)),0,0),\"\")","v":""},null,{"$f":"IFERROR((-IPMT(C133/12,B133,IF(C133=КАЛЬКУЛЯТОР!$C$21,$E$2,$E$2-$E$3),IF(C133=КАЛЬКУЛЯТОР!$C$21,$I$11,$I$11-SUMIF($A$12:$A$371,\"<=\"&$E$3,$H$12:$H$371)),0,0)),\"\")","v":""},{"$f":"IFERROR((-IPMT((C133-'КАЛЬКУЛЯТОР 1'!$P$1)/12,B133,IF(C133=КАЛЬКУЛЯТОР!$C$21,$E$2,$E$2-$E$3),IF(C133=КАЛЬКУЛЯТОР!$C$21,$I$11,$I$11-SUMIF($A$12:$A$371,\"<=\"&$E$3,$H$12:$H$371)),0,0)),\"\")","v":""},{"$f":"IFERROR((-PPMT(C133/12,B133,IF(C133=КАЛЬКУЛЯТОР!$C$21,$E$2,$E$2-$E$3),IF(C133=КАЛЬКУЛЯТОР!$C$21,$I$11,$I$11-SUMIF($A$12:$A$371,\"<=\"&$E$3,$H$12:$H$371)),0,0)),\"\")","v":""},"",{"$error":"#VALUE!"},null,{"$error":"#VALUE!"},{"$error":"#VALUE!"},{"$error":"#VALUE!"},{"$error":"#VALUE!"},false]
[123,123,{"$f":"IF(A134<=$E$3,КАЛЬКУЛЯТОР!$C$21,IF(AND(A134>$E$3,A134<=$E$2),$E$4,\"\"))","v":""},{"$f":"IF(A134<=$E$2,-PMT(C134/12,IF(C134=КАЛЬКУЛЯТОР!$C$21,$E$2,$E$2-$E$3),IF(C134=КАЛЬКУЛЯТОР!$C$21,$I$11,$I$11-SUMIF($A$12:$A$371,\"<=\"&$E$3,$H$12:$H$371)),0,0),\"\")","v":""},null,{"$f":"IFERROR((-IPMT(C134/12,B134,IF(C134=КАЛЬКУЛЯТОР!$C$21,$E$2,$E$2-$E$3),IF(C134=КАЛЬКУЛЯТОР!$C$21,$I$11,$I$11-SUMIF($A$12:$A$371,\"<=\"&$E$3,$H$12:$H$371)),0,0)),\"\")","v":""},{"$f":"IFERROR((-IPMT((C134-'КАЛЬКУЛЯТОР 1'!$P$1)/12,B134,IF(C134=КАЛЬКУЛЯТОР!$C$21,$E$2,$E$2-$E$3),IF(C134=КАЛЬКУЛЯТОР!$C$21,$I$11,$I$11-SUMIF($A$12:$A$371,\"<=\"&$E$3,$H$12:$H$371)),0,0)),\"\")","v":""},{"$f":"IFERROR((-PPMT(C134/12,B134,IF(C134=КАЛЬКУЛЯТОР!$C$21,$E$2,$E$2-$E$3),IF(C134=КАЛЬКУЛЯТОР!$C$21,$I$11,$I$11-SUMIF($A$12:$A$371,\"<=\"&$E$3,$H$12:$H$371)),0,0)),\"\")","v":""},"",{"$error":"#VALUE!"},null,{"$error":"#VALUE!"},{"$error":"#VALUE!"},{"$error":"#VALUE!"},{"$error":"#VALUE!"},false]
[124,124,{"$f":"IF(A135<=$E$3,КАЛЬКУЛЯТОР!$C$21,IF(AND(A135>$E$3,A135<=$E$2),$E$4,\"\"))","v":""},{"$f":"IF(A135<=$E$2,-PMT(C135/12,IF(C135=КАЛЬКУЛЯТОР!$C$21,$E$2,$E$2-$E$3),IF(C135=КАЛЬКУЛЯТОР!$C$21,$I$11,$I$11-SUMIF($A$12:$A$371,\"<=\"&$E$3,$H$12:$H$371)),0,0),\"\")","v":""},null,{"$f":"IFERROR((-IPMT(C135/12,B135,IF(C135=КАЛЬКУЛЯТОР!$C$21,$E$2,$E$2-$E$3),IF(C135=КАЛЬКУЛЯТОР!$C$21,$I$11,$I$11-SUMIF($A$12:$A$371,\"<=\"&$E$3,$H$12:$H$371)),0,0)),\"\")","v":""},{"$f":"IFERROR((-IPMT((C135-'КАЛЬКУЛЯТОР 1'!$P$1)/12,B135,IF(C135=КАЛЬКУЛЯТОР!$C$21,$E$2,$E$2-$E$3),IF(C135=КАЛЬКУЛЯТОР!$C$21,$I$11,$I$11-SUMIF($A$12:$A$371,\"<=\"&$E$3,$H$12:$H$371)),0,0)),\"\")","v":""},{"$f":"IFERROR((-PPMT(C135/12,B135,IF(C135=КАЛЬКУЛЯТОР!$C$21,$E$2,$E$2-$E$3),IF(C135=КАЛЬКУЛЯТОР!$C$21,$I$11,$I$11-SUMIF($A$12:$A$371,\"<=\"&$E$3,$H$12:$H$371)),0,0)),\"\")","v":""},"",{"$error":"#VALUE!"},null,{"$error":"#VALUE!"},{"$error":"#VALUE!"},{"$error":"#VALUE!"},{"$error":"#VALUE!"},false]
[125,125,{"$f":"IF(A136<=$E$3,КАЛЬКУЛЯТОР!$C$21,IF(AND(A136>$E$3,A136<=$E$2),$E$4,\"\"))","v":""},{"$f":"IF(A136<=$E$2,-PMT(C136/12,IF(C136=КАЛЬКУЛЯТОР!$C$21,$E$2,$E$2-$E$3),IF(C136=КАЛЬКУЛЯТОР!$C$21,$I$11,$I$11-SUMIF($A$12:$A$371,\"<=\"&$E$3,$H$12:$H$371)),0,0),\"\")","v":""},null,{"$f":"IFERROR((-IPMT(C136/12,B136,IF(C136=КАЛЬКУЛЯТОР!$C$21,$E$2,$E$2-$E$3),IF(C136=КАЛЬКУЛЯТОР!$C$21,$I$11,$I$11-SUMIF($A$12:$A$371,\"<=\"&$E$3,$H$12:$H$371)),0,0)),\"\")","v":""},{"$f":"IFERROR((-IPMT((C136-'КАЛЬКУЛЯТОР 1'!$P$1)/12,B136,IF(C136=КАЛЬКУЛЯТОР!$C$21,$E$2,$E$2-$E$3),IF(C136=КАЛЬКУЛЯТОР!$C$21,$I$11,$I$11-SUMIF($A$12:$A$371,\"<=\"&$E$3,$H$12:$H$371)),0,0)),\"\")","v":""},{"$f":"IFERROR((-PPMT(C136/12,B136,IF(C136=КАЛЬКУЛЯТОР!$C$21,$E$2,$E$2-$E$3),IF(C136=КАЛЬКУЛЯТОР!$C$21,$I$11,$I$11-SUMIF($A$12:$A$371,\"<=\"&$E$3,$H$12:$H$371)),0,0)),\"\")","v":""},"",{"$error":"#VALUE!"},null,{"$error":"#VALUE!"},{"$error":"#VALUE!"},{"$error":"#VALUE!"},{"$error":"#VALUE!"},false]
[126,126,{"$f":"IF(A137<=$E$3,КАЛЬКУЛЯТОР!$C$21,IF(AND(A137>$E$3,A137<=$E$2),$E$4,\"\"))","v":""},{"$f":"IF(A137<=$E$2,-PMT(C137/12,IF(C137=КАЛЬКУЛЯТОР!$C$21,$E$2,$E$2-$E$3),IF(C137=КАЛЬКУЛЯТОР!$C$21,$I$11,$I$11-SUMIF($A$12:$A$371,\"<=\"&$E$3,$H$12:$H$371)),0,0),\"\")","v":""},null,{"$f":"IFERROR((-IPMT(C137/12,B137,IF(C137=КАЛЬКУЛЯТОР!$C$21,$E$2,$E$2-$E$3),IF(C137=КАЛЬКУЛЯТОР!$C$21,$I$11,$I$11-SUMIF($A$12:$A$371,\"<=\"&$E$3,$H$12:$H$371)),0,0)),\"\")","v":""},{"$f":"IFERROR((-IPMT((C137-'КАЛЬКУЛЯТОР 1'!$P$1)/12,B137,IF(C137=КАЛЬКУЛЯТОР!$C$21,$E$2,$E$2-$E$3),IF(C137=КАЛЬКУЛЯТОР!$C$21,$I$11,$I$11-SUMIF($A$12:$A$371,\"<=\"&$E$3,$H$12:$H$371)),0,0)),\"\")","v":""},{"$f":"IFERROR((-PPMT(C137/12,B137,IF(C137=КАЛЬКУЛЯТОР!$C$21,$E$2,$E$2-$E$3),IF(C137=КАЛЬКУЛЯТОР!$C$21,$I$11,$I$11-SUMIF($A$12:$A$371,\"<=\"&$E$3,$H$12:$H$371)),0,0)),\"\")","v":""},"",{"$error":"#VALUE!"},null,{"$error":"#VALUE!"},{"$error":"#VALUE!"},{"$error":"#VALUE!"},{"$error":"#VALUE!"},false]
[127,127,{"$f":"IF(A138<=$E$3,КАЛЬКУЛЯТОР!$C$21,IF(AND(A138>$E$3,A138<=$E$2),$E$4,\"\"))","v":""},{"$f":"IF(A138<=$E$2,-PMT(C138/12,IF(C138=КАЛЬКУЛЯТОР!$C$21,$E$2,$E$2-$E$3),IF(C138=КАЛЬКУЛЯТОР!$C$21,$I$11,$I$11-SUMIF($A$12:$A$371,\"<=\"&$E$3,$H$12:$H$371)),0,0),\"\")","v":""},null,{"$f":"IFERROR((-IPMT(C138/12,B138,IF(C138=КАЛЬКУЛЯТОР!$C$21,$E$2,$E$2-$E$3),IF(C138=КАЛЬКУЛЯТОР!$C$21,$I$11,$I$11-SUMIF($A$12:$A$371,\"<=\"&$E$3,$H$12:$H$371)),0,0)),\"\")","v":""},{"$f":"IFERROR((-IPMT((C138-'КАЛЬКУЛЯТОР 1'!$P$1)/12,B138,IF(C138=КАЛЬКУЛЯТОР!$C$21,$E$2,$E$2-$E$3),IF(C138=КАЛЬКУЛЯТОР!$C$21,$I$11,$I$11-SUMIF($A$12:$A$371,\"<=\"&$E$3,$H$12:$H$371)),0,0)),\"\")","v":""},{"$f":"IFERROR((-PPMT(C138/12,B138,IF(C138=КАЛЬКУЛЯТОР!$C$21,$E$2,$E$2-$E$3),IF(C138=КАЛЬКУЛЯТОР!$C$21,$I$11,$I$11-SUMIF($A$12:$A$371,\"<=\"&$E$3,$H$12:$H$371)),0,0)),\"\")","v":""},"",{"$error":"#VALUE!"},null,{"$error":"#VALUE!"},{"$error":"#VALUE!"},{"$error":"#VALUE!"},{"$error":"#VALUE!"},false]
[128,128,{"$f":"IF(A139<=$E$3,КАЛЬКУЛЯТОР!$C$21,IF(AND(A139>$E$3,A139<=$E$2),$E$4,\"\"))","v":""},{"$f":"IF(A139<=$E$2,-PMT(C139/12,IF(C139=КАЛЬКУЛЯТОР!$C$21,$E$2,$E$2-$E$3),IF(C139=КАЛЬКУЛЯТОР!$C$21,$I$11,$I$11-SUMIF($A$12:$A$371,\"<=\"&$E$3,$H$12:$H$371)),0,0),\"\")","v":""},null,{"$f":"IFERROR((-IPMT(C139/12,B139,IF(C139=КАЛЬКУЛЯТОР!$C$21,$E$2,$E$2-$E$3),IF(C139=КАЛЬКУЛЯТОР!$C$21,$I$11,$I$11-SUMIF($A$12:$A$371,\"<=\"&$E$3,$H$12:$H$371)),0,0)),\"\")","v":""},{"$f":"IFERROR((-IPMT((C139-'КАЛЬКУЛЯТОР 1'!$P$1)/12,B139,IF(C139=КАЛЬКУЛЯТОР!$C$21,$E$2,$E$2-$E$3),IF(C139=КАЛЬКУЛЯТОР!$C$21,$I$11,$I$11-SUMIF($A$12:$A$371,\"<=\"&$E$3,$H$12:$H$371)),0,0)),\"\")","v":""},{"$f":"IFERROR((-PPMT(C139/12,B139,IF(C139=КАЛЬКУЛЯТОР!$C$21,$E$2,$E$2-$E$3),IF(C139=КАЛЬКУЛЯТОР!$C$21,$I$11,$I$11-SUMIF($A$12:$A$371,\"<=\"&$E$3,$H$12:$H$371)),0,0)),\"\")","v":""},"",{"$error":"#VALUE!"},null,{"$error":"#VALUE!"},{"$error":"#VALUE!"},{"$error":"#VALUE!"},{"$error":"#VALUE!"},false]
[129,129,{"$f":"IF(A140<=$E$3,КАЛЬКУЛЯТОР!$C$21,IF(AND(A140>$E$3,A140<=$E$2),$E$4,\"\"))","v":""},{"$f":"IF(A140<=$E$2,-PMT(C140/12,IF(C140=КАЛЬКУЛЯТОР!$C$21,$E$2,$E$2-$E$3),IF(C140=КАЛЬКУЛЯТОР!$C$21,$I$11,$I$11-SUMIF($A$12:$A$371,\"<=\"&$E$3,$H$12:$H$371)),0,0),\"\")","v":""},null,{"$f":"IFERROR((-IPMT(C140/12,B140,IF(C140=КАЛЬКУЛЯТОР!$C$21,$E$2,$E$2-$E$3),IF(C140=КАЛЬКУЛЯТОР!$C$21,$I$11,$I$11-SUMIF($A$12:$A$371,\"<=\"&$E$3,$H$12:$H$371)),0,0)),\"\")","v":""},{"$f":"IFERROR((-IPMT((C140-'КАЛЬКУЛЯТОР 1'!$P$1)/12,B140,IF(C140=КАЛЬКУЛЯТОР!$C$21,$E$2,$E$2-$E$3),IF(C140=КАЛЬКУЛЯТОР!$C$21,$I$11,$I$11-SUMIF($A$12:$A$371,\"<=\"&$E$3,$H$12:$H$371)),0,0)),\"\")","v":""},{"$f":"IFERROR((-PPMT(C140/12,B140,IF(C140=КАЛЬКУЛЯТОР!$C$21,$E$2,$E$2-$E$3),IF(C140=КАЛЬКУЛЯТОР!$C$21,$I$11,$I$11-SUMIF($A$12:$A$371,\"<=\"&$E$3,$H$12:$H$371)),0,0)),\"\")","v":""},{"$f":"IFERROR(I139-H140,\"\")","v":""},{"$f":"PV($E$5/12,A140-1,0,-D140)","v":{"$error":"#VALUE!"}},null,{"$f":"PV($E$5/12,A140-1,0,-F140)","v":{"$error":"#VALUE!"}},{"$f":"PV($E$5/12,A140-1,0,-G140)","v":{"$error":"#VALUE!"}},{"$f":"PV($E$5/12,A140-1,0,-H140)","v":{"$error":"#VALUE!"}},{"$f":"O139-N140","v":{"$error":"#VALUE!"}},{"$f":"AND(A140<=$E$3)","v":false}]
[130,{"$f":"ROUND(IF(P141=$P$12,B140+1,A141-$E$3),0)","v":130},{"$f":"IF(A141<=$E$3,КАЛЬКУЛЯТОР!$C$21,IF(AND(A141>$E$3,A141<=$E$2),$E$4,\"\"))","v":""},{"$f":"IF(A141<=$E$2,-PMT(C141/12,IF(C141=КАЛЬКУЛЯТОР!$C$21,$E$2,$E$2-$E$3),IF(C141=КАЛЬКУЛЯТОР!$C$21,$I$11,$I$11-SUMIF($A$12:$A$371,\"<=\"&$E$3,$H$12:$H$371)),0,0),\"\")","v":""},null,{"$f":"IFERROR((-IPMT(C141/12,B141,IF(C141=КАЛЬКУЛЯТОР!$C$21,$E$2,$E$2-$E$3),IF(C141=КАЛЬКУЛЯТОР!$C$21,$I$11,$I$11-SUMIF($A$12:$A$371,\"<=\"&$E$3,$H$12:$H$371)),0,0)),\"\")","v":""},{"$f":"IFERROR((-IPMT((C141-'КАЛЬКУЛЯТОР 1'!$P$1)/12,B141,IF(C141=КАЛЬКУЛЯТОР!$C$21,$E$2,$E$2-$E$3),IF(C141=КАЛЬКУЛЯТОР!$C$21,$I$11,$I$11-SUMIF($A$12:$A$371,\"<=\"&$E$3,$H$12:$H$371)),0,0)),\"\")","v":""},{"$f":"IFERROR((-PPMT(C141/12,B141,IF(C141=КАЛЬКУЛЯТОР!$C$21,$E$2,$E$2-$E$3),IF(C141=КАЛЬКУЛЯТОР!$C$21,$I$11,$I$11-SUMIF($A$12:$A$371,\"<=\"&$E$3,$H$12:$H$371)),0,0)),\"\")","v":""},"",{"$error":"#VALUE!"},null,{"$error":"#VALUE!"},{"$error":"#VALUE!"},{"$error":"#VALUE!"},{"$error":"#VALUE!"},false]
[131,131,{"$f":"IF(A142<=$E$3,КАЛЬКУЛЯТОР!$C$21,IF(AND(A142>$E$3,A142<=$E$2),$E$4,\"\"))","v":""},{"$f":"IF(A142<=$E$2,-PMT(C142/12,IF(C142=КАЛЬКУЛЯТОР!$C$21,$E$2,$E$2-$E$3),IF(C142=КАЛЬКУЛЯТОР!$C$21,$I$11,$I$11-SUMIF($A$12:$A$371,\"<=\"&$E$3,$H$12:$H$371)),0,0),\"\")","v":""},null,{"$f":"IFERROR((-IPMT(C142/12,B142,IF(C142=КАЛЬКУЛЯТОР!$C$21,$E$2,$E$2-$E$3),IF(C142=КАЛЬКУЛЯТОР!$C$21,$I$11,$I$11-SUMIF($A$12:$A$371,\"<=\"&$E$3,$H$12:$H$371)),0,0)),\"\")","v":""},{"$f":"IFERROR((-IPMT((C142-'КАЛЬКУЛЯТОР 1'!$P$1)/12,B142,IF(C142=КАЛЬКУЛЯТОР!$C$21,$E$2,$E$2-$E$3),IF(C142=КАЛЬКУЛЯТОР!$C$21,$I$11,$I$11-SUMIF($A$12:$A$371,\"<=\"&$E$3,$H$12:$H$371)),0,0)),\"\")","v":""},{"$f":"IFERROR((-PPMT(C142/12,B142,IF(C142=КАЛЬКУЛЯТОР!$C$21,$E$2,$E$2-$E$3),IF(C142=КАЛЬКУЛЯТОР!$C$21,$I$11,$I$11-SUMIF($A$12:$A$371,\"<=\"&$E$3,$H$12:$H$371)),0,0)),\"\")","v":""},"",{"$error":"#VALUE!"},null,{"$error":"#VALUE!"},{"$error":"#VALUE!"},{"$error":"#VALUE!"},{"$error":"#VALUE!"},false]
[132,132,{"$f":"IF(A143<=$E$3,КАЛЬКУЛЯТОР!$C$21,IF(AND(A143>$E$3,A143<=$E$2),$E$4,\"\"))","v":""},{"$f":"IF(A143<=$E$2,-PMT(C143/12,IF(C143=КАЛЬКУЛЯТОР!$C$21,$E$2,$E$2-$E$3),IF(C143=КАЛЬКУЛЯТОР!$C$21,$I$11,$I$11-SUMIF($A$12:$A$371,\"<=\"&$E$3,$H$12:$H$371)),0,0),\"\")","v":""},null,{"$f":"IFERROR((-IPMT(C143/12,B143,IF(C143=КАЛЬКУЛЯТОР!$C$21,$E$2,$E$2-$E$3),IF(C143=КАЛЬКУЛЯТОР!$C$21,$I$11,$I$11-SUMIF($A$12:$A$371,\"<=\"&$E$3,$H$12:$H$371)),0,0)),\"\")","v":""},{"$f":"IFERROR((-IPMT((C143-'КАЛЬКУЛЯТОР 1'!$P$1)/12,B143,IF(C143=КАЛЬКУЛЯТОР!$C$21,$E$2,$E$2-$E$3),IF(C143=КАЛЬКУЛЯТОР!$C$21,$I$11,$I$11-SUMIF($A$12:$A$371,\"<=\"&$E$3,$H$12:$H$371)),0,0)),\"\")","v":""},{"$f":"IFERROR((-PPMT(C143/12,B143,IF(C143=КАЛЬКУЛЯТОР!$C$21,$E$2,$E$2-$E$3),IF(C143=КАЛЬКУЛЯТОР!$C$21,$I$11,$I$11-SUMIF($A$12:$A$371,\"<=\"&$E$3,$H$12:$H$371)),0,0)),\"\")","v":""},"",{"$error":"#VALUE!"},null,{"$error":"#VALUE!"},{"$error":"#VALUE!"},{"$error":"#VALUE!"},{"$error":"#VALUE!"},false]
[133,133,{"$f":"IF(A144<=$E$3,КАЛЬКУЛЯТОР!$C$21,IF(AND(A144>$E$3,A144<=$E$2),$E$4,\"\"))","v":""},{"$f":"IF(A144<=$E$2,-PMT(C144/12,IF(C144=КАЛЬКУЛЯТОР!$C$21,$E$2,$E$2-$E$3),IF(C144=КАЛЬКУЛЯТОР!$C$21,$I$11,$I$11-SUMIF($A$12:$A$371,\"<=\"&$E$3,$H$12:$H$371)),0,0),\"\")","v":""},{"$f":"IF($E$2>$A143,(I143+SUM(F144:F155))*($K$4+$K$5),0)","v":{"v":0,"d":"0.00"}},{"$f":"IFERROR((-IPMT(C144/12,B144,IF(C144=КАЛЬКУЛЯТОР!$C$21,$E$2,$E$2-$E$3),IF(C144=КАЛЬКУЛЯТОР!$C$21,$I$11,$I$11-SUMIF($A$12:$A$371,\"<=\"&$E$3,$H$12:$H$371)),0,0)),\"\")","v":""},{"$f":"IFERROR((-IPMT((C144-'КАЛЬКУЛЯТОР 1'!$P$1)/12,B144,IF(C144=КАЛЬКУЛЯТОР!$C$21,$E$2,$E$2-$E$3),IF(C144=КАЛЬКУЛЯТОР!$C$21,$I$11,$I$11-SUMIF($A$12:$A$371,\"<=\"&$E$3,$H$12:$H$371)),0,0)),\"\")","v":""},{"$f":"IFERROR((-PPMT(C144/12,B144,IF(C144=КАЛЬКУЛЯТОР!$C$21,$E$2,$E$2-$E$3),IF(C144=КАЛЬКУЛЯТОР!$C$21,$I$11,$I$11-SUMIF($A$12:$A$371,\"<=\"&$E$3,$H$12:$H$371)),0,0)),\"\")","v":""},"",{"$error":"#VALUE!"},{"$f":"PV($E$5/12,A144-1,0,-E144)","v":{"v":0,"d":"0.00"}},{"$error":"#VALUE!"},{"$error":"#VALUE!"},{"$error":"#VALUE!"},{"$error":"#VALUE!"},false]
[134,134,{"$f":"IF(A145<=$E$3,КАЛЬКУЛЯТОР!$C$21,IF(AND(A145>$E$3,A145<=$E$2),$E$4,\"\"))","v":""},{"$f":"IF(A145<=$E$2,-PMT(C145/12,IF(C145=КАЛЬКУЛЯТОР!$C$21,$E$2,$E$2-$E$3),IF(C145=КАЛЬКУЛЯТОР!$C$21,$I$11,$I$11-SUMIF($A$12:$A$371,\"<=\"&$E$3,$H$12:$H$371)),0,0),\"\")","v":""},null,{"$f":"IFERROR((-IPMT(C145/12,B145,IF(C145=КАЛЬКУЛЯТОР!$C$21,$E$2,$E$2-$E$3),IF(C145=КАЛЬКУЛЯТОР!$C$21,$I$11,$I$11-SUMIF($A$12:$A$371,\"<=\"&$E$3,$H$12:$H$371)),0,0)),\"\")","v":""},{"$f":"IFERROR((-IPMT((C145-'КАЛЬКУЛЯТОР 1'!$P$1)/12,B145,IF(C145=КАЛЬКУЛЯТОР!$C$21,$E$2,$E$2-$E$3),IF(C145=КАЛЬКУЛЯТОР!$C$21,$I$11,$I$11-SUMIF($A$12:$A$371,\"<=\"&$E$3,$H$12:$H$371)),0,0)),\"\")","v":""},{"$f":"IFERROR((-PPMT(C145/12,B145,IF(C145=КАЛЬКУЛЯТОР!$C$21,$E$2,$E$2-$E$3),IF(C145=КАЛЬКУЛЯТОР!$C$21,$I$11,$I$11-SUMIF($A$12:$A$371,\"<=\"&$E$3,$H$12:$H$371)),0,0)),\"\")","v":""},"",{"$error":"#VALUE!"},null,{"$error":"#VALUE!"},{"$error":"#VALUE!"},{"$error":"#VALUE!"},{"$error":"#VALUE!"},false]
[135,135,{"$f":"IF(A146<=$E$3,КАЛЬКУЛЯТОР!$C$21,IF(AND(A146>$E$3,A146<=$E$2),$E$4,\"\"))","v":""},{"$f":"IF(A146<=$E$2,-PMT(C146/12,IF(C146=КАЛЬКУЛЯТОР!$C$21,$E$2,$E$2-$E$3),IF(C146=КАЛЬКУЛЯТОР!$C$21,$I$11,$I$11-SUMIF($A$12:$A$371,\"<=\"&$E$3,$H$12:$H$371)),0,0),\"\")","v":""},null,{"$f":"IFERROR((-IPMT(C146/12,B146,IF(C146=КАЛЬКУЛЯТОР!$C$21,$E$2,$E$2-$E$3),IF(C146=КАЛЬКУЛЯТОР!$C$21,$I$11,$I$11-SUMIF($A$12:$A$371,\"<=\"&$E$3,$H$12:$H$371)),0,0)),\"\")","v":""},{"$f":"IFERROR((-IPMT((C146-'КАЛЬКУЛЯТОР 1'!$P$1)/12,B146,IF(C146=КАЛЬКУЛЯТОР!$C$21,$E$2,$E$2-$E$3),IF(C146=КАЛЬКУЛЯТОР!$C$21,$I$11,$I$11-SUMIF($A$12:$A$371,\"<=\"&$E$3,$H$12:$H$371)),0,0)),\"\")","v":""},{"$f":"IFERROR((-PPMT(C146/12,B146,IF(C146=КАЛЬКУЛЯТОР!$C$21,$E$2,$E$2-$E$3),IF(C146=КАЛЬКУЛЯТОР!$C$21,$I$11,$I$11-SUMIF($A$12:$A$371,\"<=\"&$E$3,$H$12:$H$371)),0,0)),\"\")","v":""},"",{"$error":"#VALUE!"},null,{"$error":"#VALUE!"},{"$error":"#VALUE!"},{"$error":"#VALUE!"},{"$error":"#VALUE!"},false]
[136,136,{"$f":"IF(A147<=$E$3,КАЛЬКУЛЯТОР!$C$21,IF(AND(A147>$E$3,A147<=$E$2),$E$4,\"\"))","v":""},{"$f":"IF(A147<=$E$2,-PMT(C147/12,IF(C147=КАЛЬКУЛЯТОР!$C$21,$E$2,$E$2-$E$3),IF(C147=КАЛЬКУЛЯТОР!$C$21,$I$11,$I$11-SUMIF($A$12:$A$371,\"<=\"&$E$3,$H$12:$H$371)),0,0),\"\")","v":""},null,{"$f":"IFERROR((-IPMT(C147/12,B147,IF(C147=КАЛЬКУЛЯТОР!$C$21,$E$2,$E$2-$E$3),IF(C147=КАЛЬКУЛЯТОР!$C$21,$I$11,$I$11-SUMIF($A$12:$A$371,\"<=\"&$E$3,$H$12:$H$371)),0,0)),\"\")","v":""},{"$f":"IFERROR((-IPMT((C147-'КАЛЬКУЛЯТОР 1'!$P$1)/12,B147,IF(C147=КАЛЬКУЛЯТОР!$C$21,$E$2,$E$2-$E$3),IF(C147=КАЛЬКУЛЯТОР!$C$21,$I$11,$I$11-SUMIF($A$12:$A$371,\"<=\"&$E$3,$H$12:$H$371)),0,0)),\"\")","v":""},{"$f":"IFERROR((-PPMT(C147/12,B147,IF(C147=КАЛЬКУЛЯТОР!$C$21,$E$2,$E$2-$E$3),IF(C147=КАЛЬКУЛЯТОР!$C$21,$I$11,$I$11-SUMIF($A$12:$A$371,\"<=\"&$E$3,$H$12:$H$371)),0,0)),\"\")","v":""},"",{"$error":"#VALUE!"},null,{"$error":"#VALUE!"},{"$error":"#VALUE!"},{"$error":"#VALUE!"},{"$error":"#VALUE!"},false]
[137,137,{"$f":"IF(A148<=$E$3,КАЛЬКУЛЯТОР!$C$21,IF(AND(A148>$E$3,A148<=$E$2),$E$4,\"\"))","v":""},{"$f":"IF(A148<=$E$2,-PMT(C148/12,IF(C148=КАЛЬКУЛЯТОР!$C$21,$E$2,$E$2-$E$3),IF(C148=КАЛЬКУЛЯТОР!$C$21,$I$11,$I$11-SUMIF($A$12:$A$371,\"<=\"&$E$3,$H$12:$H$371)),0,0),\"\")","v":""},null,{"$f":"IFERROR((-IPMT(C148/12,B148,IF(C148=КАЛЬКУЛЯТОР!$C$21,$E$2,$E$2-$E$3),IF(C148=КАЛЬКУЛЯТОР!$C$21,$I$11,$I$11-SUMIF($A$12:$A$371,\"<=\"&$E$3,$H$12:$H$371)),0,0)),\"\")","v":""},{"$f":"IFERROR((-IPMT((C148-'КАЛЬКУЛЯТОР 1'!$P$1)/12,B148,IF(C148=КАЛЬКУЛЯТОР!$C$21,$E$2,$E$2-$E$3),IF(C148=КАЛЬКУЛЯТОР!$C$21,$I$11,$I$11-SUMIF($A$12:$A$371,\"<=\"&$E$3,$H$12:$H$371)),0,0)),\"\")","v":""},{"$f":"IFERROR((-PPMT(C148/12,B148,IF(C148=КАЛЬКУЛЯТОР!$C$21,$E$2,$E$2-$E$3),IF(C148=КАЛЬКУЛЯТОР!$C$21,$I$11,$I$11-SUMIF($A$12:$A$371,\"<=\"&$E$3,$H$12:$H$371)),0,0)),\"\")","v":""},"",{"$error":"#VALUE!"},null,{"$error":"#VALUE!"},{"$error":"#VALUE!"},{"$error":"#VALUE!"},{"$error":"#VALUE!"},false]
[138,138,{"$f":"IF(A149<=$E$3,КАЛЬКУЛЯТОР!$C$21,IF(AND(A149>$E$3,A149<=$E$2),$E$4,\"\"))","v":""},{"$f":"IF(A149<=$E$2,-PMT(C149/12,IF(C149=КАЛЬКУЛЯТОР!$C$21,$E$2,$E$2-$E$3),IF(C149=КАЛЬКУЛЯТОР!$C$21,$I$11,$I$11-SUMIF($A$12:$A$371,\"<=\"&$E$3,$H$12:$H$371)),0,0),\"\")","v":""},null,{"$f":"IFERROR((-IPMT(C149/12,B149,IF(C149=КАЛЬКУЛЯТОР!$C$21,$E$2,$E$2-$E$3),IF(C149=КАЛЬКУЛЯТОР!$C$21,$I$11,$I$11-SUMIF($A$12:$A$371,\"<=\"&$E$3,$H$12:$H$371)),0,0)),\"\")","v":""},{"$f":"IFERROR((-IPMT((C149-'КАЛЬКУЛЯТОР 1'!$P$1)/12,B149,IF(C149=КАЛЬКУЛЯТОР!$C$21,$E$2,$E$2-$E$3),IF(C149=КАЛЬКУЛЯТОР!$C$21,$I$11,$I$11-SUMIF($A$12:$A$371,\"<=\"&$E$3,$H$12:$H$371)),0,0)),\"\")","v":""},{"$f":"IFERROR((-PPMT(C149/12,B149,IF(C149=КАЛЬКУЛЯТОР!$C$21,$E$2,$E$2-$E$3),IF(C149=КАЛЬКУЛЯТОР!$C$21,$I$11,$I$11-SUMIF($A$12:$A$371,\"<=\"&$E$3,$H$12:$H$371)),0,0)),\"\")","v":""},"",{"$error":"#VALUE!"},null,{"$error":"#VALUE!"},{"$error":"#VALUE!"},{"$error":"#VALUE!"},{"$error":"#VALUE!"},false]
[139,139,{"$f":"IF(A150<=$E$3,КАЛЬКУЛЯТОР!$C$21,IF(AND(A150>$E$3,A150<=$E$2),$E$4,\"\"))","v":""},{"$f":"IF(A150<=$E$2,-PMT(C150/12,IF(C150=КАЛЬКУЛЯТОР!$C$21,$E$2,$E$2-$E$3),IF(C150=КАЛЬКУЛЯТОР!$C$21,$I$11,$I$11-SUMIF($A$12:$A$371,\"<=\"&$E$3,$H$12:$H$371)),0,0),\"\")","v":""},null,{"$f":"IFERROR((-IPMT(C150/12,B150,IF(C150=КАЛЬКУЛЯТОР!$C$21,$E$2,$E$2-$E$3),IF(C150=КАЛЬКУЛЯТОР!$C$21,$I$11,$I$11-SUMIF($A$12:$A$371,\"<=\"&$E$3,$H$12:$H$371)),0,0)),\"\")","v":""},{"$f":"IFERROR((-IPMT((C150-'КАЛЬКУЛЯТОР 1'!$P$1)/12,B150,IF(C150=КАЛЬКУЛЯТОР!$C$21,$E$2,$E$2-$E$3),IF(C150=КАЛЬКУЛЯТОР!$C$21,$I$11,$I$11-SUMIF($A$12:$A$371,\"<=\"&$E$3,$H$12:$H$371)),0,0)),\"\")","v":""},{"$f":"IFERROR((-PPMT(C150/12,B150,IF(C150=КАЛЬКУЛЯТОР!$C$21,$E$2,$E$2-$E$3),IF(C150=КАЛЬКУЛЯТОР!$C$21,$I$11,$I$11-SUMIF($A$12:$A$371,\"<=\"&$E$3,$H$12:$H$371)),0,0)),\"\")","v":""},"",{"$error":"#VALUE!"},null,{"$error":"#VALUE!"},{"$error":"#VALUE!"},{"$error":"#VALUE!"},{"$error":"#VALUE!"},false]
[140,140,{"$f":"IF(A151<=$E$3,КАЛЬКУЛЯТОР!$C$21,IF(AND(A151>$E$3,A151<=$E$2),$E$4,\"\"))","v":""},{"$f":"IF(A151<=$E$2,-PMT(C151/12,IF(C151=КАЛЬКУЛЯТОР!$C$21,$E$2,$E$2-$E$3),IF(C151=КАЛЬКУЛЯТОР!$C$21,$I$11,$I$11-SUMIF($A$12:$A$371,\"<=\"&$E$3,$H$12:$H$371)),0,0),\"\")","v":""},null,{"$f":"IFERROR((-IPMT(C151/12,B151,IF(C151=КАЛЬКУЛЯТОР!$C$21,$E$2,$E$2-$E$3),IF(C151=КАЛЬКУЛЯТОР!$C$21,$I$11,$I$11-SUMIF($A$12:$A$371,\"<=\"&$E$3,$H$12:$H$371)),0,0)),\"\")","v":""},{"$f":"IFERROR((-IPMT((C151-'КАЛЬКУЛЯТОР 1'!$P$1)/12,B151,IF(C151=КАЛЬКУЛЯТОР!$C$21,$E$2,$E$2-$E$3),IF(C151=КАЛЬКУЛЯТОР!$C$21,$I$11,$I$11-SUMIF($A$12:$A$371,\"<=\"&$E$3,$H$12:$H$371)),0,0)),\"\")","v":""},{"$f":"IFERROR((-PPMT(C151/12,B151,IF(C151=КАЛЬКУЛЯТОР!$C$21,$E$2,$E$2-$E$3),IF(C151=КАЛЬКУЛЯТОР!$C$21,$I$11,$I$11-SUMIF($A$12:$A$371,\"<=\"&$E$3,$H$12:$H$371)),0,0)),\"\")","v":""},"",{"$error":"#VALUE!"},null,{"$error":"#VALUE!"},{"$error":"#VALUE!"},{"$error":"#VALUE!"},{"$error":"#VALUE!"},false]
[141,141,{"$f":"IF(A152<=$E$3,КАЛЬКУЛЯТОР!$C$21,IF(AND(A152>$E$3,A152<=$E$2),$E$4,\"\"))","v":""},{"$f":"IF(A152<=$E$2,-PMT(C152/12,IF(C152=КАЛЬКУЛЯТОР!$C$21,$E$2,$E$2-$E$3),IF(C152=КАЛЬКУЛЯТОР!$C$21,$I$11,$I$11-SUMIF($A$12:$A$371,\"<=\"&$E$3,$H$12:$H$371)),0,0),\"\")","v":""},null,{"$f":"IFERROR((-IPMT(C152/12,B152,IF(C152=КАЛЬКУЛЯТОР!$C$21,$E$2,$E$2-$E$3),IF(C152=КАЛЬКУЛЯТОР!$C$21,$I$11,$I$11-SUMIF($A$12:$A$371,\"<=\"&$E$3,$H$12:$H$371)),0,0)),\"\")","v":""},{"$f":"IFERROR((-IPMT((C152-'КАЛЬКУЛЯТОР 1'!$P$1)/12,B152,IF(C152=КАЛЬКУЛЯТОР!$C$21,$E$2,$E$2-$E$3),IF(C152=КАЛЬКУЛЯТОР!$C$21,$I$11,$I$11-SUMIF($A$12:$A$371,\"<=\"&$E$3,$H$12:$H$371)),0,0)),\"\")","v":""},{"$f":"IFERROR((-PPMT(C152/12,B152,IF(C152=КАЛЬКУЛЯТОР!$C$21,$E$2,$E$2-$E$3),IF(C152=КАЛЬКУЛЯТОР!$C$21,$I$11,$I$11-SUMIF($A$12:$A$371,\"<=\"&$E$3,$H$12:$H$371)),0,0)),\"\")","v":""},"",{"$error":"#VALUE!"},null,{"$error":"#VALUE!"},{"$error":"#VALUE!"},{"$error":"#VALUE!"},{"$error":"#VALUE!"},false]
[142,142,{"$f":"IF(A153<=$E$3,КАЛЬКУЛЯТОР!$C$21,IF(AND(A153>$E$3,A153<=$E$2),$E$4,\"\"))","v":""},{"$f":"IF(A153<=$E$2,-PMT(C153/12,IF(C153=КАЛЬКУЛЯТОР!$C$21,$E$2,$E$2-$E$3),IF(C153=КАЛЬКУЛЯТОР!$C$21,$I$11,$I$11-SUMIF($A$12:$A$371,\"<=\"&$E$3,$H$12:$H$371)),0,0),\"\")","v":""},null,{"$f":"IFERROR((-IPMT(C153/12,B153,IF(C153=КАЛЬКУЛЯТОР!$C$21,$E$2,$E$2-$E$3),IF(C153=КАЛЬКУЛЯТОР!$C$21,$I$11,$I$11-SUMIF($A$12:$A$371,\"<=\"&$E$3,$H$12:$H$371)),0,0)),\"\")","v":""},{"$f":"IFERROR((-IPMT((C153-'КАЛЬКУЛЯТОР 1'!$P$1)/12,B153,IF(C153=КАЛЬКУЛЯТОР!$C$21,$E$2,$E$2-$E$3),IF(C153=КАЛЬКУЛЯТОР!$C$21,$I$11,$I$11-SUMIF($A$12:$A$371,\"<=\"&$E$3,$H$12:$H$371)),0,0)),\"\")","v":""},{"$f":"IFERROR((-PPMT(C153/12,B153,IF(C153=КАЛЬКУЛЯТОР!$C$21,$E$2,$E$2-$E$3),IF(C153=КАЛЬКУЛЯТОР!$C$21,$I$11,$I$11-SUMIF($A$12:$A$371,\"<=\"&$E$3,$H$12:$H$371)),0,0)),\"\")","v":""},"",{"$error":"#VALUE!"},null,{"$error":"#VALUE!"},{"$error":"#VALUE!"},{"$error":"#VALUE!"},{"$error":"#VALUE!"},false]
[143,143,{"$f":"IF(A154<=$E$3,КАЛЬКУЛЯТОР!$C$21,IF(AND(A154>$E$3,A154<=$E$2),$E$4,\"\"))","v":""},{"$f":"IF(A154<=$E$2,-PMT(C154/12,IF(C154=КАЛЬКУЛЯТОР!$C$21,$E$2,$E$2-$E$3),IF(C154=КАЛЬКУЛЯТОР!$C$21,$I$11,$I$11-SUMIF($A$12:$A$371,\"<=\"&$E$3,$H$12:$H$371)),0,0),\"\")","v":""},null,{"$f":"IFERROR((-IPMT(C154/12,B154,IF(C154=КАЛЬКУЛЯТОР!$C$21,$E$2,$E$2-$E$3),IF(C154=КАЛЬКУЛЯТОР!$C$21,$I$11,$I$11-SUMIF($A$12:$A$371,\"<=\"&$E$3,$H$12:$H$371)),0,0)),\"\")","v":""},{"$f":"IFERROR((-IPMT((C154-'КАЛЬКУЛЯТОР 1'!$P$1)/12,B154,IF(C154=КАЛЬКУЛЯТОР!$C$21,$E$2,$E$2-$E$3),IF(C154=КАЛЬКУЛЯТОР!$C$21,$I$11,$I$11-SUMIF($A$12:$A$371,\"<=\"&$E$3,$H$12:$H$371)),0,0)),\"\")","v":""},{"$f":"IFERROR((-PPMT(C154/12,B154,IF(C154=КАЛЬКУЛЯТОР!$C$21,$E$2,$E$2-$E$3),IF(C154=КАЛЬКУЛЯТОР!$C$21,$I$11,$I$11-SUMIF($A$12:$A$371,\"<=\"&$E$3,$H$12:$H$371)),0,0)),\"\")","v":""},"",{"$error":"#VALUE!"},null,{"$error":"#VALUE!"},{"$error":"#VALUE!"},{"$error":"#VALUE!"},{"$error":"#VALUE!"},false]
[144,144,{"$f":"IF(A155<=$E$3,КАЛЬКУЛЯТОР!$C$21,IF(AND(A155>$E$3,A155<=$E$2),$E$4,\"\"))","v":""},{"$f":"IF(A155<=$E$2,-PMT(C155/12,IF(C155=КАЛЬКУЛЯТОР!$C$21,$E$2,$E$2-$E$3),IF(C155=КАЛЬКУЛЯТОР!$C$21,$I$11,$I$11-SUMIF($A$12:$A$371,\"<=\"&$E$3,$H$12:$H$371)),0,0),\"\")","v":""},null,{"$f":"IFERROR((-IPMT(C155/12,B155,IF(C155=КАЛЬКУЛЯТОР!$C$21,$E$2,$E$2-$E$3),IF(C155=КАЛЬКУЛЯТОР!$C$21,$I$11,$I$11-SUMIF($A$12:$A$371,\"<=\"&$E$3,$H$12:$H$371)),0,0)),\"\")","v":""},{"$f":"IFERROR((-IPMT((C155-'КАЛЬКУЛЯТОР 1'!$P$1)/12,B155,IF(C155=КАЛЬКУЛЯТОР!$C$21,$E$2,$E$2-$E$3),IF(C155=КАЛЬКУЛЯТОР!$C$21,$I$11,$I$11-SUMIF($A$12:$A$371,\"<=\"&$E$3,$H$12:$H$371)),0,0)),\"\")","v":""},{"$f":"IFERROR((-PPMT(C155/12,B155,IF(C155=КАЛЬКУЛЯТОР!$C$21,$E$2,$E$2-$E$3),IF(C155=КАЛЬКУЛЯТОР!$C$21,$I$11,$I$11-SUMIF($A$12:$A$371,\"<=\"&$E$3,$H$12:$H$371)),0,0)),\"\")","v":""},"",{"$error":"#VALUE!"},null,{"$error":"#VALUE!"},{"$error":"#VALUE!"},{"$error":"#VALUE!"},{"$error":"#VALUE!"},false]
[145,145,{"$f":"IF(A156<=$E$3,КАЛЬКУЛЯТОР!$C$21,IF(AND(A156>$E$3,A156<=$E$2),$E$4,\"\"))","v":""},{"$f":"IF(A156<=$E$2,-PMT(C156/12,IF(C156=КАЛЬКУЛЯТОР!$C$21,$E$2,$E$2-$E$3),IF(C156=КАЛЬКУЛЯТОР!$C$21,$I$11,$I$11-SUMIF($A$12:$A$371,\"<=\"&$E$3,$H$12:$H$371)),0,0),\"\")","v":""},{"$f":"IF($E$2>$A155,(I155+SUM(F156:F167))*($K$4+$K$5),0)","v":{"v":0,"d":"0.00"}},{"$f":"IFERROR((-IPMT(C156/12,B156,IF(C156=КАЛЬКУЛЯТОР!$C$21,$E$2,$E$2-$E$3),IF(C156=КАЛЬКУЛЯТОР!$C$21,$I$11,$I$11-SUMIF($A$12:$A$371,\"<=\"&$E$3,$H$12:$H$371)),0,0)),\"\")","v":""},{"$f":"IFERROR((-IPMT((C156-'КАЛЬКУЛЯТОР 1'!$P$1)/12,B156,IF(C156=КАЛЬКУЛЯТОР!$C$21,$E$2,$E$2-$E$3),IF(C156=КАЛЬКУЛЯТОР!$C$21,$I$11,$I$11-SUMIF($A$12:$A$371,\"<=\"&$E$3,$H$12:$H$371)),0,0)),\"\")","v":""},{"$f":"IFERROR((-PPMT(C156/12,B156,IF(C156=КАЛЬКУЛЯТОР!$C$21,$E$2,$E$2-$E$3),IF(C156=КАЛЬКУЛЯТОР!$C$21,$I$11,$I$11-SUMIF($A$12:$A$371,\"<=\"&$E$3,$H$12:$H$371)),0,0)),\"\")","v":""},"",{"$error":"#VALUE!"},{"$f":"PV($E$5/12,A156-1,0,-E156)","v":{"v":0,"d":"0.00"}},{"$error":"#VALUE!"},{"$error":"#VALUE!"},{"$error":"#VALUE!"},{"$error":"#VALUE!"},false]
[146,146,{"$f":"IF(A157<=$E$3,КАЛЬКУЛЯТОР!$C$21,IF(AND(A157>$E$3,A157<=$E$2),$E$4,\"\"))","v":""},{"$f":"IF(A157<=$E$2,-PMT(C157/12,IF(C157=КАЛЬКУЛЯТОР!$C$21,$E$2,$E$2-$E$3),IF(C157=КАЛЬКУЛЯТОР!$C$21,$I$11,$I$11-SUMIF($A$12:$A$371,\"<=\"&$E$3,$H$12:$H$371)),0,0),\"\")","v":""},null,{"$f":"IFERROR((-IPMT(C157/12,B157,IF(C157=КАЛЬКУЛЯТОР!$C$21,$E$2,$E$2-$E$3),IF(C157=КАЛЬКУЛЯТОР!$C$21,$I$11,$I$11-SUMIF($A$12:$A$371,\"<=\"&$E$3,$H$12:$H$371)),0,0)),\"\")","v":""},{"$f":"IFERROR((-IPMT((C157-'КАЛЬКУЛЯТОР 1'!$P$1)/12,B157,IF(C157=КАЛЬКУЛЯТОР!$C$21,$E$2,$E$2-$E$3),IF(C157=КАЛЬКУЛЯТОР!$C$21,$I$11,$I$11-SUMIF($A$12:$A$371,\"<=\"&$E$3,$H$12:$H$371)),0,0)),\"\")","v":""},{"$f":"IFERROR((-PPMT(C157/12,B157,IF(C157=КАЛЬКУЛЯТОР!$C$21,$E$2,$E$2-$E$3),IF(C157=КАЛЬКУЛЯТОР!$C$21,$I$11,$I$11-SUMIF($A$12:$A$371,\"<=\"&$E$3,$H$12:$H$371)),0,0)),\"\")","v":""},"",{"$error":"#VALUE!"},null,{"$error":"#VALUE!"},{"$error":"#VALUE!"},{"$error":"#VALUE!"},{"$error":"#VALUE!"},false]
[147,147,{"$f":"IF(A158<=$E$3,КАЛЬКУЛЯТОР!$C$21,IF(AND(A158>$E$3,A158<=$E$2),$E$4,\"\"))","v":""},{"$f":"IF(A158<=$E$2,-PMT(C158/12,IF(C158=КАЛЬКУЛЯТОР!$C$21,$E$2,$E$2-$E$3),IF(C158=КАЛЬКУЛЯТОР!$C$21,$I$11,$I$11-SUMIF($A$12:$A$371,\"<=\"&$E$3,$H$12:$H$371)),0,0),\"\")","v":""},null,{"$f":"IFERROR((-IPMT(C158/12,B158,IF(C158=КАЛЬКУЛЯТОР!$C$21,$E$2,$E$2-$E$3),IF(C158=КАЛЬКУЛЯТОР!$C$21,$I$11,$I$11-SUMIF($A$12:$A$371,\"<=\"&$E$3,$H$12:$H$371)),0,0)),\"\")","v":""},{"$f":"IFERROR((-IPMT((C158-'КАЛЬКУЛЯТОР 1'!$P$1)/12,B158,IF(C158=КАЛЬКУЛЯТОР!$C$21,$E$2,$E$2-$E$3),IF(C158=КАЛЬКУЛЯТОР!$C$21,$I$11,$I$11-SUMIF($A$12:$A$371,\"<=\"&$E$3,$H$12:$H$371)),0,0)),\"\")","v":""},{"$f":"IFERROR((-PPMT(C158/12,B158,IF(C158=КАЛЬКУЛЯТОР!$C$21,$E$2,$E$2-$E$3),IF(C158=КАЛЬКУЛЯТОР!$C$21,$I$11,$I$11-SUMIF($A$12:$A$371,\"<=\"&$E$3,$H$12:$H$371)),0,0)),\"\")","v":""},"",{"$error":"#VALUE!"},null,{"$error":"#VALUE!"},{"$error":"#VALUE!"},{"$error":"#VALUE!"},{"$error":"#VALUE!"},false]
[148,148,{"$f":"IF(A159<=$E$3,КАЛЬКУЛЯТОР!$C$21,IF(AND(A159>$E$3,A159<=$E$2),$E$4,\"\"))","v":""},{"$f":"IF(A159<=$E$2,-PMT(C159/12,IF(C159=КАЛЬКУЛЯТОР!$C$21,$E$2,$E$2-$E$3),IF(C159=КАЛЬКУЛЯТОР!$C$21,$I$11,$I$11-SUMIF($A$12:$A$371,\"<=\"&$E$3,$H$12:$H$371)),0,0),\"\")","v":""},null,{"$f":"IFERROR((-IPMT(C159/12,B159,IF(C159=КАЛЬКУЛЯТОР!$C$21,$E$2,$E$2-$E$3),IF(C159=КАЛЬКУЛЯТОР!$C$21,$I$11,$I$11-SUMIF($A$12:$A$371,\"<=\"&$E$3,$H$12:$H$371)),0,0)),\"\")","v":""},{"$f":"IFERROR((-IPMT((C159-'КАЛЬКУЛЯТОР 1'!$P$1)/12,B159,IF(C159=КАЛЬКУЛЯТОР!$C$21,$E$2,$E$2-$E$3),IF(C159=КАЛЬКУЛЯТОР!$C$21,$I$11,$I$11-SUMIF($A$12:$A$371,\"<=\"&$E$3,$H$12:$H$371)),0,0)),\"\")","v":""},{"$f":"IFERROR((-PPMT(C159/12,B159,IF(C159=КАЛЬКУЛЯТОР!$C$21,$E$2,$E$2-$E$3),IF(C159=КАЛЬКУЛЯТОР!$C$21,$I$11,$I$11-SUMIF($A$12:$A$371,\"<=\"&$E$3,$H$12:$H$371)),0,0)),\"\")","v":""},"",{"$error":"#VALUE!"},null,{"$error":"#VALUE!"},{"$error":"#VALUE!"},{"$error":"#VALUE!"},{"$error":"#VALUE!"},false]
[149,149,{"$f":"IF(A160<=$E$3,КАЛЬКУЛЯТОР!$C$21,IF(AND(A160>$E$3,A160<=$E$2),$E$4,\"\"))","v":""},{"$f":"IF(A160<=$E$2,-PMT(C160/12,IF(C160=КАЛЬКУЛЯТОР!$C$21,$E$2,$E$2-$E$3),IF(C160=КАЛЬКУЛЯТОР!$C$21,$I$11,$I$11-SUMIF($A$12:$A$371,\"<=\"&$E$3,$H$12:$H$371)),0,0),\"\")","v":""},null,{"$f":"IFERROR((-IPMT(C160/12,B160,IF(C160=КАЛЬКУЛЯТОР!$C$21,$E$2,$E$2-$E$3),IF(C160=КАЛЬКУЛЯТОР!$C$21,$I$11,$I$11-SUMIF($A$12:$A$371,\"<=\"&$E$3,$H$12:$H$371)),0,0)),\"\")","v":""},{"$f":"IFERROR((-IPMT((C160-'КАЛЬКУЛЯТОР 1'!$P$1)/12,B160,IF(C160=КАЛЬКУЛЯТОР!$C$21,$E$2,$E$2-$E$3),IF(C160=КАЛЬКУЛЯТОР!$C$21,$I$11,$I$11-SUMIF($A$12:$A$371,\"<=\"&$E$3,$H$12:$H$371)),0,0)),\"\")","v":""},{"$f":"IFERROR((-PPMT(C160/12,B160,IF(C160=КАЛЬКУЛЯТОР!$C$21,$E$2,$E$2-$E$3),IF(C160=КАЛЬКУЛЯТОР!$C$21,$I$11,$I$11-SUMIF($A$12:$A$371,\"<=\"&$E$3,$H$12:$H$371)),0,0)),\"\")","v":""},"",{"$error":"#VALUE!"},null,{"$error":"#VALUE!"},{"$error":"#VALUE!"},{"$error":"#VALUE!"},{"$error":"#VALUE!"},false]
[150,150,{"$f":"IF(A161<=$E$3,КАЛЬКУЛЯТОР!$C$21,IF(AND(A161>$E$3,A161<=$E$2),$E$4,\"\"))","v":""},{"$f":"IF(A161<=$E$2,-PMT(C161/12,IF(C161=КАЛЬКУЛЯТОР!$C$21,$E$2,$E$2-$E$3),IF(C161=КАЛЬКУЛЯТОР!$C$21,$I$11,$I$11-SUMIF($A$12:$A$371,\"<=\"&$E$3,$H$12:$H$371)),0,0),\"\")","v":""},null,{"$f":"IFERROR((-IPMT(C161/12,B161,IF(C161=КАЛЬКУЛЯТОР!$C$21,$E$2,$E$2-$E$3),IF(C161=КАЛЬКУЛЯТОР!$C$21,$I$11,$I$11-SUMIF($A$12:$A$371,\"<=\"&$E$3,$H$12:$H$371)),0,0)),\"\")","v":""},{"$f":"IFERROR((-IPMT((C161-'КАЛЬКУЛЯТОР 1'!$P$1)/12,B161,IF(C161=КАЛЬКУЛЯТОР!$C$21,$E$2,$E$2-$E$3),IF(C161=КАЛЬКУЛЯТОР!$C$21,$I$11,$I$11-SUMIF($A$12:$A$371,\"<=\"&$E$3,$H$12:$H$371)),0,0)),\"\")","v":""},{"$f":"IFERROR((-PPMT(C161/12,B161,IF(C161=КАЛЬКУЛЯТОР!$C$21,$E$2,$E$2-$E$3),IF(C161=КАЛЬКУЛЯТОР!$C$21,$I$11,$I$11-SUMIF($A$12:$A$371,\"<=\"&$E$3,$H$12:$H$371)),0,0)),\"\")","v":""},"",{"$error":"#VALUE!"},null,{"$error":"#VALUE!"},{"$error":"#VALUE!"},{"$error":"#VALUE!"},{"$error":"#VALUE!"},false]
[151,151,{"$f":"IF(A162<=$E$3,КАЛЬКУЛЯТОР!$C$21,IF(AND(A162>$E$3,A162<=$E$2),$E$4,\"\"))","v":""},{"$f":"IF(A162<=$E$2,-PMT(C162/12,IF(C162=КАЛЬКУЛЯТОР!$C$21,$E$2,$E$2-$E$3),IF(C162=КАЛЬКУЛЯТОР!$C$21,$I$11,$I$11-SUMIF($A$12:$A$371,\"<=\"&$E$3,$H$12:$H$371)),0,0),\"\")","v":""},null,{"$f":"IFERROR((-IPMT(C162/12,B162,IF(C162=КАЛЬКУЛЯТОР!$C$21,$E$2,$E$2-$E$3),IF(C162=КАЛЬКУЛЯТОР!$C$21,$I$11,$I$11-SUMIF($A$12:$A$371,\"<=\"&$E$3,$H$12:$H$371)),0,0)),\"\")","v":""},{"$f":"IFERROR((-IPMT((C162-'КАЛЬКУЛЯТОР 1'!$P$1)/12,B162,IF(C162=КАЛЬКУЛЯТОР!$C$21,$E$2,$E$2-$E$3),IF(C162=КАЛЬКУЛЯТОР!$C$21,$I$11,$I$11-SUMIF($A$12:$A$371,\"<=\"&$E$3,$H$12:$H$371)),0,0)),\"\")","v":""},{"$f":"IFERROR((-PPMT(C162/12,B162,IF(C162=КАЛЬКУЛЯТОР!$C$21,$E$2,$E$2-$E$3),IF(C162=КАЛЬКУЛЯТОР!$C$21,$I$11,$I$11-SUMIF($A$12:$A$371,\"<=\"&$E$3,$H$12:$H$371)),0,0)),\"\")","v":""},"",{"$error":"#VALUE!"},null,{"$error":"#VALUE!"},{"$error":"#VALUE!"},{"$error":"#VALUE!"},{"$error":"#VALUE!"},false]
[152,152,{"$f":"IF(A163<=$E$3,КАЛЬКУЛЯТОР!$C$21,IF(AND(A163>$E$3,A163<=$E$2),$E$4,\"\"))","v":""},{"$f":"IF(A163<=$E$2,-PMT(C163/12,IF(C163=КАЛЬКУЛЯТОР!$C$21,$E$2,$E$2-$E$3),IF(C163=КАЛЬКУЛЯТОР!$C$21,$I$11,$I$11-SUMIF($A$12:$A$371,\"<=\"&$E$3,$H$12:$H$371)),0,0),\"\")","v":""},null,{"$f":"IFERROR((-IPMT(C163/12,B163,IF(C163=КАЛЬКУЛЯТОР!$C$21,$E$2,$E$2-$E$3),IF(C163=КАЛЬКУЛЯТОР!$C$21,$I$11,$I$11-SUMIF($A$12:$A$371,\"<=\"&$E$3,$H$12:$H$371)),0,0)),\"\")","v":""},{"$f":"IFERROR((-IPMT((C163-'КАЛЬКУЛЯТОР 1'!$P$1)/12,B163,IF(C163=КАЛЬКУЛЯТОР!$C$21,$E$2,$E$2-$E$3),IF(C163=КАЛЬКУЛЯТОР!$C$21,$I$11,$I$11-SUMIF($A$12:$A$371,\"<=\"&$E$3,$H$12:$H$371)),0,0)),\"\")","v":""},{"$f":"IFERROR((-PPMT(C163/12,B163,IF(C163=КАЛЬКУЛЯТОР!$C$21,$E$2,$E$2-$E$3),IF(C163=КАЛЬКУЛЯТОР!$C$21,$I$11,$I$11-SUMIF($A$12:$A$371,\"<=\"&$E$3,$H$12:$H$371)),0,0)),\"\")","v":""},"",{"$error":"#VALUE!"},null,{"$error":"#VALUE!"},{"$error":"#VALUE!"},{"$error":"#VALUE!"},{"$error":"#VALUE!"},false]
[153,153,{"$f":"IF(A164<=$E$3,КАЛЬКУЛЯТОР!$C$21,IF(AND(A164>$E$3,A164<=$E$2),$E$4,\"\"))","v":""},{"$f":"IF(A164<=$E$2,-PMT(C164/12,IF(C164=КАЛЬКУЛЯТОР!$C$21,$E$2,$E$2-$E$3),IF(C164=КАЛЬКУЛЯТОР!$C$21,$I$11,$I$11-SUMIF($A$12:$A$371,\"<=\"&$E$3,$H$12:$H$371)),0,0),\"\")","v":""},null,{"$f":"IFERROR((-IPMT(C164/12,B164,IF(C164=КАЛЬКУЛЯТОР!$C$21,$E$2,$E$2-$E$3),IF(C164=КАЛЬКУЛЯТОР!$C$21,$I$11,$I$11-SUMIF($A$12:$A$371,\"<=\"&$E$3,$H$12:$H$371)),0,0)),\"\")","v":""},{"$f":"IFERROR((-IPMT((C164-'КАЛЬКУЛЯТОР 1'!$P$1)/12,B164,IF(C164=КАЛЬКУЛЯТОР!$C$21,$E$2,$E$2-$E$3),IF(C164=КАЛЬКУЛЯТОР!$C$21,$I$11,$I$11-SUMIF($A$12:$A$371,\"<=\"&$E$3,$H$12:$H$371)),0,0)),\"\")","v":""},{"$f":"IFERROR((-PPMT(C164/12,B164,IF(C164=КАЛЬКУЛЯТОР!$C$21,$E$2,$E$2-$E$3),IF(C164=КАЛЬКУЛЯТОР!$C$21,$I$11,$I$11-SUMIF($A$12:$A$371,\"<=\"&$E$3,$H$12:$H$371)),0,0)),\"\")","v":""},"",{"$error":"#VALUE!"},null,{"$error":"#VALUE!"},{"$error":"#VALUE!"},{"$error":"#VALUE!"},{"$error":"#VALUE!"},false]
[154,154,{"$f":"IF(A165<=$E$3,КАЛЬКУЛЯТОР!$C$21,IF(AND(A165>$E$3,A165<=$E$2),$E$4,\"\"))","v":""},{"$f":"IF(A165<=$E$2,-PMT(C165/12,IF(C165=КАЛЬКУЛЯТОР!$C$21,$E$2,$E$2-$E$3),IF(C165=КАЛЬКУЛЯТОР!$C$21,$I$11,$I$11-SUMIF($A$12:$A$371,\"<=\"&$E$3,$H$12:$H$371)),0,0),\"\")","v":""},null,{"$f":"IFERROR((-IPMT(C165/12,B165,IF(C165=КАЛЬКУЛЯТОР!$C$21,$E$2,$E$2-$E$3),IF(C165=КАЛЬКУЛЯТОР!$C$21,$I$11,$I$11-SUMIF($A$12:$A$371,\"<=\"&$E$3,$H$12:$H$371)),0,0)),\"\")","v":""},{"$f":"IFERROR((-IPMT((C165-'КАЛЬКУЛЯТОР 1'!$P$1)/12,B165,IF(C165=КАЛЬКУЛЯТОР!$C$21,$E$2,$E$2-$E$3),IF(C165=КАЛЬКУЛЯТОР!$C$21,$I$11,$I$11-SUMIF($A$12:$A$371,\"<=\"&$E$3,$H$12:$H$371)),0,0)),\"\")","v":""},{"$f":"IFERROR((-PPMT(C165/12,B165,IF(C165=КАЛЬКУЛЯТОР!$C$21,$E$2,$E$2-$E$3),IF(C165=КАЛЬКУЛЯТОР!$C$21,$I$11,$I$11-SUMIF($A$12:$A$371,\"<=\"&$E$3,$H$12:$H$371)),0,0)),\"\")","v":""},"",{"$error":"#VALUE!"},null,{"$error":"#VALUE!"},{"$error":"#VALUE!"},{"$error":"#VALUE!"},{"$error":"#VALUE!"},false]
[155,155,{"$f":"IF(A166<=$E$3,КАЛЬКУЛЯТОР!$C$21,IF(AND(A166>$E$3,A166<=$E$2),$E$4,\"\"))","v":""},{"$f":"IF(A166<=$E$2,-PMT(C166/12,IF(C166=КАЛЬКУЛЯТОР!$C$21,$E$2,$E$2-$E$3),IF(C166=КАЛЬКУЛЯТОР!$C$21,$I$11,$I$11-SUMIF($A$12:$A$371,\"<=\"&$E$3,$H$12:$H$371)),0,0),\"\")","v":""},null,{"$f":"IFERROR((-IPMT(C166/12,B166,IF(C166=КАЛЬКУЛЯТОР!$C$21,$E$2,$E$2-$E$3),IF(C166=КАЛЬКУЛЯТОР!$C$21,$I$11,$I$11-SUMIF($A$12:$A$371,\"<=\"&$E$3,$H$12:$H$371)),0,0)),\"\")","v":""},{"$f":"IFERROR((-IPMT((C166-'КАЛЬКУЛЯТОР 1'!$P$1)/12,B166,IF(C166=КАЛЬКУЛЯТОР!$C$21,$E$2,$E$2-$E$3),IF(C166=КАЛЬКУЛЯТОР!$C$21,$I$11,$I$11-SUMIF($A$12:$A$371,\"<=\"&$E$3,$H$12:$H$371)),0,0)),\"\")","v":""},{"$f":"IFERROR((-PPMT(C166/12,B166,IF(C166=КАЛЬКУЛЯТОР!$C$21,$E$2,$E$2-$E$3),IF(C166=КАЛЬКУЛЯТОР!$C$21,$I$11,$I$11-SUMIF($A$12:$A$371,\"<=\"&$E$3,$H$12:$H$371)),0,0)),\"\")","v":""},"",{"$error":"#VALUE!"},null,{"$error":"#VALUE!"},{"$error":"#VALUE!"},{"$error":"#VALUE!"},{"$error":"#VALUE!"},false]
[156,156,{"$f":"IF(A167<=$E$3,КАЛЬКУЛЯТОР!$C$21,IF(AND(A167>$E$3,A167<=$E$2),$E$4,\"\"))","v":""},{"$f":"IF(A167<=$E$2,-PMT(C167/12,IF(C167=КАЛЬКУЛЯТОР!$C$21,$E$2,$E$2-$E$3),IF(C167=КАЛЬКУЛЯТОР!$C$21,$I$11,$I$11-SUMIF($A$12:$A$371,\"<=\"&$E$3,$H$12:$H$371)),0,0),\"\")","v":""},null,{"$f":"IFERROR((-IPMT(C167/12,B167,IF(C167=КАЛЬКУЛЯТОР!$C$21,$E$2,$E$2-$E$3),IF(C167=КАЛЬКУЛЯТОР!$C$21,$I$11,$I$11-SUMIF($A$12:$A$371,\"<=\"&$E$3,$H$12:$H$371)),0,0)),\"\")","v":""},{"$f":"IFERROR((-IPMT((C167-'КАЛЬКУЛЯТОР 1'!$P$1)/12,B167,IF(C167=КАЛЬКУЛЯТОР!$C$21,$E$2,$E$2-$E$3),IF(C167=КАЛЬКУЛЯТОР!$C$21,$I$11,$I$11-SUMIF($A$12:$A$371,\"<=\"&$E$3,$H$12:$H$371)),0,0)),\"\")","v":""},{"$f":"IFERROR((-PPMT(C167/12,B167,IF(C167=КАЛЬКУЛЯТОР!$C$21,$E$2,$E$2-$E$3),IF(C167=КАЛЬКУЛЯТОР!$C$21,$I$11,$I$11-SUMIF($A$12:$A$371,\"<=\"&$E$3,$H$12:$H$371)),0,0)),\"\")","v":""},"",{"$error":"#VALUE!"},null,{"$error":"#VALUE!"},{"$error":"#VALUE!"},{"$error":"#VALUE!"},{"$error":"#VALUE!"},false]
[157,157,{"$f":"IF(A168<=$E$3,КАЛЬКУЛЯТОР!$C$21,IF(AND(A168>$E$3,A168<=$E$2),$E$4,\"\"))","v":""},{"$f":"IF(A168<=$E$2,-PMT(C168/12,IF(C168=КАЛЬКУЛЯТОР!$C$21,$E$2,$E$2-$E$3),IF(C168=КАЛЬКУЛЯТОР!$C$21,$I$11,$I$11-SUMIF($A$12:$A$371,\"<=\"&$E$3,$H$12:$H$371)),0,0),\"\")","v":""},{"$f":"IF($E$2>$A167,(I167+SUM(F168:F179))*($K$4+$K$5),0)","v":{"v":0,"d":"0.00"}},{"$f":"IFERROR((-IPMT(C168/12,B168,IF(C168=КАЛЬКУЛЯТОР!$C$21,$E$2,$E$2-$E$3),IF(C168=КАЛЬКУЛЯТОР!$C$21,$I$11,$I$11-SUMIF($A$12:$A$371,\"<=\"&$E$3,$H$12:$H$371)),0,0)),\"\")","v":""},{"$f":"IFERROR((-IPMT((C168-'КАЛЬКУЛЯТОР 1'!$P$1)/12,B168,IF(C168=КАЛЬКУЛЯТОР!$C$21,$E$2,$E$2-$E$3),IF(C168=КАЛЬКУЛЯТОР!$C$21,$I$11,$I$11-SUMIF($A$12:$A$371,\"<=\"&$E$3,$H$12:$H$371)),0,0)),\"\")","v":""},{"$f":"IFERROR((-PPMT(C168/12,B168,IF(C168=КАЛЬКУЛЯТОР!$C$21,$E$2,$E$2-$E$3),IF(C168=КАЛЬКУЛЯТОР!$C$21,$I$11,$I$11-SUMIF($A$12:$A$371,\"<=\"&$E$3,$H$12:$H$371)),0,0)),\"\")","v":""},"",{"$error":"#VALUE!"},{"$f":"PV($E$5/12,A168-1,0,-E168)","v":{"v":0,"d":"0.00"}},{"$error":"#VALUE!"},{"$error":"#VALUE!"},{"$error":"#VALUE!"},{"$error":"#VALUE!"},false]
[158,158,{"$f":"IF(A169<=$E$3,КАЛЬКУЛЯТОР!$C$21,IF(AND(A169>$E$3,A169<=$E$2),$E$4,\"\"))","v":""},{"$f":"IF(A169<=$E$2,-PMT(C169/12,IF(C169=КАЛЬКУЛЯТОР!$C$21,$E$2,$E$2-$E$3),IF(C169=КАЛЬКУЛЯТОР!$C$21,$I$11,$I$11-SUMIF($A$12:$A$371,\"<=\"&$E$3,$H$12:$H$371)),0,0),\"\")","v":""},null,{"$f":"IFERROR((-IPMT(C169/12,B169,IF(C169=КАЛЬКУЛЯТОР!$C$21,$E$2,$E$2-$E$3),IF(C169=КАЛЬКУЛЯТОР!$C$21,$I$11,$I$11-SUMIF($A$12:$A$371,\"<=\"&$E$3,$H$12:$H$371)),0,0)),\"\")","v":""},{"$f":"IFERROR((-IPMT((C169-'КАЛЬКУЛЯТОР 1'!$P$1)/12,B169,IF(C169=КАЛЬКУЛЯТОР!$C$21,$E$2,$E$2-$E$3),IF(C169=КАЛЬКУЛЯТОР!$C$21,$I$11,$I$11-SUMIF($A$12:$A$371,\"<=\"&$E$3,$H$12:$H$371)),0,0)),\"\")","v":""},{"$f":"IFERROR((-PPMT(C169/12,B169,IF(C169=КАЛЬКУЛЯТОР!$C$21,$E$2,$E$2-$E$3),IF(C169=КАЛЬКУЛЯТОР!$C$21,$I$11,$I$11-SUMIF($A$12:$A$371,\"<=\"&$E$3,$H$12:$H$371)),0,0)),\"\")","v":""},"",{"$error":"#VALUE!"},null,{"$error":"#VALUE!"},{"$error":"#VALUE!"},{"$error":"#VALUE!"},{"$error":"#VALUE!"},false]
[159,159,{"$f":"IF(A170<=$E$3,КАЛЬКУЛЯТОР!$C$21,IF(AND(A170>$E$3,A170<=$E$2),$E$4,\"\"))","v":""},{"$f":"IF(A170<=$E$2,-PMT(C170/12,IF(C170=КАЛЬКУЛЯТОР!$C$21,$E$2,$E$2-$E$3),IF(C170=КАЛЬКУЛЯТОР!$C$21,$I$11,$I$11-SUMIF($A$12:$A$371,\"<=\"&$E$3,$H$12:$H$371)),0,0),\"\")","v":""},null,{"$f":"IFERROR((-IPMT(C170/12,B170,IF(C170=КАЛЬКУЛЯТОР!$C$21,$E$2,$E$2-$E$3),IF(C170=КАЛЬКУЛЯТОР!$C$21,$I$11,$I$11-SUMIF($A$12:$A$371,\"<=\"&$E$3,$H$12:$H$371)),0,0)),\"\")","v":""},{"$f":"IFERROR((-IPMT((C170-'КАЛЬКУЛЯТОР 1'!$P$1)/12,B170,IF(C170=КАЛЬКУЛЯТОР!$C$21,$E$2,$E$2-$E$3),IF(C170=КАЛЬКУЛЯТОР!$C$21,$I$11,$I$11-SUMIF($A$12:$A$371,\"<=\"&$E$3,$H$12:$H$371)),0,0)),\"\")","v":""},{"$f":"IFERROR((-PPMT(C170/12,B170,IF(C170=КАЛЬКУЛЯТОР!$C$21,$E$2,$E$2-$E$3),IF(C170=КАЛЬКУЛЯТОР!$C$21,$I$11,$I$11-SUMIF($A$12:$A$371,\"<=\"&$E$3,$H$12:$H$371)),0,0)),\"\")","v":""},"",{"$error":"#VALUE!"},null,{"$error":"#VALUE!"},{"$error":"#VALUE!"},{"$error":"#VALUE!"},{"$error":"#VALUE!"},false]
[160,160,{"$f":"IF(A171<=$E$3,КАЛЬКУЛЯТОР!$C$21,IF(AND(A171>$E$3,A171<=$E$2),$E$4,\"\"))","v":""},{"$f":"IF(A171<=$E$2,-PMT(C171/12,IF(C171=КАЛЬКУЛЯТОР!$C$21,$E$2,$E$2-$E$3),IF(C171=КАЛЬКУЛЯТОР!$C$21,$I$11,$I$11-SUMIF($A$12:$A$371,\"<=\"&$E$3,$H$12:$H$371)),0,0),\"\")","v":""},null,{"$f":"IFERROR((-IPMT(C171/12,B171,IF(C171=КАЛЬКУЛЯТОР!$C$21,$E$2,$E$2-$E$3),IF(C171=КАЛЬКУЛЯТОР!$C$21,$I$11,$I$11-SUMIF($A$12:$A$371,\"<=\"&$E$3,$H$12:$H$371)),0,0)),\"\")","v":""},{"$f":"IFERROR((-IPMT((C171-'КАЛЬКУЛЯТОР 1'!$P$1)/12,B171,IF(C171=КАЛЬКУЛЯТОР!$C$21,$E$2,$E$2-$E$3),IF(C171=КАЛЬКУЛЯТОР!$C$21,$I$11,$I$11-SUMIF($A$12:$A$371,\"<=\"&$E$3,$H$12:$H$371)),0,0)),\"\")","v":""},{"$f":"IFERROR((-PPMT(C171/12,B171,IF(C171=КАЛЬКУЛЯТОР!$C$21,$E$2,$E$2-$E$3),IF(C171=КАЛЬКУЛЯТОР!$C$21,$I$11,$I$11-SUMIF($A$12:$A$371,\"<=\"&$E$3,$H$12:$H$371)),0,0)),\"\")","v":""},"",{"$error":"#VALUE!"},null,{"$error":"#VALUE!"},{"$error":"#VALUE!"},{"$error":"#VALUE!"},{"$error":"#VALUE!"},false]
[161,161,{"$f":"IF(A172<=$E$3,КАЛЬКУЛЯТОР!$C$21,IF(AND(A172>$E$3,A172<=$E$2),$E$4,\"\"))","v":""},{"$f":"IF(A172<=$E$2,-PMT(C172/12,IF(C172=КАЛЬКУЛЯТОР!$C$21,$E$2,$E$2-$E$3),IF(C172=КАЛЬКУЛЯТОР!$C$21,$I$11,$I$11-SUMIF($A$12:$A$371,\"<=\"&$E$3,$H$12:$H$371)),0,0),\"\")","v":""},null,{"$f":"IFERROR((-IPMT(C172/12,B172,IF(C172=КАЛЬКУЛЯТОР!$C$21,$E$2,$E$2-$E$3),IF(C172=КАЛЬКУЛЯТОР!$C$21,$I$11,$I$11-SUMIF($A$12:$A$371,\"<=\"&$E$3,$H$12:$H$371)),0,0)),\"\")","v":""},{"$f":"IFERROR((-IPMT((C172-'КАЛЬКУЛЯТОР 1'!$P$1)/12,B172,IF(C172=КАЛЬКУЛЯТОР!$C$21,$E$2,$E$2-$E$3),IF(C172=КАЛЬКУЛЯТОР!$C$21,$I$11,$I$11-SUMIF($A$12:$A$371,\"<=\"&$E$3,$H$12:$H$371)),0,0)),\"\")","v":""},{"$f":"IFERROR((-PPMT(C172/12,B172,IF(C172=КАЛЬКУЛЯТОР!$C$21,$E$2,$E$2-$E$3),IF(C172=КАЛЬКУЛЯТОР!$C$21,$I$11,$I$11-SUMIF($A$12:$A$371,\"<=\"&$E$3,$H$12:$H$371)),0,0)),\"\")","v":""},"",{"$error":"#VALUE!"},null,{"$error":"#VALUE!"},{"$error":"#VALUE!"},{"$error":"#VALUE!"},{"$error":"#VALUE!"},false]
[162,162,{"$f":"IF(A173<=$E$3,КАЛЬКУЛЯТОР!$C$21,IF(AND(A173>$E$3,A173<=$E$2),$E$4,\"\"))","v":""},{"$f":"IF(A173<=$E$2,-PMT(C173/12,IF(C173=КАЛЬКУЛЯТОР!$C$21,$E$2,$E$2-$E$3),IF(C173=КАЛЬКУЛЯТОР!$C$21,$I$11,$I$11-SUMIF($A$12:$A$371,\"<=\"&$E$3,$H$12:$H$371)),0,0),\"\")","v":""},null,{"$f":"IFERROR((-IPMT(C173/12,B173,IF(C173=КАЛЬКУЛЯТОР!$C$21,$E$2,$E$2-$E$3),IF(C173=КАЛЬКУЛЯТОР!$C$21,$I$11,$I$11-SUMIF($A$12:$A$371,\"<=\"&$E$3,$H$12:$H$371)),0,0)),\"\")","v":""},{"$f":"IFERROR((-IPMT((C173-'КАЛЬКУЛЯТОР 1'!$P$1)/12,B173,IF(C173=КАЛЬКУЛЯТОР!$C$21,$E$2,$E$2-$E$3),IF(C173=КАЛЬКУЛЯТОР!$C$21,$I$11,$I$11-SUMIF($A$12:$A$371,\"<=\"&$E$3,$H$12:$H$371)),0,0)),\"\")","v":""},{"$f":"IFERROR((-PPMT(C173/12,B173,IF(C173=КАЛЬКУЛЯТОР!$C$21,$E$2,$E$2-$E$3),IF(C173=КАЛЬКУЛЯТОР!$C$21,$I$11,$I$11-SUMIF($A$12:$A$371,\"<=\"&$E$3,$H$12:$H$371)),0,0)),\"\")","v":""},"",{"$error":"#VALUE!"},null,{"$error":"#VALUE!"},{"$error":"#VALUE!"},{"$error":"#VALUE!"},{"$error":"#VALUE!"},false]
[163,163,{"$f":"IF(A174<=$E$3,КАЛЬКУЛЯТОР!$C$21,IF(AND(A174>$E$3,A174<=$E$2),$E$4,\"\"))","v":""},{"$f":"IF(A174<=$E$2,-PMT(C174/12,IF(C174=КАЛЬКУЛЯТОР!$C$21,$E$2,$E$2-$E$3),IF(C174=КАЛЬКУЛЯТОР!$C$21,$I$11,$I$11-SUMIF($A$12:$A$371,\"<=\"&$E$3,$H$12:$H$371)),0,0),\"\")","v":""},null,{"$f":"IFERROR((-IPMT(C174/12,B174,IF(C174=КАЛЬКУЛЯТОР!$C$21,$E$2,$E$2-$E$3),IF(C174=КАЛЬКУЛЯТОР!$C$21,$I$11,$I$11-SUMIF($A$12:$A$371,\"<=\"&$E$3,$H$12:$H$371)),0,0)),\"\")","v":""},{"$f":"IFERROR((-IPMT((C174-'КАЛЬКУЛЯТОР 1'!$P$1)/12,B174,IF(C174=КАЛЬКУЛЯТОР!$C$21,$E$2,$E$2-$E$3),IF(C174=КАЛЬКУЛЯТОР!$C$21,$I$11,$I$11-SUMIF($A$12:$A$371,\"<=\"&$E$3,$H$12:$H$371)),0,0)),\"\")","v":""},{"$f":"IFERROR((-PPMT(C174/12,B174,IF(C174=КАЛЬКУЛЯТОР!$C$21,$E$2,$E$2-$E$3),IF(C174=КАЛЬКУЛЯТОР!$C$21,$I$11,$I$11-SUMIF($A$12:$A$371,\"<=\"&$E$3,$H$12:$H$371)),0,0)),\"\")","v":""},"",{"$error":"#VALUE!"},null,{"$error":"#VALUE!"},{"$error":"#VALUE!"},{"$error":"#VALUE!"},{"$error":"#VALUE!"},false]
[164,164,{"$f":"IF(A175<=$E$3,КАЛЬКУЛЯТОР!$C$21,IF(AND(A175>$E$3,A175<=$E$2),$E$4,\"\"))","v":""},{"$f":"IF(A175<=$E$2,-PMT(C175/12,IF(C175=КАЛЬКУЛЯТОР!$C$21,$E$2,$E$2-$E$3),IF(C175=КАЛЬКУЛЯТОР!$C$21,$I$11,$I$11-SUMIF($A$12:$A$371,\"<=\"&$E$3,$H$12:$H$371)),0,0),\"\")","v":""},null,{"$f":"IFERROR((-IPMT(C175/12,B175,IF(C175=КАЛЬКУЛЯТОР!$C$21,$E$2,$E$2-$E$3),IF(C175=КАЛЬКУЛЯТОР!$C$21,$I$11,$I$11-SUMIF($A$12:$A$371,\"<=\"&$E$3,$H$12:$H$371)),0,0)),\"\")","v":""},{"$f":"IFERROR((-IPMT((C175-'КАЛЬКУЛЯТОР 1'!$P$1)/12,B175,IF(C175=КАЛЬКУЛЯТОР!$C$21,$E$2,$E$2-$E$3),IF(C175=КАЛЬКУЛЯТОР!$C$21,$I$11,$I$11-SUMIF($A$12:$A$371,\"<=\"&$E$3,$H$12:$H$371)),0,0)),\"\")","v":""},{"$f":"IFERROR((-PPMT(C175/12,B175,IF(C175=КАЛЬКУЛЯТОР!$C$21,$E$2,$E$2-$E$3),IF(C175=КАЛЬКУЛЯТОР!$C$21,$I$11,$I$11-SUMIF($A$12:$A$371,\"<=\"&$E$3,$H$12:$H$371)),0,0)),\"\")","v":""},"",{"$error":"#VALUE!"},null,{"$error":"#VALUE!"},{"$error":"#VALUE!"},{"$error":"#VALUE!"},{"$error":"#VALUE!"},false]
[165,165,{"$f":"IF(A176<=$E$3,КАЛЬКУЛЯТОР!$C$21,IF(AND(A176>$E$3,A176<=$E$2),$E$4,\"\"))","v":""},{"$f":"IF(A176<=$E$2,-PMT(C176/12,IF(C176=КАЛЬКУЛЯТОР!$C$21,$E$2,$E$2-$E$3),IF(C176=КАЛЬКУЛЯТОР!$C$21,$I$11,$I$11-SUMIF($A$12:$A$371,\"<=\"&$E$3,$H$12:$H$371)),0,0),\"\")","v":""},null,{"$f":"IFERROR((-IPMT(C176/12,B176,IF(C176=КАЛЬКУЛЯТОР!$C$21,$E$2,$E$2-$E$3),IF(C176=КАЛЬКУЛЯТОР!$C$21,$I$11,$I$11-SUMIF($A$12:$A$371,\"<=\"&$E$3,$H$12:$H$371)),0,0)),\"\")","v":""},{"$f":"IFERROR((-IPMT((C176-'КАЛЬКУЛЯТОР 1'!$P$1)/12,B176,IF(C176=КАЛЬКУЛЯТОР!$C$21,$E$2,$E$2-$E$3),IF(C176=КАЛЬКУЛЯТОР!$C$21,$I$11,$I$11-SUMIF($A$12:$A$371,\"<=\"&$E$3,$H$12:$H$371)),0,0)),\"\")","v":""},{"$f":"IFERROR((-PPMT(C176/12,B176,IF(C176=КАЛЬКУЛЯТОР!$C$21,$E$2,$E$2-$E$3),IF(C176=КАЛЬКУЛЯТОР!$C$21,$I$11,$I$11-SUMIF($A$12:$A$371,\"<=\"&$E$3,$H$12:$H$371)),0,0)),\"\")","v":""},"",{"$error":"#VALUE!"},null,{"$error":"#VALUE!"},{"$error":"#VALUE!"},{"$error":"#VALUE!"},{"$error":"#VALUE!"},false]
[166,166,{"$f":"IF(A177<=$E$3,КАЛЬКУЛЯТОР!$C$21,IF(AND(A177>$E$3,A177<=$E$2),$E$4,\"\"))","v":""},{"$f":"IF(A177<=$E$2,-PMT(C177/12,IF(C177=КАЛЬКУЛЯТОР!$C$21,$E$2,$E$2-$E$3),IF(C177=КАЛЬКУЛЯТОР!$C$21,$I$11,$I$11-SUMIF($A$12:$A$371,\"<=\"&$E$3,$H$12:$H$371)),0,0),\"\")","v":""},null,{"$f":"IFERROR((-IPMT(C177/12,B177,IF(C177=КАЛЬКУЛЯТОР!$C$21,$E$2,$E$2-$E$3),IF(C177=КАЛЬКУЛЯТОР!$C$21,$I$11,$I$11-SUMIF($A$12:$A$371,\"<=\"&$E$3,$H$12:$H$371)),0,0)),\"\")","v":""},{"$f":"IFERROR((-IPMT((C177-'КАЛЬКУЛЯТОР 1'!$P$1)/12,B177,IF(C177=КАЛЬКУЛЯТОР!$C$21,$E$2,$E$2-$E$3),IF(C177=КАЛЬКУЛЯТОР!$C$21,$I$11,$I$11-SUMIF($A$12:$A$371,\"<=\"&$E$3,$H$12:$H$371)),0,0)),\"\")","v":""},{"$f":"IFERROR((-PPMT(C177/12,B177,IF(C177=КАЛЬКУЛЯТОР!$C$21,$E$2,$E$2-$E$3),IF(C177=КАЛЬКУЛЯТОР!$C$21,$I$11,$I$11-SUMIF($A$12:$A$371,\"<=\"&$E$3,$H$12:$H$371)),0,0)),\"\")","v":""},"",{"$error":"#VALUE!"},null,{"$error":"#VALUE!"},{"$error":"#VALUE!"},{"$error":"#VALUE!"},{"$error":"#VALUE!"},false]
[167,167,{"$f":"IF(A178<=$E$3,КАЛЬКУЛЯТОР!$C$21,IF(AND(A178>$E$3,A178<=$E$2),$E$4,\"\"))","v":""},{"$f":"IF(A178<=$E$2,-PMT(C178/12,IF(C178=КАЛЬКУЛЯТОР!$C$21,$E$2,$E$2-$E$3),IF(C178=КАЛЬКУЛЯТОР!$C$21,$I$11,$I$11-SUMIF($A$12:$A$371,\"<=\"&$E$3,$H$12:$H$371)),0,0),\"\")","v":""},null,{"$f":"IFERROR((-IPMT(C178/12,B178,IF(C178=КАЛЬКУЛЯТОР!$C$21,$E$2,$E$2-$E$3),IF(C178=КАЛЬКУЛЯТОР!$C$21,$I$11,$I$11-SUMIF($A$12:$A$371,\"<=\"&$E$3,$H$12:$H$371)),0,0)),\"\")","v":""},{"$f":"IFERROR((-IPMT((C178-'КАЛЬКУЛЯТОР 1'!$P$1)/12,B178,IF(C178=КАЛЬКУЛЯТОР!$C$21,$E$2,$E$2-$E$3),IF(C178=КАЛЬКУЛЯТОР!$C$21,$I$11,$I$11-SUMIF($A$12:$A$371,\"<=\"&$E$3,$H$12:$H$371)),0,0)),\"\")","v":""},{"$f":"IFERROR((-PPMT(C178/12,B178,IF(C178=КАЛЬКУЛЯТОР!$C$21,$E$2,$E$2-$E$3),IF(C178=КАЛЬКУЛЯТОР!$C$21,$I$11,$I$11-SUMIF($A$12:$A$371,\"<=\"&$E$3,$H$12:$H$371)),0,0)),\"\")","v":""},"",{"$error":"#VALUE!"},null,{"$error":"#VALUE!"},{"$error":"#VALUE!"},{"$error":"#VALUE!"},{"$error":"#VALUE!"},false]
[168,168,{"$f":"IF(A179<=$E$3,КАЛЬКУЛЯТОР!$C$21,IF(AND(A179>$E$3,A179<=$E$2),$E$4,\"\"))","v":""},{"$f":"IF(A179<=$E$2,-PMT(C179/12,IF(C179=КАЛЬКУЛЯТОР!$C$21,$E$2,$E$2-$E$3),IF(C179=КАЛЬКУЛЯТОР!$C$21,$I$11,$I$11-SUMIF($A$12:$A$371,\"<=\"&$E$3,$H$12:$H$371)),0,0),\"\")","v":""},null,{"$f":"IFERROR((-IPMT(C179/12,B179,IF(C179=КАЛЬКУЛЯТОР!$C$21,$E$2,$E$2-$E$3),IF(C179=КАЛЬКУЛЯТОР!$C$21,$I$11,$I$11-SUMIF($A$12:$A$371,\"<=\"&$E$3,$H$12:$H$371)),0,0)),\"\")","v":""},{"$f":"IFERROR((-IPMT((C179-'КАЛЬКУЛЯТОР 1'!$P$1)/12,B179,IF(C179=КАЛЬКУЛЯТОР!$C$21,$E$2,$E$2-$E$3),IF(C179=КАЛЬКУЛЯТОР!$C$21,$I$11,$I$11-SUMIF($A$12:$A$371,\"<=\"&$E$3,$H$12:$H$371)),0,0)),\"\")","v":""},{"$f":"IFERROR((-PPMT(C179/12,B179,IF(C179=КАЛЬКУЛЯТОР!$C$21,$E$2,$E$2-$E$3),IF(C179=КАЛЬКУЛЯТОР!$C$21,$I$11,$I$11-SUMIF($A$12:$A$371,\"<=\"&$E$3,$H$12:$H$371)),0,0)),\"\")","v":""},"",{"$error":"#VALUE!"},null,{"$error":"#VALUE!"},{"$error":"#VALUE!"},{"$error":"#VALUE!"},{"$error":"#VALUE!"},false]
[169,169,{"$f":"IF(A180<=$E$3,КАЛЬКУЛЯТОР!$C$21,IF(AND(A180>$E$3,A180<=$E$2),$E$4,\"\"))","v":""},{"$f":"IF(A180<=$E$2,-PMT(C180/12,IF(C180=КАЛЬКУЛЯТОР!$C$21,$E$2,$E$2-$E$3),IF(C180=КАЛЬКУЛЯТОР!$C$21,$I$11,$I$11-SUMIF($A$12:$A$371,\"<=\"&$E$3,$H$12:$H$371)),0,0),\"\")","v":""},{"$f":"IF($E$2>$A179,(I179+SUM(F180:F191))*($K$4+$K$5),0)","v":{"v":0,"d":"0.00"}},{"$f":"IFERROR((-IPMT(C180/12,B180,IF(C180=КАЛЬКУЛЯТОР!$C$21,$E$2,$E$2-$E$3),IF(C180=КАЛЬКУЛЯТОР!$C$21,$I$11,$I$11-SUMIF($A$12:$A$371,\"<=\"&$E$3,$H$12:$H$371)),0,0)),\"\")","v":""},{"$f":"IFERROR((-IPMT((C180-'КАЛЬКУЛЯТОР 1'!$P$1)/12,B180,IF(C180=КАЛЬКУЛЯТОР!$C$21,$E$2,$E$2-$E$3),IF(C180=КАЛЬКУЛЯТОР!$C$21,$I$11,$I$11-SUMIF($A$12:$A$371,\"<=\"&$E$3,$H$12:$H$371)),0,0)),\"\")","v":""},{"$f":"IFERROR((-PPMT(C180/12,B180,IF(C180=КАЛЬКУЛЯТОР!$C$21,$E$2,$E$2-$E$3),IF(C180=КАЛЬКУЛЯТОР!$C$21,$I$11,$I$11-SUMIF($A$12:$A$371,\"<=\"&$E$3,$H$12:$H$371)),0,0)),\"\")","v":""},"",{"$error":"#VALUE!"},{"$f":"PV($E$5/12,A180-1,0,-E180)","v":{"v":0,"d":"0.00"}},{"$error":"#VALUE!"},{"$error":"#VALUE!"},{"$error":"#VALUE!"},{"$error":"#VALUE!"},false]
[170,170,{"$f":"IF(A181<=$E$3,КАЛЬКУЛЯТОР!$C$21,IF(AND(A181>$E$3,A181<=$E$2),$E$4,\"\"))","v":""},{"$f":"IF(A181<=$E$2,-PMT(C181/12,IF(C181=КАЛЬКУЛЯТОР!$C$21,$E$2,$E$2-$E$3),IF(C181=КАЛЬКУЛЯТОР!$C$21,$I$11,$I$11-SUMIF($A$12:$A$371,\"<=\"&$E$3,$H$12:$H$371)),0,0),\"\")","v":""},null,{"$f":"IFERROR((-IPMT(C181/12,B181,IF(C181=КАЛЬКУЛЯТОР!$C$21,$E$2,$E$2-$E$3),IF(C181=КАЛЬКУЛЯТОР!$C$21,$I$11,$I$11-SUMIF($A$12:$A$371,\"<=\"&$E$3,$H$12:$H$371)),0,0)),\"\")","v":""},{"$f":"IFERROR((-IPMT((C181-'КАЛЬКУЛЯТОР 1'!$P$1)/12,B181,IF(C181=КАЛЬКУЛЯТОР!$C$21,$E$2,$E$2-$E$3),IF(C181=КАЛЬКУЛЯТОР!$C$21,$I$11,$I$11-SUMIF($A$12:$A$371,\"<=\"&$E$3,$H$12:$H$371)),0,0)),\"\")","v":""},{"$f":"IFERROR((-PPMT(C181/12,B181,IF(C181=КАЛЬКУЛЯТОР!$C$21,$E$2,$E$2-$E$3),IF(C181=КАЛЬКУЛЯТОР!$C$21,$I$11,$I$11-SUMIF($A$12:$A$371,\"<=\"&$E$3,$H$12:$H$371)),0,0)),\"\")","v":""},"",{"$error":"#VALUE!"},null,{"$error":"#VALUE!"},{"$error":"#VALUE!"},{"$error":"#VALUE!"},{"$error":"#VALUE!"},false]
[171,171,{"$f":"IF(A182<=$E$3,КАЛЬКУЛЯТОР!$C$21,IF(AND(A182>$E$3,A182<=$E$2),$E$4,\"\"))","v":""},{"$f":"IF(A182<=$E$2,-PMT(C182/12,IF(C182=КАЛЬКУЛЯТОР!$C$21,$E$2,$E$2-$E$3),IF(C182=КАЛЬКУЛЯТОР!$C$21,$I$11,$I$11-SUMIF($A$12:$A$371,\"<=\"&$E$3,$H$12:$H$371)),0,0),\"\")","v":""},null,{"$f":"IFERROR((-IPMT(C182/12,B182,IF(C182=КАЛЬКУЛЯТОР!$C$21,$E$2,$E$2-$E$3),IF(C182=КАЛЬКУЛЯТОР!$C$21,$I$11,$I$11-SUMIF($A$12:$A$371,\"<=\"&$E$3,$H$12:$H$371)),0,0)),\"\")","v":""},{"$f":"IFERROR((-IPMT((C182-'КАЛЬКУЛЯТОР 1'!$P$1)/12,B182,IF(C182=КАЛЬКУЛЯТОР!$C$21,$E$2,$E$2-$E$3),IF(C182=КАЛЬКУЛЯТОР!$C$21,$I$11,$I$11-SUMIF($A$12:$A$371,\"<=\"&$E$3,$H$12:$H$371)),0,0)),\"\")","v":""},{"$f":"IFERROR((-PPMT(C182/12,B182,IF(C182=КАЛЬКУЛЯТОР!$C$21,$E$2,$E$2-$E$3),IF(C182=КАЛЬКУЛЯТОР!$C$21,$I$11,$I$11-SUMIF($A$12:$A$371,\"<=\"&$E$3,$H$12:$H$371)),0,0)),\"\")","v":""},"",{"$error":"#VALUE!"},null,{"$error":"#VALUE!"},{"$error":"#VALUE!"},{"$error":"#VALUE!"},{"$error":"#VALUE!"},false]
[172,172,{"$f":"IF(A183<=$E$3,КАЛЬКУЛЯТОР!$C$21,IF(AND(A183>$E$3,A183<=$E$2),$E$4,\"\"))","v":""},{"$f":"IF(A183<=$E$2,-PMT(C183/12,IF(C183=КАЛЬКУЛЯТОР!$C$21,$E$2,$E$2-$E$3),IF(C183=КАЛЬКУЛЯТОР!$C$21,$I$11,$I$11-SUMIF($A$12:$A$371,\"<=\"&$E$3,$H$12:$H$371)),0,0),\"\")","v":""},null,{"$f":"IFERROR((-IPMT(C183/12,B183,IF(C183=КАЛЬКУЛЯТОР!$C$21,$E$2,$E$2-$E$3),IF(C183=КАЛЬКУЛЯТОР!$C$21,$I$11,$I$11-SUMIF($A$12:$A$371,\"<=\"&$E$3,$H$12:$H$371)),0,0)),\"\")","v":""},{"$f":"IFERROR((-IPMT((C183-'КАЛЬКУЛЯТОР 1'!$P$1)/12,B183,IF(C183=КАЛЬКУЛЯТОР!$C$21,$E$2,$E$2-$E$3),IF(C183=КАЛЬКУЛЯТОР!$C$21,$I$11,$I$11-SUMIF($A$12:$A$371,\"<=\"&$E$3,$H$12:$H$371)),0,0)),\"\")","v":""},{"$f":"IFERROR((-PPMT(C183/12,B183,IF(C183=КАЛЬКУЛЯТОР!$C$21,$E$2,$E$2-$E$3),IF(C183=КАЛЬКУЛЯТОР!$C$21,$I$11,$I$11-SUMIF($A$12:$A$371,\"<=\"&$E$3,$H$12:$H$371)),0,0)),\"\")","v":""},"",{"$error":"#VALUE!"},null,{"$error":"#VALUE!"},{"$error":"#VALUE!"},{"$error":"#VALUE!"},{"$error":"#VALUE!"},false]
[173,173,{"$f":"IF(A184<=$E$3,КАЛЬКУЛЯТОР!$C$21,IF(AND(A184>$E$3,A184<=$E$2),$E$4,\"\"))","v":""},{"$f":"IF(A184<=$E$2,-PMT(C184/12,IF(C184=КАЛЬКУЛЯТОР!$C$21,$E$2,$E$2-$E$3),IF(C184=КАЛЬКУЛЯТОР!$C$21,$I$11,$I$11-SUMIF($A$12:$A$371,\"<=\"&$E$3,$H$12:$H$371)),0,0),\"\")","v":""},null,{"$f":"IFERROR((-IPMT(C184/12,B184,IF(C184=КАЛЬКУЛЯТОР!$C$21,$E$2,$E$2-$E$3),IF(C184=КАЛЬКУЛЯТОР!$C$21,$I$11,$I$11-SUMIF($A$12:$A$371,\"<=\"&$E$3,$H$12:$H$371)),0,0)),\"\")","v":""},{"$f":"IFERROR((-IPMT((C184-'КАЛЬКУЛЯТОР 1'!$P$1)/12,B184,IF(C184=КАЛЬКУЛЯТОР!$C$21,$E$2,$E$2-$E$3),IF(C184=КАЛЬКУЛЯТОР!$C$21,$I$11,$I$11-SUMIF($A$12:$A$371,\"<=\"&$E$3,$H$12:$H$371)),0,0)),\"\")","v":""},{"$f":"IFERROR((-PPMT(C184/12,B184,IF(C184=КАЛЬКУЛЯТОР!$C$21,$E$2,$E$2-$E$3),IF(C184=КАЛЬКУЛЯТОР!$C$21,$I$11,$I$11-SUMIF($A$12:$A$371,\"<=\"&$E$3,$H$12:$H$371)),0,0)),\"\")","v":""},"",{"$error":"#VALUE!"},null,{"$error":"#VALUE!"},{"$error":"#VALUE!"},{"$error":"#VALUE!"},{"$error":"#VALUE!"},false]
[174,174,{"$f":"IF(A185<=$E$3,КАЛЬКУЛЯТОР!$C$21,IF(AND(A185>$E$3,A185<=$E$2),$E$4,\"\"))","v":""},{"$f":"IF(A185<=$E$2,-PMT(C185/12,IF(C185=КАЛЬКУЛЯТОР!$C$21,$E$2,$E$2-$E$3),IF(C185=КАЛЬКУЛЯТОР!$C$21,$I$11,$I$11-SUMIF($A$12:$A$371,\"<=\"&$E$3,$H$12:$H$371)),0,0),\"\")","v":""},null,{"$f":"IFERROR((-IPMT(C185/12,B185,IF(C185=КАЛЬКУЛЯТОР!$C$21,$E$2,$E$2-$E$3),IF(C185=КАЛЬКУЛЯТОР!$C$21,$I$11,$I$11-SUMIF($A$12:$A$371,\"<=\"&$E$3,$H$12:$H$371)),0,0)),\"\")","v":""},{"$f":"IFERROR((-IPMT((C185-'КАЛЬКУЛЯТОР 1'!$P$1)/12,B185,IF(C185=КАЛЬКУЛЯТОР!$C$21,$E$2,$E$2-$E$3),IF(C185=КАЛЬКУЛЯТОР!$C$21,$I$11,$I$11-SUMIF($A$12:$A$371,\"<=\"&$E$3,$H$12:$H$371)),0,0)),\"\")","v":""},{"$f":"IFERROR((-PPMT(C185/12,B185,IF(C185=КАЛЬКУЛЯТОР!$C$21,$E$2,$E$2-$E$3),IF(C185=КАЛЬКУЛЯТОР!$C$21,$I$11,$I$11-SUMIF($A$12:$A$371,\"<=\"&$E$3,$H$12:$H$371)),0,0)),\"\")","v":""},"",{"$error":"#VALUE!"},null,{"$error":"#VALUE!"},{"$error":"#VALUE!"},{"$error":"#VALUE!"},{"$error":"#VALUE!"},false]
[175,175,{"$f":"IF(A186<=$E$3,КАЛЬКУЛЯТОР!$C$21,IF(AND(A186>$E$3,A186<=$E$2),$E$4,\"\"))","v":""},{"$f":"IF(A186<=$E$2,-PMT(C186/12,IF(C186=КАЛЬКУЛЯТОР!$C$21,$E$2,$E$2-$E$3),IF(C186=КАЛЬКУЛЯТОР!$C$21,$I$11,$I$11-SUMIF($A$12:$A$371,\"<=\"&$E$3,$H$12:$H$371)),0,0),\"\")","v":""},null,{"$f":"IFERROR((-IPMT(C186/12,B186,IF(C186=КАЛЬКУЛЯТОР!$C$21,$E$2,$E$2-$E$3),IF(C186=КАЛЬКУЛЯТОР!$C$21,$I$11,$I$11-SUMIF($A$12:$A$371,\"<=\"&$E$3,$H$12:$H$371)),0,0)),\"\")","v":""},{"$f":"IFERROR((-IPMT((C186-'КАЛЬКУЛЯТОР 1'!$P$1)/12,B186,IF(C186=КАЛЬКУЛЯТОР!$C$21,$E$2,$E$2-$E$3),IF(C186=КАЛЬКУЛЯТОР!$C$21,$I$11,$I$11-SUMIF($A$12:$A$371,\"<=\"&$E$3,$H$12:$H$371)),0,0)),\"\")","v":""},{"$f":"IFERROR((-PPMT(C186/12,B186,IF(C186=КАЛЬКУЛЯТОР!$C$21,$E$2,$E$2-$E$3),IF(C186=КАЛЬКУЛЯТОР!$C$21,$I$11,$I$11-SUMIF($A$12:$A$371,\"<=\"&$E$3,$H$12:$H$371)),0,0)),\"\")","v":""},"",{"$error":"#VALUE!"},null,{"$error":"#VALUE!"},{"$error":"#VALUE!"},{"$error":"#VALUE!"},{"$error":"#VALUE!"},false]
[176,176,{"$f":"IF(A187<=$E$3,КАЛЬКУЛЯТОР!$C$21,IF(AND(A187>$E$3,A187<=$E$2),$E$4,\"\"))","v":""},{"$f":"IF(A187<=$E$2,-PMT(C187/12,IF(C187=КАЛЬКУЛЯТОР!$C$21,$E$2,$E$2-$E$3),IF(C187=КАЛЬКУЛЯТОР!$C$21,$I$11,$I$11-SUMIF($A$12:$A$371,\"<=\"&$E$3,$H$12:$H$371)),0,0),\"\")","v":""},null,{"$f":"IFERROR((-IPMT(C187/12,B187,IF(C187=КАЛЬКУЛЯТОР!$C$21,$E$2,$E$2-$E$3),IF(C187=КАЛЬКУЛЯТОР!$C$21,$I$11,$I$11-SUMIF($A$12:$A$371,\"<=\"&$E$3,$H$12:$H$371)),0,0)),\"\")","v":""},{"$f":"IFERROR((-IPMT((C187-'КАЛЬКУЛЯТОР 1'!$P$1)/12,B187,IF(C187=КАЛЬКУЛЯТОР!$C$21,$E$2,$E$2-$E$3),IF(C187=КАЛЬКУЛЯТОР!$C$21,$I$11,$I$11-SUMIF($A$12:$A$371,\"<=\"&$E$3,$H$12:$H$371)),0,0)),\"\")","v":""},{"$f":"IFERROR((-PPMT(C187/12,B187,IF(C187=КАЛЬКУЛЯТОР!$C$21,$E$2,$E$2-$E$3),IF(C187=КАЛЬКУЛЯТОР!$C$21,$I$11,$I$11-SUMIF($A$12:$A$371,\"<=\"&$E$3,$H$12:$H$371)),0,0)),\"\")","v":""},"",{"$error":"#VALUE!"},null,{"$error":"#VALUE!"},{"$error":"#VALUE!"},{"$error":"#VALUE!"},{"$error":"#VALUE!"},false]
[177,177,{"$f":"IF(A188<=$E$3,КАЛЬКУЛЯТОР!$C$21,IF(AND(A188>$E$3,A188<=$E$2),$E$4,\"\"))","v":""},{"$f":"IF(A188<=$E$2,-PMT(C188/12,IF(C188=КАЛЬКУЛЯТОР!$C$21,$E$2,$E$2-$E$3),IF(C188=КАЛЬКУЛЯТОР!$C$21,$I$11,$I$11-SUMIF($A$12:$A$371,\"<=\"&$E$3,$H$12:$H$371)),0,0),\"\")","v":""},null,{"$f":"IFERROR((-IPMT(C188/12,B188,IF(C188=КАЛЬКУЛЯТОР!$C$21,$E$2,$E$2-$E$3),IF(C188=КАЛЬКУЛЯТОР!$C$21,$I$11,$I$11-SUMIF($A$12:$A$371,\"<=\"&$E$3,$H$12:$H$371)),0,0)),\"\")","v":""},{"$f":"IFERROR((-IPMT((C188-'КАЛЬКУЛЯТОР 1'!$P$1)/12,B188,IF(C188=КАЛЬКУЛЯТОР!$C$21,$E$2,$E$2-$E$3),IF(C188=КАЛЬКУЛЯТОР!$C$21,$I$11,$I$11-SUMIF($A$12:$A$371,\"<=\"&$E$3,$H$12:$H$371)),0,0)),\"\")","v":""},{"$f":"IFERROR((-PPMT(C188/12,B188,IF(C188=КАЛЬКУЛЯТОР!$C$21,$E$2,$E$2-$E$3),IF(C188=КАЛЬКУЛЯТОР!$C$21,$I$11,$I$11-SUMIF($A$12:$A$371,\"<=\"&$E$3,$H$12:$H$371)),0,0)),\"\")","v":""},"",{"$error":"#VALUE!"},null,{"$error":"#VALUE!"},{"$error":"#VALUE!"},{"$error":"#VALUE!"},{"$error":"#VALUE!"},false]
[178,178,{"$f":"IF(A189<=$E$3,КАЛЬКУЛЯТОР!$C$21,IF(AND(A189>$E$3,A189<=$E$2),$E$4,\"\"))","v":""},{"$f":"IF(A189<=$E$2,-PMT(C189/12,IF(C189=КАЛЬКУЛЯТОР!$C$21,$E$2,$E$2-$E$3),IF(C189=КАЛЬКУЛЯТОР!$C$21,$I$11,$I$11-SUMIF($A$12:$A$371,\"<=\"&$E$3,$H$12:$H$371)),0,0),\"\")","v":""},null,{"$f":"IFERROR((-IPMT(C189/12,B189,IF(C189=КАЛЬКУЛЯТОР!$C$21,$E$2,$E$2-$E$3),IF(C189=КАЛЬКУЛЯТОР!$C$21,$I$11,$I$11-SUMIF($A$12:$A$371,\"<=\"&$E$3,$H$12:$H$371)),0,0)),\"\")","v":""},{"$f":"IFERROR((-IPMT((C189-'КАЛЬКУЛЯТОР 1'!$P$1)/12,B189,IF(C189=КАЛЬКУЛЯТОР!$C$21,$E$2,$E$2-$E$3),IF(C189=КАЛЬКУЛЯТОР!$C$21,$I$11,$I$11-SUMIF($A$12:$A$371,\"<=\"&$E$3,$H$12:$H$371)),0,0)),\"\")","v":""},{"$f":"IFERROR((-PPMT(C189/12,B189,IF(C189=КАЛЬКУЛЯТОР!$C$21,$E$2,$E$2-$E$3),IF(C189=КАЛЬКУЛЯТОР!$C$21,$I$11,$I$11-SUMIF($A$12:$A$371,\"<=\"&$E$3,$H$12:$H$371)),0,0)),\"\")","v":""},"",{"$error":"#VALUE!"},null,{"$error":"#VALUE!"},{"$error":"#VALUE!"},{"$error":"#VALUE!"},{"$error":"#VALUE!"},false]
[179,179,{"$f":"IF(A190<=$E$3,КАЛЬКУЛЯТОР!$C$21,IF(AND(A190>$E$3,A190<=$E$2),$E$4,\"\"))","v":""},{"$f":"IF(A190<=$E$2,-PMT(C190/12,IF(C190=КАЛЬКУЛЯТОР!$C$21,$E$2,$E$2-$E$3),IF(C190=КАЛЬКУЛЯТОР!$C$21,$I$11,$I$11-SUMIF($A$12:$A$371,\"<=\"&$E$3,$H$12:$H$371)),0,0),\"\")","v":""},null,{"$f":"IFERROR((-IPMT(C190/12,B190,IF(C190=КАЛЬКУЛЯТОР!$C$21,$E$2,$E$2-$E$3),IF(C190=КАЛЬКУЛЯТОР!$C$21,$I$11,$I$11-SUMIF($A$12:$A$371,\"<=\"&$E$3,$H$12:$H$371)),0,0)),\"\")","v":""},{"$f":"IFERROR((-IPMT((C190-'КАЛЬКУЛЯТОР 1'!$P$1)/12,B190,IF(C190=КАЛЬКУЛЯТОР!$C$21,$E$2,$E$2-$E$3),IF(C190=КАЛЬКУЛЯТОР!$C$21,$I$11,$I$11-SUMIF($A$12:$A$371,\"<=\"&$E$3,$H$12:$H$371)),0,0)),\"\")","v":""},{"$f":"IFERROR((-PPMT(C190/12,B190,IF(C190=КАЛЬКУЛЯТОР!$C$21,$E$2,$E$2-$E$3),IF(C190=КАЛЬКУЛЯТОР!$C$21,$I$11,$I$11-SUMIF($A$12:$A$371,\"<=\"&$E$3,$H$12:$H$371)),0,0)),\"\")","v":""},"",{"$error":"#VALUE!"},null,{"$error":"#VALUE!"},{"$error":"#VALUE!"},{"$error":"#VALUE!"},{"$error":"#VALUE!"},false]
[180,180,{"$f":"IF(A191<=$E$3,КАЛЬКУЛЯТОР!$C$21,IF(AND(A191>$E$3,A191<=$E$2),$E$4,\"\"))","v":""},{"$f":"IF(A191<=$E$2,-PMT(C191/12,IF(C191=КАЛЬКУЛЯТОР!$C$21,$E$2,$E$2-$E$3),IF(C191=КАЛЬКУЛЯТОР!$C$21,$I$11,$I$11-SUMIF($A$12:$A$371,\"<=\"&$E$3,$H$12:$H$371)),0,0),\"\")","v":""},null,{"$f":"IFERROR((-IPMT(C191/12,B191,IF(C191=КАЛЬКУЛЯТОР!$C$21,$E$2,$E$2-$E$3),IF(C191=КАЛЬКУЛЯТОР!$C$21,$I$11,$I$11-SUMIF($A$12:$A$371,\"<=\"&$E$3,$H$12:$H$371)),0,0)),\"\")","v":""},{"$f":"IFERROR((-IPMT((C191-'КАЛЬКУЛЯТОР 1'!$P$1)/12,B191,IF(C191=КАЛЬКУЛЯТОР!$C$21,$E$2,$E$2-$E$3),IF(C191=КАЛЬКУЛЯТОР!$C$21,$I$11,$I$11-SUMIF($A$12:$A$371,\"<=\"&$E$3,$H$12:$H$371)),0,0)),\"\")","v":""},{"$f":"IFERROR((-PPMT(C191/12,B191,IF(C191=КАЛЬКУЛЯТОР!$C$21,$E$2,$E$2-$E$3),IF(C191=КАЛЬКУЛЯТОР!$C$21,$I$11,$I$11-SUMIF($A$12:$A$371,\"<=\"&$E$3,$H$12:$H$371)),0,0)),\"\")","v":""},"",{"$error":"#VALUE!"},null,{"$error":"#VALUE!"},{"$error":"#VALUE!"},{"$error":"#VALUE!"},{"$error":"#VALUE!"},false]
[181,181,{"$f":"IF(A192<=$E$3,КАЛЬКУЛЯТОР!$C$21,IF(AND(A192>$E$3,A192<=$E$2),$E$4,\"\"))","v":""},{"$f":"IF(A192<=$E$2,-PMT(C192/12,IF(C192=КАЛЬКУЛЯТОР!$C$21,$E$2,$E$2-$E$3),IF(C192=КАЛЬКУЛЯТОР!$C$21,$I$11,$I$11-SUMIF($A$12:$A$371,\"<=\"&$E$3,$H$12:$H$371)),0,0),\"\")","v":""},{"$f":"IF($E$2>$A191,(I191+SUM(F192:F203))*($K$4+$K$5),0)","v":{"v":0,"d":"0.00"}},{"$f":"IFERROR((-IPMT(C192/12,B192,IF(C192=КАЛЬКУЛЯТОР!$C$21,$E$2,$E$2-$E$3),IF(C192=КАЛЬКУЛЯТОР!$C$21,$I$11,$I$11-SUMIF($A$12:$A$371,\"<=\"&$E$3,$H$12:$H$371)),0,0)),\"\")","v":""},{"$f":"IFERROR((-IPMT((C192-'КАЛЬКУЛЯТОР 1'!$P$1)/12,B192,IF(C192=КАЛЬКУЛЯТОР!$C$21,$E$2,$E$2-$E$3),IF(C192=КАЛЬКУЛЯТОР!$C$21,$I$11,$I$11-SUMIF($A$12:$A$371,\"<=\"&$E$3,$H$12:$H$371)),0,0)),\"\")","v":""},{"$f":"IFERROR((-PPMT(C192/12,B192,IF(C192=КАЛЬКУЛЯТОР!$C$21,$E$2,$E$2-$E$3),IF(C192=КАЛЬКУЛЯТОР!$C$21,$I$11,$I$11-SUMIF($A$12:$A$371,\"<=\"&$E$3,$H$12:$H$371)),0,0)),\"\")","v":""},"",{"$error":"#VALUE!"},{"$f":"PV($E$5/12,A192-1,0,-E192)","v":{"v":0,"d":"0.00"}},{"$error":"#VALUE!"},{"$error":"#VALUE!"},{"$error":"#VALUE!"},{"$error":"#VALUE!"},false]
[182,182,{"$f":"IF(A193<=$E$3,КАЛЬКУЛЯТОР!$C$21,IF(AND(A193>$E$3,A193<=$E$2),$E$4,\"\"))","v":""},{"$f":"IF(A193<=$E$2,-PMT(C193/12,IF(C193=КАЛЬКУЛЯТОР!$C$21,$E$2,$E$2-$E$3),IF(C193=КАЛЬКУЛЯТОР!$C$21,$I$11,$I$11-SUMIF($A$12:$A$371,\"<=\"&$E$3,$H$12:$H$371)),0,0),\"\")","v":""},null,{"$f":"IFERROR((-IPMT(C193/12,B193,IF(C193=КАЛЬКУЛЯТОР!$C$21,$E$2,$E$2-$E$3),IF(C193=КАЛЬКУЛЯТОР!$C$21,$I$11,$I$11-SUMIF($A$12:$A$371,\"<=\"&$E$3,$H$12:$H$371)),0,0)),\"\")","v":""},{"$f":"IFERROR((-IPMT((C193-'КАЛЬКУЛЯТОР 1'!$P$1)/12,B193,IF(C193=КАЛЬКУЛЯТОР!$C$21,$E$2,$E$2-$E$3),IF(C193=КАЛЬКУЛЯТОР!$C$21,$I$11,$I$11-SUMIF($A$12:$A$371,\"<=\"&$E$3,$H$12:$H$371)),0,0)),\"\")","v":""},{"$f":"IFERROR((-PPMT(C193/12,B193,IF(C193=КАЛЬКУЛЯТОР!$C$21,$E$2,$E$2-$E$3),IF(C193=КАЛЬКУЛЯТОР!$C$21,$I$11,$I$11-SUMIF($A$12:$A$371,\"<=\"&$E$3,$H$12:$H$371)),0,0)),\"\")","v":""},"",{"$error":"#VALUE!"},null,{"$error":"#VALUE!"},{"$error":"#VALUE!"},{"$error":"#VALUE!"},{"$error":"#VALUE!"},false]
[183,183,{"$f":"IF(A194<=$E$3,КАЛЬКУЛЯТОР!$C$21,IF(AND(A194>$E$3,A194<=$E$2),$E$4,\"\"))","v":""},{"$f":"IF(A194<=$E$2,-PMT(C194/12,IF(C194=КАЛЬКУЛЯТОР!$C$21,$E$2,$E$2-$E$3),IF(C194=КАЛЬКУЛЯТОР!$C$21,$I$11,$I$11-SUMIF($A$12:$A$371,\"<=\"&$E$3,$H$12:$H$371)),0,0),\"\")","v":""},null,{"$f":"IFERROR((-IPMT(C194/12,B194,IF(C194=КАЛЬКУЛЯТОР!$C$21,$E$2,$E$2-$E$3),IF(C194=КАЛЬКУЛЯТОР!$C$21,$I$11,$I$11-SUMIF($A$12:$A$371,\"<=\"&$E$3,$H$12:$H$371)),0,0)),\"\")","v":""},{"$f":"IFERROR((-IPMT((C194-'КАЛЬКУЛЯТОР 1'!$P$1)/12,B194,IF(C194=КАЛЬКУЛЯТОР!$C$21,$E$2,$E$2-$E$3),IF(C194=КАЛЬКУЛЯТОР!$C$21,$I$11,$I$11-SUMIF($A$12:$A$371,\"<=\"&$E$3,$H$12:$H$371)),0,0)),\"\")","v":""},{"$f":"IFERROR((-PPMT(C194/12,B194,IF(C194=КАЛЬКУЛЯТОР!$C$21,$E$2,$E$2-$E$3),IF(C194=КАЛЬКУЛЯТОР!$C$21,$I$11,$I$11-SUMIF($A$12:$A$371,\"<=\"&$E$3,$H$12:$H$371)),0,0)),\"\")","v":""},"",{"$error":"#VALUE!"},null,{"$error":"#VALUE!"},{"$error":"#VALUE!"},{"$error":"#VALUE!"},{"$error":"#VALUE!"},false]
[184,184,{"$f":"IF(A195<=$E$3,КАЛЬКУЛЯТОР!$C$21,IF(AND(A195>$E$3,A195<=$E$2),$E$4,\"\"))","v":""},{"$f":"IF(A195<=$E$2,-PMT(C195/12,IF(C195=КАЛЬКУЛЯТОР!$C$21,$E$2,$E$2-$E$3),IF(C195=КАЛЬКУЛЯТОР!$C$21,$I$11,$I$11-SUMIF($A$12:$A$371,\"<=\"&$E$3,$H$12:$H$371)),0,0),\"\")","v":""},null,{"$f":"IFERROR((-IPMT(C195/12,B195,IF(C195=КАЛЬКУЛЯТОР!$C$21,$E$2,$E$2-$E$3),IF(C195=КАЛЬКУЛЯТОР!$C$21,$I$11,$I$11-SUMIF($A$12:$A$371,\"<=\"&$E$3,$H$12:$H$371)),0,0)),\"\")","v":""},{"$f":"IFERROR((-IPMT((C195-'КАЛЬКУЛЯТОР 1'!$P$1)/12,B195,IF(C195=КАЛЬКУЛЯТОР!$C$21,$E$2,$E$2-$E$3),IF(C195=КАЛЬКУЛЯТОР!$C$21,$I$11,$I$11-SUMIF($A$12:$A$371,\"<=\"&$E$3,$H$12:$H$371)),0,0)),\"\")","v":""},{"$f":"IFERROR((-PPMT(C195/12,B195,IF(C195=КАЛЬКУЛЯТОР!$C$21,$E$2,$E$2-$E$3),IF(C195=КАЛЬКУЛЯТОР!$C$21,$I$11,$I$11-SUMIF($A$12:$A$371,\"<=\"&$E$3,$H$12:$H$371)),0,0)),\"\")","v":""},"",{"$error":"#VALUE!"},null,{"$error":"#VALUE!"},{"$error":"#VALUE!"},{"$error":"#VALUE!"},{"$error":"#VALUE!"},false]
[185,185,{"$f":"IF(A196<=$E$3,КАЛЬКУЛЯТОР!$C$21,IF(AND(A196>$E$3,A196<=$E$2),$E$4,\"\"))","v":""},{"$f":"IF(A196<=$E$2,-PMT(C196/12,IF(C196=КАЛЬКУЛЯТОР!$C$21,$E$2,$E$2-$E$3),IF(C196=КАЛЬКУЛЯТОР!$C$21,$I$11,$I$11-SUMIF($A$12:$A$371,\"<=\"&$E$3,$H$12:$H$371)),0,0),\"\")","v":""},null,{"$f":"IFERROR((-IPMT(C196/12,B196,IF(C196=КАЛЬКУЛЯТОР!$C$21,$E$2,$E$2-$E$3),IF(C196=КАЛЬКУЛЯТОР!$C$21,$I$11,$I$11-SUMIF($A$12:$A$371,\"<=\"&$E$3,$H$12:$H$371)),0,0)),\"\")","v":""},{"$f":"IFERROR((-IPMT((C196-'КАЛЬКУЛЯТОР 1'!$P$1)/12,B196,IF(C196=КАЛЬКУЛЯТОР!$C$21,$E$2,$E$2-$E$3),IF(C196=КАЛЬКУЛЯТОР!$C$21,$I$11,$I$11-SUMIF($A$12:$A$371,\"<=\"&$E$3,$H$12:$H$371)),0,0)),\"\")","v":""},{"$f":"IFERROR((-PPMT(C196/12,B196,IF(C196=КАЛЬКУЛЯТОР!$C$21,$E$2,$E$2-$E$3),IF(C196=КАЛЬКУЛЯТОР!$C$21,$I$11,$I$11-SUMIF($A$12:$A$371,\"<=\"&$E$3,$H$12:$H$371)),0,0)),\"\")","v":""},"",{"$error":"#VALUE!"},null,{"$error":"#VALUE!"},{"$error":"#VALUE!"},{"$error":"#VALUE!"},{"$error":"#VALUE!"},false]
[186,186,{"$f":"IF(A197<=$E$3,КАЛЬКУЛЯТОР!$C$21,IF(AND(A197>$E$3,A197<=$E$2),$E$4,\"\"))","v":""},{"$f":"IF(A197<=$E$2,-PMT(C197/12,IF(C197=КАЛЬКУЛЯТОР!$C$21,$E$2,$E$2-$E$3),IF(C197=КАЛЬКУЛЯТОР!$C$21,$I$11,$I$11-SUMIF($A$12:$A$371,\"<=\"&$E$3,$H$12:$H$371)),0,0),\"\")","v":""},null,{"$f":"IFERROR((-IPMT(C197/12,B197,IF(C197=КАЛЬКУЛЯТОР!$C$21,$E$2,$E$2-$E$3),IF(C197=КАЛЬКУЛЯТОР!$C$21,$I$11,$I$11-SUMIF($A$12:$A$371,\"<=\"&$E$3,$H$12:$H$371)),0,0)),\"\")","v":""},{"$f":"IFERROR((-IPMT((C197-'КАЛЬКУЛЯТОР 1'!$P$1)/12,B197,IF(C197=КАЛЬКУЛЯТОР!$C$21,$E$2,$E$2-$E$3),IF(C197=КАЛЬКУЛЯТОР!$C$21,$I$11,$I$11-SUMIF($A$12:$A$371,\"<=\"&$E$3,$H$12:$H$371)),0,0)),\"\")","v":""},{"$f":"IFERROR((-PPMT(C197/12,B197,IF(C197=КАЛЬКУЛЯТОР!$C$21,$E$2,$E$2-$E$3),IF(C197=КАЛЬКУЛЯТОР!$C$21,$I$11,$I$11-SUMIF($A$12:$A$371,\"<=\"&$E$3,$H$12:$H$371)),0,0)),\"\")","v":""},"",{"$error":"#VALUE!"},null,{"$error":"#VALUE!"},{"$error":"#VALUE!"},{"$error":"#VALUE!"},{"$error":"#VALUE!"},false]
[187,187,{"$f":"IF(A198<=$E$3,КАЛЬКУЛЯТОР!$C$21,IF(AND(A198>$E$3,A198<=$E$2),$E$4,\"\"))","v":""},{"$f":"IF(A198<=$E$2,-PMT(C198/12,IF(C198=КАЛЬКУЛЯТОР!$C$21,$E$2,$E$2-$E$3),IF(C198=КАЛЬКУЛЯТОР!$C$21,$I$11,$I$11-SUMIF($A$12:$A$371,\"<=\"&$E$3,$H$12:$H$371)),0,0),\"\")","v":""},null,{"$f":"IFERROR((-IPMT(C198/12,B198,IF(C198=КАЛЬКУЛЯТОР!$C$21,$E$2,$E$2-$E$3),IF(C198=КАЛЬКУЛЯТОР!$C$21,$I$11,$I$11-SUMIF($A$12:$A$371,\"<=\"&$E$3,$H$12:$H$371)),0,0)),\"\")","v":""},{"$f":"IFERROR((-IPMT((C198-'КАЛЬКУЛЯТОР 1'!$P$1)/12,B198,IF(C198=КАЛЬКУЛЯТОР!$C$21,$E$2,$E$2-$E$3),IF(C198=КАЛЬКУЛЯТОР!$C$21,$I$11,$I$11-SUMIF($A$12:$A$371,\"<=\"&$E$3,$H$12:$H$371)),0,0)),\"\")","v":""},{"$f":"IFERROR((-PPMT(C198/12,B198,IF(C198=КАЛЬКУЛЯТОР!$C$21,$E$2,$E$2-$E$3),IF(C198=КАЛЬКУЛЯТОР!$C$21,$I$11,$I$11-SUMIF($A$12:$A$371,\"<=\"&$E$3,$H$12:$H$371)),0,0)),\"\")","v":""},"",{"$error":"#VALUE!"},null,{"$error":"#VALUE!"},{"$error":"#VALUE!"},{"$error":"#VALUE!"},{"$error":"#VALUE!"},false]
[188,188,{"$f":"IF(A199<=$E$3,КАЛЬКУЛЯТОР!$C$21,IF(AND(A199>$E$3,A199<=$E$2),$E$4,\"\"))","v":""},{"$f":"IF(A199<=$E$2,-PMT(C199/12,IF(C199=КАЛЬКУЛЯТОР!$C$21,$E$2,$E$2-$E$3),IF(C199=КАЛЬКУЛЯТОР!$C$21,$I$11,$I$11-SUMIF($A$12:$A$371,\"<=\"&$E$3,$H$12:$H$371)),0,0),\"\")","v":""},null,{"$f":"IFERROR((-IPMT(C199/12,B199,IF(C199=КАЛЬКУЛЯТОР!$C$21,$E$2,$E$2-$E$3),IF(C199=КАЛЬКУЛЯТОР!$C$21,$I$11,$I$11-SUMIF($A$12:$A$371,\"<=\"&$E$3,$H$12:$H$371)),0,0)),\"\")","v":""},{"$f":"IFERROR((-IPMT((C199-'КАЛЬКУЛЯТОР 1'!$P$1)/12,B199,IF(C199=КАЛЬКУЛЯТОР!$C$21,$E$2,$E$2-$E$3),IF(C199=КАЛЬКУЛЯТОР!$C$21,$I$11,$I$11-SUMIF($A$12:$A$371,\"<=\"&$E$3,$H$12:$H$371)),0,0)),\"\")","v":""},{"$f":"IFERROR((-PPMT(C199/12,B199,IF(C199=КАЛЬКУЛЯТОР!$C$21,$E$2,$E$2-$E$3),IF(C199=КАЛЬКУЛЯТОР!$C$21,$I$11,$I$11-SUMIF($A$12:$A$371,\"<=\"&$E$3,$H$12:$H$371)),0,0)),\"\")","v":""},"",{"$error":"#VALUE!"},null,{"$error":"#VALUE!"},{"$error":"#VALUE!"},{"$error":"#VALUE!"},{"$error":"#VALUE!"},false]
[189,189,{"$f":"IF(A200<=$E$3,КАЛЬКУЛЯТОР!$C$21,IF(AND(A200>$E$3,A200<=$E$2),$E$4,\"\"))","v":""},{"$f":"IF(A200<=$E$2,-PMT(C200/12,IF(C200=КАЛЬКУЛЯТОР!$C$21,$E$2,$E$2-$E$3),IF(C200=КАЛЬКУЛЯТОР!$C$21,$I$11,$I$11-SUMIF($A$12:$A$371,\"<=\"&$E$3,$H$12:$H$371)),0,0),\"\")","v":""},null,{"$f":"IFERROR((-IPMT(C200/12,B200,IF(C200=КАЛЬКУЛЯТОР!$C$21,$E$2,$E$2-$E$3),IF(C200=КАЛЬКУЛЯТОР!$C$21,$I$11,$I$11-SUMIF($A$12:$A$371,\"<=\"&$E$3,$H$12:$H$371)),0,0)),\"\")","v":""},{"$f":"IFERROR((-IPMT((C200-'КАЛЬКУЛЯТОР 1'!$P$1)/12,B200,IF(C200=КАЛЬКУЛЯТОР!$C$21,$E$2,$E$2-$E$3),IF(C200=КАЛЬКУЛЯТОР!$C$21,$I$11,$I$11-SUMIF($A$12:$A$371,\"<=\"&$E$3,$H$12:$H$371)),0,0)),\"\")","v":""},{"$f":"IFERROR((-PPMT(C200/12,B200,IF(C200=КАЛЬКУЛЯТОР!$C$21,$E$2,$E$2-$E$3),IF(C200=КАЛЬКУЛЯТОР!$C$21,$I$11,$I$11-SUMIF($A$12:$A$371,\"<=\"&$E$3,$H$12:$H$371)),0,0)),\"\")","v":""},"",{"$error":"#VALUE!"},null,{"$error":"#VALUE!"},{"$error":"#VALUE!"},{"$error":"#VALUE!"},{"$error":"#VALUE!"},false]
[190,190,{"$f":"IF(A201<=$E$3,КАЛЬКУЛЯТОР!$C$21,IF(AND(A201>$E$3,A201<=$E$2),$E$4,\"\"))","v":""},{"$f":"IF(A201<=$E$2,-PMT(C201/12,IF(C201=КАЛЬКУЛЯТОР!$C$21,$E$2,$E$2-$E$3),IF(C201=КАЛЬКУЛЯТОР!$C$21,$I$11,$I$11-SUMIF($A$12:$A$371,\"<=\"&$E$3,$H$12:$H$371)),0,0),\"\")","v":""},null,{"$f":"IFERROR((-IPMT(C201/12,B201,IF(C201=КАЛЬКУЛЯТОР!$C$21,$E$2,$E$2-$E$3),IF(C201=КАЛЬКУЛЯТОР!$C$21,$I$11,$I$11-SUMIF($A$12:$A$371,\"<=\"&$E$3,$H$12:$H$371)),0,0)),\"\")","v":""},{"$f":"IFERROR((-IPMT((C201-'КАЛЬКУЛЯТОР 1'!$P$1)/12,B201,IF(C201=КАЛЬКУЛЯТОР!$C$21,$E$2,$E$2-$E$3),IF(C201=КАЛЬКУЛЯТОР!$C$21,$I$11,$I$11-SUMIF($A$12:$A$371,\"<=\"&$E$3,$H$12:$H$371)),0,0)),\"\")","v":""},{"$f":"IFERROR((-PPMT(C201/12,B201,IF(C201=КАЛЬКУЛЯТОР!$C$21,$E$2,$E$2-$E$3),IF(C201=КАЛЬКУЛЯТОР!$C$21,$I$11,$I$11-SUMIF($A$12:$A$371,\"<=\"&$E$3,$H$12:$H$371)),0,0)),\"\")","v":""},"",{"$error":"#VALUE!"},null,{"$error":"#VALUE!"},{"$error":"#VALUE!"},{"$error":"#VALUE!"},{"$error":"#VALUE!"},false]
[191,191,{"$f":"IF(A202<=$E$3,КАЛЬКУЛЯТОР!$C$21,IF(AND(A202>$E$3,A202<=$E$2),$E$4,\"\"))","v":""},{"$f":"IF(A202<=$E$2,-PMT(C202/12,IF(C202=КАЛЬКУЛЯТОР!$C$21,$E$2,$E$2-$E$3),IF(C202=КАЛЬКУЛЯТОР!$C$21,$I$11,$I$11-SUMIF($A$12:$A$371,\"<=\"&$E$3,$H$12:$H$371)),0,0),\"\")","v":""},null,{"$f":"IFERROR((-IPMT(C202/12,B202,IF(C202=КАЛЬКУЛЯТОР!$C$21,$E$2,$E$2-$E$3),IF(C202=КАЛЬКУЛЯТОР!$C$21,$I$11,$I$11-SUMIF($A$12:$A$371,\"<=\"&$E$3,$H$12:$H$371)),0,0)),\"\")","v":""},{"$f":"IFERROR((-IPMT((C202-'КАЛЬКУЛЯТОР 1'!$P$1)/12,B202,IF(C202=КАЛЬКУЛЯТОР!$C$21,$E$2,$E$2-$E$3),IF(C202=КАЛЬКУЛЯТОР!$C$21,$I$11,$I$11-SUMIF($A$12:$A$371,\"<=\"&$E$3,$H$12:$H$371)),0,0)),\"\")","v":""},{"$f":"IFERROR((-PPMT(C202/12,B202,IF(C202=КАЛЬКУЛЯТОР!$C$21,$E$2,$E$2-$E$3),IF(C202=КАЛЬКУЛЯТОР!$C$21,$I$11,$I$11-SUMIF($A$12:$A$371,\"<=\"&$E$3,$H$12:$H$371)),0,0)),\"\")","v":""},"",{"$error":"#VALUE!"},null,{"$error":"#VALUE!"},{"$error":"#VALUE!"},{"$error":"#VALUE!"},{"$error":"#VALUE!"},false]
[192,192,{"$f":"IF(A203<=$E$3,КАЛЬКУЛЯТОР!$C$21,IF(AND(A203>$E$3,A203<=$E$2),$E$4,\"\"))","v":""},{"$f":"IF(A203<=$E$2,-PMT(C203/12,IF(C203=КАЛЬКУЛЯТОР!$C$21,$E$2,$E$2-$E$3),IF(C203=КАЛЬКУЛЯТОР!$C$21,$I$11,$I$11-SUMIF($A$12:$A$371,\"<=\"&$E$3,$H$12:$H$371)),0,0),\"\")","v":""},null,{"$f":"IFERROR((-IPMT(C203/12,B203,IF(C203=КАЛЬКУЛЯТОР!$C$21,$E$2,$E$2-$E$3),IF(C203=КАЛЬКУЛЯТОР!$C$21,$I$11,$I$11-SUMIF($A$12:$A$371,\"<=\"&$E$3,$H$12:$H$371)),0,0)),\"\")","v":""},{"$f":"IFERROR((-IPMT((C203-'КАЛЬКУЛЯТОР 1'!$P$1)/12,B203,IF(C203=КАЛЬКУЛЯТОР!$C$21,$E$2,$E$2-$E$3),IF(C203=КАЛЬКУЛЯТОР!$C$21,$I$11,$I$11-SUMIF($A$12:$A$371,\"<=\"&$E$3,$H$12:$H$371)),0,0)),\"\")","v":""},{"$f":"IFERROR((-PPMT(C203/12,B203,IF(C203=КАЛЬКУЛЯТОР!$C$21,$E$2,$E$2-$E$3),IF(C203=КАЛЬКУЛЯТОР!$C$21,$I$11,$I$11-SUMIF($A$12:$A$371,\"<=\"&$E$3,$H$12:$H$371)),0,0)),\"\")","v":""},"",{"$error":"#VALUE!"},null,{"$error":"#VALUE!"},{"$error":"#VALUE!"},{"$error":"#VALUE!"},{"$error":"#VALUE!"},false]
[193,193,{"$f":"IF(A204<=$E$3,КАЛЬКУЛЯТОР!$C$21,IF(AND(A204>$E$3,A204<=$E$2),$E$4,\"\"))","v":""},{"$f":"IF(A204<=$E$2,-PMT(C204/12,IF(C204=КАЛЬКУЛЯТОР!$C$21,$E$2,$E$2-$E$3),IF(C204=КАЛЬКУЛЯТОР!$C$21,$I$11,$I$11-SUMIF($A$12:$A$371,\"<=\"&$E$3,$H$12:$H$371)),0,0),\"\")","v":""},{"$f":"IF($E$2>$A203,(I203+SUM(F204:F215))*($K$4+$K$5),0)","v":{"v":0,"d":"0.00"}},{"$f":"IFERROR((-IPMT(C204/12,B204,IF(C204=КАЛЬКУЛЯТОР!$C$21,$E$2,$E$2-$E$3),IF(C204=КАЛЬКУЛЯТОР!$C$21,$I$11,$I$11-SUMIF($A$12:$A$371,\"<=\"&$E$3,$H$12:$H$371)),0,0)),\"\")","v":""},{"$f":"IFERROR((-IPMT((C204-'КАЛЬКУЛЯТОР 1'!$P$1)/12,B204,IF(C204=КАЛЬКУЛЯТОР!$C$21,$E$2,$E$2-$E$3),IF(C204=КАЛЬКУЛЯТОР!$C$21,$I$11,$I$11-SUMIF($A$12:$A$371,\"<=\"&$E$3,$H$12:$H$371)),0,0)),\"\")","v":""},{"$f":"IFERROR((-PPMT(C204/12,B204,IF(C204=КАЛЬКУЛЯТОР!$C$21,$E$2,$E$2-$E$3),IF(C204=КАЛЬКУЛЯТОР!$C$21,$I$11,$I$11-SUMIF($A$12:$A$371,\"<=\"&$E$3,$H$12:$H$371)),0,0)),\"\")","v":""},{"$f":"IFERROR(I203-H204,\"\")","v":""},{"$f":"PV($E$5/12,A204-1,0,-D204)","v":{"$error":"#VALUE!"}},{"$f":"PV($E$5/12,A204-1,0,-E204)","v":{"v":0,"d":"0.00"}},{"$f":"PV($E$5/12,A204-1,0,-F204)","v":{"$error":"#VALUE!"}},{"$f":"PV($E$5/12,A204-1,0,-G204)","v":{"$error":"#VALUE!"}},{"$f":"PV($E$5/12,A204-1,0,-H204)","v":{"$error":"#VALUE!"}},{"$f":"O203-N204","v":{"$error":"#VALUE!"}},{"$f":"AND(A204<=$E$3)","v":false}]
[194,{"$f":"ROUND(IF(P205=$P$12,B204+1,A205-$E$3),0)","v":194},{"$f":"IF(A205<=$E$3,КАЛЬКУЛЯТОР!$C$21,IF(AND(A205>$E$3,A205<=$E$2),$E$4,\"\"))","v":""},{"$f":"IF(A205<=$E$2,-PMT(C205/12,IF(C205=КАЛЬКУЛЯТОР!$C$21,$E$2,$E$2-$E$3),IF(C205=КАЛЬКУЛЯТОР!$C$21,$I$11,$I$11-SUMIF($A$12:$A$371,\"<=\"&$E$3,$H$12:$H$371)),0,0),\"\")","v":""},null,{"$f":"IFERROR((-IPMT(C205/12,B205,IF(C205=КАЛЬКУЛЯТОР!$C$21,$E$2,$E$2-$E$3),IF(C205=КАЛЬКУЛЯТОР!$C$21,$I$11,$I$11-SUMIF($A$12:$A$371,\"<=\"&$E$3,$H$12:$H$371)),0,0)),\"\")","v":""},{"$f":"IFERROR((-IPMT((C205-'КАЛЬКУЛЯТОР 1'!$P$1)/12,B205,IF(C205=КАЛЬКУЛЯТОР!$C$21,$E$2,$E$2-$E$3),IF(C205=КАЛЬКУЛЯТОР!$C$21,$I$11,$I$11-SUMIF($A$12:$A$371,\"<=\"&$E$3,$H$12:$H$371)),0,0)),\"\")","v":""},{"$f":"IFERROR((-PPMT(C205/12,B205,IF(C205=КАЛЬКУЛЯТОР!$C$21,$E$2,$E$2-$E$3),IF(C205=КАЛЬКУЛЯТОР!$C$21,$I$11,$I$11-SUMIF($A$12:$A$371,\"<=\"&$E$3,$H$12:$H$371)),0,0)),\"\")","v":""},"",{"$error":"#VALUE!"},null,{"$error":"#VALUE!"},{"$error":"#VALUE!"},{"$error":"#VALUE!"},{"$error":"#VALUE!"},false]
[195,195,{"$f":"IF(A206<=$E$3,КАЛЬКУЛЯТОР!$C$21,IF(AND(A206>$E$3,A206<=$E$2),$E$4,\"\"))","v":""},{"$f":"IF(A206<=$E$2,-PMT(C206/12,IF(C206=КАЛЬКУЛЯТОР!$C$21,$E$2,$E$2-$E$3),IF(C206=КАЛЬКУЛЯТОР!$C$21,$I$11,$I$11-SUMIF($A$12:$A$371,\"<=\"&$E$3,$H$12:$H$371)),0,0),\"\")","v":""},null,{"$f":"IFERROR((-IPMT(C206/12,B206,IF(C206=КАЛЬКУЛЯТОР!$C$21,$E$2,$E$2-$E$3),IF(C206=КАЛЬКУЛЯТОР!$C$21,$I$11,$I$11-SUMIF($A$12:$A$371,\"<=\"&$E$3,$H$12:$H$371)),0,0)),\"\")","v":""},{"$f":"IFERROR((-IPMT((C206-'КАЛЬКУЛЯТОР 1'!$P$1)/12,B206,IF(C206=КАЛЬКУЛЯТОР!$C$21,$E$2,$E$2-$E$3),IF(C206=КАЛЬКУЛЯТОР!$C$21,$I$11,$I$11-SUMIF($A$12:$A$371,\"<=\"&$E$3,$H$12:$H$371)),0,0)),\"\")","v":""},{"$f":"IFERROR((-PPMT(C206/12,B206,IF(C206=КАЛЬКУЛЯТОР!$C$21,$E$2,$E$2-$E$3),IF(C206=КАЛЬКУЛЯТОР!$C$21,$I$11,$I$11-SUMIF($A$12:$A$371,\"<=\"&$E$3,$H$12:$H$371)),0,0)),\"\")","v":""},"",{"$error":"#VALUE!"},null,{"$error":"#VALUE!"},{"$error":"#VALUE!"},{"$error":"#VALUE!"},{"$error":"#VALUE!"},false]
[196,196,{"$f":"IF(A207<=$E$3,КАЛЬКУЛЯТОР!$C$21,IF(AND(A207>$E$3,A207<=$E$2),$E$4,\"\"))","v":""},{"$f":"IF(A207<=$E$2,-PMT(C207/12,IF(C207=КАЛЬКУЛЯТОР!$C$21,$E$2,$E$2-$E$3),IF(C207=КАЛЬКУЛЯТОР!$C$21,$I$11,$I$11-SUMIF($A$12:$A$371,\"<=\"&$E$3,$H$12:$H$371)),0,0),\"\")","v":""},null,{"$f":"IFERROR((-IPMT(C207/12,B207,IF(C207=КАЛЬКУЛЯТОР!$C$21,$E$2,$E$2-$E$3),IF(C207=КАЛЬКУЛЯТОР!$C$21,$I$11,$I$11-SUMIF($A$12:$A$371,\"<=\"&$E$3,$H$12:$H$371)),0,0)),\"\")","v":""},{"$f":"IFERROR((-IPMT((C207-'КАЛЬКУЛЯТОР 1'!$P$1)/12,B207,IF(C207=КАЛЬКУЛЯТОР!$C$21,$E$2,$E$2-$E$3),IF(C207=КАЛЬКУЛЯТОР!$C$21,$I$11,$I$11-SUMIF($A$12:$A$371,\"<=\"&$E$3,$H$12:$H$371)),0,0)),\"\")","v":""},{"$f":"IFERROR((-PPMT(C207/12,B207,IF(C207=КАЛЬКУЛЯТОР!$C$21,$E$2,$E$2-$E$3),IF(C207=КАЛЬКУЛЯТОР!$C$21,$I$11,$I$11-SUMIF($A$12:$A$371,\"<=\"&$E$3,$H$12:$H$371)),0,0)),\"\")","v":""},"",{"$error":"#VALUE!"},null,{"$error":"#VALUE!"},{"$error":"#VALUE!"},{"$error":"#VALUE!"},{"$error":"#VALUE!"},false]
[197,197,{"$f":"IF(A208<=$E$3,КАЛЬКУЛЯТОР!$C$21,IF(AND(A208>$E$3,A208<=$E$2),$E$4,\"\"))","v":""},{"$f":"IF(A208<=$E$2,-PMT(C208/12,IF(C208=КАЛЬКУЛЯТОР!$C$21,$E$2,$E$2-$E$3),IF(C208=КАЛЬКУЛЯТОР!$C$21,$I$11,$I$11-SUMIF($A$12:$A$371,\"<=\"&$E$3,$H$12:$H$371)),0,0),\"\")","v":""},null,{"$f":"IFERROR((-IPMT(C208/12,B208,IF(C208=КАЛЬКУЛЯТОР!$C$21,$E$2,$E$2-$E$3),IF(C208=КАЛЬКУЛЯТОР!$C$21,$I$11,$I$11-SUMIF($A$12:$A$371,\"<=\"&$E$3,$H$12:$H$371)),0,0)),\"\")","v":""},{"$f":"IFERROR((-IPMT((C208-'КАЛЬКУЛЯТОР 1'!$P$1)/12,B208,IF(C208=КАЛЬКУЛЯТОР!$C$21,$E$2,$E$2-$E$3),IF(C208=КАЛЬКУЛЯТОР!$C$21,$I$11,$I$11-SUMIF($A$12:$A$371,\"<=\"&$E$3,$H$12:$H$371)),0,0)),\"\")","v":""},{"$f":"IFERROR((-PPMT(C208/12,B208,IF(C208=КАЛЬКУЛЯТОР!$C$21,$E$2,$E$2-$E$3),IF(C208=КАЛЬКУЛЯТОР!$C$21,$I$11,$I$11-SUMIF($A$12:$A$371,\"<=\"&$E$3,$H$12:$H$371)),0,0)),\"\")","v":""},"",{"$error":"#VALUE!"},null,{"$error":"#VALUE!"},{"$error":"#VALUE!"},{"$error":"#VALUE!"},{"$error":"#VALUE!"},false]
[198,198,{"$f":"IF(A209<=$E$3,КАЛЬКУЛЯТОР!$C$21,IF(AND(A209>$E$3,A209<=$E$2),$E$4,\"\"))","v":""},{"$f":"IF(A209<=$E$2,-PMT(C209/12,IF(C209=КАЛЬКУЛЯТОР!$C$21,$E$2,$E$2-$E$3),IF(C209=КАЛЬКУЛЯТОР!$C$21,$I$11,$I$11-SUMIF($A$12:$A$371,\"<=\"&$E$3,$H$12:$H$371)),0,0),\"\")","v":""},null,{"$f":"IFERROR((-IPMT(C209/12,B209,IF(C209=КАЛЬКУЛЯТОР!$C$21,$E$2,$E$2-$E$3),IF(C209=КАЛЬКУЛЯТОР!$C$21,$I$11,$I$11-SUMIF($A$12:$A$371,\"<=\"&$E$3,$H$12:$H$371)),0,0)),\"\")","v":""},{"$f":"IFERROR((-IPMT((C209-'КАЛЬКУЛЯТОР 1'!$P$1)/12,B209,IF(C209=КАЛЬКУЛЯТОР!$C$21,$E$2,$E$2-$E$3),IF(C209=КАЛЬКУЛЯТОР!$C$21,$I$11,$I$11-SUMIF($A$12:$A$371,\"<=\"&$E$3,$H$12:$H$371)),0,0)),\"\")","v":""},{"$f":"IFERROR((-PPMT(C209/12,B209,IF(C209=КАЛЬКУЛЯТОР!$C$21,$E$2,$E$2-$E$3),IF(C209=КАЛЬКУЛЯТОР!$C$21,$I$11,$I$11-SUMIF($A$12:$A$371,\"<=\"&$E$3,$H$12:$H$371)),0,0)),\"\")","v":""},"",{"$error":"#VALUE!"},null,{"$error":"#VALUE!"},{"$error":"#VALUE!"},{"$error":"#VALUE!"},{"$error":"#VALUE!"},false]
[199,199,{"$f":"IF(A210<=$E$3,КАЛЬКУЛЯТОР!$C$21,IF(AND(A210>$E$3,A210<=$E$2),$E$4,\"\"))","v":""},{"$f":"IF(A210<=$E$2,-PMT(C210/12,IF(C210=КАЛЬКУЛЯТОР!$C$21,$E$2,$E$2-$E$3),IF(C210=КАЛЬКУЛЯТОР!$C$21,$I$11,$I$11-SUMIF($A$12:$A$371,\"<=\"&$E$3,$H$12:$H$371)),0,0),\"\")","v":""},null,{"$f":"IFERROR((-IPMT(C210/12,B210,IF(C210=КАЛЬКУЛЯТОР!$C$21,$E$2,$E$2-$E$3),IF(C210=КАЛЬКУЛЯТОР!$C$21,$I$11,$I$11-SUMIF($A$12:$A$371,\"<=\"&$E$3,$H$12:$H$371)),0,0)),\"\")","v":""},{"$f":"IFERROR((-IPMT((C210-'КАЛЬКУЛЯТОР 1'!$P$1)/12,B210,IF(C210=КАЛЬКУЛЯТОР!$C$21,$E$2,$E$2-$E$3),IF(C210=КАЛЬКУЛЯТОР!$C$21,$I$11,$I$11-SUMIF($A$12:$A$371,\"<=\"&$E$3,$H$12:$H$371)),0,0)),\"\")","v":""},{"$f":"IFERROR((-PPMT(C210/12,B210,IF(C210=КАЛЬКУЛЯТОР!$C$21,$E$2,$E$2-$E$3),IF(C210=КАЛЬКУЛЯТОР!$C$21,$I$11,$I$11-SUMIF($A$12:$A$371,\"<=\"&$E$3,$H$12:$H$371)),0,0)),\"\")","v":""},"",{"$error":"#VALUE!"},null,{"$error":"#VALUE!"},{"$error":"#VALUE!"},{"$error":"#VALUE!"},{"$error":"#VALUE!"},false]
[200,200,{"$f":"IF(A211<=$E$3,КАЛЬКУЛЯТОР!$C$21,IF(AND(A211>$E$3,A211<=$E$2),$E$4,\"\"))","v":""},{"$f":"IF(A211<=$E$2,-PMT(C211/12,IF(C211=КАЛЬКУЛЯТОР!$C$21,$E$2,$E$2-$E$3),IF(C211=КАЛЬКУЛЯТОР!$C$21,$I$11,$I$11-SUMIF($A$12:$A$371,\"<=\"&$E$3,$H$12:$H$371)),0,0),\"\")","v":""},null,{"$f":"IFERROR((-IPMT(C211/12,B211,IF(C211=КАЛЬКУЛЯТОР!$C$21,$E$2,$E$2-$E$3),IF(C211=КАЛЬКУЛЯТОР!$C$21,$I$11,$I$11-SUMIF($A$12:$A$371,\"<=\"&$E$3,$H$12:$H$371)),0,0)),\"\")","v":""},{"$f":"IFERROR((-IPMT((C211-'КАЛЬКУЛЯТОР 1'!$P$1)/12,B211,IF(C211=КАЛЬКУЛЯТОР!$C$21,$E$2,$E$2-$E$3),IF(C211=КАЛЬКУЛЯТОР!$C$21,$I$11,$I$11-SUMIF($A$12:$A$371,\"<=\"&$E$3,$H$12:$H$371)),0,0)),\"\")","v":""},{"$f":"IFERROR((-PPMT(C211/12,B211,IF(C211=КАЛЬКУЛЯТОР!$C$21,$E$2,$E$2-$E$3),IF(C211=КАЛЬКУЛЯТОР!$C$21,$I$11,$I$11-SUMIF($A$12:$A$371,\"<=\"&$E$3,$H$12:$H$371)),0,0)),\"\")","v":""},"",{"$error":"#VALUE!"},null,{"$error":"#VALUE!"},{"$error":"#VALUE!"},{"$error":"#VALUE!"},{"$error":"#VALUE!"},false]
[201,201,{"$f":"IF(A212<=$E$3,КАЛЬКУЛЯТОР!$C$21,IF(AND(A212>$E$3,A212<=$E$2),$E$4,\"\"))","v":""},{"$f":"IF(A212<=$E$2,-PMT(C212/12,IF(C212=КАЛЬКУЛЯТОР!$C$21,$E$2,$E$2-$E$3),IF(C212=КАЛЬКУЛЯТОР!$C$21,$I$11,$I$11-SUMIF($A$12:$A$371,\"<=\"&$E$3,$H$12:$H$371)),0,0),\"\")","v":""},null,{"$f":"IFERROR((-IPMT(C212/12,B212,IF(C212=КАЛЬКУЛЯТОР!$C$21,$E$2,$E$2-$E$3),IF(C212=КАЛЬКУЛЯТОР!$C$21,$I$11,$I$11-SUMIF($A$12:$A$371,\"<=\"&$E$3,$H$12:$H$371)),0,0)),\"\")","v":""},{"$f":"IFERROR((-IPMT((C212-'КАЛЬКУЛЯТОР 1'!$P$1)/12,B212,IF(C212=КАЛЬКУЛЯТОР!$C$21,$E$2,$E$2-$E$3),IF(C212=КАЛЬКУЛЯТОР!$C$21,$I$11,$I$11-SUMIF($A$12:$A$371,\"<=\"&$E$3,$H$12:$H$371)),0,0)),\"\")","v":""},{"$f":"IFERROR((-PPMT(C212/12,B212,IF(C212=КАЛЬКУЛЯТОР!$C$21,$E$2,$E$2-$E$3),IF(C212=КАЛЬКУЛЯТОР!$C$21,$I$11,$I$11-SUMIF($A$12:$A$371,\"<=\"&$E$3,$H$12:$H$371)),0,0)),\"\")","v":""},"",{"$error":"#VALUE!"},null,{"$error":"#VALUE!"},{"$error":"#VALUE!"},{"$error":"#VALUE!"},{"$error":"#VALUE!"},false]
[202,202,{"$f":"IF(A213<=$E$3,КАЛЬКУЛЯТОР!$C$21,IF(AND(A213>$E$3,A213<=$E$2),$E$4,\"\"))","v":""},{"$f":"IF(A213<=$E$2,-PMT(C213/12,IF(C213=КАЛЬКУЛЯТОР!$C$21,$E$2,$E$2-$E$3),IF(C213=КАЛЬКУЛЯТОР!$C$21,$I$11,$I$11-SUMIF($A$12:$A$371,\"<=\"&$E$3,$H$12:$H$371)),0,0),\"\")","v":""},null,{"$f":"IFERROR((-IPMT(C213/12,B213,IF(C213=КАЛЬКУЛЯТОР!$C$21,$E$2,$E$2-$E$3),IF(C213=КАЛЬКУЛЯТОР!$C$21,$I$11,$I$11-SUMIF($A$12:$A$371,\"<=\"&$E$3,$H$12:$H$371)),0,0)),\"\")","v":""},{"$f":"IFERROR((-IPMT((C213-'КАЛЬКУЛЯТОР 1'!$P$1)/12,B213,IF(C213=КАЛЬКУЛЯТОР!$C$21,$E$2,$E$2-$E$3),IF(C213=КАЛЬКУЛЯТОР!$C$21,$I$11,$I$11-SUMIF($A$12:$A$371,\"<=\"&$E$3,$H$12:$H$371)),0,0)),\"\")","v":""},{"$f":"IFERROR((-PPMT(C213/12,B213,IF(C213=КАЛЬКУЛЯТОР!$C$21,$E$2,$E$2-$E$3),IF(C213=КАЛЬКУЛЯТОР!$C$21,$I$11,$I$11-SUMIF($A$12:$A$371,\"<=\"&$E$3,$H$12:$H$371)),0,0)),\"\")","v":""},"",{"$error":"#VALUE!"},null,{"$error":"#VALUE!"},{"$error":"#VALUE!"},{"$error":"#VALUE!"},{"$error":"#VALUE!"},false]
[203,203,{"$f":"IF(A214<=$E$3,КАЛЬКУЛЯТОР!$C$21,IF(AND(A214>$E$3,A214<=$E$2),$E$4,\"\"))","v":""},{"$f":"IF(A214<=$E$2,-PMT(C214/12,IF(C214=КАЛЬКУЛЯТОР!$C$21,$E$2,$E$2-$E$3),IF(C214=КАЛЬКУЛЯТОР!$C$21,$I$11,$I$11-SUMIF($A$12:$A$371,\"<=\"&$E$3,$H$12:$H$371)),0,0),\"\")","v":""},null,{"$f":"IFERROR((-IPMT(C214/12,B214,IF(C214=КАЛЬКУЛЯТОР!$C$21,$E$2,$E$2-$E$3),IF(C214=КАЛЬКУЛЯТОР!$C$21,$I$11,$I$11-SUMIF($A$12:$A$371,\"<=\"&$E$3,$H$12:$H$371)),0,0)),\"\")","v":""},{"$f":"IFERROR((-IPMT((C214-'КАЛЬКУЛЯТОР 1'!$P$1)/12,B214,IF(C214=КАЛЬКУЛЯТОР!$C$21,$E$2,$E$2-$E$3),IF(C214=КАЛЬКУЛЯТОР!$C$21,$I$11,$I$11-SUMIF($A$12:$A$371,\"<=\"&$E$3,$H$12:$H$371)),0,0)),\"\")","v":""},{"$f":"IFERROR((-PPMT(C214/12,B214,IF(C214=КАЛЬКУЛЯТОР!$C$21,$E$2,$E$2-$E$3),IF(C214=КАЛЬКУЛЯТОР!$C$21,$I$11,$I$11-SUMIF($A$12:$A$371,\"<=\"&$E$3,$H$12:$H$371)),0,0)),\"\")","v":""},"",{"$error":"#VALUE!"},null,{"$error":"#VALUE!"},{"$error":"#VALUE!"},{"$error":"#VALUE!"},{"$error":"#VALUE!"},false]
[204,204,{"$f":"IF(A215<=$E$3,КАЛЬКУЛЯТОР!$C$21,IF(AND(A215>$E$3,A215<=$E$2),$E$4,\"\"))","v":""},{"$f":"IF(A215<=$E$2,-PMT(C215/12,IF(C215=КАЛЬКУЛЯТОР!$C$21,$E$2,$E$2-$E$3),IF(C215=КАЛЬКУЛЯТОР!$C$21,$I$11,$I$11-SUMIF($A$12:$A$371,\"<=\"&$E$3,$H$12:$H$371)),0,0),\"\")","v":""},null,{"$f":"IFERROR((-IPMT(C215/12,B215,IF(C215=КАЛЬКУЛЯТОР!$C$21,$E$2,$E$2-$E$3),IF(C215=КАЛЬКУЛЯТОР!$C$21,$I$11,$I$11-SUMIF($A$12:$A$371,\"<=\"&$E$3,$H$12:$H$371)),0,0)),\"\")","v":""},{"$f":"IFERROR((-IPMT((C215-'КАЛЬКУЛЯТОР 1'!$P$1)/12,B215,IF(C215=КАЛЬКУЛЯТОР!$C$21,$E$2,$E$2-$E$3),IF(C215=КАЛЬКУЛЯТОР!$C$21,$I$11,$I$11-SUMIF($A$12:$A$371,\"<=\"&$E$3,$H$12:$H$371)),0,0)),\"\")","v":""},{"$f":"IFERROR((-PPMT(C215/12,B215,IF(C215=КАЛЬКУЛЯТОР!$C$21,$E$2,$E$2-$E$3),IF(C215=КАЛЬКУЛЯТОР!$C$21,$I$11,$I$11-SUMIF($A$12:$A$371,\"<=\"&$E$3,$H$12:$H$371)),0,0)),\"\")","v":""},"",{"$error":"#VALUE!"},null,{"$error":"#VALUE!"},{"$error":"#VALUE!"},{"$error":"#VALUE!"},{"$error":"#VALUE!"},false]
[205,205,{"$f":"IF(A216<=$E$3,КАЛЬКУЛЯТОР!$C$21,IF(AND(A216>$E$3,A216<=$E$2),$E$4,\"\"))","v":""},{"$f":"IF(A216<=$E$2,-PMT(C216/12,IF(C216=КАЛЬКУЛЯТОР!$C$21,$E$2,$E$2-$E$3),IF(C216=КАЛЬКУЛЯТОР!$C$21,$I$11,$I$11-SUMIF($A$12:$A$371,\"<=\"&$E$3,$H$12:$H$371)),0,0),\"\")","v":""},{"$f":"IF($E$2>$A215,(I215+SUM(F216:F227))*($K$4+$K$5),0)","v":{"v":0,"d":"0.00"}},{"$f":"IFERROR((-IPMT(C216/12,B216,IF(C216=КАЛЬКУЛЯТОР!$C$21,$E$2,$E$2-$E$3),IF(C216=КАЛЬКУЛЯТОР!$C$21,$I$11,$I$11-SUMIF($A$12:$A$371,\"<=\"&$E$3,$H$12:$H$371)),0,0)),\"\")","v":""},{"$f":"IFERROR((-IPMT((C216-'КАЛЬКУЛЯТОР 1'!$P$1)/12,B216,IF(C216=КАЛЬКУЛЯТОР!$C$21,$E$2,$E$2-$E$3),IF(C216=КАЛЬКУЛЯТОР!$C$21,$I$11,$I$11-SUMIF($A$12:$A$371,\"<=\"&$E$3,$H$12:$H$371)),0,0)),\"\")","v":""},{"$f":"IFERROR((-PPMT(C216/12,B216,IF(C216=КАЛЬКУЛЯТОР!$C$21,$E$2,$E$2-$E$3),IF(C216=КАЛЬКУЛЯТОР!$C$21,$I$11,$I$11-SUMIF($A$12:$A$371,\"<=\"&$E$3,$H$12:$H$371)),0,0)),\"\")","v":""},"",{"$error":"#VALUE!"},{"$f":"PV($E$5/12,A216-1,0,-E216)","v":{"v":0,"d":"0.00"}},{"$error":"#VALUE!"},{"$error":"#VALUE!"},{"$error":"#VALUE!"},{"$error":"#VALUE!"},false]
[206,206,{"$f":"IF(A217<=$E$3,КАЛЬКУЛЯТОР!$C$21,IF(AND(A217>$E$3,A217<=$E$2),$E$4,\"\"))","v":""},{"$f":"IF(A217<=$E$2,-PMT(C217/12,IF(C217=КАЛЬКУЛЯТОР!$C$21,$E$2,$E$2-$E$3),IF(C217=КАЛЬКУЛЯТОР!$C$21,$I$11,$I$11-SUMIF($A$12:$A$371,\"<=\"&$E$3,$H$12:$H$371)),0,0),\"\")","v":""},null,{"$f":"IFERROR((-IPMT(C217/12,B217,IF(C217=КАЛЬКУЛЯТОР!$C$21,$E$2,$E$2-$E$3),IF(C217=КАЛЬКУЛЯТОР!$C$21,$I$11,$I$11-SUMIF($A$12:$A$371,\"<=\"&$E$3,$H$12:$H$371)),0,0)),\"\")","v":""},{"$f":"IFERROR((-IPMT((C217-'КАЛЬКУЛЯТОР 1'!$P$1)/12,B217,IF(C217=КАЛЬКУЛЯТОР!$C$21,$E$2,$E$2-$E$3),IF(C217=КАЛЬКУЛЯТОР!$C$21,$I$11,$I$11-SUMIF($A$12:$A$371,\"<=\"&$E$3,$H$12:$H$371)),0,0)),\"\")","v":""},{"$f":"IFERROR((-PPMT(C217/12,B217,IF(C217=КАЛЬКУЛЯТОР!$C$21,$E$2,$E$2-$E$3),IF(C217=КАЛЬКУЛЯТОР!$C$21,$I$11,$I$11-SUMIF($A$12:$A$371,\"<=\"&$E$3,$H$12:$H$371)),0,0)),\"\")","v":""},"",{"$error":"#VALUE!"},null,{"$error":"#VALUE!"},{"$error":"#VALUE!"},{"$error":"#VALUE!"},{"$error":"#VALUE!"},false]
[207,207,{"$f":"IF(A218<=$E$3,КАЛЬКУЛЯТОР!$C$21,IF(AND(A218>$E$3,A218<=$E$2),$E$4,\"\"))","v":""},{"$f":"IF(A218<=$E$2,-PMT(C218/12,IF(C218=КАЛЬКУЛЯТОР!$C$21,$E$2,$E$2-$E$3),IF(C218=КАЛЬКУЛЯТОР!$C$21,$I$11,$I$11-SUMIF($A$12:$A$371,\"<=\"&$E$3,$H$12:$H$371)),0,0),\"\")","v":""},null,{"$f":"IFERROR((-IPMT(C218/12,B218,IF(C218=КАЛЬКУЛЯТОР!$C$21,$E$2,$E$2-$E$3),IF(C218=КАЛЬКУЛЯТОР!$C$21,$I$11,$I$11-SUMIF($A$12:$A$371,\"<=\"&$E$3,$H$12:$H$371)),0,0)),\"\")","v":""},{"$f":"IFERROR((-IPMT((C218-'КАЛЬКУЛЯТОР 1'!$P$1)/12,B218,IF(C218=КАЛЬКУЛЯТОР!$C$21,$E$2,$E$2-$E$3),IF(C218=КАЛЬКУЛЯТОР!$C$21,$I$11,$I$11-SUMIF($A$12:$A$371,\"<=\"&$E$3,$H$12:$H$371)),0,0)),\"\")","v":""},{"$f":"IFERROR((-PPMT(C218/12,B218,IF(C218=КАЛЬКУЛЯТОР!$C$21,$E$2,$E$2-$E$3),IF(C218=КАЛЬКУЛЯТОР!$C$21,$I$11,$I$11-SUMIF($A$12:$A$371,\"<=\"&$E$3,$H$12:$H$371)),0,0)),\"\")","v":""},"",{"$error":"#VALUE!"},null,{"$error":"#VALUE!"},{"$error":"#VALUE!"},{"$error":"#VALUE!"},{"$error":"#VALUE!"},false]
[208,208,{"$f":"IF(A219<=$E$3,КАЛЬКУЛЯТОР!$C$21,IF(AND(A219>$E$3,A219<=$E$2),$E$4,\"\"))","v":""},{"$f":"IF(A219<=$E$2,-PMT(C219/12,IF(C219=КАЛЬКУЛЯТОР!$C$21,$E$2,$E$2-$E$3),IF(C219=КАЛЬКУЛЯТОР!$C$21,$I$11,$I$11-SUMIF($A$12:$A$371,\"<=\"&$E$3,$H$12:$H$371)),0,0),\"\")","v":""},null,{"$f":"IFERROR((-IPMT(C219/12,B219,IF(C219=КАЛЬКУЛЯТОР!$C$21,$E$2,$E$2-$E$3),IF(C219=КАЛЬКУЛЯТОР!$C$21,$I$11,$I$11-SUMIF($A$12:$A$371,\"<=\"&$E$3,$H$12:$H$371)),0,0)),\"\")","v":""},{"$f":"IFERROR((-IPMT((C219-'КАЛЬКУЛЯТОР 1'!$P$1)/12,B219,IF(C219=КАЛЬКУЛЯТОР!$C$21,$E$2,$E$2-$E$3),IF(C219=КАЛЬКУЛЯТОР!$C$21,$I$11,$I$11-SUMIF($A$12:$A$371,\"<=\"&$E$3,$H$12:$H$371)),0,0)),\"\")","v":""},{"$f":"IFERROR((-PPMT(C219/12,B219,IF(C219=КАЛЬКУЛЯТОР!$C$21,$E$2,$E$2-$E$3),IF(C219=КАЛЬКУЛЯТОР!$C$21,$I$11,$I$11-SUMIF($A$12:$A$371,\"<=\"&$E$3,$H$12:$H$371)),0,0)),\"\")","v":""},"",{"$error":"#VALUE!"},null,{"$error":"#VALUE!"},{"$error":"#VALUE!"},{"$error":"#VALUE!"},{"$error":"#VALUE!"},false]
[209,209,{"$f":"IF(A220<=$E$3,КАЛЬКУЛЯТОР!$C$21,IF(AND(A220>$E$3,A220<=$E$2),$E$4,\"\"))","v":""},{"$f":"IF(A220<=$E$2,-PMT(C220/12,IF(C220=КАЛЬКУЛЯТОР!$C$21,$E$2,$E$2-$E$3),IF(C220=КАЛЬКУЛЯТОР!$C$21,$I$11,$I$11-SUMIF($A$12:$A$371,\"<=\"&$E$3,$H$12:$H$371)),0,0),\"\")","v":""},null,{"$f":"IFERROR((-IPMT(C220/12,B220,IF(C220=КАЛЬКУЛЯТОР!$C$21,$E$2,$E$2-$E$3),IF(C220=КАЛЬКУЛЯТОР!$C$21,$I$11,$I$11-SUMIF($A$12:$A$371,\"<=\"&$E$3,$H$12:$H$371)),0,0)),\"\")","v":""},{"$f":"IFERROR((-IPMT((C220-'КАЛЬКУЛЯТОР 1'!$P$1)/12,B220,IF(C220=КАЛЬКУЛЯТОР!$C$21,$E$2,$E$2-$E$3),IF(C220=КАЛЬКУЛЯТОР!$C$21,$I$11,$I$11-SUMIF($A$12:$A$371,\"<=\"&$E$3,$H$12:$H$371)),0,0)),\"\")","v":""},{"$f":"IFERROR((-PPMT(C220/12,B220,IF(C220=КАЛЬКУЛЯТОР!$C$21,$E$2,$E$2-$E$3),IF(C220=КАЛЬКУЛЯТОР!$C$21,$I$11,$I$11-SUMIF($A$12:$A$371,\"<=\"&$E$3,$H$12:$H$371)),0,0)),\"\")","v":""},"",{"$error":"#VALUE!"},null,{"$error":"#VALUE!"},{"$error":"#VALUE!"},{"$error":"#VALUE!"},{"$error":"#VALUE!"},false]
[210,210,{"$f":"IF(A221<=$E$3,КАЛЬКУЛЯТОР!$C$21,IF(AND(A221>$E$3,A221<=$E$2),$E$4,\"\"))","v":""},{"$f":"IF(A221<=$E$2,-PMT(C221/12,IF(C221=КАЛЬКУЛЯТОР!$C$21,$E$2,$E$2-$E$3),IF(C221=КАЛЬКУЛЯТОР!$C$21,$I$11,$I$11-SUMIF($A$12:$A$371,\"<=\"&$E$3,$H$12:$H$371)),0,0),\"\")","v":""},null,{"$f":"IFERROR((-IPMT(C221/12,B221,IF(C221=КАЛЬКУЛЯТОР!$C$21,$E$2,$E$2-$E$3),IF(C221=КАЛЬКУЛЯТОР!$C$21,$I$11,$I$11-SUMIF($A$12:$A$371,\"<=\"&$E$3,$H$12:$H$371)),0,0)),\"\")","v":""},{"$f":"IFERROR((-IPMT((C221-'КАЛЬКУЛЯТОР 1'!$P$1)/12,B221,IF(C221=КАЛЬКУЛЯТОР!$C$21,$E$2,$E$2-$E$3),IF(C221=КАЛЬКУЛЯТОР!$C$21,$I$11,$I$11-SUMIF($A$12:$A$371,\"<=\"&$E$3,$H$12:$H$371)),0,0)),\"\")","v":""},{"$f":"IFERROR((-PPMT(C221/12,B221,IF(C221=КАЛЬКУЛЯТОР!$C$21,$E$2,$E$2-$E$3),IF(C221=КАЛЬКУЛЯТОР!$C$21,$I$11,$I$11-SUMIF($A$12:$A$371,\"<=\"&$E$3,$H$12:$H$371)),0,0)),\"\")","v":""},"",{"$error":"#VALUE!"},null,{"$error":"#VALUE!"},{"$error":"#VALUE!"},{"$error":"#VALUE!"},{"$error":"#VALUE!"},false]
[211,211,{"$f":"IF(A222<=$E$3,КАЛЬКУЛЯТОР!$C$21,IF(AND(A222>$E$3,A222<=$E$2),$E$4,\"\"))","v":""},{"$f":"IF(A222<=$E$2,-PMT(C222/12,IF(C222=КАЛЬКУЛЯТОР!$C$21,$E$2,$E$2-$E$3),IF(C222=КАЛЬКУЛЯТОР!$C$21,$I$11,$I$11-SUMIF($A$12:$A$371,\"<=\"&$E$3,$H$12:$H$371)),0,0),\"\")","v":""},null,{"$f":"IFERROR((-IPMT(C222/12,B222,IF(C222=КАЛЬКУЛЯТОР!$C$21,$E$2,$E$2-$E$3),IF(C222=КАЛЬКУЛЯТОР!$C$21,$I$11,$I$11-SUMIF($A$12:$A$371,\"<=\"&$E$3,$H$12:$H$371)),0,0)),\"\")","v":""},{"$f":"IFERROR((-IPMT((C222-'КАЛЬКУЛЯТОР 1'!$P$1)/12,B222,IF(C222=КАЛЬКУЛЯТОР!$C$21,$E$2,$E$2-$E$3),IF(C222=КАЛЬКУЛЯТОР!$C$21,$I$11,$I$11-SUMIF($A$12:$A$371,\"<=\"&$E$3,$H$12:$H$371)),0,0)),\"\")","v":""},{"$f":"IFERROR((-PPMT(C222/12,B222,IF(C222=КАЛЬКУЛЯТОР!$C$21,$E$2,$E$2-$E$3),IF(C222=КАЛЬКУЛЯТОР!$C$21,$I$11,$I$11-SUMIF($A$12:$A$371,\"<=\"&$E$3,$H$12:$H$371)),0,0)),\"\")","v":""},"",{"$error":"#VALUE!"},null,{"$error":"#VALUE!"},{"$error":"#VALUE!"},{"$error":"#VALUE!"},{"$error":"#VALUE!"},false]
[212,212,{"$f":"IF(A223<=$E$3,КАЛЬКУЛЯТОР!$C$21,IF(AND(A223>$E$3,A223<=$E$2),$E$4,\"\"))","v":""},{"$f":"IF(A223<=$E$2,-PMT(C223/12,IF(C223=КАЛЬКУЛЯТОР!$C$21,$E$2,$E$2-$E$3),IF(C223=КАЛЬКУЛЯТОР!$C$21,$I$11,$I$11-SUMIF($A$12:$A$371,\"<=\"&$E$3,$H$12:$H$371)),0,0),\"\")","v":""},null,{"$f":"IFERROR((-IPMT(C223/12,B223,IF(C223=КАЛЬКУЛЯТОР!$C$21,$E$2,$E$2-$E$3),IF(C223=КАЛЬКУЛЯТОР!$C$21,$I$11,$I$11-SUMIF($A$12:$A$371,\"<=\"&$E$3,$H$12:$H$371)),0,0)),\"\")","v":""},{"$f":"IFERROR((-IPMT((C223-'КАЛЬКУЛЯТОР 1'!$P$1)/12,B223,IF(C223=КАЛЬКУЛЯТОР!$C$21,$E$2,$E$2-$E$3),IF(C223=КАЛЬКУЛЯТОР!$C$21,$I$11,$I$11-SUMIF($A$12:$A$371,\"<=\"&$E$3,$H$12:$H$371)),0,0)),\"\")","v":""},{"$f":"IFERROR((-PPMT(C223/12,B223,IF(C223=КАЛЬКУЛЯТОР!$C$21,$E$2,$E$2-$E$3),IF(C223=КАЛЬКУЛЯТОР!$C$21,$I$11,$I$11-SUMIF($A$12:$A$371,\"<=\"&$E$3,$H$12:$H$371)),0,0)),\"\")","v":""},"",{"$error":"#VALUE!"},null,{"$error":"#VALUE!"},{"$error":"#VALUE!"},{"$error":"#VALUE!"},{"$error":"#VALUE!"},false]
[213,213,{"$f":"IF(A224<=$E$3,КАЛЬКУЛЯТОР!$C$21,IF(AND(A224>$E$3,A224<=$E$2),$E$4,\"\"))","v":""},{"$f":"IF(A224<=$E$2,-PMT(C224/12,IF(C224=КАЛЬКУЛЯТОР!$C$21,$E$2,$E$2-$E$3),IF(C224=КАЛЬКУЛЯТОР!$C$21,$I$11,$I$11-SUMIF($A$12:$A$371,\"<=\"&$E$3,$H$12:$H$371)),0,0),\"\")","v":""},null,{"$f":"IFERROR((-IPMT(C224/12,B224,IF(C224=КАЛЬКУЛЯТОР!$C$21,$E$2,$E$2-$E$3),IF(C224=КАЛЬКУЛЯТОР!$C$21,$I$11,$I$11-SUMIF($A$12:$A$371,\"<=\"&$E$3,$H$12:$H$371)),0,0)),\"\")","v":""},{"$f":"IFERROR((-IPMT((C224-'КАЛЬКУЛЯТОР 1'!$P$1)/12,B224,IF(C224=КАЛЬКУЛЯТОР!$C$21,$E$2,$E$2-$E$3),IF(C224=КАЛЬКУЛЯТОР!$C$21,$I$11,$I$11-SUMIF($A$12:$A$371,\"<=\"&$E$3,$H$12:$H$371)),0,0)),\"\")","v":""},{"$f":"IFERROR((-PPMT(C224/12,B224,IF(C224=КАЛЬКУЛЯТОР!$C$21,$E$2,$E$2-$E$3),IF(C224=КАЛЬКУЛЯТОР!$C$21,$I$11,$I$11-SUMIF($A$12:$A$371,\"<=\"&$E$3,$H$12:$H$371)),0,0)),\"\")","v":""},"",{"$error":"#VALUE!"},null,{"$error":"#VALUE!"},{"$error":"#VALUE!"},{"$error":"#VALUE!"},{"$error":"#VALUE!"},false]
[214,214,{"$f":"IF(A225<=$E$3,КАЛЬКУЛЯТОР!$C$21,IF(AND(A225>$E$3,A225<=$E$2),$E$4,\"\"))","v":""},{"$f":"IF(A225<=$E$2,-PMT(C225/12,IF(C225=КАЛЬКУЛЯТОР!$C$21,$E$2,$E$2-$E$3),IF(C225=КАЛЬКУЛЯТОР!$C$21,$I$11,$I$11-SUMIF($A$12:$A$371,\"<=\"&$E$3,$H$12:$H$371)),0,0),\"\")","v":""},null,{"$f":"IFERROR((-IPMT(C225/12,B225,IF(C225=КАЛЬКУЛЯТОР!$C$21,$E$2,$E$2-$E$3),IF(C225=КАЛЬКУЛЯТОР!$C$21,$I$11,$I$11-SUMIF($A$12:$A$371,\"<=\"&$E$3,$H$12:$H$371)),0,0)),\"\")","v":""},{"$f":"IFERROR((-IPMT((C225-'КАЛЬКУЛЯТОР 1'!$P$1)/12,B225,IF(C225=КАЛЬКУЛЯТОР!$C$21,$E$2,$E$2-$E$3),IF(C225=КАЛЬКУЛЯТОР!$C$21,$I$11,$I$11-SUMIF($A$12:$A$371,\"<=\"&$E$3,$H$12:$H$371)),0,0)),\"\")","v":""},{"$f":"IFERROR((-PPMT(C225/12,B225,IF(C225=КАЛЬКУЛЯТОР!$C$21,$E$2,$E$2-$E$3),IF(C225=КАЛЬКУЛЯТОР!$C$21,$I$11,$I$11-SUMIF($A$12:$A$371,\"<=\"&$E$3,$H$12:$H$371)),0,0)),\"\")","v":""},"",{"$error":"#VALUE!"},null,{"$error":"#VALUE!"},{"$error":"#VALUE!"},{"$error":"#VALUE!"},{"$error":"#VALUE!"},false]
[215,215,{"$f":"IF(A226<=$E$3,КАЛЬКУЛЯТОР!$C$21,IF(AND(A226>$E$3,A226<=$E$2),$E$4,\"\"))","v":""},{"$f":"IF(A226<=$E$2,-PMT(C226/12,IF(C226=КАЛЬКУЛЯТОР!$C$21,$E$2,$E$2-$E$3),IF(C226=КАЛЬКУЛЯТОР!$C$21,$I$11,$I$11-SUMIF($A$12:$A$371,\"<=\"&$E$3,$H$12:$H$371)),0,0),\"\")","v":""},null,{"$f":"IFERROR((-IPMT(C226/12,B226,IF(C226=КАЛЬКУЛЯТОР!$C$21,$E$2,$E$2-$E$3),IF(C226=КАЛЬКУЛЯТОР!$C$21,$I$11,$I$11-SUMIF($A$12:$A$371,\"<=\"&$E$3,$H$12:$H$371)),0,0)),\"\")","v":""},{"$f":"IFERROR((-IPMT((C226-'КАЛЬКУЛЯТОР 1'!$P$1)/12,B226,IF(C226=КАЛЬКУЛЯТОР!$C$21,$E$2,$E$2-$E$3),IF(C226=КАЛЬКУЛЯТОР!$C$21,$I$11,$I$11-SUMIF($A$12:$A$371,\"<=\"&$E$3,$H$12:$H$371)),0,0)),\"\")","v":""},{"$f":"IFERROR((-PPMT(C226/12,B226,IF(C226=КАЛЬКУЛЯТОР!$C$21,$E$2,$E$2-$E$3),IF(C226=КАЛЬКУЛЯТОР!$C$21,$I$11,$I$11-SUMIF($A$12:$A$371,\"<=\"&$E$3,$H$12:$H$371)),0,0)),\"\")","v":""},"",{"$error":"#VALUE!"},null,{"$error":"#VALUE!"},{"$error":"#VALUE!"},{"$error":"#VALUE!"},{"$error":"#VALUE!"},false]
[216,216,{"$f":"IF(A227<=$E$3,КАЛЬКУЛЯТОР!$C$21,IF(AND(A227>$E$3,A227<=$E$2),$E$4,\"\"))","v":""},{"$f":"IF(A227<=$E$2,-PMT(C227/12,IF(C227=КАЛЬКУЛЯТОР!$C$21,$E$2,$E$2-$E$3),IF(C227=КАЛЬКУЛЯТОР!$C$21,$I$11,$I$11-SUMIF($A$12:$A$371,\"<=\"&$E$3,$H$12:$H$371)),0,0),\"\")","v":""},null,{"$f":"IFERROR((-IPMT(C227/12,B227,IF(C227=КАЛЬКУЛЯТОР!$C$21,$E$2,$E$2-$E$3),IF(C227=КАЛЬКУЛЯТОР!$C$21,$I$11,$I$11-SUMIF($A$12:$A$371,\"<=\"&$E$3,$H$12:$H$371)),0,0)),\"\")","v":""},{"$f":"IFERROR((-IPMT((C227-'КАЛЬКУЛЯТОР 1'!$P$1)/12,B227,IF(C227=КАЛЬКУЛЯТОР!$C$21,$E$2,$E$2-$E$3),IF(C227=КАЛЬКУЛЯТОР!$C$21,$I$11,$I$11-SUMIF($A$12:$A$371,\"<=\"&$E$3,$H$12:$H$371)),0,0)),\"\")","v":""},{"$f":"IFERROR((-PPMT(C227/12,B227,IF(C227=КАЛЬКУЛЯТОР!$C$21,$E$2,$E$2-$E$3),IF(C227=КАЛЬКУЛЯТОР!$C$21,$I$11,$I$11-SUMIF($A$12:$A$371,\"<=\"&$E$3,$H$12:$H$371)),0,0)),\"\")","v":""},"",{"$error":"#VALUE!"},null,{"$error":"#VALUE!"},{"$error":"#VALUE!"},{"$error":"#VALUE!"},{"$error":"#VALUE!"},false]
[217,217,{"$f":"IF(A228<=$E$3,КАЛЬКУЛЯТОР!$C$21,IF(AND(A228>$E$3,A228<=$E$2),$E$4,\"\"))","v":""},{"$f":"IF(A228<=$E$2,-PMT(C228/12,IF(C228=КАЛЬКУЛЯТОР!$C$21,$E$2,$E$2-$E$3),IF(C228=КАЛЬКУЛЯТОР!$C$21,$I$11,$I$11-SUMIF($A$12:$A$371,\"<=\"&$E$3,$H$12:$H$371)),0,0),\"\")","v":""},{"$f":"IF($E$2>$A227,(I227+SUM(F228:F239))*($K$4+$K$5),0)","v":{"v":0,"d":"0.00"}},{"$f":"IFERROR((-IPMT(C228/12,B228,IF(C228=КАЛЬКУЛЯТОР!$C$21,$E$2,$E$2-$E$3),IF(C228=КАЛЬКУЛЯТОР!$C$21,$I$11,$I$11-SUMIF($A$12:$A$371,\"<=\"&$E$3,$H$12:$H$371)),0,0)),\"\")","v":""},{"$f":"IFERROR((-IPMT((C228-'КАЛЬКУЛЯТОР 1'!$P$1)/12,B228,IF(C228=КАЛЬКУЛЯТОР!$C$21,$E$2,$E$2-$E$3),IF(C228=КАЛЬКУЛЯТОР!$C$21,$I$11,$I$11-SUMIF($A$12:$A$371,\"<=\"&$E$3,$H$12:$H$371)),0,0)),\"\")","v":""},{"$f":"IFERROR((-PPMT(C228/12,B228,IF(C228=КАЛЬКУЛЯТОР!$C$21,$E$2,$E$2-$E$3),IF(C228=КАЛЬКУЛЯТОР!$C$21,$I$11,$I$11-SUMIF($A$12:$A$371,\"<=\"&$E$3,$H$12:$H$371)),0,0)),\"\")","v":""},"",{"$error":"#VALUE!"},{"$f":"PV($E$5/12,A228-1,0,-E228)","v":{"v":0,"d":"0.00"}},{"$error":"#VALUE!"},{"$error":"#VALUE!"},{"$error":"#VALUE!"},{"$error":"#VALUE!"},false]
[218,218,{"$f":"IF(A229<=$E$3,КАЛЬКУЛЯТОР!$C$21,IF(AND(A229>$E$3,A229<=$E$2),$E$4,\"\"))","v":""},{"$f":"IF(A229<=$E$2,-PMT(C229/12,IF(C229=КАЛЬКУЛЯТОР!$C$21,$E$2,$E$2-$E$3),IF(C229=КАЛЬКУЛЯТОР!$C$21,$I$11,$I$11-SUMIF($A$12:$A$371,\"<=\"&$E$3,$H$12:$H$371)),0,0),\"\")","v":""},null,{"$f":"IFERROR((-IPMT(C229/12,B229,IF(C229=КАЛЬКУЛЯТОР!$C$21,$E$2,$E$2-$E$3),IF(C229=КАЛЬКУЛЯТОР!$C$21,$I$11,$I$11-SUMIF($A$12:$A$371,\"<=\"&$E$3,$H$12:$H$371)),0,0)),\"\")","v":""},{"$f":"IFERROR((-IPMT((C229-'КАЛЬКУЛЯТОР 1'!$P$1)/12,B229,IF(C229=КАЛЬКУЛЯТОР!$C$21,$E$2,$E$2-$E$3),IF(C229=КАЛЬКУЛЯТОР!$C$21,$I$11,$I$11-SUMIF($A$12:$A$371,\"<=\"&$E$3,$H$12:$H$371)),0,0)),\"\")","v":""},{"$f":"IFERROR((-PPMT(C229/12,B229,IF(C229=КАЛЬКУЛЯТОР!$C$21,$E$2,$E$2-$E$3),IF(C229=КАЛЬКУЛЯТОР!$C$21,$I$11,$I$11-SUMIF($A$12:$A$371,\"<=\"&$E$3,$H$12:$H$371)),0,0)),\"\")","v":""},"",{"$error":"#VALUE!"},null,{"$error":"#VALUE!"},{"$error":"#VALUE!"},{"$error":"#VALUE!"},{"$error":"#VALUE!"},false]
[219,219,{"$f":"IF(A230<=$E$3,КАЛЬКУЛЯТОР!$C$21,IF(AND(A230>$E$3,A230<=$E$2),$E$4,\"\"))","v":""},{"$f":"IF(A230<=$E$2,-PMT(C230/12,IF(C230=КАЛЬКУЛЯТОР!$C$21,$E$2,$E$2-$E$3),IF(C230=КАЛЬКУЛЯТОР!$C$21,$I$11,$I$11-SUMIF($A$12:$A$371,\"<=\"&$E$3,$H$12:$H$371)),0,0),\"\")","v":""},null,{"$f":"IFERROR((-IPMT(C230/12,B230,IF(C230=КАЛЬКУЛЯТОР!$C$21,$E$2,$E$2-$E$3),IF(C230=КАЛЬКУЛЯТОР!$C$21,$I$11,$I$11-SUMIF($A$12:$A$371,\"<=\"&$E$3,$H$12:$H$371)),0,0)),\"\")","v":""},{"$f":"IFERROR((-IPMT((C230-'КАЛЬКУЛЯТОР 1'!$P$1)/12,B230,IF(C230=КАЛЬКУЛЯТОР!$C$21,$E$2,$E$2-$E$3),IF(C230=КАЛЬКУЛЯТОР!$C$21,$I$11,$I$11-SUMIF($A$12:$A$371,\"<=\"&$E$3,$H$12:$H$371)),0,0)),\"\")","v":""},{"$f":"IFERROR((-PPMT(C230/12,B230,IF(C230=КАЛЬКУЛЯТОР!$C$21,$E$2,$E$2-$E$3),IF(C230=КАЛЬКУЛЯТОР!$C$21,$I$11,$I$11-SUMIF($A$12:$A$371,\"<=\"&$E$3,$H$12:$H$371)),0,0)),\"\")","v":""},"",{"$error":"#VALUE!"},null,{"$error":"#VALUE!"},{"$error":"#VALUE!"},{"$error":"#VALUE!"},{"$error":"#VALUE!"},false]
[220,220,{"$f":"IF(A231<=$E$3,КАЛЬКУЛЯТОР!$C$21,IF(AND(A231>$E$3,A231<=$E$2),$E$4,\"\"))","v":""},{"$f":"IF(A231<=$E$2,-PMT(C231/12,IF(C231=КАЛЬКУЛЯТОР!$C$21,$E$2,$E$2-$E$3),IF(C231=КАЛЬКУЛЯТОР!$C$21,$I$11,$I$11-SUMIF($A$12:$A$371,\"<=\"&$E$3,$H$12:$H$371)),0,0),\"\")","v":""},null,{"$f":"IFERROR((-IPMT(C231/12,B231,IF(C231=КАЛЬКУЛЯТОР!$C$21,$E$2,$E$2-$E$3),IF(C231=КАЛЬКУЛЯТОР!$C$21,$I$11,$I$11-SUMIF($A$12:$A$371,\"<=\"&$E$3,$H$12:$H$371)),0,0)),\"\")","v":""},{"$f":"IFERROR((-IPMT((C231-'КАЛЬКУЛЯТОР 1'!$P$1)/12,B231,IF(C231=КАЛЬКУЛЯТОР!$C$21,$E$2,$E$2-$E$3),IF(C231=КАЛЬКУЛЯТОР!$C$21,$I$11,$I$11-SUMIF($A$12:$A$371,\"<=\"&$E$3,$H$12:$H$371)),0,0)),\"\")","v":""},{"$f":"IFERROR((-PPMT(C231/12,B231,IF(C231=КАЛЬКУЛЯТОР!$C$21,$E$2,$E$2-$E$3),IF(C231=КАЛЬКУЛЯТОР!$C$21,$I$11,$I$11-SUMIF($A$12:$A$371,\"<=\"&$E$3,$H$12:$H$371)),0,0)),\"\")","v":""},"",{"$error":"#VALUE!"},null,{"$error":"#VALUE!"},{"$error":"#VALUE!"},{"$error":"#VALUE!"},{"$error":"#VALUE!"},false]
[221,221,{"$f":"IF(A232<=$E$3,КАЛЬКУЛЯТОР!$C$21,IF(AND(A232>$E$3,A232<=$E$2),$E$4,\"\"))","v":""},{"$f":"IF(A232<=$E$2,-PMT(C232/12,IF(C232=КАЛЬКУЛЯТОР!$C$21,$E$2,$E$2-$E$3),IF(C232=КАЛЬКУЛЯТОР!$C$21,$I$11,$I$11-SUMIF($A$12:$A$371,\"<=\"&$E$3,$H$12:$H$371)),0,0),\"\")","v":""},null,{"$f":"IFERROR((-IPMT(C232/12,B232,IF(C232=КАЛЬКУЛЯТОР!$C$21,$E$2,$E$2-$E$3),IF(C232=КАЛЬКУЛЯТОР!$C$21,$I$11,$I$11-SUMIF($A$12:$A$371,\"<=\"&$E$3,$H$12:$H$371)),0,0)),\"\")","v":""},{"$f":"IFERROR((-IPMT((C232-'КАЛЬКУЛЯТОР 1'!$P$1)/12,B232,IF(C232=КАЛЬКУЛЯТОР!$C$21,$E$2,$E$2-$E$3),IF(C232=КАЛЬКУЛЯТОР!$C$21,$I$11,$I$11-SUMIF($A$12:$A$371,\"<=\"&$E$3,$H$12:$H$371)),0,0)),\"\")","v":""},{"$f":"IFERROR((-PPMT(C232/12,B232,IF(C232=КАЛЬКУЛЯТОР!$C$21,$E$2,$E$2-$E$3),IF(C232=КАЛЬКУЛЯТОР!$C$21,$I$11,$I$11-SUMIF($A$12:$A$371,\"<=\"&$E$3,$H$12:$H$371)),0,0)),\"\")","v":""},"",{"$error":"#VALUE!"},null,{"$error":"#VALUE!"},{"$error":"#VALUE!"},{"$error":"#VALUE!"},{"$error":"#VALUE!"},false]
[222,222,{"$f":"IF(A233<=$E$3,КАЛЬКУЛЯТОР!$C$21,IF(AND(A233>$E$3,A233<=$E$2),$E$4,\"\"))","v":""},{"$f":"IF(A233<=$E$2,-PMT(C233/12,IF(C233=КАЛЬКУЛЯТОР!$C$21,$E$2,$E$2-$E$3),IF(C233=КАЛЬКУЛЯТОР!$C$21,$I$11,$I$11-SUMIF($A$12:$A$371,\"<=\"&$E$3,$H$12:$H$371)),0,0),\"\")","v":""},null,{"$f":"IFERROR((-IPMT(C233/12,B233,IF(C233=КАЛЬКУЛЯТОР!$C$21,$E$2,$E$2-$E$3),IF(C233=КАЛЬКУЛЯТОР!$C$21,$I$11,$I$11-SUMIF($A$12:$A$371,\"<=\"&$E$3,$H$12:$H$371)),0,0)),\"\")","v":""},{"$f":"IFERROR((-IPMT((C233-'КАЛЬКУЛЯТОР 1'!$P$1)/12,B233,IF(C233=КАЛЬКУЛЯТОР!$C$21,$E$2,$E$2-$E$3),IF(C233=КАЛЬКУЛЯТОР!$C$21,$I$11,$I$11-SUMIF($A$12:$A$371,\"<=\"&$E$3,$H$12:$H$371)),0,0)),\"\")","v":""},{"$f":"IFERROR((-PPMT(C233/12,B233,IF(C233=КАЛЬКУЛЯТОР!$C$21,$E$2,$E$2-$E$3),IF(C233=КАЛЬКУЛЯТОР!$C$21,$I$11,$I$11-SUMIF($A$12:$A$371,\"<=\"&$E$3,$H$12:$H$371)),0,0)),\"\")","v":""},"",{"$error":"#VALUE!"},null,{"$error":"#VALUE!"},{"$error":"#VALUE!"},{"$error":"#VALUE!"},{"$error":"#VALUE!"},false]
[223,223,{"$f":"IF(A234<=$E$3,КАЛЬКУЛЯТОР!$C$21,IF(AND(A234>$E$3,A234<=$E$2),$E$4,\"\"))","v":""},{"$f":"IF(A234<=$E$2,-PMT(C234/12,IF(C234=КАЛЬКУЛЯТОР!$C$21,$E$2,$E$2-$E$3),IF(C234=КАЛЬКУЛЯТОР!$C$21,$I$11,$I$11-SUMIF($A$12:$A$371,\"<=\"&$E$3,$H$12:$H$371)),0,0),\"\")","v":""},null,{"$f":"IFERROR((-IPMT(C234/12,B234,IF(C234=КАЛЬКУЛЯТОР!$C$21,$E$2,$E$2-$E$3),IF(C234=КАЛЬКУЛЯТОР!$C$21,$I$11,$I$11-SUMIF($A$12:$A$371,\"<=\"&$E$3,$H$12:$H$371)),0,0)),\"\")","v":""},{"$f":"IFERROR((-IPMT((C234-'КАЛЬКУЛЯТОР 1'!$P$1)/12,B234,IF(C234=КАЛЬКУЛЯТОР!$C$21,$E$2,$E$2-$E$3),IF(C234=КАЛЬКУЛЯТОР!$C$21,$I$11,$I$11-SUMIF($A$12:$A$371,\"<=\"&$E$3,$H$12:$H$371)),0,0)),\"\")","v":""},{"$f":"IFERROR((-PPMT(C234/12,B234,IF(C234=КАЛЬКУЛЯТОР!$C$21,$E$2,$E$2-$E$3),IF(C234=КАЛЬКУЛЯТОР!$C$21,$I$11,$I$11-SUMIF($A$12:$A$371,\"<=\"&$E$3,$H$12:$H$371)),0,0)),\"\")","v":""},"",{"$error":"#VALUE!"},null,{"$error":"#VALUE!"},{"$error":"#VALUE!"},{"$error":"#VALUE!"},{"$error":"#VALUE!"},false]
[224,224,{"$f":"IF(A235<=$E$3,КАЛЬКУЛЯТОР!$C$21,IF(AND(A235>$E$3,A235<=$E$2),$E$4,\"\"))","v":""},{"$f":"IF(A235<=$E$2,-PMT(C235/12,IF(C235=КАЛЬКУЛЯТОР!$C$21,$E$2,$E$2-$E$3),IF(C235=КАЛЬКУЛЯТОР!$C$21,$I$11,$I$11-SUMIF($A$12:$A$371,\"<=\"&$E$3,$H$12:$H$371)),0,0),\"\")","v":""},null,{"$f":"IFERROR((-IPMT(C235/12,B235,IF(C235=КАЛЬКУЛЯТОР!$C$21,$E$2,$E$2-$E$3),IF(C235=КАЛЬКУЛЯТОР!$C$21,$I$11,$I$11-SUMIF($A$12:$A$371,\"<=\"&$E$3,$H$12:$H$371)),0,0)),\"\")","v":""},{"$f":"IFERROR((-IPMT((C235-'КАЛЬКУЛЯТОР 1'!$P$1)/12,B235,IF(C235=КАЛЬКУЛЯТОР!$C$21,$E$2,$E$2-$E$3),IF(C235=КАЛЬКУЛЯТОР!$C$21,$I$11,$I$11-SUMIF($A$12:$A$371,\"<=\"&$E$3,$H$12:$H$371)),0,0)),\"\")","v":""},{"$f":"IFERROR((-PPMT(C235/12,B235,IF(C235=КАЛЬКУЛЯТОР!$C$21,$E$2,$E$2-$E$3),IF(C235=КАЛЬКУЛЯТОР!$C$21,$I$11,$I$11-SUMIF($A$12:$A$371,\"<=\"&$E$3,$H$12:$H$371)),0,0)),\"\")","v":""},"",{"$error":"#VALUE!"},null,{"$error":"#VALUE!"},{"$error":"#VALUE!"},{"$error":"#VALUE!"},{"$error":"#VALUE!"},false]
[225,225,{"$f":"IF(A236<=$E$3,КАЛЬКУЛЯТОР!$C$21,IF(AND(A236>$E$3,A236<=$E$2),$E$4,\"\"))","v":""},{"$f":"IF(A236<=$E$2,-PMT(C236/12,IF(C236=КАЛЬКУЛЯТОР!$C$21,$E$2,$E$2-$E$3),IF(C236=КАЛЬКУЛЯТОР!$C$21,$I$11,$I$11-SUMIF($A$12:$A$371,\"<=\"&$E$3,$H$12:$H$371)),0,0),\"\")","v":""},null,{"$f":"IFERROR((-IPMT(C236/12,B236,IF(C236=КАЛЬКУЛЯТОР!$C$21,$E$2,$E$2-$E$3),IF(C236=КАЛЬКУЛЯТОР!$C$21,$I$11,$I$11-SUMIF($A$12:$A$371,\"<=\"&$E$3,$H$12:$H$371)),0,0)),\"\")","v":""},{"$f":"IFERROR((-IPMT((C236-'КАЛЬКУЛЯТОР 1'!$P$1)/12,B236,IF(C236=КАЛЬКУЛЯТОР!$C$21,$E$2,$E$2-$E$3),IF(C236=КАЛЬКУЛЯТОР!$C$21,$I$11,$I$11-SUMIF($A$12:$A$371,\"<=\"&$E$3,$H$12:$H$371)),0,0)),\"\")","v":""},{"$f":"IFERROR((-PPMT(C236/12,B236,IF(C236=КАЛЬКУЛЯТОР!$C$21,$E$2,$E$2-$E$3),IF(C236=КАЛЬКУЛЯТОР!$C$21,$I$11,$I$11-SUMIF($A$12:$A$371,\"<=\"&$E$3,$H$12:$H$371)),0,0)),\"\")","v":""},"",{"$error":"#VALUE!"},null,{"$error":"#VALUE!"},{"$error":"#VALUE!"},{"$error":"#VALUE!"},{"$error":"#VALUE!"},false]
[226,226,{"$f":"IF(A237<=$E$3,КАЛЬКУЛЯТОР!$C$21,IF(AND(A237>$E$3,A237<=$E$2),$E$4,\"\"))","v":""},{"$f":"IF(A237<=$E$2,-PMT(C237/12,IF(C237=КАЛЬКУЛЯТОР!$C$21,$E$2,$E$2-$E$3),IF(C237=КАЛЬКУЛЯТОР!$C$21,$I$11,$I$11-SUMIF($A$12:$A$371,\"<=\"&$E$3,$H$12:$H$371)),0,0),\"\")","v":""},null,{"$f":"IFERROR((-IPMT(C237/12,B237,IF(C237=КАЛЬКУЛЯТОР!$C$21,$E$2,$E$2-$E$3),IF(C237=КАЛЬКУЛЯТОР!$C$21,$I$11,$I$11-SUMIF($A$12:$A$371,\"<=\"&$E$3,$H$12:$H$371)),0,0)),\"\")","v":""},{"$f":"IFERROR((-IPMT((C237-'КАЛЬКУЛЯТОР 1'!$P$1)/12,B237,IF(C237=КАЛЬКУЛЯТОР!$C$21,$E$2,$E$2-$E$3),IF(C237=КАЛЬКУЛЯТОР!$C$21,$I$11,$I$11-SUMIF($A$12:$A$371,\"<=\"&$E$3,$H$12:$H$371)),0,0)),\"\")","v":""},{"$f":"IFERROR((-PPMT(C237/12,B237,IF(C237=КАЛЬКУЛЯТОР!$C$21,$E$2,$E$2-$E$3),IF(C237=КАЛЬКУЛЯТОР!$C$21,$I$11,$I$11-SUMIF($A$12:$A$371,\"<=\"&$E$3,$H$12:$H$371)),0,0)),\"\")","v":""},"",{"$error":"#VALUE!"},null,{"$error":"#VALUE!"},{"$error":"#VALUE!"},{"$error":"#VALUE!"},{"$error":"#VALUE!"},false]
[227,227,{"$f":"IF(A238<=$E$3,КАЛЬКУЛЯТОР!$C$21,IF(AND(A238>$E$3,A238<=$E$2),$E$4,\"\"))","v":""},{"$f":"IF(A238<=$E$2,-PMT(C238/12,IF(C238=КАЛЬКУЛЯТОР!$C$21,$E$2,$E$2-$E$3),IF(C238=КАЛЬКУЛЯТОР!$C$21,$I$11,$I$11-SUMIF($A$12:$A$371,\"<=\"&$E$3,$H$12:$H$371)),0,0),\"\")","v":""},null,{"$f":"IFERROR((-IPMT(C238/12,B238,IF(C238=КАЛЬКУЛЯТОР!$C$21,$E$2,$E$2-$E$3),IF(C238=КАЛЬКУЛЯТОР!$C$21,$I$11,$I$11-SUMIF($A$12:$A$371,\"<=\"&$E$3,$H$12:$H$371)),0,0)),\"\")","v":""},{"$f":"IFERROR((-IPMT((C238-'КАЛЬКУЛЯТОР 1'!$P$1)/12,B238,IF(C238=КАЛЬКУЛЯТОР!$C$21,$E$2,$E$2-$E$3),IF(C238=КАЛЬКУЛЯТОР!$C$21,$I$11,$I$11-SUMIF($A$12:$A$371,\"<=\"&$E$3,$H$12:$H$371)),0,0)),\"\")","v":""},{"$f":"IFERROR((-PPMT(C238/12,B238,IF(C238=КАЛЬКУЛЯТОР!$C$21,$E$2,$E$2-$E$3),IF(C238=КАЛЬКУЛЯТОР!$C$21,$I$11,$I$11-SUMIF($A$12:$A$371,\"<=\"&$E$3,$H$12:$H$371)),0,0)),\"\")","v":""},"",{"$error":"#VALUE!"},null,{"$error":"#VALUE!"},{"$error":"#VALUE!"},{"$error":"#VALUE!"},{"$error":"#VALUE!"},false]
[228,228,{"$f":"IF(A239<=$E$3,КАЛЬКУЛЯТОР!$C$21,IF(AND(A239>$E$3,A239<=$E$2),$E$4,\"\"))","v":""},{"$f":"IF(A239<=$E$2,-PMT(C239/12,IF(C239=КАЛЬКУЛЯТОР!$C$21,$E$2,$E$2-$E$3),IF(C239=КАЛЬКУЛЯТОР!$C$21,$I$11,$I$11-SUMIF($A$12:$A$371,\"<=\"&$E$3,$H$12:$H$371)),0,0),\"\")","v":""},null,{"$f":"IFERROR((-IPMT(C239/12,B239,IF(C239=КАЛЬКУЛЯТОР!$C$21,$E$2,$E$2-$E$3),IF(C239=КАЛЬКУЛЯТОР!$C$21,$I$11,$I$11-SUMIF($A$12:$A$371,\"<=\"&$E$3,$H$12:$H$371)),0,0)),\"\")","v":""},{"$f":"IFERROR((-IPMT((C239-'КАЛЬКУЛЯТОР 1'!$P$1)/12,B239,IF(C239=КАЛЬКУЛЯТОР!$C$21,$E$2,$E$2-$E$3),IF(C239=КАЛЬКУЛЯТОР!$C$21,$I$11,$I$11-SUMIF($A$12:$A$371,\"<=\"&$E$3,$H$12:$H$371)),0,0)),\"\")","v":""},{"$f":"IFERROR((-PPMT(C239/12,B239,IF(C239=КАЛЬКУЛЯТОР!$C$21,$E$2,$E$2-$E$3),IF(C239=КАЛЬКУЛЯТОР!$C$21,$I$11,$I$11-SUMIF($A$12:$A$371,\"<=\"&$E$3,$H$12:$H$371)),0,0)),\"\")","v":""},"",{"$error":"#VALUE!"},null,{"$error":"#VALUE!"},{"$error":"#VALUE!"},{"$error":"#VALUE!"},{"$error":"#VALUE!"},false]
[229,229,{"$f":"IF(A240<=$E$3,КАЛЬКУЛЯТОР!$C$21,IF(AND(A240>$E$3,A240<=$E$2),$E$4,\"\"))","v":""},{"$f":"IF(A240<=$E$2,-PMT(C240/12,IF(C240=КАЛЬКУЛЯТОР!$C$21,$E$2,$E$2-$E$3),IF(C240=КАЛЬКУЛЯТОР!$C$21,$I$11,$I$11-SUMIF($A$12:$A$371,\"<=\"&$E$3,$H$12:$H$371)),0,0),\"\")","v":""},{"$f":"IF($E$2>$A239,(I239+SUM(F240:F251))*($K$4+$K$5),0)","v":{"v":0,"d":"0.00"}},{"$f":"IFERROR((-IPMT(C240/12,B240,IF(C240=КАЛЬКУЛЯТОР!$C$21,$E$2,$E$2-$E$3),IF(C240=КАЛЬКУЛЯТОР!$C$21,$I$11,$I$11-SUMIF($A$12:$A$371,\"<=\"&$E$3,$H$12:$H$371)),0,0)),\"\")","v":""},{"$f":"IFERROR((-IPMT((C240-'КАЛЬКУЛЯТОР 1'!$P$1)/12,B240,IF(C240=КАЛЬКУЛЯТОР!$C$21,$E$2,$E$2-$E$3),IF(C240=КАЛЬКУЛЯТОР!$C$21,$I$11,$I$11-SUMIF($A$12:$A$371,\"<=\"&$E$3,$H$12:$H$371)),0,0)),\"\")","v":""},{"$f":"IFERROR((-PPMT(C240/12,B240,IF(C240=КАЛЬКУЛЯТОР!$C$21,$E$2,$E$2-$E$3),IF(C240=КАЛЬКУЛЯТОР!$C$21,$I$11,$I$11-SUMIF($A$12:$A$371,\"<=\"&$E$3,$H$12:$H$371)),0,0)),\"\")","v":""},"",{"$error":"#VALUE!"},{"$f":"PV($E$5/12,A240-1,0,-E240)","v":{"v":0,"d":"0.00"}},{"$error":"#VALUE!"},{"$error":"#VALUE!"},{"$error":"#VALUE!"},{"$error":"#VALUE!"},false]
[230,230,{"$f":"IF(A241<=$E$3,КАЛЬКУЛЯТОР!$C$21,IF(AND(A241>$E$3,A241<=$E$2),$E$4,\"\"))","v":""},{"$f":"IF(A241<=$E$2,-PMT(C241/12,IF(C241=КАЛЬКУЛЯТОР!$C$21,$E$2,$E$2-$E$3),IF(C241=КАЛЬКУЛЯТОР!$C$21,$I$11,$I$11-SUMIF($A$12:$A$371,\"<=\"&$E$3,$H$12:$H$371)),0,0),\"\")","v":""},null,{"$f":"IFERROR((-IPMT(C241/12,B241,IF(C241=КАЛЬКУЛЯТОР!$C$21,$E$2,$E$2-$E$3),IF(C241=КАЛЬКУЛЯТОР!$C$21,$I$11,$I$11-SUMIF($A$12:$A$371,\"<=\"&$E$3,$H$12:$H$371)),0,0)),\"\")","v":""},{"$f":"IFERROR((-IPMT((C241-'КАЛЬКУЛЯТОР 1'!$P$1)/12,B241,IF(C241=КАЛЬКУЛЯТОР!$C$21,$E$2,$E$2-$E$3),IF(C241=КАЛЬКУЛЯТОР!$C$21,$I$11,$I$11-SUMIF($A$12:$A$371,\"<=\"&$E$3,$H$12:$H$371)),0,0)),\"\")","v":""},{"$f":"IFERROR((-PPMT(C241/12,B241,IF(C241=КАЛЬКУЛЯТОР!$C$21,$E$2,$E$2-$E$3),IF(C241=КАЛЬКУЛЯТОР!$C$21,$I$11,$I$11-SUMIF($A$12:$A$371,\"<=\"&$E$3,$H$12:$H$371)),0,0)),\"\")","v":""},"",{"$error":"#VALUE!"},null,{"$error":"#VALUE!"},{"$error":"#VALUE!"},{"$error":"#VALUE!"},{"$error":"#VALUE!"},false]
[231,231,{"$f":"IF(A242<=$E$3,КАЛЬКУЛЯТОР!$C$21,IF(AND(A242>$E$3,A242<=$E$2),$E$4,\"\"))","v":""},{"$f":"IF(A242<=$E$2,-PMT(C242/12,IF(C242=КАЛЬКУЛЯТОР!$C$21,$E$2,$E$2-$E$3),IF(C242=КАЛЬКУЛЯТОР!$C$21,$I$11,$I$11-SUMIF($A$12:$A$371,\"<=\"&$E$3,$H$12:$H$371)),0,0),\"\")","v":""},null,{"$f":"IFERROR((-IPMT(C242/12,B242,IF(C242=КАЛЬКУЛЯТОР!$C$21,$E$2,$E$2-$E$3),IF(C242=КАЛЬКУЛЯТОР!$C$21,$I$11,$I$11-SUMIF($A$12:$A$371,\"<=\"&$E$3,$H$12:$H$371)),0,0)),\"\")","v":""},{"$f":"IFERROR((-IPMT((C242-'КАЛЬКУЛЯТОР 1'!$P$1)/12,B242,IF(C242=КАЛЬКУЛЯТОР!$C$21,$E$2,$E$2-$E$3),IF(C242=КАЛЬКУЛЯТОР!$C$21,$I$11,$I$11-SUMIF($A$12:$A$371,\"<=\"&$E$3,$H$12:$H$371)),0,0)),\"\")","v":""},{"$f":"IFERROR((-PPMT(C242/12,B242,IF(C242=КАЛЬКУЛЯТОР!$C$21,$E$2,$E$2-$E$3),IF(C242=КАЛЬКУЛЯТОР!$C$21,$I$11,$I$11-SUMIF($A$12:$A$371,\"<=\"&$E$3,$H$12:$H$371)),0,0)),\"\")","v":""},"",{"$error":"#VALUE!"},null,{"$error":"#VALUE!"},{"$error":"#VALUE!"},{"$error":"#VALUE!"},{"$error":"#VALUE!"},false]
[232,232,{"$f":"IF(A243<=$E$3,КАЛЬКУЛЯТОР!$C$21,IF(AND(A243>$E$3,A243<=$E$2),$E$4,\"\"))","v":""},{"$f":"IF(A243<=$E$2,-PMT(C243/12,IF(C243=КАЛЬКУЛЯТОР!$C$21,$E$2,$E$2-$E$3),IF(C243=КАЛЬКУЛЯТОР!$C$21,$I$11,$I$11-SUMIF($A$12:$A$371,\"<=\"&$E$3,$H$12:$H$371)),0,0),\"\")","v":""},null,{"$f":"IFERROR((-IPMT(C243/12,B243,IF(C243=КАЛЬКУЛЯТОР!$C$21,$E$2,$E$2-$E$3),IF(C243=КАЛЬКУЛЯТОР!$C$21,$I$11,$I$11-SUMIF($A$12:$A$371,\"<=\"&$E$3,$H$12:$H$371)),0,0)),\"\")","v":""},{"$f":"IFERROR((-IPMT((C243-'КАЛЬКУЛЯТОР 1'!$P$1)/12,B243,IF(C243=КАЛЬКУЛЯТОР!$C$21,$E$2,$E$2-$E$3),IF(C243=КАЛЬКУЛЯТОР!$C$21,$I$11,$I$11-SUMIF($A$12:$A$371,\"<=\"&$E$3,$H$12:$H$371)),0,0)),\"\")","v":""},{"$f":"IFERROR((-PPMT(C243/12,B243,IF(C243=КАЛЬКУЛЯТОР!$C$21,$E$2,$E$2-$E$3),IF(C243=КАЛЬКУЛЯТОР!$C$21,$I$11,$I$11-SUMIF($A$12:$A$371,\"<=\"&$E$3,$H$12:$H$371)),0,0)),\"\")","v":""},"",{"$error":"#VALUE!"},null,{"$error":"#VALUE!"},{"$error":"#VALUE!"},{"$error":"#VALUE!"},{"$error":"#VALUE!"},false]
[233,233,{"$f":"IF(A244<=$E$3,КАЛЬКУЛЯТОР!$C$21,IF(AND(A244>$E$3,A244<=$E$2),$E$4,\"\"))","v":""},{"$f":"IF(A244<=$E$2,-PMT(C244/12,IF(C244=КАЛЬКУЛЯТОР!$C$21,$E$2,$E$2-$E$3),IF(C244=КАЛЬКУЛЯТОР!$C$21,$I$11,$I$11-SUMIF($A$12:$A$371,\"<=\"&$E$3,$H$12:$H$371)),0,0),\"\")","v":""},null,{"$f":"IFERROR((-IPMT(C244/12,B244,IF(C244=КАЛЬКУЛЯТОР!$C$21,$E$2,$E$2-$E$3),IF(C244=КАЛЬКУЛЯТОР!$C$21,$I$11,$I$11-SUMIF($A$12:$A$371,\"<=\"&$E$3,$H$12:$H$371)),0,0)),\"\")","v":""},{"$f":"IFERROR((-IPMT((C244-'КАЛЬКУЛЯТОР 1'!$P$1)/12,B244,IF(C244=КАЛЬКУЛЯТОР!$C$21,$E$2,$E$2-$E$3),IF(C244=КАЛЬКУЛЯТОР!$C$21,$I$11,$I$11-SUMIF($A$12:$A$371,\"<=\"&$E$3,$H$12:$H$371)),0,0)),\"\")","v":""},{"$f":"IFERROR((-PPMT(C244/12,B244,IF(C244=КАЛЬКУЛЯТОР!$C$21,$E$2,$E$2-$E$3),IF(C244=КАЛЬКУЛЯТОР!$C$21,$I$11,$I$11-SUMIF($A$12:$A$371,\"<=\"&$E$3,$H$12:$H$371)),0,0)),\"\")","v":""},"",{"$error":"#VALUE!"},null,{"$error":"#VALUE!"},{"$error":"#VALUE!"},{"$error":"#VALUE!"},{"$error":"#VALUE!"},false]
[234,234,{"$f":"IF(A245<=$E$3,КАЛЬКУЛЯТОР!$C$21,IF(AND(A245>$E$3,A245<=$E$2),$E$4,\"\"))","v":""},{"$f":"IF(A245<=$E$2,-PMT(C245/12,IF(C245=КАЛЬКУЛЯТОР!$C$21,$E$2,$E$2-$E$3),IF(C245=КАЛЬКУЛЯТОР!$C$21,$I$11,$I$11-SUMIF($A$12:$A$371,\"<=\"&$E$3,$H$12:$H$371)),0,0),\"\")","v":""},null,{"$f":"IFERROR((-IPMT(C245/12,B245,IF(C245=КАЛЬКУЛЯТОР!$C$21,$E$2,$E$2-$E$3),IF(C245=КАЛЬКУЛЯТОР!$C$21,$I$11,$I$11-SUMIF($A$12:$A$371,\"<=\"&$E$3,$H$12:$H$371)),0,0)),\"\")","v":""},{"$f":"IFERROR((-IPMT((C245-'КАЛЬКУЛЯТОР 1'!$P$1)/12,B245,IF(C245=КАЛЬКУЛЯТОР!$C$21,$E$2,$E$2-$E$3),IF(C245=КАЛЬКУЛЯТОР!$C$21,$I$11,$I$11-SUMIF($A$12:$A$371,\"<=\"&$E$3,$H$12:$H$371)),0,0)),\"\")","v":""},{"$f":"IFERROR((-PPMT(C245/12,B245,IF(C245=КАЛЬКУЛЯТОР!$C$21,$E$2,$E$2-$E$3),IF(C245=КАЛЬКУЛЯТОР!$C$21,$I$11,$I$11-SUMIF($A$12:$A$371,\"<=\"&$E$3,$H$12:$H$371)),0,0)),\"\")","v":""},"",{"$error":"#VALUE!"},null,{"$error":"#VALUE!"},{"$error":"#VALUE!"},{"$error":"#VALUE!"},{"$error":"#VALUE!"},false]
[235,235,{"$f":"IF(A246<=$E$3,КАЛЬКУЛЯТОР!$C$21,IF(AND(A246>$E$3,A246<=$E$2),$E$4,\"\"))","v":""},{"$f":"IF(A246<=$E$2,-PMT(C246/12,IF(C246=КАЛЬКУЛЯТОР!$C$21,$E$2,$E$2-$E$3),IF(C246=КАЛЬКУЛЯТОР!$C$21,$I$11,$I$11-SUMIF($A$12:$A$371,\"<=\"&$E$3,$H$12:$H$371)),0,0),\"\")","v":""},null,{"$f":"IFERROR((-IPMT(C246/12,B246,IF(C246=КАЛЬКУЛЯТОР!$C$21,$E$2,$E$2-$E$3),IF(C246=КАЛЬКУЛЯТОР!$C$21,$I$11,$I$11-SUMIF($A$12:$A$371,\"<=\"&$E$3,$H$12:$H$371)),0,0)),\"\")","v":""},{"$f":"IFERROR((-IPMT((C246-'КАЛЬКУЛЯТОР 1'!$P$1)/12,B246,IF(C246=КАЛЬКУЛЯТОР!$C$21,$E$2,$E$2-$E$3),IF(C246=КАЛЬКУЛЯТОР!$C$21,$I$11,$I$11-SUMIF($A$12:$A$371,\"<=\"&$E$3,$H$12:$H$371)),0,0)),\"\")","v":""},{"$f":"IFERROR((-PPMT(C246/12,B246,IF(C246=КАЛЬКУЛЯТОР!$C$21,$E$2,$E$2-$E$3),IF(C246=КАЛЬКУЛЯТОР!$C$21,$I$11,$I$11-SUMIF($A$12:$A$371,\"<=\"&$E$3,$H$12:$H$371)),0,0)),\"\")","v":""},"",{"$error":"#VALUE!"},null,{"$error":"#VALUE!"},{"$error":"#VALUE!"},{"$error":"#VALUE!"},{"$error":"#VALUE!"},false]
[236,236,{"$f":"IF(A247<=$E$3,КАЛЬКУЛЯТОР!$C$21,IF(AND(A247>$E$3,A247<=$E$2),$E$4,\"\"))","v":""},{"$f":"IF(A247<=$E$2,-PMT(C247/12,IF(C247=КАЛЬКУЛЯТОР!$C$21,$E$2,$E$2-$E$3),IF(C247=КАЛЬКУЛЯТОР!$C$21,$I$11,$I$11-SUMIF($A$12:$A$371,\"<=\"&$E$3,$H$12:$H$371)),0,0),\"\")","v":""},null,{"$f":"IFERROR((-IPMT(C247/12,B247,IF(C247=КАЛЬКУЛЯТОР!$C$21,$E$2,$E$2-$E$3),IF(C247=КАЛЬКУЛЯТОР!$C$21,$I$11,$I$11-SUMIF($A$12:$A$371,\"<=\"&$E$3,$H$12:$H$371)),0,0)),\"\")","v":""},{"$f":"IFERROR((-IPMT((C247-'КАЛЬКУЛЯТОР 1'!$P$1)/12,B247,IF(C247=КАЛЬКУЛЯТОР!$C$21,$E$2,$E$2-$E$3),IF(C247=КАЛЬКУЛЯТОР!$C$21,$I$11,$I$11-SUMIF($A$12:$A$371,\"<=\"&$E$3,$H$12:$H$371)),0,0)),\"\")","v":""},{"$f":"IFERROR((-PPMT(C247/12,B247,IF(C247=КАЛЬКУЛЯТОР!$C$21,$E$2,$E$2-$E$3),IF(C247=КАЛЬКУЛЯТОР!$C$21,$I$11,$I$11-SUMIF($A$12:$A$371,\"<=\"&$E$3,$H$12:$H$371)),0,0)),\"\")","v":""},"",{"$error":"#VALUE!"},null,{"$error":"#VALUE!"},{"$error":"#VALUE!"},{"$error":"#VALUE!"},{"$error":"#VALUE!"},false]
[237,237,{"$f":"IF(A248<=$E$3,КАЛЬКУЛЯТОР!$C$21,IF(AND(A248>$E$3,A248<=$E$2),$E$4,\"\"))","v":""},{"$f":"IF(A248<=$E$2,-PMT(C248/12,IF(C248=КАЛЬКУЛЯТОР!$C$21,$E$2,$E$2-$E$3),IF(C248=КАЛЬКУЛЯТОР!$C$21,$I$11,$I$11-SUMIF($A$12:$A$371,\"<=\"&$E$3,$H$12:$H$371)),0,0),\"\")","v":""},null,{"$f":"IFERROR((-IPMT(C248/12,B248,IF(C248=КАЛЬКУЛЯТОР!$C$21,$E$2,$E$2-$E$3),IF(C248=КАЛЬКУЛЯТОР!$C$21,$I$11,$I$11-SUMIF($A$12:$A$371,\"<=\"&$E$3,$H$12:$H$371)),0,0)),\"\")","v":""},{"$f":"IFERROR((-IPMT((C248-'КАЛЬКУЛЯТОР 1'!$P$1)/12,B248,IF(C248=КАЛЬКУЛЯТОР!$C$21,$E$2,$E$2-$E$3),IF(C248=КАЛЬКУЛЯТОР!$C$21,$I$11,$I$11-SUMIF($A$12:$A$371,\"<=\"&$E$3,$H$12:$H$371)),0,0)),\"\")","v":""},{"$f":"IFERROR((-PPMT(C248/12,B248,IF(C248=КАЛЬКУЛЯТОР!$C$21,$E$2,$E$2-$E$3),IF(C248=КАЛЬКУЛЯТОР!$C$21,$I$11,$I$11-SUMIF($A$12:$A$371,\"<=\"&$E$3,$H$12:$H$371)),0,0)),\"\")","v":""},"",{"$error":"#VALUE!"},null,{"$error":"#VALUE!"},{"$error":"#VALUE!"},{"$error":"#VALUE!"},{"$error":"#VALUE!"},false]
[238,238,{"$f":"IF(A249<=$E$3,КАЛЬКУЛЯТОР!$C$21,IF(AND(A249>$E$3,A249<=$E$2),$E$4,\"\"))","v":""},{"$f":"IF(A249<=$E$2,-PMT(C249/12,IF(C249=КАЛЬКУЛЯТОР!$C$21,$E$2,$E$2-$E$3),IF(C249=КАЛЬКУЛЯТОР!$C$21,$I$11,$I$11-SUMIF($A$12:$A$371,\"<=\"&$E$3,$H$12:$H$371)),0,0),\"\")","v":""},null,{"$f":"IFERROR((-IPMT(C249/12,B249,IF(C249=КАЛЬКУЛЯТОР!$C$21,$E$2,$E$2-$E$3),IF(C249=КАЛЬКУЛЯТОР!$C$21,$I$11,$I$11-SUMIF($A$12:$A$371,\"<=\"&$E$3,$H$12:$H$371)),0,0)),\"\")","v":""},{"$f":"IFERROR((-IPMT((C249-'КАЛЬКУЛЯТОР 1'!$P$1)/12,B249,IF(C249=КАЛЬКУЛЯТОР!$C$21,$E$2,$E$2-$E$3),IF(C249=КАЛЬКУЛЯТОР!$C$21,$I$11,$I$11-SUMIF($A$12:$A$371,\"<=\"&$E$3,$H$12:$H$371)),0,0)),\"\")","v":""},{"$f":"IFERROR((-PPMT(C249/12,B249,IF(C249=КАЛЬКУЛЯТОР!$C$21,$E$2,$E$2-$E$3),IF(C249=КАЛЬКУЛЯТОР!$C$21,$I$11,$I$11-SUMIF($A$12:$A$371,\"<=\"&$E$3,$H$12:$H$371)),0,0)),\"\")","v":""},"",{"$error":"#VALUE!"},null,{"$error":"#VALUE!"},{"$error":"#VALUE!"},{"$error":"#VALUE!"},{"$error":"#VALUE!"},false]
[239,239,{"$f":"IF(A250<=$E$3,КАЛЬКУЛЯТОР!$C$21,IF(AND(A250>$E$3,A250<=$E$2),$E$4,\"\"))","v":""},{"$f":"IF(A250<=$E$2,-PMT(C250/12,IF(C250=КАЛЬКУЛЯТОР!$C$21,$E$2,$E$2-$E$3),IF(C250=КАЛЬКУЛЯТОР!$C$21,$I$11,$I$11-SUMIF($A$12:$A$371,\"<=\"&$E$3,$H$12:$H$371)),0,0),\"\")","v":""},null,{"$f":"IFERROR((-IPMT(C250/12,B250,IF(C250=КАЛЬКУЛЯТОР!$C$21,$E$2,$E$2-$E$3),IF(C250=КАЛЬКУЛЯТОР!$C$21,$I$11,$I$11-SUMIF($A$12:$A$371,\"<=\"&$E$3,$H$12:$H$371)),0,0)),\"\")","v":""},{"$f":"IFERROR((-IPMT((C250-'КАЛЬКУЛЯТОР 1'!$P$1)/12,B250,IF(C250=КАЛЬКУЛЯТОР!$C$21,$E$2,$E$2-$E$3),IF(C250=КАЛЬКУЛЯТОР!$C$21,$I$11,$I$11-SUMIF($A$12:$A$371,\"<=\"&$E$3,$H$12:$H$371)),0,0)),\"\")","v":""},{"$f":"IFERROR((-PPMT(C250/12,B250,IF(C250=КАЛЬКУЛЯТОР!$C$21,$E$2,$E$2-$E$3),IF(C250=КАЛЬКУЛЯТОР!$C$21,$I$11,$I$11-SUMIF($A$12:$A$371,\"<=\"&$E$3,$H$12:$H$371)),0,0)),\"\")","v":""},"",{"$error":"#VALUE!"},null,{"$error":"#VALUE!"},{"$error":"#VALUE!"},{"$error":"#VALUE!"},{"$error":"#VALUE!"},false]
[240,240,{"$f":"IF(A251<=$E$3,КАЛЬКУЛЯТОР!$C$21,IF(AND(A251>$E$3,A251<=$E$2),$E$4,\"\"))","v":""},{"$f":"IF(A251<=$E$2,-PMT(C251/12,IF(C251=КАЛЬКУЛЯТОР!$C$21,$E$2,$E$2-$E$3),IF(C251=КАЛЬКУЛЯТОР!$C$21,$I$11,$I$11-SUMIF($A$12:$A$371,\"<=\"&$E$3,$H$12:$H$371)),0,0),\"\")","v":""},null,{"$f":"IFERROR((-IPMT(C251/12,B251,IF(C251=КАЛЬКУЛЯТОР!$C$21,$E$2,$E$2-$E$3),IF(C251=КАЛЬКУЛЯТОР!$C$21,$I$11,$I$11-SUMIF($A$12:$A$371,\"<=\"&$E$3,$H$12:$H$371)),0,0)),\"\")","v":""},{"$f":"IFERROR((-IPMT((C251-'КАЛЬКУЛЯТОР 1'!$P$1)/12,B251,IF(C251=КАЛЬКУЛЯТОР!$C$21,$E$2,$E$2-$E$3),IF(C251=КАЛЬКУЛЯТОР!$C$21,$I$11,$I$11-SUMIF($A$12:$A$371,\"<=\"&$E$3,$H$12:$H$371)),0,0)),\"\")","v":""},{"$f":"IFERROR((-PPMT(C251/12,B251,IF(C251=КАЛЬКУЛЯТОР!$C$21,$E$2,$E$2-$E$3),IF(C251=КАЛЬКУЛЯТОР!$C$21,$I$11,$I$11-SUMIF($A$12:$A$371,\"<=\"&$E$3,$H$12:$H$371)),0,0)),\"\")","v":""},"",{"$error":"#VALUE!"},null,{"$error":"#VALUE!"},{"$error":"#VALUE!"},{"$error":"#VALUE!"},{"$error":"#VALUE!"},false]
[241,241,{"$f":"IF(A252<=$E$3,КАЛЬКУЛЯТОР!$C$21,IF(AND(A252>$E$3,A252<=$E$2),$E$4,\"\"))","v":""},{"$f":"IF(A252<=$E$2,-PMT(C252/12,IF(C252=КАЛЬКУЛЯТОР!$C$21,$E$2,$E$2-$E$3),IF(C252=КАЛЬКУЛЯТОР!$C$21,$I$11,$I$11-SUMIF($A$12:$A$371,\"<=\"&$E$3,$H$12:$H$371)),0,0),\"\")","v":""},{"$f":"IF($E$2>$A251,(I251+SUM(F252:F263))*($K$4+$K$5),0)","v":{"v":0,"d":"0.00"}},{"$f":"IFERROR((-IPMT(C252/12,B252,IF(C252=КАЛЬКУЛЯТОР!$C$21,$E$2,$E$2-$E$3),IF(C252=КАЛЬКУЛЯТОР!$C$21,$I$11,$I$11-SUMIF($A$12:$A$371,\"<=\"&$E$3,$H$12:$H$371)),0,0)),\"\")","v":""},{"$f":"IFERROR((-IPMT((C252-'КАЛЬКУЛЯТОР 1'!$P$1)/12,B252,IF(C252=КАЛЬКУЛЯТОР!$C$21,$E$2,$E$2-$E$3),IF(C252=КАЛЬКУЛЯТОР!$C$21,$I$11,$I$11-SUMIF($A$12:$A$371,\"<=\"&$E$3,$H$12:$H$371)),0,0)),\"\")","v":""},{"$f":"IFERROR((-PPMT(C252/12,B252,IF(C252=КАЛЬКУЛЯТОР!$C$21,$E$2,$E$2-$E$3),IF(C252=КАЛЬКУЛЯТОР!$C$21,$I$11,$I$11-SUMIF($A$12:$A$371,\"<=\"&$E$3,$H$12:$H$371)),0,0)),\"\")","v":""},"",{"$error":"#VALUE!"},{"$f":"PV($E$5/12,A252-1,0,-E252)","v":{"v":0,"d":"0.00"}},{"$error":"#VALUE!"},{"$error":"#VALUE!"},{"$error":"#VALUE!"},{"$error":"#VALUE!"},false]
[242,242,{"$f":"IF(A253<=$E$3,КАЛЬКУЛЯТОР!$C$21,IF(AND(A253>$E$3,A253<=$E$2),$E$4,\"\"))","v":""},{"$f":"IF(A253<=$E$2,-PMT(C253/12,IF(C253=КАЛЬКУЛЯТОР!$C$21,$E$2,$E$2-$E$3),IF(C253=КАЛЬКУЛЯТОР!$C$21,$I$11,$I$11-SUMIF($A$12:$A$371,\"<=\"&$E$3,$H$12:$H$371)),0,0),\"\")","v":""},null,{"$f":"IFERROR((-IPMT(C253/12,B253,IF(C253=КАЛЬКУЛЯТОР!$C$21,$E$2,$E$2-$E$3),IF(C253=КАЛЬКУЛЯТОР!$C$21,$I$11,$I$11-SUMIF($A$12:$A$371,\"<=\"&$E$3,$H$12:$H$371)),0,0)),\"\")","v":""},{"$f":"IFERROR((-IPMT((C253-'КАЛЬКУЛЯТОР 1'!$P$1)/12,B253,IF(C253=КАЛЬКУЛЯТОР!$C$21,$E$2,$E$2-$E$3),IF(C253=КАЛЬКУЛЯТОР!$C$21,$I$11,$I$11-SUMIF($A$12:$A$371,\"<=\"&$E$3,$H$12:$H$371)),0,0)),\"\")","v":""},{"$f":"IFERROR((-PPMT(C253/12,B253,IF(C253=КАЛЬКУЛЯТОР!$C$21,$E$2,$E$2-$E$3),IF(C253=КАЛЬКУЛЯТОР!$C$21,$I$11,$I$11-SUMIF($A$12:$A$371,\"<=\"&$E$3,$H$12:$H$371)),0,0)),\"\")","v":""},"",{"$error":"#VALUE!"},null,{"$error":"#VALUE!"},{"$error":"#VALUE!"},{"$error":"#VALUE!"},{"$error":"#VALUE!"},false]
[243,243,{"$f":"IF(A254<=$E$3,КАЛЬКУЛЯТОР!$C$21,IF(AND(A254>$E$3,A254<=$E$2),$E$4,\"\"))","v":""},{"$f":"IF(A254<=$E$2,-PMT(C254/12,IF(C254=КАЛЬКУЛЯТОР!$C$21,$E$2,$E$2-$E$3),IF(C254=КАЛЬКУЛЯТОР!$C$21,$I$11,$I$11-SUMIF($A$12:$A$371,\"<=\"&$E$3,$H$12:$H$371)),0,0),\"\")","v":""},null,{"$f":"IFERROR((-IPMT(C254/12,B254,IF(C254=КАЛЬКУЛЯТОР!$C$21,$E$2,$E$2-$E$3),IF(C254=КАЛЬКУЛЯТОР!$C$21,$I$11,$I$11-SUMIF($A$12:$A$371,\"<=\"&$E$3,$H$12:$H$371)),0,0)),\"\")","v":""},{"$f":"IFERROR((-IPMT((C254-'КАЛЬКУЛЯТОР 1'!$P$1)/12,B254,IF(C254=КАЛЬКУЛЯТОР!$C$21,$E$2,$E$2-$E$3),IF(C254=КАЛЬКУЛЯТОР!$C$21,$I$11,$I$11-SUMIF($A$12:$A$371,\"<=\"&$E$3,$H$12:$H$371)),0,0)),\"\")","v":""},{"$f":"IFERROR((-PPMT(C254/12,B254,IF(C254=КАЛЬКУЛЯТОР!$C$21,$E$2,$E$2-$E$3),IF(C254=КАЛЬКУЛЯТОР!$C$21,$I$11,$I$11-SUMIF($A$12:$A$371,\"<=\"&$E$3,$H$12:$H$371)),0,0)),\"\")","v":""},"",{"$error":"#VALUE!"},null,{"$error":"#VALUE!"},{"$error":"#VALUE!"},{"$error":"#VALUE!"},{"$error":"#VALUE!"},false]
[244,244,{"$f":"IF(A255<=$E$3,КАЛЬКУЛЯТОР!$C$21,IF(AND(A255>$E$3,A255<=$E$2),$E$4,\"\"))","v":""},{"$f":"IF(A255<=$E$2,-PMT(C255/12,IF(C255=КАЛЬКУЛЯТОР!$C$21,$E$2,$E$2-$E$3),IF(C255=КАЛЬКУЛЯТОР!$C$21,$I$11,$I$11-SUMIF($A$12:$A$371,\"<=\"&$E$3,$H$12:$H$371)),0,0),\"\")","v":""},null,{"$f":"IFERROR((-IPMT(C255/12,B255,IF(C255=КАЛЬКУЛЯТОР!$C$21,$E$2,$E$2-$E$3),IF(C255=КАЛЬКУЛЯТОР!$C$21,$I$11,$I$11-SUMIF($A$12:$A$371,\"<=\"&$E$3,$H$12:$H$371)),0,0)),\"\")","v":""},{"$f":"IFERROR((-IPMT((C255-'КАЛЬКУЛЯТОР 1'!$P$1)/12,B255,IF(C255=КАЛЬКУЛЯТОР!$C$21,$E$2,$E$2-$E$3),IF(C255=КАЛЬКУЛЯТОР!$C$21,$I$11,$I$11-SUMIF($A$12:$A$371,\"<=\"&$E$3,$H$12:$H$371)),0,0)),\"\")","v":""},{"$f":"IFERROR((-PPMT(C255/12,B255,IF(C255=КАЛЬКУЛЯТОР!$C$21,$E$2,$E$2-$E$3),IF(C255=КАЛЬКУЛЯТОР!$C$21,$I$11,$I$11-SUMIF($A$12:$A$371,\"<=\"&$E$3,$H$12:$H$371)),0,0)),\"\")","v":""},"",{"$error":"#VALUE!"},null,{"$error":"#VALUE!"},{"$error":"#VALUE!"},{"$error":"#VALUE!"},{"$error":"#VALUE!"},false]
[245,245,{"$f":"IF(A256<=$E$3,КАЛЬКУЛЯТОР!$C$21,IF(AND(A256>$E$3,A256<=$E$2),$E$4,\"\"))","v":""},{"$f":"IF(A256<=$E$2,-PMT(C256/12,IF(C256=КАЛЬКУЛЯТОР!$C$21,$E$2,$E$2-$E$3),IF(C256=КАЛЬКУЛЯТОР!$C$21,$I$11,$I$11-SUMIF($A$12:$A$371,\"<=\"&$E$3,$H$12:$H$371)),0,0),\"\")","v":""},null,{"$f":"IFERROR((-IPMT(C256/12,B256,IF(C256=КАЛЬКУЛЯТОР!$C$21,$E$2,$E$2-$E$3),IF(C256=КАЛЬКУЛЯТОР!$C$21,$I$11,$I$11-SUMIF($A$12:$A$371,\"<=\"&$E$3,$H$12:$H$371)),0,0)),\"\")","v":""},{"$f":"IFERROR((-IPMT((C256-'КАЛЬКУЛЯТОР 1'!$P$1)/12,B256,IF(C256=КАЛЬКУЛЯТОР!$C$21,$E$2,$E$2-$E$3),IF(C256=КАЛЬКУЛЯТОР!$C$21,$I$11,$I$11-SUMIF($A$12:$A$371,\"<=\"&$E$3,$H$12:$H$371)),0,0)),\"\")","v":""},{"$f":"IFERROR((-PPMT(C256/12,B256,IF(C256=КАЛЬКУЛЯТОР!$C$21,$E$2,$E$2-$E$3),IF(C256=КАЛЬКУЛЯТОР!$C$21,$I$11,$I$11-SUMIF($A$12:$A$371,\"<=\"&$E$3,$H$12:$H$371)),0,0)),\"\")","v":""},"",{"$error":"#VALUE!"},null,{"$error":"#VALUE!"},{"$error":"#VALUE!"},{"$error":"#VALUE!"},{"$error":"#VALUE!"},false]
[246,246,{"$f":"IF(A257<=$E$3,КАЛЬКУЛЯТОР!$C$21,IF(AND(A257>$E$3,A257<=$E$2),$E$4,\"\"))","v":""},{"$f":"IF(A257<=$E$2,-PMT(C257/12,IF(C257=КАЛЬКУЛЯТОР!$C$21,$E$2,$E$2-$E$3),IF(C257=КАЛЬКУЛЯТОР!$C$21,$I$11,$I$11-SUMIF($A$12:$A$371,\"<=\"&$E$3,$H$12:$H$371)),0,0),\"\")","v":""},null,{"$f":"IFERROR((-IPMT(C257/12,B257,IF(C257=КАЛЬКУЛЯТОР!$C$21,$E$2,$E$2-$E$3),IF(C257=КАЛЬКУЛЯТОР!$C$21,$I$11,$I$11-SUMIF($A$12:$A$371,\"<=\"&$E$3,$H$12:$H$371)),0,0)),\"\")","v":""},{"$f":"IFERROR((-IPMT((C257-'КАЛЬКУЛЯТОР 1'!$P$1)/12,B257,IF(C257=КАЛЬКУЛЯТОР!$C$21,$E$2,$E$2-$E$3),IF(C257=КАЛЬКУЛЯТОР!$C$21,$I$11,$I$11-SUMIF($A$12:$A$371,\"<=\"&$E$3,$H$12:$H$371)),0,0)),\"\")","v":""},{"$f":"IFERROR((-PPMT(C257/12,B257,IF(C257=КАЛЬКУЛЯТОР!$C$21,$E$2,$E$2-$E$3),IF(C257=КАЛЬКУЛЯТОР!$C$21,$I$11,$I$11-SUMIF($A$12:$A$371,\"<=\"&$E$3,$H$12:$H$371)),0,0)),\"\")","v":""},"",{"$error":"#VALUE!"},null,{"$error":"#VALUE!"},{"$error":"#VALUE!"},{"$error":"#VALUE!"},{"$error":"#VALUE!"},false]
[247,247,{"$f":"IF(A258<=$E$3,КАЛЬКУЛЯТОР!$C$21,IF(AND(A258>$E$3,A258<=$E$2),$E$4,\"\"))","v":""},{"$f":"IF(A258<=$E$2,-PMT(C258/12,IF(C258=КАЛЬКУЛЯТОР!$C$21,$E$2,$E$2-$E$3),IF(C258=КАЛЬКУЛЯТОР!$C$21,$I$11,$I$11-SUMIF($A$12:$A$371,\"<=\"&$E$3,$H$12:$H$371)),0,0),\"\")","v":""},null,{"$f":"IFERROR((-IPMT(C258/12,B258,IF(C258=КАЛЬКУЛЯТОР!$C$21,$E$2,$E$2-$E$3),IF(C258=КАЛЬКУЛЯТОР!$C$21,$I$11,$I$11-SUMIF($A$12:$A$371,\"<=\"&$E$3,$H$12:$H$371)),0,0)),\"\")","v":""},{"$f":"IFERROR((-IPMT((C258-'КАЛЬКУЛЯТОР 1'!$P$1)/12,B258,IF(C258=КАЛЬКУЛЯТОР!$C$21,$E$2,$E$2-$E$3),IF(C258=КАЛЬКУЛЯТОР!$C$21,$I$11,$I$11-SUMIF($A$12:$A$371,\"<=\"&$E$3,$H$12:$H$371)),0,0)),\"\")","v":""},{"$f":"IFERROR((-PPMT(C258/12,B258,IF(C258=КАЛЬКУЛЯТОР!$C$21,$E$2,$E$2-$E$3),IF(C258=КАЛЬКУЛЯТОР!$C$21,$I$11,$I$11-SUMIF($A$12:$A$371,\"<=\"&$E$3,$H$12:$H$371)),0,0)),\"\")","v":""},"",{"$error":"#VALUE!"},null,{"$error":"#VALUE!"},{"$error":"#VALUE!"},{"$error":"#VALUE!"},{"$error":"#VALUE!"},false]
[248,248,{"$f":"IF(A259<=$E$3,КАЛЬКУЛЯТОР!$C$21,IF(AND(A259>$E$3,A259<=$E$2),$E$4,\"\"))","v":""},{"$f":"IF(A259<=$E$2,-PMT(C259/12,IF(C259=КАЛЬКУЛЯТОР!$C$21,$E$2,$E$2-$E$3),IF(C259=КАЛЬКУЛЯТОР!$C$21,$I$11,$I$11-SUMIF($A$12:$A$371,\"<=\"&$E$3,$H$12:$H$371)),0,0),\"\")","v":""},null,{"$f":"IFERROR((-IPMT(C259/12,B259,IF(C259=КАЛЬКУЛЯТОР!$C$21,$E$2,$E$2-$E$3),IF(C259=КАЛЬКУЛЯТОР!$C$21,$I$11,$I$11-SUMIF($A$12:$A$371,\"<=\"&$E$3,$H$12:$H$371)),0,0)),\"\")","v":""},{"$f":"IFERROR((-IPMT((C259-'КАЛЬКУЛЯТОР 1'!$P$1)/12,B259,IF(C259=КАЛЬКУЛЯТОР!$C$21,$E$2,$E$2-$E$3),IF(C259=КАЛЬКУЛЯТОР!$C$21,$I$11,$I$11-SUMIF($A$12:$A$371,\"<=\"&$E$3,$H$12:$H$371)),0,0)),\"\")","v":""},{"$f":"IFERROR((-PPMT(C259/12,B259,IF(C259=КАЛЬКУЛЯТОР!$C$21,$E$2,$E$2-$E$3),IF(C259=КАЛЬКУЛЯТОР!$C$21,$I$11,$I$11-SUMIF($A$12:$A$371,\"<=\"&$E$3,$H$12:$H$371)),0,0)),\"\")","v":""},"",{"$error":"#VALUE!"},null,{"$error":"#VALUE!"},{"$error":"#VALUE!"},{"$error":"#VALUE!"},{"$error":"#VALUE!"},false]
[249,249,{"$f":"IF(A260<=$E$3,КАЛЬКУЛЯТОР!$C$21,IF(AND(A260>$E$3,A260<=$E$2),$E$4,\"\"))","v":""},{"$f":"IF(A260<=$E$2,-PMT(C260/12,IF(C260=КАЛЬКУЛЯТОР!$C$21,$E$2,$E$2-$E$3),IF(C260=КАЛЬКУЛЯТОР!$C$21,$I$11,$I$11-SUMIF($A$12:$A$371,\"<=\"&$E$3,$H$12:$H$371)),0,0),\"\")","v":""},null,{"$f":"IFERROR((-IPMT(C260/12,B260,IF(C260=КАЛЬКУЛЯТОР!$C$21,$E$2,$E$2-$E$3),IF(C260=КАЛЬКУЛЯТОР!$C$21,$I$11,$I$11-SUMIF($A$12:$A$371,\"<=\"&$E$3,$H$12:$H$371)),0,0)),\"\")","v":""},{"$f":"IFERROR((-IPMT((C260-'КАЛЬКУЛЯТОР 1'!$P$1)/12,B260,IF(C260=КАЛЬКУЛЯТОР!$C$21,$E$2,$E$2-$E$3),IF(C260=КАЛЬКУЛЯТОР!$C$21,$I$11,$I$11-SUMIF($A$12:$A$371,\"<=\"&$E$3,$H$12:$H$371)),0,0)),\"\")","v":""},{"$f":"IFERROR((-PPMT(C260/12,B260,IF(C260=КАЛЬКУЛЯТОР!$C$21,$E$2,$E$2-$E$3),IF(C260=КАЛЬКУЛЯТОР!$C$21,$I$11,$I$11-SUMIF($A$12:$A$371,\"<=\"&$E$3,$H$12:$H$371)),0,0)),\"\")","v":""},"",{"$error":"#VALUE!"},null,{"$error":"#VALUE!"},{"$error":"#VALUE!"},{"$error":"#VALUE!"},{"$error":"#VALUE!"},false]
[250,250,{"$f":"IF(A261<=$E$3,КАЛЬКУЛЯТОР!$C$21,IF(AND(A261>$E$3,A261<=$E$2),$E$4,\"\"))","v":""},{"$f":"IF(A261<=$E$2,-PMT(C261/12,IF(C261=КАЛЬКУЛЯТОР!$C$21,$E$2,$E$2-$E$3),IF(C261=КАЛЬКУЛЯТОР!$C$21,$I$11,$I$11-SUMIF($A$12:$A$371,\"<=\"&$E$3,$H$12:$H$371)),0,0),\"\")","v":""},null,{"$f":"IFERROR((-IPMT(C261/12,B261,IF(C261=КАЛЬКУЛЯТОР!$C$21,$E$2,$E$2-$E$3),IF(C261=КАЛЬКУЛЯТОР!$C$21,$I$11,$I$11-SUMIF($A$12:$A$371,\"<=\"&$E$3,$H$12:$H$371)),0,0)),\"\")","v":""},{"$f":"IFERROR((-IPMT((C261-'КАЛЬКУЛЯТОР 1'!$P$1)/12,B261,IF(C261=КАЛЬКУЛЯТОР!$C$21,$E$2,$E$2-$E$3),IF(C261=КАЛЬКУЛЯТОР!$C$21,$I$11,$I$11-SUMIF($A$12:$A$371,\"<=\"&$E$3,$H$12:$H$371)),0,0)),\"\")","v":""},{"$f":"IFERROR((-PPMT(C261/12,B261,IF(C261=КАЛЬКУЛЯТОР!$C$21,$E$2,$E$2-$E$3),IF(C261=КАЛЬКУЛЯТОР!$C$21,$I$11,$I$11-SUMIF($A$12:$A$371,\"<=\"&$E$3,$H$12:$H$371)),0,0)),\"\")","v":""},"",{"$error":"#VALUE!"},null,{"$error":"#VALUE!"},{"$error":"#VALUE!"},{"$error":"#VALUE!"},{"$error":"#VALUE!"},false]
[251,251,{"$f":"IF(A262<=$E$3,КАЛЬКУЛЯТОР!$C$21,IF(AND(A262>$E$3,A262<=$E$2),$E$4,\"\"))","v":""},{"$f":"IF(A262<=$E$2,-PMT(C262/12,IF(C262=КАЛЬКУЛЯТОР!$C$21,$E$2,$E$2-$E$3),IF(C262=КАЛЬКУЛЯТОР!$C$21,$I$11,$I$11-SUMIF($A$12:$A$371,\"<=\"&$E$3,$H$12:$H$371)),0,0),\"\")","v":""},null,{"$f":"IFERROR((-IPMT(C262/12,B262,IF(C262=КАЛЬКУЛЯТОР!$C$21,$E$2,$E$2-$E$3),IF(C262=КАЛЬКУЛЯТОР!$C$21,$I$11,$I$11-SUMIF($A$12:$A$371,\"<=\"&$E$3,$H$12:$H$371)),0,0)),\"\")","v":""},{"$f":"IFERROR((-IPMT((C262-'КАЛЬКУЛЯТОР 1'!$P$1)/12,B262,IF(C262=КАЛЬКУЛЯТОР!$C$21,$E$2,$E$2-$E$3),IF(C262=КАЛЬКУЛЯТОР!$C$21,$I$11,$I$11-SUMIF($A$12:$A$371,\"<=\"&$E$3,$H$12:$H$371)),0,0)),\"\")","v":""},{"$f":"IFERROR((-PPMT(C262/12,B262,IF(C262=КАЛЬКУЛЯТОР!$C$21,$E$2,$E$2-$E$3),IF(C262=КАЛЬКУЛЯТОР!$C$21,$I$11,$I$11-SUMIF($A$12:$A$371,\"<=\"&$E$3,$H$12:$H$371)),0,0)),\"\")","v":""},"",{"$error":"#VALUE!"},null,{"$error":"#VALUE!"},{"$error":"#VALUE!"},{"$error":"#VALUE!"},{"$error":"#VALUE!"},false]
[252,252,{"$f":"IF(A263<=$E$3,КАЛЬКУЛЯТОР!$C$21,IF(AND(A263>$E$3,A263<=$E$2),$E$4,\"\"))","v":""},{"$f":"IF(A263<=$E$2,-PMT(C263/12,IF(C263=КАЛЬКУЛЯТОР!$C$21,$E$2,$E$2-$E$3),IF(C263=КАЛЬКУЛЯТОР!$C$21,$I$11,$I$11-SUMIF($A$12:$A$371,\"<=\"&$E$3,$H$12:$H$371)),0,0),\"\")","v":""},null,{"$f":"IFERROR((-IPMT(C263/12,B263,IF(C263=КАЛЬКУЛЯТОР!$C$21,$E$2,$E$2-$E$3),IF(C263=КАЛЬКУЛЯТОР!$C$21,$I$11,$I$11-SUMIF($A$12:$A$371,\"<=\"&$E$3,$H$12:$H$371)),0,0)),\"\")","v":""},{"$f":"IFERROR((-IPMT((C263-'КАЛЬКУЛЯТОР 1'!$P$1)/12,B263,IF(C263=КАЛЬКУЛЯТОР!$C$21,$E$2,$E$2-$E$3),IF(C263=КАЛЬКУЛЯТОР!$C$21,$I$11,$I$11-SUMIF($A$12:$A$371,\"<=\"&$E$3,$H$12:$H$371)),0,0)),\"\")","v":""},{"$f":"IFERROR((-PPMT(C263/12,B263,IF(C263=КАЛЬКУЛЯТОР!$C$21,$E$2,$E$2-$E$3),IF(C263=КАЛЬКУЛЯТОР!$C$21,$I$11,$I$11-SUMIF($A$12:$A$371,\"<=\"&$E$3,$H$12:$H$371)),0,0)),\"\")","v":""},"",{"$error":"#VALUE!"},null,{"$error":"#VALUE!"},{"$error":"#VALUE!"},{"$error":"#VALUE!"},{"$error":"#VALUE!"},false]
[253,253,{"$f":"IF(A264<=$E$3,КАЛЬКУЛЯТОР!$C$21,IF(AND(A264>$E$3,A264<=$E$2),$E$4,\"\"))","v":""},{"$f":"IF(A264<=$E$2,-PMT(C264/12,IF(C264=КАЛЬКУЛЯТОР!$C$21,$E$2,$E$2-$E$3),IF(C264=КАЛЬКУЛЯТОР!$C$21,$I$11,$I$11-SUMIF($A$12:$A$371,\"<=\"&$E$3,$H$12:$H$371)),0,0),\"\")","v":""},{"$f":"IF($E$2>$A263,(I263+SUM(F264:F275))*($K$4+$K$5),0)","v":{"v":0,"d":"0.00"}},{"$f":"IFERROR((-IPMT(C264/12,B264,IF(C264=КАЛЬКУЛЯТОР!$C$21,$E$2,$E$2-$E$3),IF(C264=КАЛЬКУЛЯТОР!$C$21,$I$11,$I$11-SUMIF($A$12:$A$371,\"<=\"&$E$3,$H$12:$H$371)),0,0)),\"\")","v":""},{"$f":"IFERROR((-IPMT((C264-'КАЛЬКУЛЯТОР 1'!$P$1)/12,B264,IF(C264=КАЛЬКУЛЯТОР!$C$21,$E$2,$E$2-$E$3),IF(C264=КАЛЬКУЛЯТОР!$C$21,$I$11,$I$11-SUMIF($A$12:$A$371,\"<=\"&$E$3,$H$12:$H$371)),0,0)),\"\")","v":""},{"$f":"IFERROR((-PPMT(C264/12,B264,IF(C264=КАЛЬКУЛЯТОР!$C$21,$E$2,$E$2-$E$3),IF(C264=КАЛЬКУЛЯТОР!$C$21,$I$11,$I$11-SUMIF($A$12:$A$371,\"<=\"&$E$3,$H$12:$H$371)),0,0)),\"\")","v":""},"",{"$error":"#VALUE!"},{"$f":"PV($E$5/12,A264-1,0,-E264)","v":{"v":0,"d":"0.00"}},{"$error":"#VALUE!"},{"$error":"#VALUE!"},{"$error":"#VALUE!"},{"$error":"#VALUE!"},false]
[254,254,{"$f":"IF(A265<=$E$3,КАЛЬКУЛЯТОР!$C$21,IF(AND(A265>$E$3,A265<=$E$2),$E$4,\"\"))","v":""},{"$f":"IF(A265<=$E$2,-PMT(C265/12,IF(C265=КАЛЬКУЛЯТОР!$C$21,$E$2,$E$2-$E$3),IF(C265=КАЛЬКУЛЯТОР!$C$21,$I$11,$I$11-SUMIF($A$12:$A$371,\"<=\"&$E$3,$H$12:$H$371)),0,0),\"\")","v":""},null,{"$f":"IFERROR((-IPMT(C265/12,B265,IF(C265=КАЛЬКУЛЯТОР!$C$21,$E$2,$E$2-$E$3),IF(C265=КАЛЬКУЛЯТОР!$C$21,$I$11,$I$11-SUMIF($A$12:$A$371,\"<=\"&$E$3,$H$12:$H$371)),0,0)),\"\")","v":""},{"$f":"IFERROR((-IPMT((C265-'КАЛЬКУЛЯТОР 1'!$P$1)/12,B265,IF(C265=КАЛЬКУЛЯТОР!$C$21,$E$2,$E$2-$E$3),IF(C265=КАЛЬКУЛЯТОР!$C$21,$I$11,$I$11-SUMIF($A$12:$A$371,\"<=\"&$E$3,$H$12:$H$371)),0,0)),\"\")","v":""},{"$f":"IFERROR((-PPMT(C265/12,B265,IF(C265=КАЛЬКУЛЯТОР!$C$21,$E$2,$E$2-$E$3),IF(C265=КАЛЬКУЛЯТОР!$C$21,$I$11,$I$11-SUMIF($A$12:$A$371,\"<=\"&$E$3,$H$12:$H$371)),0,0)),\"\")","v":""},"",{"$error":"#VALUE!"},null,{"$error":"#VALUE!"},{"$error":"#VALUE!"},{"$error":"#VALUE!"},{"$error":"#VALUE!"},false]
[255,255,{"$f":"IF(A266<=$E$3,КАЛЬКУЛЯТОР!$C$21,IF(AND(A266>$E$3,A266<=$E$2),$E$4,\"\"))","v":""},{"$f":"IF(A266<=$E$2,-PMT(C266/12,IF(C266=КАЛЬКУЛЯТОР!$C$21,$E$2,$E$2-$E$3),IF(C266=КАЛЬКУЛЯТОР!$C$21,$I$11,$I$11-SUMIF($A$12:$A$371,\"<=\"&$E$3,$H$12:$H$371)),0,0),\"\")","v":""},null,{"$f":"IFERROR((-IPMT(C266/12,B266,IF(C266=КАЛЬКУЛЯТОР!$C$21,$E$2,$E$2-$E$3),IF(C266=КАЛЬКУЛЯТОР!$C$21,$I$11,$I$11-SUMIF($A$12:$A$371,\"<=\"&$E$3,$H$12:$H$371)),0,0)),\"\")","v":""},{"$f":"IFERROR((-IPMT((C266-'КАЛЬКУЛЯТОР 1'!$P$1)/12,B266,IF(C266=КАЛЬКУЛЯТОР!$C$21,$E$2,$E$2-$E$3),IF(C266=КАЛЬКУЛЯТОР!$C$21,$I$11,$I$11-SUMIF($A$12:$A$371,\"<=\"&$E$3,$H$12:$H$371)),0,0)),\"\")","v":""},{"$f":"IFERROR((-PPMT(C266/12,B266,IF(C266=КАЛЬКУЛЯТОР!$C$21,$E$2,$E$2-$E$3),IF(C266=КАЛЬКУЛЯТОР!$C$21,$I$11,$I$11-SUMIF($A$12:$A$371,\"<=\"&$E$3,$H$12:$H$371)),0,0)),\"\")","v":""},"",{"$error":"#VALUE!"},null,{"$error":"#VALUE!"},{"$error":"#VALUE!"},{"$error":"#VALUE!"},{"$error":"#VALUE!"},false]
[256,256,{"$f":"IF(A267<=$E$3,КАЛЬКУЛЯТОР!$C$21,IF(AND(A267>$E$3,A267<=$E$2),$E$4,\"\"))","v":""},{"$f":"IF(A267<=$E$2,-PMT(C267/12,IF(C267=КАЛЬКУЛЯТОР!$C$21,$E$2,$E$2-$E$3),IF(C267=КАЛЬКУЛЯТОР!$C$21,$I$11,$I$11-SUMIF($A$12:$A$371,\"<=\"&$E$3,$H$12:$H$371)),0,0),\"\")","v":""},null,{"$f":"IFERROR((-IPMT(C267/12,B267,IF(C267=КАЛЬКУЛЯТОР!$C$21,$E$2,$E$2-$E$3),IF(C267=КАЛЬКУЛЯТОР!$C$21,$I$11,$I$11-SUMIF($A$12:$A$371,\"<=\"&$E$3,$H$12:$H$371)),0,0)),\"\")","v":""},{"$f":"IFERROR((-IPMT((C267-'КАЛЬКУЛЯТОР 1'!$P$1)/12,B267,IF(C267=КАЛЬКУЛЯТОР!$C$21,$E$2,$E$2-$E$3),IF(C267=КАЛЬКУЛЯТОР!$C$21,$I$11,$I$11-SUMIF($A$12:$A$371,\"<=\"&$E$3,$H$12:$H$371)),0,0)),\"\")","v":""},{"$f":"IFERROR((-PPMT(C267/12,B267,IF(C267=КАЛЬКУЛЯТОР!$C$21,$E$2,$E$2-$E$3),IF(C267=КАЛЬКУЛЯТОР!$C$21,$I$11,$I$11-SUMIF($A$12:$A$371,\"<=\"&$E$3,$H$12:$H$371)),0,0)),\"\")","v":""},"",{"$error":"#VALUE!"},null,{"$error":"#VALUE!"},{"$error":"#VALUE!"},{"$error":"#VALUE!"},{"$error":"#VALUE!"},false]
[257,257,{"$f":"IF(A268<=$E$3,КАЛЬКУЛЯТОР!$C$21,IF(AND(A268>$E$3,A268<=$E$2),$E$4,\"\"))","v":""},{"$f":"IF(A268<=$E$2,-PMT(C268/12,IF(C268=КАЛЬКУЛЯТОР!$C$21,$E$2,$E$2-$E$3),IF(C268=КАЛЬКУЛЯТОР!$C$21,$I$11,$I$11-SUMIF($A$12:$A$371,\"<=\"&$E$3,$H$12:$H$371)),0,0),\"\")","v":""},null,{"$f":"IFERROR((-IPMT(C268/12,B268,IF(C268=КАЛЬКУЛЯТОР!$C$21,$E$2,$E$2-$E$3),IF(C268=КАЛЬКУЛЯТОР!$C$21,$I$11,$I$11-SUMIF($A$12:$A$371,\"<=\"&$E$3,$H$12:$H$371)),0,0)),\"\")","v":""},{"$f":"IFERROR((-IPMT((C268-'КАЛЬКУЛЯТОР 1'!$P$1)/12,B268,IF(C268=КАЛЬКУЛЯТОР!$C$21,$E$2,$E$2-$E$3),IF(C268=КАЛЬКУЛЯТОР!$C$21,$I$11,$I$11-SUMIF($A$12:$A$371,\"<=\"&$E$3,$H$12:$H$371)),0,0)),\"\")","v":""},{"$f":"IFERROR((-PPMT(C268/12,B268,IF(C268=КАЛЬКУЛЯТОР!$C$21,$E$2,$E$2-$E$3),IF(C268=КАЛЬКУЛЯТОР!$C$21,$I$11,$I$11-SUMIF($A$12:$A$371,\"<=\"&$E$3,$H$12:$H$371)),0,0)),\"\")","v":""},{"$f":"IFERROR(I267-H268,\"\")","v":""},{"$f":"PV($E$5/12,A268-1,0,-D268)","v":{"$error":"#VALUE!"}},null,{"$f":"PV($E$5/12,A268-1,0,-F268)","v":{"$error":"#VALUE!"}},{"$f":"PV($E$5/12,A268-1,0,-G268)","v":{"$error":"#VALUE!"}},{"$f":"PV($E$5/12,A268-1,0,-H268)","v":{"$error":"#VALUE!"}},{"$f":"O267-N268","v":{"$error":"#VALUE!"}},{"$f":"AND(A268<=$E$3)","v":false}]
[258,{"$f":"ROUND(IF(P269=$P$12,B268+1,A269-$E$3),0)","v":258},{"$f":"IF(A269<=$E$3,КАЛЬКУЛЯТОР!$C$21,IF(AND(A269>$E$3,A269<=$E$2),$E$4,\"\"))","v":""},{"$f":"IF(A269<=$E$2,-PMT(C269/12,IF(C269=КАЛЬКУЛЯТОР!$C$21,$E$2,$E$2-$E$3),IF(C269=КАЛЬКУЛЯТОР!$C$21,$I$11,$I$11-SUMIF($A$12:$A$371,\"<=\"&$E$3,$H$12:$H$371)),0,0),\"\")","v":""},null,{"$f":"IFERROR((-IPMT(C269/12,B269,IF(C269=КАЛЬКУЛЯТОР!$C$21,$E$2,$E$2-$E$3),IF(C269=КАЛЬКУЛЯТОР!$C$21,$I$11,$I$11-SUMIF($A$12:$A$371,\"<=\"&$E$3,$H$12:$H$371)),0,0)),\"\")","v":""},{"$f":"IFERROR((-IPMT((C269-'КАЛЬКУЛЯТОР 1'!$P$1)/12,B269,IF(C269=КАЛЬКУЛЯТОР!$C$21,$E$2,$E$2-$E$3),IF(C269=КАЛЬКУЛЯТОР!$C$21,$I$11,$I$11-SUMIF($A$12:$A$371,\"<=\"&$E$3,$H$12:$H$371)),0,0)),\"\")","v":""},{"$f":"IFERROR((-PPMT(C269/12,B269,IF(C269=КАЛЬКУЛЯТОР!$C$21,$E$2,$E$2-$E$3),IF(C269=КАЛЬКУЛЯТОР!$C$21,$I$11,$I$11-SUMIF($A$12:$A$371,\"<=\"&$E$3,$H$12:$H$371)),0,0)),\"\")","v":""},"",{"$error":"#VALUE!"},null,{"$error":"#VALUE!"},{"$error":"#VALUE!"},{"$error":"#VALUE!"},{"$error":"#VALUE!"},false]
[259,259,{"$f":"IF(A270<=$E$3,КАЛЬКУЛЯТОР!$C$21,IF(AND(A270>$E$3,A270<=$E$2),$E$4,\"\"))","v":""},{"$f":"IF(A270<=$E$2,-PMT(C270/12,IF(C270=КАЛЬКУЛЯТОР!$C$21,$E$2,$E$2-$E$3),IF(C270=КАЛЬКУЛЯТОР!$C$21,$I$11,$I$11-SUMIF($A$12:$A$371,\"<=\"&$E$3,$H$12:$H$371)),0,0),\"\")","v":""},null,{"$f":"IFERROR((-IPMT(C270/12,B270,IF(C270=КАЛЬКУЛЯТОР!$C$21,$E$2,$E$2-$E$3),IF(C270=КАЛЬКУЛЯТОР!$C$21,$I$11,$I$11-SUMIF($A$12:$A$371,\"<=\"&$E$3,$H$12:$H$371)),0,0)),\"\")","v":""},{"$f":"IFERROR((-IPMT((C270-'КАЛЬКУЛЯТОР 1'!$P$1)/12,B270,IF(C270=КАЛЬКУЛЯТОР!$C$21,$E$2,$E$2-$E$3),IF(C270=КАЛЬКУЛЯТОР!$C$21,$I$11,$I$11-SUMIF($A$12:$A$371,\"<=\"&$E$3,$H$12:$H$371)),0,0)),\"\")","v":""},{"$f":"IFERROR((-PPMT(C270/12,B270,IF(C270=КАЛЬКУЛЯТОР!$C$21,$E$2,$E$2-$E$3),IF(C270=КАЛЬКУЛЯТОР!$C$21,$I$11,$I$11-SUMIF($A$12:$A$371,\"<=\"&$E$3,$H$12:$H$371)),0,0)),\"\")","v":""},"",{"$error":"#VALUE!"},null,{"$error":"#VALUE!"},{"$error":"#VALUE!"},{"$error":"#VALUE!"},{"$error":"#VALUE!"},false]
[260,260,{"$f":"IF(A271<=$E$3,КАЛЬКУЛЯТОР!$C$21,IF(AND(A271>$E$3,A271<=$E$2),$E$4,\"\"))","v":""},{"$f":"IF(A271<=$E$2,-PMT(C271/12,IF(C271=КАЛЬКУЛЯТОР!$C$21,$E$2,$E$2-$E$3),IF(C271=КАЛЬКУЛЯТОР!$C$21,$I$11,$I$11-SUMIF($A$12:$A$371,\"<=\"&$E$3,$H$12:$H$371)),0,0),\"\")","v":""},null,{"$f":"IFERROR((-IPMT(C271/12,B271,IF(C271=КАЛЬКУЛЯТОР!$C$21,$E$2,$E$2-$E$3),IF(C271=КАЛЬКУЛЯТОР!$C$21,$I$11,$I$11-SUMIF($A$12:$A$371,\"<=\"&$E$3,$H$12:$H$371)),0,0)),\"\")","v":""},{"$f":"IFERROR((-IPMT((C271-'КАЛЬКУЛЯТОР 1'!$P$1)/12,B271,IF(C271=КАЛЬКУЛЯТОР!$C$21,$E$2,$E$2-$E$3),IF(C271=КАЛЬКУЛЯТОР!$C$21,$I$11,$I$11-SUMIF($A$12:$A$371,\"<=\"&$E$3,$H$12:$H$371)),0,0)),\"\")","v":""},{"$f":"IFERROR((-PPMT(C271/12,B271,IF(C271=КАЛЬКУЛЯТОР!$C$21,$E$2,$E$2-$E$3),IF(C271=КАЛЬКУЛЯТОР!$C$21,$I$11,$I$11-SUMIF($A$12:$A$371,\"<=\"&$E$3,$H$12:$H$371)),0,0)),\"\")","v":""},"",{"$error":"#VALUE!"},null,{"$error":"#VALUE!"},{"$error":"#VALUE!"},{"$error":"#VALUE!"},{"$error":"#VALUE!"},false]
[261,261,{"$f":"IF(A272<=$E$3,КАЛЬКУЛЯТОР!$C$21,IF(AND(A272>$E$3,A272<=$E$2),$E$4,\"\"))","v":""},{"$f":"IF(A272<=$E$2,-PMT(C272/12,IF(C272=КАЛЬКУЛЯТОР!$C$21,$E$2,$E$2-$E$3),IF(C272=КАЛЬКУЛЯТОР!$C$21,$I$11,$I$11-SUMIF($A$12:$A$371,\"<=\"&$E$3,$H$12:$H$371)),0,0),\"\")","v":""},null,{"$f":"IFERROR((-IPMT(C272/12,B272,IF(C272=КАЛЬКУЛЯТОР!$C$21,$E$2,$E$2-$E$3),IF(C272=КАЛЬКУЛЯТОР!$C$21,$I$11,$I$11-SUMIF($A$12:$A$371,\"<=\"&$E$3,$H$12:$H$371)),0,0)),\"\")","v":""},{"$f":"IFERROR((-IPMT((C272-'КАЛЬКУЛЯТОР 1'!$P$1)/12,B272,IF(C272=КАЛЬКУЛЯТОР!$C$21,$E$2,$E$2-$E$3),IF(C272=КАЛЬКУЛЯТОР!$C$21,$I$11,$I$11-SUMIF($A$12:$A$371,\"<=\"&$E$3,$H$12:$H$371)),0,0)),\"\")","v":""},{"$f":"IFERROR((-PPMT(C272/12,B272,IF(C272=КАЛЬКУЛЯТОР!$C$21,$E$2,$E$2-$E$3),IF(C272=КАЛЬКУЛЯТОР!$C$21,$I$11,$I$11-SUMIF($A$12:$A$371,\"<=\"&$E$3,$H$12:$H$371)),0,0)),\"\")","v":""},"",{"$error":"#VALUE!"},null,{"$error":"#VALUE!"},{"$error":"#VALUE!"},{"$error":"#VALUE!"},{"$error":"#VALUE!"},false]
[262,262,{"$f":"IF(A273<=$E$3,КАЛЬКУЛЯТОР!$C$21,IF(AND(A273>$E$3,A273<=$E$2),$E$4,\"\"))","v":""},{"$f":"IF(A273<=$E$2,-PMT(C273/12,IF(C273=КАЛЬКУЛЯТОР!$C$21,$E$2,$E$2-$E$3),IF(C273=КАЛЬКУЛЯТОР!$C$21,$I$11,$I$11-SUMIF($A$12:$A$371,\"<=\"&$E$3,$H$12:$H$371)),0,0),\"\")","v":""},null,{"$f":"IFERROR((-IPMT(C273/12,B273,IF(C273=КАЛЬКУЛЯТОР!$C$21,$E$2,$E$2-$E$3),IF(C273=КАЛЬКУЛЯТОР!$C$21,$I$11,$I$11-SUMIF($A$12:$A$371,\"<=\"&$E$3,$H$12:$H$371)),0,0)),\"\")","v":""},{"$f":"IFERROR((-IPMT((C273-'КАЛЬКУЛЯТОР 1'!$P$1)/12,B273,IF(C273=КАЛЬКУЛЯТОР!$C$21,$E$2,$E$2-$E$3),IF(C273=КАЛЬКУЛЯТОР!$C$21,$I$11,$I$11-SUMIF($A$12:$A$371,\"<=\"&$E$3,$H$12:$H$371)),0,0)),\"\")","v":""},{"$f":"IFERROR((-PPMT(C273/12,B273,IF(C273=КАЛЬКУЛЯТОР!$C$21,$E$2,$E$2-$E$3),IF(C273=КАЛЬКУЛЯТОР!$C$21,$I$11,$I$11-SUMIF($A$12:$A$371,\"<=\"&$E$3,$H$12:$H$371)),0,0)),\"\")","v":""},"",{"$error":"#VALUE!"},null,{"$error":"#VALUE!"},{"$error":"#VALUE!"},{"$error":"#VALUE!"},{"$error":"#VALUE!"},false]
[263,263,{"$f":"IF(A274<=$E$3,КАЛЬКУЛЯТОР!$C$21,IF(AND(A274>$E$3,A274<=$E$2),$E$4,\"\"))","v":""},{"$f":"IF(A274<=$E$2,-PMT(C274/12,IF(C274=КАЛЬКУЛЯТОР!$C$21,$E$2,$E$2-$E$3),IF(C274=КАЛЬКУЛЯТОР!$C$21,$I$11,$I$11-SUMIF($A$12:$A$371,\"<=\"&$E$3,$H$12:$H$371)),0,0),\"\")","v":""},null,{"$f":"IFERROR((-IPMT(C274/12,B274,IF(C274=КАЛЬКУЛЯТОР!$C$21,$E$2,$E$2-$E$3),IF(C274=КАЛЬКУЛЯТОР!$C$21,$I$11,$I$11-SUMIF($A$12:$A$371,\"<=\"&$E$3,$H$12:$H$371)),0,0)),\"\")","v":""},{"$f":"IFERROR((-IPMT((C274-'КАЛЬКУЛЯТОР 1'!$P$1)/12,B274,IF(C274=КАЛЬКУЛЯТОР!$C$21,$E$2,$E$2-$E$3),IF(C274=КАЛЬКУЛЯТОР!$C$21,$I$11,$I$11-SUMIF($A$12:$A$371,\"<=\"&$E$3,$H$12:$H$371)),0,0)),\"\")","v":""},{"$f":"IFERROR((-PPMT(C274/12,B274,IF(C274=КАЛЬКУЛЯТОР!$C$21,$E$2,$E$2-$E$3),IF(C274=КАЛЬКУЛЯТОР!$C$21,$I$11,$I$11-SUMIF($A$12:$A$371,\"<=\"&$E$3,$H$12:$H$371)),0,0)),\"\")","v":""},"",{"$error":"#VALUE!"},null,{"$error":"#VALUE!"},{"$error":"#VALUE!"},{"$error":"#VALUE!"},{"$error":"#VALUE!"},false]
[264,264,{"$f":"IF(A275<=$E$3,КАЛЬКУЛЯТОР!$C$21,IF(AND(A275>$E$3,A275<=$E$2),$E$4,\"\"))","v":""},{"$f":"IF(A275<=$E$2,-PMT(C275/12,IF(C275=КАЛЬКУЛЯТОР!$C$21,$E$2,$E$2-$E$3),IF(C275=КАЛЬКУЛЯТОР!$C$21,$I$11,$I$11-SUMIF($A$12:$A$371,\"<=\"&$E$3,$H$12:$H$371)),0,0),\"\")","v":""},null,{"$f":"IFERROR((-IPMT(C275/12,B275,IF(C275=КАЛЬКУЛЯТОР!$C$21,$E$2,$E$2-$E$3),IF(C275=КАЛЬКУЛЯТОР!$C$21,$I$11,$I$11-SUMIF($A$12:$A$371,\"<=\"&$E$3,$H$12:$H$371)),0,0)),\"\")","v":""},{"$f":"IFERROR((-IPMT((C275-'КАЛЬКУЛЯТОР 1'!$P$1)/12,B275,IF(C275=КАЛЬКУЛЯТОР!$C$21,$E$2,$E$2-$E$3),IF(C275=КАЛЬКУЛЯТОР!$C$21,$I$11,$I$11-SUMIF($A$12:$A$371,\"<=\"&$E$3,$H$12:$H$371)),0,0)),\"\")","v":""},{"$f":"IFERROR((-PPMT(C275/12,B275,IF(C275=КАЛЬКУЛЯТОР!$C$21,$E$2,$E$2-$E$3),IF(C275=КАЛЬКУЛЯТОР!$C$21,$I$11,$I$11-SUMIF($A$12:$A$371,\"<=\"&$E$3,$H$12:$H$371)),0,0)),\"\")","v":""},"",{"$error":"#VALUE!"},null,{"$error":"#VALUE!"},{"$error":"#VALUE!"},{"$error":"#VALUE!"},{"$error":"#VALUE!"},false]
[265,265,{"$f":"IF(A276<=$E$3,КАЛЬКУЛЯТОР!$C$21,IF(AND(A276>$E$3,A276<=$E$2),$E$4,\"\"))","v":""},{"$f":"IF(A276<=$E$2,-PMT(C276/12,IF(C276=КАЛЬКУЛЯТОР!$C$21,$E$2,$E$2-$E$3),IF(C276=КАЛЬКУЛЯТОР!$C$21,$I$11,$I$11-SUMIF($A$12:$A$371,\"<=\"&$E$3,$H$12:$H$371)),0,0),\"\")","v":""},{"$f":"IF($E$2>$A275,(I275+SUM(F276:F287))*($K$4+$K$5),0)","v":{"v":0,"d":"0.00"}},{"$f":"IFERROR((-IPMT(C276/12,B276,IF(C276=КАЛЬКУЛЯТОР!$C$21,$E$2,$E$2-$E$3),IF(C276=КАЛЬКУЛЯТОР!$C$21,$I$11,$I$11-SUMIF($A$12:$A$371,\"<=\"&$E$3,$H$12:$H$371)),0,0)),\"\")","v":""},{"$f":"IFERROR((-IPMT((C276-'КАЛЬКУЛЯТОР 1'!$P$1)/12,B276,IF(C276=КАЛЬКУЛЯТОР!$C$21,$E$2,$E$2-$E$3),IF(C276=КАЛЬКУЛЯТОР!$C$21,$I$11,$I$11-SUMIF($A$12:$A$371,\"<=\"&$E$3,$H$12:$H$371)),0,0)),\"\")","v":""},{"$f":"IFERROR((-PPMT(C276/12,B276,IF(C276=КАЛЬКУЛЯТОР!$C$21,$E$2,$E$2-$E$3),IF(C276=КАЛЬКУЛЯТОР!$C$21,$I$11,$I$11-SUMIF($A$12:$A$371,\"<=\"&$E$3,$H$12:$H$371)),0,0)),\"\")","v":""},"",{"$error":"#VALUE!"},{"$f":"PV($E$5/12,A276-1,0,-E276)","v":{"v":0,"d":"0.00"}},{"$error":"#VALUE!"},{"$error":"#VALUE!"},{"$error":"#VALUE!"},{"$error":"#VALUE!"},false]
[266,266,{"$f":"IF(A277<=$E$3,КАЛЬКУЛЯТОР!$C$21,IF(AND(A277>$E$3,A277<=$E$2),$E$4,\"\"))","v":""},{"$f":"IF(A277<=$E$2,-PMT(C277/12,IF(C277=КАЛЬКУЛЯТОР!$C$21,$E$2,$E$2-$E$3),IF(C277=КАЛЬКУЛЯТОР!$C$21,$I$11,$I$11-SUMIF($A$12:$A$371,\"<=\"&$E$3,$H$12:$H$371)),0,0),\"\")","v":""},null,{"$f":"IFERROR((-IPMT(C277/12,B277,IF(C277=КАЛЬКУЛЯТОР!$C$21,$E$2,$E$2-$E$3),IF(C277=КАЛЬКУЛЯТОР!$C$21,$I$11,$I$11-SUMIF($A$12:$A$371,\"<=\"&$E$3,$H$12:$H$371)),0,0)),\"\")","v":""},{"$f":"IFERROR((-IPMT((C277-'КАЛЬКУЛЯТОР 1'!$P$1)/12,B277,IF(C277=КАЛЬКУЛЯТОР!$C$21,$E$2,$E$2-$E$3),IF(C277=КАЛЬКУЛЯТОР!$C$21,$I$11,$I$11-SUMIF($A$12:$A$371,\"<=\"&$E$3,$H$12:$H$371)),0,0)),\"\")","v":""},{"$f":"IFERROR((-PPMT(C277/12,B277,IF(C277=КАЛЬКУЛЯТОР!$C$21,$E$2,$E$2-$E$3),IF(C277=КАЛЬКУЛЯТОР!$C$21,$I$11,$I$11-SUMIF($A$12:$A$371,\"<=\"&$E$3,$H$12:$H$371)),0,0)),\"\")","v":""},"",{"$error":"#VALUE!"},null,{"$error":"#VALUE!"},{"$error":"#VALUE!"},{"$error":"#VALUE!"},{"$error":"#VALUE!"},false]
[267,267,{"$f":"IF(A278<=$E$3,КАЛЬКУЛЯТОР!$C$21,IF(AND(A278>$E$3,A278<=$E$2),$E$4,\"\"))","v":""},{"$f":"IF(A278<=$E$2,-PMT(C278/12,IF(C278=КАЛЬКУЛЯТОР!$C$21,$E$2,$E$2-$E$3),IF(C278=КАЛЬКУЛЯТОР!$C$21,$I$11,$I$11-SUMIF($A$12:$A$371,\"<=\"&$E$3,$H$12:$H$371)),0,0),\"\")","v":""},null,{"$f":"IFERROR((-IPMT(C278/12,B278,IF(C278=КАЛЬКУЛЯТОР!$C$21,$E$2,$E$2-$E$3),IF(C278=КАЛЬКУЛЯТОР!$C$21,$I$11,$I$11-SUMIF($A$12:$A$371,\"<=\"&$E$3,$H$12:$H$371)),0,0)),\"\")","v":""},{"$f":"IFERROR((-IPMT((C278-'КАЛЬКУЛЯТОР 1'!$P$1)/12,B278,IF(C278=КАЛЬКУЛЯТОР!$C$21,$E$2,$E$2-$E$3),IF(C278=КАЛЬКУЛЯТОР!$C$21,$I$11,$I$11-SUMIF($A$12:$A$371,\"<=\"&$E$3,$H$12:$H$371)),0,0)),\"\")","v":""},{"$f":"IFERROR((-PPMT(C278/12,B278,IF(C278=КАЛЬКУЛЯТОР!$C$21,$E$2,$E$2-$E$3),IF(C278=КАЛЬКУЛЯТОР!$C$21,$I$11,$I$11-SUMIF($A$12:$A$371,\"<=\"&$E$3,$H$12:$H$371)),0,0)),\"\")","v":""},"",{"$error":"#VALUE!"},null,{"$error":"#VALUE!"},{"$error":"#VALUE!"},{"$error":"#VALUE!"},{"$error":"#VALUE!"},false]
[268,268,{"$f":"IF(A279<=$E$3,КАЛЬКУЛЯТОР!$C$21,IF(AND(A279>$E$3,A279<=$E$2),$E$4,\"\"))","v":""},{"$f":"IF(A279<=$E$2,-PMT(C279/12,IF(C279=КАЛЬКУЛЯТОР!$C$21,$E$2,$E$2-$E$3),IF(C279=КАЛЬКУЛЯТОР!$C$21,$I$11,$I$11-SUMIF($A$12:$A$371,\"<=\"&$E$3,$H$12:$H$371)),0,0),\"\")","v":""},null,{"$f":"IFERROR((-IPMT(C279/12,B279,IF(C279=КАЛЬКУЛЯТОР!$C$21,$E$2,$E$2-$E$3),IF(C279=КАЛЬКУЛЯТОР!$C$21,$I$11,$I$11-SUMIF($A$12:$A$371,\"<=\"&$E$3,$H$12:$H$371)),0,0)),\"\")","v":""},{"$f":"IFERROR((-IPMT((C279-'КАЛЬКУЛЯТОР 1'!$P$1)/12,B279,IF(C279=КАЛЬКУЛЯТОР!$C$21,$E$2,$E$2-$E$3),IF(C279=КАЛЬКУЛЯТОР!$C$21,$I$11,$I$11-SUMIF($A$12:$A$371,\"<=\"&$E$3,$H$12:$H$371)),0,0)),\"\")","v":""},{"$f":"IFERROR((-PPMT(C279/12,B279,IF(C279=КАЛЬКУЛЯТОР!$C$21,$E$2,$E$2-$E$3),IF(C279=КАЛЬКУЛЯТОР!$C$21,$I$11,$I$11-SUMIF($A$12:$A$371,\"<=\"&$E$3,$H$12:$H$371)),0,0)),\"\")","v":""},"",{"$error":"#VALUE!"},null,{"$error":"#VALUE!"},{"$error":"#VALUE!"},{"$error":"#VALUE!"},{"$error":"#VALUE!"},false]
[269,269,{"$f":"IF(A280<=$E$3,КАЛЬКУЛЯТОР!$C$21,IF(AND(A280>$E$3,A280<=$E$2),$E$4,\"\"))","v":""},{"$f":"IF(A280<=$E$2,-PMT(C280/12,IF(C280=КАЛЬКУЛЯТОР!$C$21,$E$2,$E$2-$E$3),IF(C280=КАЛЬКУЛЯТОР!$C$21,$I$11,$I$11-SUMIF($A$12:$A$371,\"<=\"&$E$3,$H$12:$H$371)),0,0),\"\")","v":""},null,{"$f":"IFERROR((-IPMT(C280/12,B280,IF(C280=КАЛЬКУЛЯТОР!$C$21,$E$2,$E$2-$E$3),IF(C280=КАЛЬКУЛЯТОР!$C$21,$I$11,$I$11-SUMIF($A$12:$A$371,\"<=\"&$E$3,$H$12:$H$371)),0,0)),\"\")","v":""},{"$f":"IFERROR((-IPMT((C280-'КАЛЬКУЛЯТОР 1'!$P$1)/12,B280,IF(C280=КАЛЬКУЛЯТОР!$C$21,$E$2,$E$2-$E$3),IF(C280=КАЛЬКУЛЯТОР!$C$21,$I$11,$I$11-SUMIF($A$12:$A$371,\"<=\"&$E$3,$H$12:$H$371)),0,0)),\"\")","v":""},{"$f":"IFERROR((-PPMT(C280/12,B280,IF(C280=КАЛЬКУЛЯТОР!$C$21,$E$2,$E$2-$E$3),IF(C280=КАЛЬКУЛЯТОР!$C$21,$I$11,$I$11-SUMIF($A$12:$A$371,\"<=\"&$E$3,$H$12:$H$371)),0,0)),\"\")","v":""},"",{"$error":"#VALUE!"},null,{"$error":"#VALUE!"},{"$error":"#VALUE!"},{"$error":"#VALUE!"},{"$error":"#VALUE!"},false]
[270,270,{"$f":"IF(A281<=$E$3,КАЛЬКУЛЯТОР!$C$21,IF(AND(A281>$E$3,A281<=$E$2),$E$4,\"\"))","v":""},{"$f":"IF(A281<=$E$2,-PMT(C281/12,IF(C281=КАЛЬКУЛЯТОР!$C$21,$E$2,$E$2-$E$3),IF(C281=КАЛЬКУЛЯТОР!$C$21,$I$11,$I$11-SUMIF($A$12:$A$371,\"<=\"&$E$3,$H$12:$H$371)),0,0),\"\")","v":""},null,{"$f":"IFERROR((-IPMT(C281/12,B281,IF(C281=КАЛЬКУЛЯТОР!$C$21,$E$2,$E$2-$E$3),IF(C281=КАЛЬКУЛЯТОР!$C$21,$I$11,$I$11-SUMIF($A$12:$A$371,\"<=\"&$E$3,$H$12:$H$371)),0,0)),\"\")","v":""},{"$f":"IFERROR((-IPMT((C281-'КАЛЬКУЛЯТОР 1'!$P$1)/12,B281,IF(C281=КАЛЬКУЛЯТОР!$C$21,$E$2,$E$2-$E$3),IF(C281=КАЛЬКУЛЯТОР!$C$21,$I$11,$I$11-SUMIF($A$12:$A$371,\"<=\"&$E$3,$H$12:$H$371)),0,0)),\"\")","v":""},{"$f":"IFERROR((-PPMT(C281/12,B281,IF(C281=КАЛЬКУЛЯТОР!$C$21,$E$2,$E$2-$E$3),IF(C281=КАЛЬКУЛЯТОР!$C$21,$I$11,$I$11-SUMIF($A$12:$A$371,\"<=\"&$E$3,$H$12:$H$371)),0,0)),\"\")","v":""},"",{"$error":"#VALUE!"},null,{"$error":"#VALUE!"},{"$error":"#VALUE!"},{"$error":"#VALUE!"},{"$error":"#VALUE!"},false]
[271,271,{"$f":"IF(A282<=$E$3,КАЛЬКУЛЯТОР!$C$21,IF(AND(A282>$E$3,A282<=$E$2),$E$4,\"\"))","v":""},{"$f":"IF(A282<=$E$2,-PMT(C282/12,IF(C282=КАЛЬКУЛЯТОР!$C$21,$E$2,$E$2-$E$3),IF(C282=КАЛЬКУЛЯТОР!$C$21,$I$11,$I$11-SUMIF($A$12:$A$371,\"<=\"&$E$3,$H$12:$H$371)),0,0),\"\")","v":""},null,{"$f":"IFERROR((-IPMT(C282/12,B282,IF(C282=КАЛЬКУЛЯТОР!$C$21,$E$2,$E$2-$E$3),IF(C282=КАЛЬКУЛЯТОР!$C$21,$I$11,$I$11-SUMIF($A$12:$A$371,\"<=\"&$E$3,$H$12:$H$371)),0,0)),\"\")","v":""},{"$f":"IFERROR((-IPMT((C282-'КАЛЬКУЛЯТОР 1'!$P$1)/12,B282,IF(C282=КАЛЬКУЛЯТОР!$C$21,$E$2,$E$2-$E$3),IF(C282=КАЛЬКУЛЯТОР!$C$21,$I$11,$I$11-SUMIF($A$12:$A$371,\"<=\"&$E$3,$H$12:$H$371)),0,0)),\"\")","v":""},{"$f":"IFERROR((-PPMT(C282/12,B282,IF(C282=КАЛЬКУЛЯТОР!$C$21,$E$2,$E$2-$E$3),IF(C282=КАЛЬКУЛЯТОР!$C$21,$I$11,$I$11-SUMIF($A$12:$A$371,\"<=\"&$E$3,$H$12:$H$371)),0,0)),\"\")","v":""},"",{"$error":"#VALUE!"},null,{"$error":"#VALUE!"},{"$error":"#VALUE!"},{"$error":"#VALUE!"},{"$error":"#VALUE!"},false]
[272,272,{"$f":"IF(A283<=$E$3,КАЛЬКУЛЯТОР!$C$21,IF(AND(A283>$E$3,A283<=$E$2),$E$4,\"\"))","v":""},{"$f":"IF(A283<=$E$2,-PMT(C283/12,IF(C283=КАЛЬКУЛЯТОР!$C$21,$E$2,$E$2-$E$3),IF(C283=КАЛЬКУЛЯТОР!$C$21,$I$11,$I$11-SUMIF($A$12:$A$371,\"<=\"&$E$3,$H$12:$H$371)),0,0),\"\")","v":""},null,{"$f":"IFERROR((-IPMT(C283/12,B283,IF(C283=КАЛЬКУЛЯТОР!$C$21,$E$2,$E$2-$E$3),IF(C283=КАЛЬКУЛЯТОР!$C$21,$I$11,$I$11-SUMIF($A$12:$A$371,\"<=\"&$E$3,$H$12:$H$371)),0,0)),\"\")","v":""},{"$f":"IFERROR((-IPMT((C283-'КАЛЬКУЛЯТОР 1'!$P$1)/12,B283,IF(C283=КАЛЬКУЛЯТОР!$C$21,$E$2,$E$2-$E$3),IF(C283=КАЛЬКУЛЯТОР!$C$21,$I$11,$I$11-SUMIF($A$12:$A$371,\"<=\"&$E$3,$H$12:$H$371)),0,0)),\"\")","v":""},{"$f":"IFERROR((-PPMT(C283/12,B283,IF(C283=КАЛЬКУЛЯТОР!$C$21,$E$2,$E$2-$E$3),IF(C283=КАЛЬКУЛЯТОР!$C$21,$I$11,$I$11-SUMIF($A$12:$A$371,\"<=\"&$E$3,$H$12:$H$371)),0,0)),\"\")","v":""},"",{"$error":"#VALUE!"},null,{"$error":"#VALUE!"},{"$error":"#VALUE!"},{"$error":"#VALUE!"},{"$error":"#VALUE!"},false]
[273,273,{"$f":"IF(A284<=$E$3,КАЛЬКУЛЯТОР!$C$21,IF(AND(A284>$E$3,A284<=$E$2),$E$4,\"\"))","v":""},{"$f":"IF(A284<=$E$2,-PMT(C284/12,IF(C284=КАЛЬКУЛЯТОР!$C$21,$E$2,$E$2-$E$3),IF(C284=КАЛЬКУЛЯТОР!$C$21,$I$11,$I$11-SUMIF($A$12:$A$371,\"<=\"&$E$3,$H$12:$H$371)),0,0),\"\")","v":""},null,{"$f":"IFERROR((-IPMT(C284/12,B284,IF(C284=КАЛЬКУЛЯТОР!$C$21,$E$2,$E$2-$E$3),IF(C284=КАЛЬКУЛЯТОР!$C$21,$I$11,$I$11-SUMIF($A$12:$A$371,\"<=\"&$E$3,$H$12:$H$371)),0,0)),\"\")","v":""},{"$f":"IFERROR((-IPMT((C284-'КАЛЬКУЛЯТОР 1'!$P$1)/12,B284,IF(C284=КАЛЬКУЛЯТОР!$C$21,$E$2,$E$2-$E$3),IF(C284=КАЛЬКУЛЯТОР!$C$21,$I$11,$I$11-SUMIF($A$12:$A$371,\"<=\"&$E$3,$H$12:$H$371)),0,0)),\"\")","v":""},{"$f":"IFERROR((-PPMT(C284/12,B284,IF(C284=КАЛЬКУЛЯТОР!$C$21,$E$2,$E$2-$E$3),IF(C284=КАЛЬКУЛЯТОР!$C$21,$I$11,$I$11-SUMIF($A$12:$A$371,\"<=\"&$E$3,$H$12:$H$371)),0,0)),\"\")","v":""},"",{"$error":"#VALUE!"},null,{"$error":"#VALUE!"},{"$error":"#VALUE!"},{"$error":"#VALUE!"},{"$error":"#VALUE!"},false]
[274,274,{"$f":"IF(A285<=$E$3,КАЛЬКУЛЯТОР!$C$21,IF(AND(A285>$E$3,A285<=$E$2),$E$4,\"\"))","v":""},{"$f":"IF(A285<=$E$2,-PMT(C285/12,IF(C285=КАЛЬКУЛЯТОР!$C$21,$E$2,$E$2-$E$3),IF(C285=КАЛЬКУЛЯТОР!$C$21,$I$11,$I$11-SUMIF($A$12:$A$371,\"<=\"&$E$3,$H$12:$H$371)),0,0),\"\")","v":""},null,{"$f":"IFERROR((-IPMT(C285/12,B285,IF(C285=КАЛЬКУЛЯТОР!$C$21,$E$2,$E$2-$E$3),IF(C285=КАЛЬКУЛЯТОР!$C$21,$I$11,$I$11-SUMIF($A$12:$A$371,\"<=\"&$E$3,$H$12:$H$371)),0,0)),\"\")","v":""},{"$f":"IFERROR((-IPMT((C285-'КАЛЬКУЛЯТОР 1'!$P$1)/12,B285,IF(C285=КАЛЬКУЛЯТОР!$C$21,$E$2,$E$2-$E$3),IF(C285=КАЛЬКУЛЯТОР!$C$21,$I$11,$I$11-SUMIF($A$12:$A$371,\"<=\"&$E$3,$H$12:$H$371)),0,0)),\"\")","v":""},{"$f":"IFERROR((-PPMT(C285/12,B285,IF(C285=КАЛЬКУЛЯТОР!$C$21,$E$2,$E$2-$E$3),IF(C285=КАЛЬКУЛЯТОР!$C$21,$I$11,$I$11-SUMIF($A$12:$A$371,\"<=\"&$E$3,$H$12:$H$371)),0,0)),\"\")","v":""},"",{"$error":"#VALUE!"},null,{"$error":"#VALUE!"},{"$error":"#VALUE!"},{"$error":"#VALUE!"},{"$error":"#VALUE!"},false]
[275,275,{"$f":"IF(A286<=$E$3,КАЛЬКУЛЯТОР!$C$21,IF(AND(A286>$E$3,A286<=$E$2),$E$4,\"\"))","v":""},{"$f":"IF(A286<=$E$2,-PMT(C286/12,IF(C286=КАЛЬКУЛЯТОР!$C$21,$E$2,$E$2-$E$3),IF(C286=КАЛЬКУЛЯТОР!$C$21,$I$11,$I$11-SUMIF($A$12:$A$371,\"<=\"&$E$3,$H$12:$H$371)),0,0),\"\")","v":""},null,{"$f":"IFERROR((-IPMT(C286/12,B286,IF(C286=КАЛЬКУЛЯТОР!$C$21,$E$2,$E$2-$E$3),IF(C286=КАЛЬКУЛЯТОР!$C$21,$I$11,$I$11-SUMIF($A$12:$A$371,\"<=\"&$E$3,$H$12:$H$371)),0,0)),\"\")","v":""},{"$f":"IFERROR((-IPMT((C286-'КАЛЬКУЛЯТОР 1'!$P$1)/12,B286,IF(C286=КАЛЬКУЛЯТОР!$C$21,$E$2,$E$2-$E$3),IF(C286=КАЛЬКУЛЯТОР!$C$21,$I$11,$I$11-SUMIF($A$12:$A$371,\"<=\"&$E$3,$H$12:$H$371)),0,0)),\"\")","v":""},{"$f":"IFERROR((-PPMT(C286/12,B286,IF(C286=КАЛЬКУЛЯТОР!$C$21,$E$2,$E$2-$E$3),IF(C286=КАЛЬКУЛЯТОР!$C$21,$I$11,$I$11-SUMIF($A$12:$A$371,\"<=\"&$E$3,$H$12:$H$371)),0,0)),\"\")","v":""},"",{"$error":"#VALUE!"},null,{"$error":"#VALUE!"},{"$error":"#VALUE!"},{"$error":"#VALUE!"},{"$error":"#VALUE!"},false]
[276,276,{"$f":"IF(A287<=$E$3,КАЛЬКУЛЯТОР!$C$21,IF(AND(A287>$E$3,A287<=$E$2),$E$4,\"\"))","v":""},{"$f":"IF(A287<=$E$2,-PMT(C287/12,IF(C287=КАЛЬКУЛЯТОР!$C$21,$E$2,$E$2-$E$3),IF(C287=КАЛЬКУЛЯТОР!$C$21,$I$11,$I$11-SUMIF($A$12:$A$371,\"<=\"&$E$3,$H$12:$H$371)),0,0),\"\")","v":""},null,{"$f":"IFERROR((-IPMT(C287/12,B287,IF(C287=КАЛЬКУЛЯТОР!$C$21,$E$2,$E$2-$E$3),IF(C287=КАЛЬКУЛЯТОР!$C$21,$I$11,$I$11-SUMIF($A$12:$A$371,\"<=\"&$E$3,$H$12:$H$371)),0,0)),\"\")","v":""},{"$f":"IFERROR((-IPMT((C287-'КАЛЬКУЛЯТОР 1'!$P$1)/12,B287,IF(C287=КАЛЬКУЛЯТОР!$C$21,$E$2,$E$2-$E$3),IF(C287=КАЛЬКУЛЯТОР!$C$21,$I$11,$I$11-SUMIF($A$12:$A$371,\"<=\"&$E$3,$H$12:$H$371)),0,0)),\"\")","v":""},{"$f":"IFERROR((-PPMT(C287/12,B287,IF(C287=КАЛЬКУЛЯТОР!$C$21,$E$2,$E$2-$E$3),IF(C287=КАЛЬКУЛЯТОР!$C$21,$I$11,$I$11-SUMIF($A$12:$A$371,\"<=\"&$E$3,$H$12:$H$371)),0,0)),\"\")","v":""},"",{"$error":"#VALUE!"},null,{"$error":"#VALUE!"},{"$error":"#VALUE!"},{"$error":"#VALUE!"},{"$error":"#VALUE!"},false]
[277,277,{"$f":"IF(A288<=$E$3,КАЛЬКУЛЯТОР!$C$21,IF(AND(A288>$E$3,A288<=$E$2),$E$4,\"\"))","v":""},{"$f":"IF(A288<=$E$2,-PMT(C288/12,IF(C288=КАЛЬКУЛЯТОР!$C$21,$E$2,$E$2-$E$3),IF(C288=КАЛЬКУЛЯТОР!$C$21,$I$11,$I$11-SUMIF($A$12:$A$371,\"<=\"&$E$3,$H$12:$H$371)),0,0),\"\")","v":""},{"$f":"IF($E$2>$A287,(I287+SUM(F288:F299))*($K$4+$K$5),0)","v":{"v":0,"d":"0.00"}},{"$f":"IFERROR((-IPMT(C288/12,B288,IF(C288=КАЛЬКУЛЯТОР!$C$21,$E$2,$E$2-$E$3),IF(C288=КАЛЬКУЛЯТОР!$C$21,$I$11,$I$11-SUMIF($A$12:$A$371,\"<=\"&$E$3,$H$12:$H$371)),0,0)),\"\")","v":""},{"$f":"IFERROR((-IPMT((C288-'КАЛЬКУЛЯТОР 1'!$P$1)/12,B288,IF(C288=КАЛЬКУЛЯТОР!$C$21,$E$2,$E$2-$E$3),IF(C288=КАЛЬКУЛЯТОР!$C$21,$I$11,$I$11-SUMIF($A$12:$A$371,\"<=\"&$E$3,$H$12:$H$371)),0,0)),\"\")","v":""},{"$f":"IFERROR((-PPMT(C288/12,B288,IF(C288=КАЛЬКУЛЯТОР!$C$21,$E$2,$E$2-$E$3),IF(C288=КАЛЬКУЛЯТОР!$C$21,$I$11,$I$11-SUMIF($A$12:$A$371,\"<=\"&$E$3,$H$12:$H$371)),0,0)),\"\")","v":""},"",{"$error":"#VALUE!"},{"$f":"PV($E$5/12,A288-1,0,-E288)","v":{"v":0,"d":"0.00"}},{"$error":"#VALUE!"},{"$error":"#VALUE!"},{"$error":"#VALUE!"},{"$error":"#VALUE!"},false]
[278,278,{"$f":"IF(A289<=$E$3,КАЛЬКУЛЯТОР!$C$21,IF(AND(A289>$E$3,A289<=$E$2),$E$4,\"\"))","v":""},{"$f":"IF(A289<=$E$2,-PMT(C289/12,IF(C289=КАЛЬКУЛЯТОР!$C$21,$E$2,$E$2-$E$3),IF(C289=КАЛЬКУЛЯТОР!$C$21,$I$11,$I$11-SUMIF($A$12:$A$371,\"<=\"&$E$3,$H$12:$H$371)),0,0),\"\")","v":""},null,{"$f":"IFERROR((-IPMT(C289/12,B289,IF(C289=КАЛЬКУЛЯТОР!$C$21,$E$2,$E$2-$E$3),IF(C289=КАЛЬКУЛЯТОР!$C$21,$I$11,$I$11-SUMIF($A$12:$A$371,\"<=\"&$E$3,$H$12:$H$371)),0,0)),\"\")","v":""},{"$f":"IFERROR((-IPMT((C289-'КАЛЬКУЛЯТОР 1'!$P$1)/12,B289,IF(C289=КАЛЬКУЛЯТОР!$C$21,$E$2,$E$2-$E$3),IF(C289=КАЛЬКУЛЯТОР!$C$21,$I$11,$I$11-SUMIF($A$12:$A$371,\"<=\"&$E$3,$H$12:$H$371)),0,0)),\"\")","v":""},{"$f":"IFERROR((-PPMT(C289/12,B289,IF(C289=КАЛЬКУЛЯТОР!$C$21,$E$2,$E$2-$E$3),IF(C289=КАЛЬКУЛЯТОР!$C$21,$I$11,$I$11-SUMIF($A$12:$A$371,\"<=\"&$E$3,$H$12:$H$371)),0,0)),\"\")","v":""},"",{"$error":"#VALUE!"},null,{"$error":"#VALUE!"},{"$error":"#VALUE!"},{"$error":"#VALUE!"},{"$error":"#VALUE!"},false]
[279,279,{"$f":"IF(A290<=$E$3,КАЛЬКУЛЯТОР!$C$21,IF(AND(A290>$E$3,A290<=$E$2),$E$4,\"\"))","v":""},{"$f":"IF(A290<=$E$2,-PMT(C290/12,IF(C290=КАЛЬКУЛЯТОР!$C$21,$E$2,$E$2-$E$3),IF(C290=КАЛЬКУЛЯТОР!$C$21,$I$11,$I$11-SUMIF($A$12:$A$371,\"<=\"&$E$3,$H$12:$H$371)),0,0),\"\")","v":""},null,{"$f":"IFERROR((-IPMT(C290/12,B290,IF(C290=КАЛЬКУЛЯТОР!$C$21,$E$2,$E$2-$E$3),IF(C290=КАЛЬКУЛЯТОР!$C$21,$I$11,$I$11-SUMIF($A$12:$A$371,\"<=\"&$E$3,$H$12:$H$371)),0,0)),\"\")","v":""},{"$f":"IFERROR((-IPMT((C290-'КАЛЬКУЛЯТОР 1'!$P$1)/12,B290,IF(C290=КАЛЬКУЛЯТОР!$C$21,$E$2,$E$2-$E$3),IF(C290=КАЛЬКУЛЯТОР!$C$21,$I$11,$I$11-SUMIF($A$12:$A$371,\"<=\"&$E$3,$H$12:$H$371)),0,0)),\"\")","v":""},{"$f":"IFERROR((-PPMT(C290/12,B290,IF(C290=КАЛЬКУЛЯТОР!$C$21,$E$2,$E$2-$E$3),IF(C290=КАЛЬКУЛЯТОР!$C$21,$I$11,$I$11-SUMIF($A$12:$A$371,\"<=\"&$E$3,$H$12:$H$371)),0,0)),\"\")","v":""},"",{"$error":"#VALUE!"},null,{"$error":"#VALUE!"},{"$error":"#VALUE!"},{"$error":"#VALUE!"},{"$error":"#VALUE!"},false]
[280,280,{"$f":"IF(A291<=$E$3,КАЛЬКУЛЯТОР!$C$21,IF(AND(A291>$E$3,A291<=$E$2),$E$4,\"\"))","v":""},{"$f":"IF(A291<=$E$2,-PMT(C291/12,IF(C291=КАЛЬКУЛЯТОР!$C$21,$E$2,$E$2-$E$3),IF(C291=КАЛЬКУЛЯТОР!$C$21,$I$11,$I$11-SUMIF($A$12:$A$371,\"<=\"&$E$3,$H$12:$H$371)),0,0),\"\")","v":""},null,{"$f":"IFERROR((-IPMT(C291/12,B291,IF(C291=КАЛЬКУЛЯТОР!$C$21,$E$2,$E$2-$E$3),IF(C291=КАЛЬКУЛЯТОР!$C$21,$I$11,$I$11-SUMIF($A$12:$A$371,\"<=\"&$E$3,$H$12:$H$371)),0,0)),\"\")","v":""},{"$f":"IFERROR((-IPMT((C291-'КАЛЬКУЛЯТОР 1'!$P$1)/12,B291,IF(C291=КАЛЬКУЛЯТОР!$C$21,$E$2,$E$2-$E$3),IF(C291=КАЛЬКУЛЯТОР!$C$21,$I$11,$I$11-SUMIF($A$12:$A$371,\"<=\"&$E$3,$H$12:$H$371)),0,0)),\"\")","v":""},{"$f":"IFERROR((-PPMT(C291/12,B291,IF(C291=КАЛЬКУЛЯТОР!$C$21,$E$2,$E$2-$E$3),IF(C291=КАЛЬКУЛЯТОР!$C$21,$I$11,$I$11-SUMIF($A$12:$A$371,\"<=\"&$E$3,$H$12:$H$371)),0,0)),\"\")","v":""},"",{"$error":"#VALUE!"},null,{"$error":"#VALUE!"},{"$error":"#VALUE!"},{"$error":"#VALUE!"},{"$error":"#VALUE!"},false]
[281,281,{"$f":"IF(A292<=$E$3,КАЛЬКУЛЯТОР!$C$21,IF(AND(A292>$E$3,A292<=$E$2),$E$4,\"\"))","v":""},{"$f":"IF(A292<=$E$2,-PMT(C292/12,IF(C292=КАЛЬКУЛЯТОР!$C$21,$E$2,$E$2-$E$3),IF(C292=КАЛЬКУЛЯТОР!$C$21,$I$11,$I$11-SUMIF($A$12:$A$371,\"<=\"&$E$3,$H$12:$H$371)),0,0),\"\")","v":""},null,{"$f":"IFERROR((-IPMT(C292/12,B292,IF(C292=КАЛЬКУЛЯТОР!$C$21,$E$2,$E$2-$E$3),IF(C292=КАЛЬКУЛЯТОР!$C$21,$I$11,$I$11-SUMIF($A$12:$A$371,\"<=\"&$E$3,$H$12:$H$371)),0,0)),\"\")","v":""},{"$f":"IFERROR((-IPMT((C292-'КАЛЬКУЛЯТОР 1'!$P$1)/12,B292,IF(C292=КАЛЬКУЛЯТОР!$C$21,$E$2,$E$2-$E$3),IF(C292=КАЛЬКУЛЯТОР!$C$21,$I$11,$I$11-SUMIF($A$12:$A$371,\"<=\"&$E$3,$H$12:$H$371)),0,0)),\"\")","v":""},{"$f":"IFERROR((-PPMT(C292/12,B292,IF(C292=КАЛЬКУЛЯТОР!$C$21,$E$2,$E$2-$E$3),IF(C292=КАЛЬКУЛЯТОР!$C$21,$I$11,$I$11-SUMIF($A$12:$A$371,\"<=\"&$E$3,$H$12:$H$371)),0,0)),\"\")","v":""},"",{"$error":"#VALUE!"},null,{"$error":"#VALUE!"},{"$error":"#VALUE!"},{"$error":"#VALUE!"},{"$error":"#VALUE!"},false]
[282,282,{"$f":"IF(A293<=$E$3,КАЛЬКУЛЯТОР!$C$21,IF(AND(A293>$E$3,A293<=$E$2),$E$4,\"\"))","v":""},{"$f":"IF(A293<=$E$2,-PMT(C293/12,IF(C293=КАЛЬКУЛЯТОР!$C$21,$E$2,$E$2-$E$3),IF(C293=КАЛЬКУЛЯТОР!$C$21,$I$11,$I$11-SUMIF($A$12:$A$371,\"<=\"&$E$3,$H$12:$H$371)),0,0),\"\")","v":""},null,{"$f":"IFERROR((-IPMT(C293/12,B293,IF(C293=КАЛЬКУЛЯТОР!$C$21,$E$2,$E$2-$E$3),IF(C293=КАЛЬКУЛЯТОР!$C$21,$I$11,$I$11-SUMIF($A$12:$A$371,\"<=\"&$E$3,$H$12:$H$371)),0,0)),\"\")","v":""},{"$f":"IFERROR((-IPMT((C293-'КАЛЬКУЛЯТОР 1'!$P$1)/12,B293,IF(C293=КАЛЬКУЛЯТОР!$C$21,$E$2,$E$2-$E$3),IF(C293=КАЛЬКУЛЯТОР!$C$21,$I$11,$I$11-SUMIF($A$12:$A$371,\"<=\"&$E$3,$H$12:$H$371)),0,0)),\"\")","v":""},{"$f":"IFERROR((-PPMT(C293/12,B293,IF(C293=КАЛЬКУЛЯТОР!$C$21,$E$2,$E$2-$E$3),IF(C293=КАЛЬКУЛЯТОР!$C$21,$I$11,$I$11-SUMIF($A$12:$A$371,\"<=\"&$E$3,$H$12:$H$371)),0,0)),\"\")","v":""},"",{"$error":"#VALUE!"},null,{"$error":"#VALUE!"},{"$error":"#VALUE!"},{"$error":"#VALUE!"},{"$error":"#VALUE!"},false]
[283,283,{"$f":"IF(A294<=$E$3,КАЛЬКУЛЯТОР!$C$21,IF(AND(A294>$E$3,A294<=$E$2),$E$4,\"\"))","v":""},{"$f":"IF(A294<=$E$2,-PMT(C294/12,IF(C294=КАЛЬКУЛЯТОР!$C$21,$E$2,$E$2-$E$3),IF(C294=КАЛЬКУЛЯТОР!$C$21,$I$11,$I$11-SUMIF($A$12:$A$371,\"<=\"&$E$3,$H$12:$H$371)),0,0),\"\")","v":""},null,{"$f":"IFERROR((-IPMT(C294/12,B294,IF(C294=КАЛЬКУЛЯТОР!$C$21,$E$2,$E$2-$E$3),IF(C294=КАЛЬКУЛЯТОР!$C$21,$I$11,$I$11-SUMIF($A$12:$A$371,\"<=\"&$E$3,$H$12:$H$371)),0,0)),\"\")","v":""},{"$f":"IFERROR((-IPMT((C294-'КАЛЬКУЛЯТОР 1'!$P$1)/12,B294,IF(C294=КАЛЬКУЛЯТОР!$C$21,$E$2,$E$2-$E$3),IF(C294=КАЛЬКУЛЯТОР!$C$21,$I$11,$I$11-SUMIF($A$12:$A$371,\"<=\"&$E$3,$H$12:$H$371)),0,0)),\"\")","v":""},{"$f":"IFERROR((-PPMT(C294/12,B294,IF(C294=КАЛЬКУЛЯТОР!$C$21,$E$2,$E$2-$E$3),IF(C294=КАЛЬКУЛЯТОР!$C$21,$I$11,$I$11-SUMIF($A$12:$A$371,\"<=\"&$E$3,$H$12:$H$371)),0,0)),\"\")","v":""},"",{"$error":"#VALUE!"},null,{"$error":"#VALUE!"},{"$error":"#VALUE!"},{"$error":"#VALUE!"},{"$error":"#VALUE!"},false]
[284,284,{"$f":"IF(A295<=$E$3,КАЛЬКУЛЯТОР!$C$21,IF(AND(A295>$E$3,A295<=$E$2),$E$4,\"\"))","v":""},{"$f":"IF(A295<=$E$2,-PMT(C295/12,IF(C295=КАЛЬКУЛЯТОР!$C$21,$E$2,$E$2-$E$3),IF(C295=КАЛЬКУЛЯТОР!$C$21,$I$11,$I$11-SUMIF($A$12:$A$371,\"<=\"&$E$3,$H$12:$H$371)),0,0),\"\")","v":""},null,{"$f":"IFERROR((-IPMT(C295/12,B295,IF(C295=КАЛЬКУЛЯТОР!$C$21,$E$2,$E$2-$E$3),IF(C295=КАЛЬКУЛЯТОР!$C$21,$I$11,$I$11-SUMIF($A$12:$A$371,\"<=\"&$E$3,$H$12:$H$371)),0,0)),\"\")","v":""},{"$f":"IFERROR((-IPMT((C295-'КАЛЬКУЛЯТОР 1'!$P$1)/12,B295,IF(C295=КАЛЬКУЛЯТОР!$C$21,$E$2,$E$2-$E$3),IF(C295=КАЛЬКУЛЯТОР!$C$21,$I$11,$I$11-SUMIF($A$12:$A$371,\"<=\"&$E$3,$H$12:$H$371)),0,0)),\"\")","v":""},{"$f":"IFERROR((-PPMT(C295/12,B295,IF(C295=КАЛЬКУЛЯТОР!$C$21,$E$2,$E$2-$E$3),IF(C295=КАЛЬКУЛЯТОР!$C$21,$I$11,$I$11-SUMIF($A$12:$A$371,\"<=\"&$E$3,$H$12:$H$371)),0,0)),\"\")","v":""},"",{"$error":"#VALUE!"},null,{"$error":"#VALUE!"},{"$error":"#VALUE!"},{"$error":"#VALUE!"},{"$error":"#VALUE!"},false]
[285,285,{"$f":"IF(A296<=$E$3,КАЛЬКУЛЯТОР!$C$21,IF(AND(A296>$E$3,A296<=$E$2),$E$4,\"\"))","v":""},{"$f":"IF(A296<=$E$2,-PMT(C296/12,IF(C296=КАЛЬКУЛЯТОР!$C$21,$E$2,$E$2-$E$3),IF(C296=КАЛЬКУЛЯТОР!$C$21,$I$11,$I$11-SUMIF($A$12:$A$371,\"<=\"&$E$3,$H$12:$H$371)),0,0),\"\")","v":""},null,{"$f":"IFERROR((-IPMT(C296/12,B296,IF(C296=КАЛЬКУЛЯТОР!$C$21,$E$2,$E$2-$E$3),IF(C296=КАЛЬКУЛЯТОР!$C$21,$I$11,$I$11-SUMIF($A$12:$A$371,\"<=\"&$E$3,$H$12:$H$371)),0,0)),\"\")","v":""},{"$f":"IFERROR((-IPMT((C296-'КАЛЬКУЛЯТОР 1'!$P$1)/12,B296,IF(C296=КАЛЬКУЛЯТОР!$C$21,$E$2,$E$2-$E$3),IF(C296=КАЛЬКУЛЯТОР!$C$21,$I$11,$I$11-SUMIF($A$12:$A$371,\"<=\"&$E$3,$H$12:$H$371)),0,0)),\"\")","v":""},{"$f":"IFERROR((-PPMT(C296/12,B296,IF(C296=КАЛЬКУЛЯТОР!$C$21,$E$2,$E$2-$E$3),IF(C296=КАЛЬКУЛЯТОР!$C$21,$I$11,$I$11-SUMIF($A$12:$A$371,\"<=\"&$E$3,$H$12:$H$371)),0,0)),\"\")","v":""},"",{"$error":"#VALUE!"},null,{"$error":"#VALUE!"},{"$error":"#VALUE!"},{"$error":"#VALUE!"},{"$error":"#VALUE!"},false]
[286,286,{"$f":"IF(A297<=$E$3,КАЛЬКУЛЯТОР!$C$21,IF(AND(A297>$E$3,A297<=$E$2),$E$4,\"\"))","v":""},{"$f":"IF(A297<=$E$2,-PMT(C297/12,IF(C297=КАЛЬКУЛЯТОР!$C$21,$E$2,$E$2-$E$3),IF(C297=КАЛЬКУЛЯТОР!$C$21,$I$11,$I$11-SUMIF($A$12:$A$371,\"<=\"&$E$3,$H$12:$H$371)),0,0),\"\")","v":""},null,{"$f":"IFERROR((-IPMT(C297/12,B297,IF(C297=КАЛЬКУЛЯТОР!$C$21,$E$2,$E$2-$E$3),IF(C297=КАЛЬКУЛЯТОР!$C$21,$I$11,$I$11-SUMIF($A$12:$A$371,\"<=\"&$E$3,$H$12:$H$371)),0,0)),\"\")","v":""},{"$f":"IFERROR((-IPMT((C297-'КАЛЬКУЛЯТОР 1'!$P$1)/12,B297,IF(C297=КАЛЬКУЛЯТОР!$C$21,$E$2,$E$2-$E$3),IF(C297=КАЛЬКУЛЯТОР!$C$21,$I$11,$I$11-SUMIF($A$12:$A$371,\"<=\"&$E$3,$H$12:$H$371)),0,0)),\"\")","v":""},{"$f":"IFERROR((-PPMT(C297/12,B297,IF(C297=КАЛЬКУЛЯТОР!$C$21,$E$2,$E$2-$E$3),IF(C297=КАЛЬКУЛЯТОР!$C$21,$I$11,$I$11-SUMIF($A$12:$A$371,\"<=\"&$E$3,$H$12:$H$371)),0,0)),\"\")","v":""},"",{"$error":"#VALUE!"},null,{"$error":"#VALUE!"},{"$error":"#VALUE!"},{"$error":"#VALUE!"},{"$error":"#VALUE!"},false]
[287,287,{"$f":"IF(A298<=$E$3,КАЛЬКУЛЯТОР!$C$21,IF(AND(A298>$E$3,A298<=$E$2),$E$4,\"\"))","v":""},{"$f":"IF(A298<=$E$2,-PMT(C298/12,IF(C298=КАЛЬКУЛЯТОР!$C$21,$E$2,$E$2-$E$3),IF(C298=КАЛЬКУЛЯТОР!$C$21,$I$11,$I$11-SUMIF($A$12:$A$371,\"<=\"&$E$3,$H$12:$H$371)),0,0),\"\")","v":""},null,{"$f":"IFERROR((-IPMT(C298/12,B298,IF(C298=КАЛЬКУЛЯТОР!$C$21,$E$2,$E$2-$E$3),IF(C298=КАЛЬКУЛЯТОР!$C$21,$I$11,$I$11-SUMIF($A$12:$A$371,\"<=\"&$E$3,$H$12:$H$371)),0,0)),\"\")","v":""},{"$f":"IFERROR((-IPMT((C298-'КАЛЬКУЛЯТОР 1'!$P$1)/12,B298,IF(C298=КАЛЬКУЛЯТОР!$C$21,$E$2,$E$2-$E$3),IF(C298=КАЛЬКУЛЯТОР!$C$21,$I$11,$I$11-SUMIF($A$12:$A$371,\"<=\"&$E$3,$H$12:$H$371)),0,0)),\"\")","v":""},{"$f":"IFERROR((-PPMT(C298/12,B298,IF(C298=КАЛЬКУЛЯТОР!$C$21,$E$2,$E$2-$E$3),IF(C298=КАЛЬКУЛЯТОР!$C$21,$I$11,$I$11-SUMIF($A$12:$A$371,\"<=\"&$E$3,$H$12:$H$371)),0,0)),\"\")","v":""},"",{"$error":"#VALUE!"},null,{"$error":"#VALUE!"},{"$error":"#VALUE!"},{"$error":"#VALUE!"},{"$error":"#VALUE!"},false]
[288,288,{"$f":"IF(A299<=$E$3,КАЛЬКУЛЯТОР!$C$21,IF(AND(A299>$E$3,A299<=$E$2),$E$4,\"\"))","v":""},{"$f":"IF(A299<=$E$2,-PMT(C299/12,IF(C299=КАЛЬКУЛЯТОР!$C$21,$E$2,$E$2-$E$3),IF(C299=КАЛЬКУЛЯТОР!$C$21,$I$11,$I$11-SUMIF($A$12:$A$371,\"<=\"&$E$3,$H$12:$H$371)),0,0),\"\")","v":""},null,{"$f":"IFERROR((-IPMT(C299/12,B299,IF(C299=КАЛЬКУЛЯТОР!$C$21,$E$2,$E$2-$E$3),IF(C299=КАЛЬКУЛЯТОР!$C$21,$I$11,$I$11-SUMIF($A$12:$A$371,\"<=\"&$E$3,$H$12:$H$371)),0,0)),\"\")","v":""},{"$f":"IFERROR((-IPMT((C299-'КАЛЬКУЛЯТОР 1'!$P$1)/12,B299,IF(C299=КАЛЬКУЛЯТОР!$C$21,$E$2,$E$2-$E$3),IF(C299=КАЛЬКУЛЯТОР!$C$21,$I$11,$I$11-SUMIF($A$12:$A$371,\"<=\"&$E$3,$H$12:$H$371)),0,0)),\"\")","v":""},{"$f":"IFERROR((-PPMT(C299/12,B299,IF(C299=КАЛЬКУЛЯТОР!$C$21,$E$2,$E$2-$E$3),IF(C299=КАЛЬКУЛЯТОР!$C$21,$I$11,$I$11-SUMIF($A$12:$A$371,\"<=\"&$E$3,$H$12:$H$371)),0,0)),\"\")","v":""},"",{"$error":"#VALUE!"},null,{"$error":"#VALUE!"},{"$error":"#VALUE!"},{"$error":"#VALUE!"},{"$error":"#VALUE!"},false]
[289,289,{"$f":"IF(A300<=$E$3,КАЛЬКУЛЯТОР!$C$21,IF(AND(A300>$E$3,A300<=$E$2),$E$4,\"\"))","v":""},{"$f":"IF(A300<=$E$2,-PMT(C300/12,IF(C300=КАЛЬКУЛЯТОР!$C$21,$E$2,$E$2-$E$3),IF(C300=КАЛЬКУЛЯТОР!$C$21,$I$11,$I$11-SUMIF($A$12:$A$371,\"<=\"&$E$3,$H$12:$H$371)),0,0),\"\")","v":""},{"$f":"IF($E$2>$A299,(I299+SUM(F300:F311))*($K$4+$K$5),0)","v":{"v":0,"d":"0.00"}},{"$f":"IFERROR((-IPMT(C300/12,B300,IF(C300=КАЛЬКУЛЯТОР!$C$21,$E$2,$E$2-$E$3),IF(C300=КАЛЬКУЛЯТОР!$C$21,$I$11,$I$11-SUMIF($A$12:$A$371,\"<=\"&$E$3,$H$12:$H$371)),0,0)),\"\")","v":""},{"$f":"IFERROR((-IPMT((C300-'КАЛЬКУЛЯТОР 1'!$P$1)/12,B300,IF(C300=КАЛЬКУЛЯТОР!$C$21,$E$2,$E$2-$E$3),IF(C300=КАЛЬКУЛЯТОР!$C$21,$I$11,$I$11-SUMIF($A$12:$A$371,\"<=\"&$E$3,$H$12:$H$371)),0,0)),\"\")","v":""},{"$f":"IFERROR((-PPMT(C300/12,B300,IF(C300=КАЛЬКУЛЯТОР!$C$21,$E$2,$E$2-$E$3),IF(C300=КАЛЬКУЛЯТОР!$C$21,$I$11,$I$11-SUMIF($A$12:$A$371,\"<=\"&$E$3,$H$12:$H$371)),0,0)),\"\")","v":""},"",{"$error":"#VALUE!"},{"$f":"PV($E$5/12,A300-1,0,-E300)","v":{"v":0,"d":"0.00"}},{"$error":"#VALUE!"},{"$error":"#VALUE!"},{"$error":"#VALUE!"},{"$error":"#VALUE!"},false]
[290,290,{"$f":"IF(A301<=$E$3,КАЛЬКУЛЯТОР!$C$21,IF(AND(A301>$E$3,A301<=$E$2),$E$4,\"\"))","v":""},{"$f":"IF(A301<=$E$2,-PMT(C301/12,IF(C301=КАЛЬКУЛЯТОР!$C$21,$E$2,$E$2-$E$3),IF(C301=КАЛЬКУЛЯТОР!$C$21,$I$11,$I$11-SUMIF($A$12:$A$371,\"<=\"&$E$3,$H$12:$H$371)),0,0),\"\")","v":""},null,{"$f":"IFERROR((-IPMT(C301/12,B301,IF(C301=КАЛЬКУЛЯТОР!$C$21,$E$2,$E$2-$E$3),IF(C301=КАЛЬКУЛЯТОР!$C$21,$I$11,$I$11-SUMIF($A$12:$A$371,\"<=\"&$E$3,$H$12:$H$371)),0,0)),\"\")","v":""},{"$f":"IFERROR((-IPMT((C301-'КАЛЬКУЛЯТОР 1'!$P$1)/12,B301,IF(C301=КАЛЬКУЛЯТОР!$C$21,$E$2,$E$2-$E$3),IF(C301=КАЛЬКУЛЯТОР!$C$21,$I$11,$I$11-SUMIF($A$12:$A$371,\"<=\"&$E$3,$H$12:$H$371)),0,0)),\"\")","v":""},{"$f":"IFERROR((-PPMT(C301/12,B301,IF(C301=КАЛЬКУЛЯТОР!$C$21,$E$2,$E$2-$E$3),IF(C301=КАЛЬКУЛЯТОР!$C$21,$I$11,$I$11-SUMIF($A$12:$A$371,\"<=\"&$E$3,$H$12:$H$371)),0,0)),\"\")","v":""},"",{"$error":"#VALUE!"},null,{"$error":"#VALUE!"},{"$error":"#VALUE!"},{"$error":"#VALUE!"},{"$error":"#VALUE!"},false]
[291,291,{"$f":"IF(A302<=$E$3,КАЛЬКУЛЯТОР!$C$21,IF(AND(A302>$E$3,A302<=$E$2),$E$4,\"\"))","v":""},{"$f":"IF(A302<=$E$2,-PMT(C302/12,IF(C302=КАЛЬКУЛЯТОР!$C$21,$E$2,$E$2-$E$3),IF(C302=КАЛЬКУЛЯТОР!$C$21,$I$11,$I$11-SUMIF($A$12:$A$371,\"<=\"&$E$3,$H$12:$H$371)),0,0),\"\")","v":""},null,{"$f":"IFERROR((-IPMT(C302/12,B302,IF(C302=КАЛЬКУЛЯТОР!$C$21,$E$2,$E$2-$E$3),IF(C302=КАЛЬКУЛЯТОР!$C$21,$I$11,$I$11-SUMIF($A$12:$A$371,\"<=\"&$E$3,$H$12:$H$371)),0,0)),\"\")","v":""},{"$f":"IFERROR((-IPMT((C302-'КАЛЬКУЛЯТОР 1'!$P$1)/12,B302,IF(C302=КАЛЬКУЛЯТОР!$C$21,$E$2,$E$2-$E$3),IF(C302=КАЛЬКУЛЯТОР!$C$21,$I$11,$I$11-SUMIF($A$12:$A$371,\"<=\"&$E$3,$H$12:$H$371)),0,0)),\"\")","v":""},{"$f":"IFERROR((-PPMT(C302/12,B302,IF(C302=КАЛЬКУЛЯТОР!$C$21,$E$2,$E$2-$E$3),IF(C302=КАЛЬКУЛЯТОР!$C$21,$I$11,$I$11-SUMIF($A$12:$A$371,\"<=\"&$E$3,$H$12:$H$371)),0,0)),\"\")","v":""},"",{"$error":"#VALUE!"},null,{"$error":"#VALUE!"},{"$error":"#VALUE!"},{"$error":"#VALUE!"},{"$error":"#VALUE!"},false]
[292,292,{"$f":"IF(A303<=$E$3,КАЛЬКУЛЯТОР!$C$21,IF(AND(A303>$E$3,A303<=$E$2),$E$4,\"\"))","v":""},{"$f":"IF(A303<=$E$2,-PMT(C303/12,IF(C303=КАЛЬКУЛЯТОР!$C$21,$E$2,$E$2-$E$3),IF(C303=КАЛЬКУЛЯТОР!$C$21,$I$11,$I$11-SUMIF($A$12:$A$371,\"<=\"&$E$3,$H$12:$H$371)),0,0),\"\")","v":""},null,{"$f":"IFERROR((-IPMT(C303/12,B303,IF(C303=КАЛЬКУЛЯТОР!$C$21,$E$2,$E$2-$E$3),IF(C303=КАЛЬКУЛЯТОР!$C$21,$I$11,$I$11-SUMIF($A$12:$A$371,\"<=\"&$E$3,$H$12:$H$371)),0,0)),\"\")","v":""},{"$f":"IFERROR((-IPMT((C303-'КАЛЬКУЛЯТОР 1'!$P$1)/12,B303,IF(C303=КАЛЬКУЛЯТОР!$C$21,$E$2,$E$2-$E$3),IF(C303=КАЛЬКУЛЯТОР!$C$21,$I$11,$I$11-SUMIF($A$12:$A$371,\"<=\"&$E$3,$H$12:$H$371)),0,0)),\"\")","v":""},{"$f":"IFERROR((-PPMT(C303/12,B303,IF(C303=КАЛЬКУЛЯТОР!$C$21,$E$2,$E$2-$E$3),IF(C303=КАЛЬКУЛЯТОР!$C$21,$I$11,$I$11-SUMIF($A$12:$A$371,\"<=\"&$E$3,$H$12:$H$371)),0,0)),\"\")","v":""},"",{"$error":"#VALUE!"},null,{"$error":"#VALUE!"},{"$error":"#VALUE!"},{"$error":"#VALUE!"},{"$error":"#VALUE!"},false]
[293,293,{"$f":"IF(A304<=$E$3,КАЛЬКУЛЯТОР!$C$21,IF(AND(A304>$E$3,A304<=$E$2),$E$4,\"\"))","v":""},{"$f":"IF(A304<=$E$2,-PMT(C304/12,IF(C304=КАЛЬКУЛЯТОР!$C$21,$E$2,$E$2-$E$3),IF(C304=КАЛЬКУЛЯТОР!$C$21,$I$11,$I$11-SUMIF($A$12:$A$371,\"<=\"&$E$3,$H$12:$H$371)),0,0),\"\")","v":""},null,{"$f":"IFERROR((-IPMT(C304/12,B304,IF(C304=КАЛЬКУЛЯТОР!$C$21,$E$2,$E$2-$E$3),IF(C304=КАЛЬКУЛЯТОР!$C$21,$I$11,$I$11-SUMIF($A$12:$A$371,\"<=\"&$E$3,$H$12:$H$371)),0,0)),\"\")","v":""},{"$f":"IFERROR((-IPMT((C304-'КАЛЬКУЛЯТОР 1'!$P$1)/12,B304,IF(C304=КАЛЬКУЛЯТОР!$C$21,$E$2,$E$2-$E$3),IF(C304=КАЛЬКУЛЯТОР!$C$21,$I$11,$I$11-SUMIF($A$12:$A$371,\"<=\"&$E$3,$H$12:$H$371)),0,0)),\"\")","v":""},{"$f":"IFERROR((-PPMT(C304/12,B304,IF(C304=КАЛЬКУЛЯТОР!$C$21,$E$2,$E$2-$E$3),IF(C304=КАЛЬКУЛЯТОР!$C$21,$I$11,$I$11-SUMIF($A$12:$A$371,\"<=\"&$E$3,$H$12:$H$371)),0,0)),\"\")","v":""},"",{"$error":"#VALUE!"},null,{"$error":"#VALUE!"},{"$error":"#VALUE!"},{"$error":"#VALUE!"},{"$error":"#VALUE!"},false]
[294,294,{"$f":"IF(A305<=$E$3,КАЛЬКУЛЯТОР!$C$21,IF(AND(A305>$E$3,A305<=$E$2),$E$4,\"\"))","v":""},{"$f":"IF(A305<=$E$2,-PMT(C305/12,IF(C305=КАЛЬКУЛЯТОР!$C$21,$E$2,$E$2-$E$3),IF(C305=КАЛЬКУЛЯТОР!$C$21,$I$11,$I$11-SUMIF($A$12:$A$371,\"<=\"&$E$3,$H$12:$H$371)),0,0),\"\")","v":""},null,{"$f":"IFERROR((-IPMT(C305/12,B305,IF(C305=КАЛЬКУЛЯТОР!$C$21,$E$2,$E$2-$E$3),IF(C305=КАЛЬКУЛЯТОР!$C$21,$I$11,$I$11-SUMIF($A$12:$A$371,\"<=\"&$E$3,$H$12:$H$371)),0,0)),\"\")","v":""},{"$f":"IFERROR((-IPMT((C305-'КАЛЬКУЛЯТОР 1'!$P$1)/12,B305,IF(C305=КАЛЬКУЛЯТОР!$C$21,$E$2,$E$2-$E$3),IF(C305=КАЛЬКУЛЯТОР!$C$21,$I$11,$I$11-SUMIF($A$12:$A$371,\"<=\"&$E$3,$H$12:$H$371)),0,0)),\"\")","v":""},{"$f":"IFERROR((-PPMT(C305/12,B305,IF(C305=КАЛЬКУЛЯТОР!$C$21,$E$2,$E$2-$E$3),IF(C305=КАЛЬКУЛЯТОР!$C$21,$I$11,$I$11-SUMIF($A$12:$A$371,\"<=\"&$E$3,$H$12:$H$371)),0,0)),\"\")","v":""},"",{"$error":"#VALUE!"},null,{"$error":"#VALUE!"},{"$error":"#VALUE!"},{"$error":"#VALUE!"},{"$error":"#VALUE!"},false]
[295,295,{"$f":"IF(A306<=$E$3,КАЛЬКУЛЯТОР!$C$21,IF(AND(A306>$E$3,A306<=$E$2),$E$4,\"\"))","v":""},{"$f":"IF(A306<=$E$2,-PMT(C306/12,IF(C306=КАЛЬКУЛЯТОР!$C$21,$E$2,$E$2-$E$3),IF(C306=КАЛЬКУЛЯТОР!$C$21,$I$11,$I$11-SUMIF($A$12:$A$371,\"<=\"&$E$3,$H$12:$H$371)),0,0),\"\")","v":""},null,{"$f":"IFERROR((-IPMT(C306/12,B306,IF(C306=КАЛЬКУЛЯТОР!$C$21,$E$2,$E$2-$E$3),IF(C306=КАЛЬКУЛЯТОР!$C$21,$I$11,$I$11-SUMIF($A$12:$A$371,\"<=\"&$E$3,$H$12:$H$371)),0,0)),\"\")","v":""},{"$f":"IFERROR((-IPMT((C306-'КАЛЬКУЛЯТОР 1'!$P$1)/12,B306,IF(C306=КАЛЬКУЛЯТОР!$C$21,$E$2,$E$2-$E$3),IF(C306=КАЛЬКУЛЯТОР!$C$21,$I$11,$I$11-SUMIF($A$12:$A$371,\"<=\"&$E$3,$H$12:$H$371)),0,0)),\"\")","v":""},{"$f":"IFERROR((-PPMT(C306/12,B306,IF(C306=КАЛЬКУЛЯТОР!$C$21,$E$2,$E$2-$E$3),IF(C306=КАЛЬКУЛЯТОР!$C$21,$I$11,$I$11-SUMIF($A$12:$A$371,\"<=\"&$E$3,$H$12:$H$371)),0,0)),\"\")","v":""},"",{"$error":"#VALUE!"},null,{"$error":"#VALUE!"},{"$error":"#VALUE!"},{"$error":"#VALUE!"},{"$error":"#VALUE!"},false]
[296,296,{"$f":"IF(A307<=$E$3,КАЛЬКУЛЯТОР!$C$21,IF(AND(A307>$E$3,A307<=$E$2),$E$4,\"\"))","v":""},{"$f":"IF(A307<=$E$2,-PMT(C307/12,IF(C307=КАЛЬКУЛЯТОР!$C$21,$E$2,$E$2-$E$3),IF(C307=КАЛЬКУЛЯТОР!$C$21,$I$11,$I$11-SUMIF($A$12:$A$371,\"<=\"&$E$3,$H$12:$H$371)),0,0),\"\")","v":""},null,{"$f":"IFERROR((-IPMT(C307/12,B307,IF(C307=КАЛЬКУЛЯТОР!$C$21,$E$2,$E$2-$E$3),IF(C307=КАЛЬКУЛЯТОР!$C$21,$I$11,$I$11-SUMIF($A$12:$A$371,\"<=\"&$E$3,$H$12:$H$371)),0,0)),\"\")","v":""},{"$f":"IFERROR((-IPMT((C307-'КАЛЬКУЛЯТОР 1'!$P$1)/12,B307,IF(C307=КАЛЬКУЛЯТОР!$C$21,$E$2,$E$2-$E$3),IF(C307=КАЛЬКУЛЯТОР!$C$21,$I$11,$I$11-SUMIF($A$12:$A$371,\"<=\"&$E$3,$H$12:$H$371)),0,0)),\"\")","v":""},{"$f":"IFERROR((-PPMT(C307/12,B307,IF(C307=КАЛЬКУЛЯТОР!$C$21,$E$2,$E$2-$E$3),IF(C307=КАЛЬКУЛЯТОР!$C$21,$I$11,$I$11-SUMIF($A$12:$A$371,\"<=\"&$E$3,$H$12:$H$371)),0,0)),\"\")","v":""},"",{"$error":"#VALUE!"},null,{"$error":"#VALUE!"},{"$error":"#VALUE!"},{"$error":"#VALUE!"},{"$error":"#VALUE!"},false]
[297,297,{"$f":"IF(A308<=$E$3,КАЛЬКУЛЯТОР!$C$21,IF(AND(A308>$E$3,A308<=$E$2),$E$4,\"\"))","v":""},{"$f":"IF(A308<=$E$2,-PMT(C308/12,IF(C308=КАЛЬКУЛЯТОР!$C$21,$E$2,$E$2-$E$3),IF(C308=КАЛЬКУЛЯТОР!$C$21,$I$11,$I$11-SUMIF($A$12:$A$371,\"<=\"&$E$3,$H$12:$H$371)),0,0),\"\")","v":""},null,{"$f":"IFERROR((-IPMT(C308/12,B308,IF(C308=КАЛЬКУЛЯТОР!$C$21,$E$2,$E$2-$E$3),IF(C308=КАЛЬКУЛЯТОР!$C$21,$I$11,$I$11-SUMIF($A$12:$A$371,\"<=\"&$E$3,$H$12:$H$371)),0,0)),\"\")","v":""},{"$f":"IFERROR((-IPMT((C308-'КАЛЬКУЛЯТОР 1'!$P$1)/12,B308,IF(C308=КАЛЬКУЛЯТОР!$C$21,$E$2,$E$2-$E$3),IF(C308=КАЛЬКУЛЯТОР!$C$21,$I$11,$I$11-SUMIF($A$12:$A$371,\"<=\"&$E$3,$H$12:$H$371)),0,0)),\"\")","v":""},{"$f":"IFERROR((-PPMT(C308/12,B308,IF(C308=КАЛЬКУЛЯТОР!$C$21,$E$2,$E$2-$E$3),IF(C308=КАЛЬКУЛЯТОР!$C$21,$I$11,$I$11-SUMIF($A$12:$A$371,\"<=\"&$E$3,$H$12:$H$371)),0,0)),\"\")","v":""},"",{"$error":"#VALUE!"},null,{"$error":"#VALUE!"},{"$error":"#VALUE!"},{"$error":"#VALUE!"},{"$error":"#VALUE!"},false]
[298,298,{"$f":"IF(A309<=$E$3,КАЛЬКУЛЯТОР!$C$21,IF(AND(A309>$E$3,A309<=$E$2),$E$4,\"\"))","v":""},{"$f":"IF(A309<=$E$2,-PMT(C309/12,IF(C309=КАЛЬКУЛЯТОР!$C$21,$E$2,$E$2-$E$3),IF(C309=КАЛЬКУЛЯТОР!$C$21,$I$11,$I$11-SUMIF($A$12:$A$371,\"<=\"&$E$3,$H$12:$H$371)),0,0),\"\")","v":""},null,{"$f":"IFERROR((-IPMT(C309/12,B309,IF(C309=КАЛЬКУЛЯТОР!$C$21,$E$2,$E$2-$E$3),IF(C309=КАЛЬКУЛЯТОР!$C$21,$I$11,$I$11-SUMIF($A$12:$A$371,\"<=\"&$E$3,$H$12:$H$371)),0,0)),\"\")","v":""},{"$f":"IFERROR((-IPMT((C309-'КАЛЬКУЛЯТОР 1'!$P$1)/12,B309,IF(C309=КАЛЬКУЛЯТОР!$C$21,$E$2,$E$2-$E$3),IF(C309=КАЛЬКУЛЯТОР!$C$21,$I$11,$I$11-SUMIF($A$12:$A$371,\"<=\"&$E$3,$H$12:$H$371)),0,0)),\"\")","v":""},{"$f":"IFERROR((-PPMT(C309/12,B309,IF(C309=КАЛЬКУЛЯТОР!$C$21,$E$2,$E$2-$E$3),IF(C309=КАЛЬКУЛЯТОР!$C$21,$I$11,$I$11-SUMIF($A$12:$A$371,\"<=\"&$E$3,$H$12:$H$371)),0,0)),\"\")","v":""},"",{"$error":"#VALUE!"},null,{"$error":"#VALUE!"},{"$error":"#VALUE!"},{"$error":"#VALUE!"},{"$error":"#VALUE!"},false]
[299,299,{"$f":"IF(A310<=$E$3,КАЛЬКУЛЯТОР!$C$21,IF(AND(A310>$E$3,A310<=$E$2),$E$4,\"\"))","v":""},{"$f":"IF(A310<=$E$2,-PMT(C310/12,IF(C310=КАЛЬКУЛЯТОР!$C$21,$E$2,$E$2-$E$3),IF(C310=КАЛЬКУЛЯТОР!$C$21,$I$11,$I$11-SUMIF($A$12:$A$371,\"<=\"&$E$3,$H$12:$H$371)),0,0),\"\")","v":""},null,{"$f":"IFERROR((-IPMT(C310/12,B310,IF(C310=КАЛЬКУЛЯТОР!$C$21,$E$2,$E$2-$E$3),IF(C310=КАЛЬКУЛЯТОР!$C$21,$I$11,$I$11-SUMIF($A$12:$A$371,\"<=\"&$E$3,$H$12:$H$371)),0,0)),\"\")","v":""},{"$f":"IFERROR((-IPMT((C310-'КАЛЬКУЛЯТОР 1'!$P$1)/12,B310,IF(C310=КАЛЬКУЛЯТОР!$C$21,$E$2,$E$2-$E$3),IF(C310=КАЛЬКУЛЯТОР!$C$21,$I$11,$I$11-SUMIF($A$12:$A$371,\"<=\"&$E$3,$H$12:$H$371)),0,0)),\"\")","v":""},{"$f":"IFERROR((-PPMT(C310/12,B310,IF(C310=КАЛЬКУЛЯТОР!$C$21,$E$2,$E$2-$E$3),IF(C310=КАЛЬКУЛЯТОР!$C$21,$I$11,$I$11-SUMIF($A$12:$A$371,\"<=\"&$E$3,$H$12:$H$371)),0,0)),\"\")","v":""},"",{"$error":"#VALUE!"},null,{"$error":"#VALUE!"},{"$error":"#VALUE!"},{"$error":"#VALUE!"},{"$error":"#VALUE!"},false]
[300,300,{"$f":"IF(A311<=$E$3,КАЛЬКУЛЯТОР!$C$21,IF(AND(A311>$E$3,A311<=$E$2),$E$4,\"\"))","v":""},{"$f":"IF(A311<=$E$2,-PMT(C311/12,IF(C311=КАЛЬКУЛЯТОР!$C$21,$E$2,$E$2-$E$3),IF(C311=КАЛЬКУЛЯТОР!$C$21,$I$11,$I$11-SUMIF($A$12:$A$371,\"<=\"&$E$3,$H$12:$H$371)),0,0),\"\")","v":""},null,{"$f":"IFERROR((-IPMT(C311/12,B311,IF(C311=КАЛЬКУЛЯТОР!$C$21,$E$2,$E$2-$E$3),IF(C311=КАЛЬКУЛЯТОР!$C$21,$I$11,$I$11-SUMIF($A$12:$A$371,\"<=\"&$E$3,$H$12:$H$371)),0,0)),\"\")","v":""},{"$f":"IFERROR((-IPMT((C311-'КАЛЬКУЛЯТОР 1'!$P$1)/12,B311,IF(C311=КАЛЬКУЛЯТОР!$C$21,$E$2,$E$2-$E$3),IF(C311=КАЛЬКУЛЯТОР!$C$21,$I$11,$I$11-SUMIF($A$12:$A$371,\"<=\"&$E$3,$H$12:$H$371)),0,0)),\"\")","v":""},{"$f":"IFERROR((-PPMT(C311/12,B311,IF(C311=КАЛЬКУЛЯТОР!$C$21,$E$2,$E$2-$E$3),IF(C311=КАЛЬКУЛЯТОР!$C$21,$I$11,$I$11-SUMIF($A$12:$A$371,\"<=\"&$E$3,$H$12:$H$371)),0,0)),\"\")","v":""},"",{"$error":"#VALUE!"},null,{"$error":"#VALUE!"},{"$error":"#VALUE!"},{"$error":"#VALUE!"},{"$error":"#VALUE!"},false]
[301,301,{"$f":"IF(A312<=$E$3,КАЛЬКУЛЯТОР!$C$21,IF(AND(A312>$E$3,A312<=$E$2),$E$4,\"\"))","v":""},{"$f":"IF(A312<=$E$2,-PMT(C312/12,IF(C312=КАЛЬКУЛЯТОР!$C$21,$E$2,$E$2-$E$3),IF(C312=КАЛЬКУЛЯТОР!$C$21,$I$11,$I$11-SUMIF($A$12:$A$371,\"<=\"&$E$3,$H$12:$H$371)),0,0),\"\")","v":""},{"$f":"IF($E$2>$A311,(I311+SUM(F312:F323))*($K$4+$K$5),0)","v":{"v":0,"d":"0.00"}},{"$f":"IFERROR((-IPMT(C312/12,B312,IF(C312=КАЛЬКУЛЯТОР!$C$21,$E$2,$E$2-$E$3),IF(C312=КАЛЬКУЛЯТОР!$C$21,$I$11,$I$11-SUMIF($A$12:$A$371,\"<=\"&$E$3,$H$12:$H$371)),0,0)),\"\")","v":""},{"$f":"IFERROR((-IPMT((C312-'КАЛЬКУЛЯТОР 1'!$P$1)/12,B312,IF(C312=КАЛЬКУЛЯТОР!$C$21,$E$2,$E$2-$E$3),IF(C312=КАЛЬКУЛЯТОР!$C$21,$I$11,$I$11-SUMIF($A$12:$A$371,\"<=\"&$E$3,$H$12:$H$371)),0,0)),\"\")","v":""},{"$f":"IFERROR((-PPMT(C312/12,B312,IF(C312=КАЛЬКУЛЯТОР!$C$21,$E$2,$E$2-$E$3),IF(C312=КАЛЬКУЛЯТОР!$C$21,$I$11,$I$11-SUMIF($A$12:$A$371,\"<=\"&$E$3,$H$12:$H$371)),0,0)),\"\")","v":""},"",{"$error":"#VALUE!"},{"$f":"PV($E$5/12,A312-1,0,-E312)","v":{"v":0,"d":"0.00"}},{"$error":"#VALUE!"},{"$error":"#VALUE!"},{"$error":"#VALUE!"},{"$error":"#VALUE!"},false]
[302,302,{"$f":"IF(A313<=$E$3,КАЛЬКУЛЯТОР!$C$21,IF(AND(A313>$E$3,A313<=$E$2),$E$4,\"\"))","v":""},{"$f":"IF(A313<=$E$2,-PMT(C313/12,IF(C313=КАЛЬКУЛЯТОР!$C$21,$E$2,$E$2-$E$3),IF(C313=КАЛЬКУЛЯТОР!$C$21,$I$11,$I$11-SUMIF($A$12:$A$371,\"<=\"&$E$3,$H$12:$H$371)),0,0),\"\")","v":""},null,{"$f":"IFERROR((-IPMT(C313/12,B313,IF(C313=КАЛЬКУЛЯТОР!$C$21,$E$2,$E$2-$E$3),IF(C313=КАЛЬКУЛЯТОР!$C$21,$I$11,$I$11-SUMIF($A$12:$A$371,\"<=\"&$E$3,$H$12:$H$371)),0,0)),\"\")","v":""},{"$f":"IFERROR((-IPMT((C313-'КАЛЬКУЛЯТОР 1'!$P$1)/12,B313,IF(C313=КАЛЬКУЛЯТОР!$C$21,$E$2,$E$2-$E$3),IF(C313=КАЛЬКУЛЯТОР!$C$21,$I$11,$I$11-SUMIF($A$12:$A$371,\"<=\"&$E$3,$H$12:$H$371)),0,0)),\"\")","v":""},{"$f":"IFERROR((-PPMT(C313/12,B313,IF(C313=КАЛЬКУЛЯТОР!$C$21,$E$2,$E$2-$E$3),IF(C313=КАЛЬКУЛЯТОР!$C$21,$I$11,$I$11-SUMIF($A$12:$A$371,\"<=\"&$E$3,$H$12:$H$371)),0,0)),\"\")","v":""},"",{"$error":"#VALUE!"},null,{"$error":"#VALUE!"},{"$error":"#VALUE!"},{"$error":"#VALUE!"},{"$error":"#VALUE!"},false]
[303,303,{"$f":"IF(A314<=$E$3,КАЛЬКУЛЯТОР!$C$21,IF(AND(A314>$E$3,A314<=$E$2),$E$4,\"\"))","v":""},{"$f":"IF(A314<=$E$2,-PMT(C314/12,IF(C314=КАЛЬКУЛЯТОР!$C$21,$E$2,$E$2-$E$3),IF(C314=КАЛЬКУЛЯТОР!$C$21,$I$11,$I$11-SUMIF($A$12:$A$371,\"<=\"&$E$3,$H$12:$H$371)),0,0),\"\")","v":""},null,{"$f":"IFERROR((-IPMT(C314/12,B314,IF(C314=КАЛЬКУЛЯТОР!$C$21,$E$2,$E$2-$E$3),IF(C314=КАЛЬКУЛЯТОР!$C$21,$I$11,$I$11-SUMIF($A$12:$A$371,\"<=\"&$E$3,$H$12:$H$371)),0,0)),\"\")","v":""},{"$f":"IFERROR((-IPMT((C314-'КАЛЬКУЛЯТОР 1'!$P$1)/12,B314,IF(C314=КАЛЬКУЛЯТОР!$C$21,$E$2,$E$2-$E$3),IF(C314=КАЛЬКУЛЯТОР!$C$21,$I$11,$I$11-SUMIF($A$12:$A$371,\"<=\"&$E$3,$H$12:$H$371)),0,0)),\"\")","v":""},{"$f":"IFERROR((-PPMT(C314/12,B314,IF(C314=КАЛЬКУЛЯТОР!$C$21,$E$2,$E$2-$E$3),IF(C314=КАЛЬКУЛЯТОР!$C$21,$I$11,$I$11-SUMIF($A$12:$A$371,\"<=\"&$E$3,$H$12:$H$371)),0,0)),\"\")","v":""},"",{"$error":"#VALUE!"},null,{"$error":"#VALUE!"},{"$error":"#VALUE!"},{"$error":"#VALUE!"},{"$error":"#VALUE!"},false]
[304,304,{"$f":"IF(A315<=$E$3,КАЛЬКУЛЯТОР!$C$21,IF(AND(A315>$E$3,A315<=$E$2),$E$4,\"\"))","v":""},{"$f":"IF(A315<=$E$2,-PMT(C315/12,IF(C315=КАЛЬКУЛЯТОР!$C$21,$E$2,$E$2-$E$3),IF(C315=КАЛЬКУЛЯТОР!$C$21,$I$11,$I$11-SUMIF($A$12:$A$371,\"<=\"&$E$3,$H$12:$H$371)),0,0),\"\")","v":""},null,{"$f":"IFERROR((-IPMT(C315/12,B315,IF(C315=КАЛЬКУЛЯТОР!$C$21,$E$2,$E$2-$E$3),IF(C315=КАЛЬКУЛЯТОР!$C$21,$I$11,$I$11-SUMIF($A$12:$A$371,\"<=\"&$E$3,$H$12:$H$371)),0,0)),\"\")","v":""},{"$f":"IFERROR((-IPMT((C315-'КАЛЬКУЛЯТОР 1'!$P$1)/12,B315,IF(C315=КАЛЬКУЛЯТОР!$C$21,$E$2,$E$2-$E$3),IF(C315=КАЛЬКУЛЯТОР!$C$21,$I$11,$I$11-SUMIF($A$12:$A$371,\"<=\"&$E$3,$H$12:$H$371)),0,0)),\"\")","v":""},{"$f":"IFERROR((-PPMT(C315/12,B315,IF(C315=КАЛЬКУЛЯТОР!$C$21,$E$2,$E$2-$E$3),IF(C315=КАЛЬКУЛЯТОР!$C$21,$I$11,$I$11-SUMIF($A$12:$A$371,\"<=\"&$E$3,$H$12:$H$371)),0,0)),\"\")","v":""},"",{"$error":"#VALUE!"},null,{"$error":"#VALUE!"},{"$error":"#VALUE!"},{"$error":"#VALUE!"},{"$error":"#VALUE!"},false]
[305,305,{"$f":"IF(A316<=$E$3,КАЛЬКУЛЯТОР!$C$21,IF(AND(A316>$E$3,A316<=$E$2),$E$4,\"\"))","v":""},{"$f":"IF(A316<=$E$2,-PMT(C316/12,IF(C316=КАЛЬКУЛЯТОР!$C$21,$E$2,$E$2-$E$3),IF(C316=КАЛЬКУЛЯТОР!$C$21,$I$11,$I$11-SUMIF($A$12:$A$371,\"<=\"&$E$3,$H$12:$H$371)),0,0),\"\")","v":""},null,{"$f":"IFERROR((-IPMT(C316/12,B316,IF(C316=КАЛЬКУЛЯТОР!$C$21,$E$2,$E$2-$E$3),IF(C316=КАЛЬКУЛЯТОР!$C$21,$I$11,$I$11-SUMIF($A$12:$A$371,\"<=\"&$E$3,$H$12:$H$371)),0,0)),\"\")","v":""},{"$f":"IFERROR((-IPMT((C316-'КАЛЬКУЛЯТОР 1'!$P$1)/12,B316,IF(C316=КАЛЬКУЛЯТОР!$C$21,$E$2,$E$2-$E$3),IF(C316=КАЛЬКУЛЯТОР!$C$21,$I$11,$I$11-SUMIF($A$12:$A$371,\"<=\"&$E$3,$H$12:$H$371)),0,0)),\"\")","v":""},{"$f":"IFERROR((-PPMT(C316/12,B316,IF(C316=КАЛЬКУЛЯТОР!$C$21,$E$2,$E$2-$E$3),IF(C316=КАЛЬКУЛЯТОР!$C$21,$I$11,$I$11-SUMIF($A$12:$A$371,\"<=\"&$E$3,$H$12:$H$371)),0,0)),\"\")","v":""},"",{"$error":"#VALUE!"},null,{"$error":"#VALUE!"},{"$error":"#VALUE!"},{"$error":"#VALUE!"},{"$error":"#VALUE!"},false]
[306,306,{"$f":"IF(A317<=$E$3,КАЛЬКУЛЯТОР!$C$21,IF(AND(A317>$E$3,A317<=$E$2),$E$4,\"\"))","v":""},{"$f":"IF(A317<=$E$2,-PMT(C317/12,IF(C317=КАЛЬКУЛЯТОР!$C$21,$E$2,$E$2-$E$3),IF(C317=КАЛЬКУЛЯТОР!$C$21,$I$11,$I$11-SUMIF($A$12:$A$371,\"<=\"&$E$3,$H$12:$H$371)),0,0),\"\")","v":""},null,{"$f":"IFERROR((-IPMT(C317/12,B317,IF(C317=КАЛЬКУЛЯТОР!$C$21,$E$2,$E$2-$E$3),IF(C317=КАЛЬКУЛЯТОР!$C$21,$I$11,$I$11-SUMIF($A$12:$A$371,\"<=\"&$E$3,$H$12:$H$371)),0,0)),\"\")","v":""},{"$f":"IFERROR((-IPMT((C317-'КАЛЬКУЛЯТОР 1'!$P$1)/12,B317,IF(C317=КАЛЬКУЛЯТОР!$C$21,$E$2,$E$2-$E$3),IF(C317=КАЛЬКУЛЯТОР!$C$21,$I$11,$I$11-SUMIF($A$12:$A$371,\"<=\"&$E$3,$H$12:$H$371)),0,0)),\"\")","v":""},{"$f":"IFERROR((-PPMT(C317/12,B317,IF(C317=КАЛЬКУЛЯТОР!$C$21,$E$2,$E$2-$E$3),IF(C317=КАЛЬКУЛЯТОР!$C$21,$I$11,$I$11-SUMIF($A$12:$A$371,\"<=\"&$E$3,$H$12:$H$371)),0,0)),\"\")","v":""},"",{"$error":"#VALUE!"},null,{"$error":"#VALUE!"},{"$error":"#VALUE!"},{"$error":"#VALUE!"},{"$error":"#VALUE!"},false]
[307,307,{"$f":"IF(A318<=$E$3,КАЛЬКУЛЯТОР!$C$21,IF(AND(A318>$E$3,A318<=$E$2),$E$4,\"\"))","v":""},{"$f":"IF(A318<=$E$2,-PMT(C318/12,IF(C318=КАЛЬКУЛЯТОР!$C$21,$E$2,$E$2-$E$3),IF(C318=КАЛЬКУЛЯТОР!$C$21,$I$11,$I$11-SUMIF($A$12:$A$371,\"<=\"&$E$3,$H$12:$H$371)),0,0),\"\")","v":""},null,{"$f":"IFERROR((-IPMT(C318/12,B318,IF(C318=КАЛЬКУЛЯТОР!$C$21,$E$2,$E$2-$E$3),IF(C318=КАЛЬКУЛЯТОР!$C$21,$I$11,$I$11-SUMIF($A$12:$A$371,\"<=\"&$E$3,$H$12:$H$371)),0,0)),\"\")","v":""},{"$f":"IFERROR((-IPMT((C318-'КАЛЬКУЛЯТОР 1'!$P$1)/12,B318,IF(C318=КАЛЬКУЛЯТОР!$C$21,$E$2,$E$2-$E$3),IF(C318=КАЛЬКУЛЯТОР!$C$21,$I$11,$I$11-SUMIF($A$12:$A$371,\"<=\"&$E$3,$H$12:$H$371)),0,0)),\"\")","v":""},{"$f":"IFERROR((-PPMT(C318/12,B318,IF(C318=КАЛЬКУЛЯТОР!$C$21,$E$2,$E$2-$E$3),IF(C318=КАЛЬКУЛЯТОР!$C$21,$I$11,$I$11-SUMIF($A$12:$A$371,\"<=\"&$E$3,$H$12:$H$371)),0,0)),\"\")","v":""},"",{"$error":"#VALUE!"},null,{"$error":"#VALUE!"},{"$error":"#VALUE!"},{"$error":"#VALUE!"},{"$error":"#VALUE!"},false]
[308,308,{"$f":"IF(A319<=$E$3,КАЛЬКУЛЯТОР!$C$21,IF(AND(A319>$E$3,A319<=$E$2),$E$4,\"\"))","v":""},{"$f":"IF(A319<=$E$2,-PMT(C319/12,IF(C319=КАЛЬКУЛЯТОР!$C$21,$E$2,$E$2-$E$3),IF(C319=КАЛЬКУЛЯТОР!$C$21,$I$11,$I$11-SUMIF($A$12:$A$371,\"<=\"&$E$3,$H$12:$H$371)),0,0),\"\")","v":""},null,{"$f":"IFERROR((-IPMT(C319/12,B319,IF(C319=КАЛЬКУЛЯТОР!$C$21,$E$2,$E$2-$E$3),IF(C319=КАЛЬКУЛЯТОР!$C$21,$I$11,$I$11-SUMIF($A$12:$A$371,\"<=\"&$E$3,$H$12:$H$371)),0,0)),\"\")","v":""},{"$f":"IFERROR((-IPMT((C319-'КАЛЬКУЛЯТОР 1'!$P$1)/12,B319,IF(C319=КАЛЬКУЛЯТОР!$C$21,$E$2,$E$2-$E$3),IF(C319=КАЛЬКУЛЯТОР!$C$21,$I$11,$I$11-SUMIF($A$12:$A$371,\"<=\"&$E$3,$H$12:$H$371)),0,0)),\"\")","v":""},{"$f":"IFERROR((-PPMT(C319/12,B319,IF(C319=КАЛЬКУЛЯТОР!$C$21,$E$2,$E$2-$E$3),IF(C319=КАЛЬКУЛЯТОР!$C$21,$I$11,$I$11-SUMIF($A$12:$A$371,\"<=\"&$E$3,$H$12:$H$371)),0,0)),\"\")","v":""},"",{"$error":"#VALUE!"},null,{"$error":"#VALUE!"},{"$error":"#VALUE!"},{"$error":"#VALUE!"},{"$error":"#VALUE!"},false]
[309,309,{"$f":"IF(A320<=$E$3,КАЛЬКУЛЯТОР!$C$21,IF(AND(A320>$E$3,A320<=$E$2),$E$4,\"\"))","v":""},{"$f":"IF(A320<=$E$2,-PMT(C320/12,IF(C320=КАЛЬКУЛЯТОР!$C$21,$E$2,$E$2-$E$3),IF(C320=КАЛЬКУЛЯТОР!$C$21,$I$11,$I$11-SUMIF($A$12:$A$371,\"<=\"&$E$3,$H$12:$H$371)),0,0),\"\")","v":""},null,{"$f":"IFERROR((-IPMT(C320/12,B320,IF(C320=КАЛЬКУЛЯТОР!$C$21,$E$2,$E$2-$E$3),IF(C320=КАЛЬКУЛЯТОР!$C$21,$I$11,$I$11-SUMIF($A$12:$A$371,\"<=\"&$E$3,$H$12:$H$371)),0,0)),\"\")","v":""},{"$f":"IFERROR((-IPMT((C320-'КАЛЬКУЛЯТОР 1'!$P$1)/12,B320,IF(C320=КАЛЬКУЛЯТОР!$C$21,$E$2,$E$2-$E$3),IF(C320=КАЛЬКУЛЯТОР!$C$21,$I$11,$I$11-SUMIF($A$12:$A$371,\"<=\"&$E$3,$H$12:$H$371)),0,0)),\"\")","v":""},{"$f":"IFERROR((-PPMT(C320/12,B320,IF(C320=КАЛЬКУЛЯТОР!$C$21,$E$2,$E$2-$E$3),IF(C320=КАЛЬКУЛЯТОР!$C$21,$I$11,$I$11-SUMIF($A$12:$A$371,\"<=\"&$E$3,$H$12:$H$371)),0,0)),\"\")","v":""},"",{"$error":"#VALUE!"},null,{"$error":"#VALUE!"},{"$error":"#VALUE!"},{"$error":"#VALUE!"},{"$error":"#VALUE!"},false]
[310,310,{"$f":"IF(A321<=$E$3,КАЛЬКУЛЯТОР!$C$21,IF(AND(A321>$E$3,A321<=$E$2),$E$4,\"\"))","v":""},{"$f":"IF(A321<=$E$2,-PMT(C321/12,IF(C321=КАЛЬКУЛЯТОР!$C$21,$E$2,$E$2-$E$3),IF(C321=КАЛЬКУЛЯТОР!$C$21,$I$11,$I$11-SUMIF($A$12:$A$371,\"<=\"&$E$3,$H$12:$H$371)),0,0),\"\")","v":""},null,{"$f":"IFERROR((-IPMT(C321/12,B321,IF(C321=КАЛЬКУЛЯТОР!$C$21,$E$2,$E$2-$E$3),IF(C321=КАЛЬКУЛЯТОР!$C$21,$I$11,$I$11-SUMIF($A$12:$A$371,\"<=\"&$E$3,$H$12:$H$371)),0,0)),\"\")","v":""},{"$f":"IFERROR((-IPMT((C321-'КАЛЬКУЛЯТОР 1'!$P$1)/12,B321,IF(C321=КАЛЬКУЛЯТОР!$C$21,$E$2,$E$2-$E$3),IF(C321=КАЛЬКУЛЯТОР!$C$21,$I$11,$I$11-SUMIF($A$12:$A$371,\"<=\"&$E$3,$H$12:$H$371)),0,0)),\"\")","v":""},{"$f":"IFERROR((-PPMT(C321/12,B321,IF(C321=КАЛЬКУЛЯТОР!$C$21,$E$2,$E$2-$E$3),IF(C321=КАЛЬКУЛЯТОР!$C$21,$I$11,$I$11-SUMIF($A$12:$A$371,\"<=\"&$E$3,$H$12:$H$371)),0,0)),\"\")","v":""},"",{"$error":"#VALUE!"},null,{"$error":"#VALUE!"},{"$error":"#VALUE!"},{"$error":"#VALUE!"},{"$error":"#VALUE!"},false]
[311,311,{"$f":"IF(A322<=$E$3,КАЛЬКУЛЯТОР!$C$21,IF(AND(A322>$E$3,A322<=$E$2),$E$4,\"\"))","v":""},{"$f":"IF(A322<=$E$2,-PMT(C322/12,IF(C322=КАЛЬКУЛЯТОР!$C$21,$E$2,$E$2-$E$3),IF(C322=КАЛЬКУЛЯТОР!$C$21,$I$11,$I$11-SUMIF($A$12:$A$371,\"<=\"&$E$3,$H$12:$H$371)),0,0),\"\")","v":""},null,{"$f":"IFERROR((-IPMT(C322/12,B322,IF(C322=КАЛЬКУЛЯТОР!$C$21,$E$2,$E$2-$E$3),IF(C322=КАЛЬКУЛЯТОР!$C$21,$I$11,$I$11-SUMIF($A$12:$A$371,\"<=\"&$E$3,$H$12:$H$371)),0,0)),\"\")","v":""},{"$f":"IFERROR((-IPMT((C322-'КАЛЬКУЛЯТОР 1'!$P$1)/12,B322,IF(C322=КАЛЬКУЛЯТОР!$C$21,$E$2,$E$2-$E$3),IF(C322=КАЛЬКУЛЯТОР!$C$21,$I$11,$I$11-SUMIF($A$12:$A$371,\"<=\"&$E$3,$H$12:$H$371)),0,0)),\"\")","v":""},{"$f":"IFERROR((-PPMT(C322/12,B322,IF(C322=КАЛЬКУЛЯТОР!$C$21,$E$2,$E$2-$E$3),IF(C322=КАЛЬКУЛЯТОР!$C$21,$I$11,$I$11-SUMIF($A$12:$A$371,\"<=\"&$E$3,$H$12:$H$371)),0,0)),\"\")","v":""},"",{"$error":"#VALUE!"},null,{"$error":"#VALUE!"},{"$error":"#VALUE!"},{"$error":"#VALUE!"},{"$error":"#VALUE!"},false]
[312,312,{"$f":"IF(A323<=$E$3,КАЛЬКУЛЯТОР!$C$21,IF(AND(A323>$E$3,A323<=$E$2),$E$4,\"\"))","v":""},{"$f":"IF(A323<=$E$2,-PMT(C323/12,IF(C323=КАЛЬКУЛЯТОР!$C$21,$E$2,$E$2-$E$3),IF(C323=КАЛЬКУЛЯТОР!$C$21,$I$11,$I$11-SUMIF($A$12:$A$371,\"<=\"&$E$3,$H$12:$H$371)),0,0),\"\")","v":""},null,{"$f":"IFERROR((-IPMT(C323/12,B323,IF(C323=КАЛЬКУЛЯТОР!$C$21,$E$2,$E$2-$E$3),IF(C323=КАЛЬКУЛЯТОР!$C$21,$I$11,$I$11-SUMIF($A$12:$A$371,\"<=\"&$E$3,$H$12:$H$371)),0,0)),\"\")","v":""},{"$f":"IFERROR((-IPMT((C323-'КАЛЬКУЛЯТОР 1'!$P$1)/12,B323,IF(C323=КАЛЬКУЛЯТОР!$C$21,$E$2,$E$2-$E$3),IF(C323=КАЛЬКУЛЯТОР!$C$21,$I$11,$I$11-SUMIF($A$12:$A$371,\"<=\"&$E$3,$H$12:$H$371)),0,0)),\"\")","v":""},{"$f":"IFERROR((-PPMT(C323/12,B323,IF(C323=КАЛЬКУЛЯТОР!$C$21,$E$2,$E$2-$E$3),IF(C323=КАЛЬКУЛЯТОР!$C$21,$I$11,$I$11-SUMIF($A$12:$A$371,\"<=\"&$E$3,$H$12:$H$371)),0,0)),\"\")","v":""},"",{"$error":"#VALUE!"},null,{"$error":"#VALUE!"},{"$error":"#VALUE!"},{"$error":"#VALUE!"},{"$error":"#VALUE!"},false]
[313,313,{"$f":"IF(A324<=$E$3,КАЛЬКУЛЯТОР!$C$21,IF(AND(A324>$E$3,A324<=$E$2),$E$4,\"\"))","v":""},{"$f":"IF(A324<=$E$2,-PMT(C324/12,IF(C324=КАЛЬКУЛЯТОР!$C$21,$E$2,$E$2-$E$3),IF(C324=КАЛЬКУЛЯТОР!$C$21,$I$11,$I$11-SUMIF($A$12:$A$371,\"<=\"&$E$3,$H$12:$H$371)),0,0),\"\")","v":""},{"$f":"IF($E$2>$A323,(I323+SUM(F324:F335))*($K$4+$K$5),0)","v":{"v":0,"d":"0.00"}},{"$f":"IFERROR((-IPMT(C324/12,B324,IF(C324=КАЛЬКУЛЯТОР!$C$21,$E$2,$E$2-$E$3),IF(C324=КАЛЬКУЛЯТОР!$C$21,$I$11,$I$11-SUMIF($A$12:$A$371,\"<=\"&$E$3,$H$12:$H$371)),0,0)),\"\")","v":""},{"$f":"IFERROR((-IPMT((C324-'КАЛЬКУЛЯТОР 1'!$P$1)/12,B324,IF(C324=КАЛЬКУЛЯТОР!$C$21,$E$2,$E$2-$E$3),IF(C324=КАЛЬКУЛЯТОР!$C$21,$I$11,$I$11-SUMIF($A$12:$A$371,\"<=\"&$E$3,$H$12:$H$371)),0,0)),\"\")","v":""},{"$f":"IFERROR((-PPMT(C324/12,B324,IF(C324=КАЛЬКУЛЯТОР!$C$21,$E$2,$E$2-$E$3),IF(C324=КАЛЬКУЛЯТОР!$C$21,$I$11,$I$11-SUMIF($A$12:$A$371,\"<=\"&$E$3,$H$12:$H$371)),0,0)),\"\")","v":""},"",{"$error":"#VALUE!"},{"$f":"PV($E$5/12,A324-1,0,-E324)","v":{"v":0,"d":"0.00"}},{"$error":"#VALUE!"},{"$error":"#VALUE!"},{"$error":"#VALUE!"},{"$error":"#VALUE!"},false]
[314,314,{"$f":"IF(A325<=$E$3,КАЛЬКУЛЯТОР!$C$21,IF(AND(A325>$E$3,A325<=$E$2),$E$4,\"\"))","v":""},{"$f":"IF(A325<=$E$2,-PMT(C325/12,IF(C325=КАЛЬКУЛЯТОР!$C$21,$E$2,$E$2-$E$3),IF(C325=КАЛЬКУЛЯТОР!$C$21,$I$11,$I$11-SUMIF($A$12:$A$371,\"<=\"&$E$3,$H$12:$H$371)),0,0),\"\")","v":""},null,{"$f":"IFERROR((-IPMT(C325/12,B325,IF(C325=КАЛЬКУЛЯТОР!$C$21,$E$2,$E$2-$E$3),IF(C325=КАЛЬКУЛЯТОР!$C$21,$I$11,$I$11-SUMIF($A$12:$A$371,\"<=\"&$E$3,$H$12:$H$371)),0,0)),\"\")","v":""},{"$f":"IFERROR((-IPMT((C325-'КАЛЬКУЛЯТОР 1'!$P$1)/12,B325,IF(C325=КАЛЬКУЛЯТОР!$C$21,$E$2,$E$2-$E$3),IF(C325=КАЛЬКУЛЯТОР!$C$21,$I$11,$I$11-SUMIF($A$12:$A$371,\"<=\"&$E$3,$H$12:$H$371)),0,0)),\"\")","v":""},{"$f":"IFERROR((-PPMT(C325/12,B325,IF(C325=КАЛЬКУЛЯТОР!$C$21,$E$2,$E$2-$E$3),IF(C325=КАЛЬКУЛЯТОР!$C$21,$I$11,$I$11-SUMIF($A$12:$A$371,\"<=\"&$E$3,$H$12:$H$371)),0,0)),\"\")","v":""},"",{"$error":"#VALUE!"},null,{"$error":"#VALUE!"},{"$error":"#VALUE!"},{"$error":"#VALUE!"},{"$error":"#VALUE!"},false]
[315,315,{"$f":"IF(A326<=$E$3,КАЛЬКУЛЯТОР!$C$21,IF(AND(A326>$E$3,A326<=$E$2),$E$4,\"\"))","v":""},{"$f":"IF(A326<=$E$2,-PMT(C326/12,IF(C326=КАЛЬКУЛЯТОР!$C$21,$E$2,$E$2-$E$3),IF(C326=КАЛЬКУЛЯТОР!$C$21,$I$11,$I$11-SUMIF($A$12:$A$371,\"<=\"&$E$3,$H$12:$H$371)),0,0),\"\")","v":""},null,{"$f":"IFERROR((-IPMT(C326/12,B326,IF(C326=КАЛЬКУЛЯТОР!$C$21,$E$2,$E$2-$E$3),IF(C326=КАЛЬКУЛЯТОР!$C$21,$I$11,$I$11-SUMIF($A$12:$A$371,\"<=\"&$E$3,$H$12:$H$371)),0,0)),\"\")","v":""},{"$f":"IFERROR((-IPMT((C326-'КАЛЬКУЛЯТОР 1'!$P$1)/12,B326,IF(C326=КАЛЬКУЛЯТОР!$C$21,$E$2,$E$2-$E$3),IF(C326=КАЛЬКУЛЯТОР!$C$21,$I$11,$I$11-SUMIF($A$12:$A$371,\"<=\"&$E$3,$H$12:$H$371)),0,0)),\"\")","v":""},{"$f":"IFERROR((-PPMT(C326/12,B326,IF(C326=КАЛЬКУЛЯТОР!$C$21,$E$2,$E$2-$E$3),IF(C326=КАЛЬКУЛЯТОР!$C$21,$I$11,$I$11-SUMIF($A$12:$A$371,\"<=\"&$E$3,$H$12:$H$371)),0,0)),\"\")","v":""},"",{"$error":"#VALUE!"},null,{"$error":"#VALUE!"},{"$error":"#VALUE!"},{"$error":"#VALUE!"},{"$error":"#VALUE!"},false]
[316,316,{"$f":"IF(A327<=$E$3,КАЛЬКУЛЯТОР!$C$21,IF(AND(A327>$E$3,A327<=$E$2),$E$4,\"\"))","v":""},{"$f":"IF(A327<=$E$2,-PMT(C327/12,IF(C327=КАЛЬКУЛЯТОР!$C$21,$E$2,$E$2-$E$3),IF(C327=КАЛЬКУЛЯТОР!$C$21,$I$11,$I$11-SUMIF($A$12:$A$371,\"<=\"&$E$3,$H$12:$H$371)),0,0),\"\")","v":""},null,{"$f":"IFERROR((-IPMT(C327/12,B327,IF(C327=КАЛЬКУЛЯТОР!$C$21,$E$2,$E$2-$E$3),IF(C327=КАЛЬКУЛЯТОР!$C$21,$I$11,$I$11-SUMIF($A$12:$A$371,\"<=\"&$E$3,$H$12:$H$371)),0,0)),\"\")","v":""},{"$f":"IFERROR((-IPMT((C327-'КАЛЬКУЛЯТОР 1'!$P$1)/12,B327,IF(C327=КАЛЬКУЛЯТОР!$C$21,$E$2,$E$2-$E$3),IF(C327=КАЛЬКУЛЯТОР!$C$21,$I$11,$I$11-SUMIF($A$12:$A$371,\"<=\"&$E$3,$H$12:$H$371)),0,0)),\"\")","v":""},{"$f":"IFERROR((-PPMT(C327/12,B327,IF(C327=КАЛЬКУЛЯТОР!$C$21,$E$2,$E$2-$E$3),IF(C327=КАЛЬКУЛЯТОР!$C$21,$I$11,$I$11-SUMIF($A$12:$A$371,\"<=\"&$E$3,$H$12:$H$371)),0,0)),\"\")","v":""},"",{"$error":"#VALUE!"},null,{"$error":"#VALUE!"},{"$error":"#VALUE!"},{"$error":"#VALUE!"},{"$error":"#VALUE!"},false]
[317,317,{"$f":"IF(A328<=$E$3,КАЛЬКУЛЯТОР!$C$21,IF(AND(A328>$E$3,A328<=$E$2),$E$4,\"\"))","v":""},{"$f":"IF(A328<=$E$2,-PMT(C328/12,IF(C328=КАЛЬКУЛЯТОР!$C$21,$E$2,$E$2-$E$3),IF(C328=КАЛЬКУЛЯТОР!$C$21,$I$11,$I$11-SUMIF($A$12:$A$371,\"<=\"&$E$3,$H$12:$H$371)),0,0),\"\")","v":""},null,{"$f":"IFERROR((-IPMT(C328/12,B328,IF(C328=КАЛЬКУЛЯТОР!$C$21,$E$2,$E$2-$E$3),IF(C328=КАЛЬКУЛЯТОР!$C$21,$I$11,$I$11-SUMIF($A$12:$A$371,\"<=\"&$E$3,$H$12:$H$371)),0,0)),\"\")","v":""},{"$f":"IFERROR((-IPMT((C328-'КАЛЬКУЛЯТОР 1'!$P$1)/12,B328,IF(C328=КАЛЬКУЛЯТОР!$C$21,$E$2,$E$2-$E$3),IF(C328=КАЛЬКУЛЯТОР!$C$21,$I$11,$I$11-SUMIF($A$12:$A$371,\"<=\"&$E$3,$H$12:$H$371)),0,0)),\"\")","v":""},{"$f":"IFERROR((-PPMT(C328/12,B328,IF(C328=КАЛЬКУЛЯТОР!$C$21,$E$2,$E$2-$E$3),IF(C328=КАЛЬКУЛЯТОР!$C$21,$I$11,$I$11-SUMIF($A$12:$A$371,\"<=\"&$E$3,$H$12:$H$371)),0,0)),\"\")","v":""},"",{"$error":"#VALUE!"},null,{"$error":"#VALUE!"},{"$error":"#VALUE!"},{"$error":"#VALUE!"},{"$error":"#VALUE!"},false]
[318,318,{"$f":"IF(A329<=$E$3,КАЛЬКУЛЯТОР!$C$21,IF(AND(A329>$E$3,A329<=$E$2),$E$4,\"\"))","v":""},{"$f":"IF(A329<=$E$2,-PMT(C329/12,IF(C329=КАЛЬКУЛЯТОР!$C$21,$E$2,$E$2-$E$3),IF(C329=КАЛЬКУЛЯТОР!$C$21,$I$11,$I$11-SUMIF($A$12:$A$371,\"<=\"&$E$3,$H$12:$H$371)),0,0),\"\")","v":""},null,{"$f":"IFERROR((-IPMT(C329/12,B329,IF(C329=КАЛЬКУЛЯТОР!$C$21,$E$2,$E$2-$E$3),IF(C329=КАЛЬКУЛЯТОР!$C$21,$I$11,$I$11-SUMIF($A$12:$A$371,\"<=\"&$E$3,$H$12:$H$371)),0,0)),\"\")","v":""},{"$f":"IFERROR((-IPMT((C329-'КАЛЬКУЛЯТОР 1'!$P$1)/12,B329,IF(C329=КАЛЬКУЛЯТОР!$C$21,$E$2,$E$2-$E$3),IF(C329=КАЛЬКУЛЯТОР!$C$21,$I$11,$I$11-SUMIF($A$12:$A$371,\"<=\"&$E$3,$H$12:$H$371)),0,0)),\"\")","v":""},{"$f":"IFERROR((-PPMT(C329/12,B329,IF(C329=КАЛЬКУЛЯТОР!$C$21,$E$2,$E$2-$E$3),IF(C329=КАЛЬКУЛЯТОР!$C$21,$I$11,$I$11-SUMIF($A$12:$A$371,\"<=\"&$E$3,$H$12:$H$371)),0,0)),\"\")","v":""},"",{"$error":"#VALUE!"},null,{"$error":"#VALUE!"},{"$error":"#VALUE!"},{"$error":"#VALUE!"},{"$error":"#VALUE!"},false]
[319,319,{"$f":"IF(A330<=$E$3,КАЛЬКУЛЯТОР!$C$21,IF(AND(A330>$E$3,A330<=$E$2),$E$4,\"\"))","v":""},{"$f":"IF(A330<=$E$2,-PMT(C330/12,IF(C330=КАЛЬКУЛЯТОР!$C$21,$E$2,$E$2-$E$3),IF(C330=КАЛЬКУЛЯТОР!$C$21,$I$11,$I$11-SUMIF($A$12:$A$371,\"<=\"&$E$3,$H$12:$H$371)),0,0),\"\")","v":""},null,{"$f":"IFERROR((-IPMT(C330/12,B330,IF(C330=КАЛЬКУЛЯТОР!$C$21,$E$2,$E$2-$E$3),IF(C330=КАЛЬКУЛЯТОР!$C$21,$I$11,$I$11-SUMIF($A$12:$A$371,\"<=\"&$E$3,$H$12:$H$371)),0,0)),\"\")","v":""},{"$f":"IFERROR((-IPMT((C330-'КАЛЬКУЛЯТОР 1'!$P$1)/12,B330,IF(C330=КАЛЬКУЛЯТОР!$C$21,$E$2,$E$2-$E$3),IF(C330=КАЛЬКУЛЯТОР!$C$21,$I$11,$I$11-SUMIF($A$12:$A$371,\"<=\"&$E$3,$H$12:$H$371)),0,0)),\"\")","v":""},{"$f":"IFERROR((-PPMT(C330/12,B330,IF(C330=КАЛЬКУЛЯТОР!$C$21,$E$2,$E$2-$E$3),IF(C330=КАЛЬКУЛЯТОР!$C$21,$I$11,$I$11-SUMIF($A$12:$A$371,\"<=\"&$E$3,$H$12:$H$371)),0,0)),\"\")","v":""},"",{"$error":"#VALUE!"},null,{"$error":"#VALUE!"},{"$error":"#VALUE!"},{"$error":"#VALUE!"},{"$error":"#VALUE!"},false]
[320,320,{"$f":"IF(A331<=$E$3,КАЛЬКУЛЯТОР!$C$21,IF(AND(A331>$E$3,A331<=$E$2),$E$4,\"\"))","v":""},{"$f":"IF(A331<=$E$2,-PMT(C331/12,IF(C331=КАЛЬКУЛЯТОР!$C$21,$E$2,$E$2-$E$3),IF(C331=КАЛЬКУЛЯТОР!$C$21,$I$11,$I$11-SUMIF($A$12:$A$371,\"<=\"&$E$3,$H$12:$H$371)),0,0),\"\")","v":""},null,{"$f":"IFERROR((-IPMT(C331/12,B331,IF(C331=КАЛЬКУЛЯТОР!$C$21,$E$2,$E$2-$E$3),IF(C331=КАЛЬКУЛЯТОР!$C$21,$I$11,$I$11-SUMIF($A$12:$A$371,\"<=\"&$E$3,$H$12:$H$371)),0,0)),\"\")","v":""},{"$f":"IFERROR((-IPMT((C331-'КАЛЬКУЛЯТОР 1'!$P$1)/12,B331,IF(C331=КАЛЬКУЛЯТОР!$C$21,$E$2,$E$2-$E$3),IF(C331=КАЛЬКУЛЯТОР!$C$21,$I$11,$I$11-SUMIF($A$12:$A$371,\"<=\"&$E$3,$H$12:$H$371)),0,0)),\"\")","v":""},{"$f":"IFERROR((-PPMT(C331/12,B331,IF(C331=КАЛЬКУЛЯТОР!$C$21,$E$2,$E$2-$E$3),IF(C331=КАЛЬКУЛЯТОР!$C$21,$I$11,$I$11-SUMIF($A$12:$A$371,\"<=\"&$E$3,$H$12:$H$371)),0,0)),\"\")","v":""},"",{"$error":"#VALUE!"},null,{"$error":"#VALUE!"},{"$error":"#VALUE!"},{"$error":"#VALUE!"},{"$error":"#VALUE!"},false]
[321,321,{"$f":"IF(A332<=$E$3,КАЛЬКУЛЯТОР!$C$21,IF(AND(A332>$E$3,A332<=$E$2),$E$4,\"\"))","v":""},{"$f":"IF(A332<=$E$2,-PMT(C332/12,IF(C332=КАЛЬКУЛЯТОР!$C$21,$E$2,$E$2-$E$3),IF(C332=КАЛЬКУЛЯТОР!$C$21,$I$11,$I$11-SUMIF($A$12:$A$371,\"<=\"&$E$3,$H$12:$H$371)),0,0),\"\")","v":""},null,{"$f":"IFERROR((-IPMT(C332/12,B332,IF(C332=КАЛЬКУЛЯТОР!$C$21,$E$2,$E$2-$E$3),IF(C332=КАЛЬКУЛЯТОР!$C$21,$I$11,$I$11-SUMIF($A$12:$A$371,\"<=\"&$E$3,$H$12:$H$371)),0,0)),\"\")","v":""},{"$f":"IFERROR((-IPMT((C332-'КАЛЬКУЛЯТОР 1'!$P$1)/12,B332,IF(C332=КАЛЬКУЛЯТОР!$C$21,$E$2,$E$2-$E$3),IF(C332=КАЛЬКУЛЯТОР!$C$21,$I$11,$I$11-SUMIF($A$12:$A$371,\"<=\"&$E$3,$H$12:$H$371)),0,0)),\"\")","v":""},{"$f":"IFERROR((-PPMT(C332/12,B332,IF(C332=КАЛЬКУЛЯТОР!$C$21,$E$2,$E$2-$E$3),IF(C332=КАЛЬКУЛЯТОР!$C$21,$I$11,$I$11-SUMIF($A$12:$A$371,\"<=\"&$E$3,$H$12:$H$371)),0,0)),\"\")","v":""},{"$f":"IFERROR(I331-H332,\"\")","v":""},{"$f":"PV($E$5/12,A332-1,0,-D332)","v":{"$error":"#VALUE!"}},null,{"$f":"PV($E$5/12,A332-1,0,-F332)","v":{"$error":"#VALUE!"}},{"$f":"PV($E$5/12,A332-1,0,-G332)","v":{"$error":"#VALUE!"}},{"$f":"PV($E$5/12,A332-1,0,-H332)","v":{"$error":"#VALUE!"}},{"$f":"O331-N332","v":{"$error":"#VALUE!"}},{"$f":"AND(A332<=$E$3)","v":false}]
[322,{"$f":"ROUND(IF(P333=$P$12,B332+1,A333-$E$3),0)","v":322},{"$f":"IF(A333<=$E$3,КАЛЬКУЛЯТОР!$C$21,IF(AND(A333>$E$3,A333<=$E$2),$E$4,\"\"))","v":""},{"$f":"IF(A333<=$E$2,-PMT(C333/12,IF(C333=КАЛЬКУЛЯТОР!$C$21,$E$2,$E$2-$E$3),IF(C333=КАЛЬКУЛЯТОР!$C$21,$I$11,$I$11-SUMIF($A$12:$A$371,\"<=\"&$E$3,$H$12:$H$371)),0,0),\"\")","v":""},null,{"$f":"IFERROR((-IPMT(C333/12,B333,IF(C333=КАЛЬКУЛЯТОР!$C$21,$E$2,$E$2-$E$3),IF(C333=КАЛЬКУЛЯТОР!$C$21,$I$11,$I$11-SUMIF($A$12:$A$371,\"<=\"&$E$3,$H$12:$H$371)),0,0)),\"\")","v":""},{"$f":"IFERROR((-IPMT((C333-'КАЛЬКУЛЯТОР 1'!$P$1)/12,B333,IF(C333=КАЛЬКУЛЯТОР!$C$21,$E$2,$E$2-$E$3),IF(C333=КАЛЬКУЛЯТОР!$C$21,$I$11,$I$11-SUMIF($A$12:$A$371,\"<=\"&$E$3,$H$12:$H$371)),0,0)),\"\")","v":""},{"$f":"IFERROR((-PPMT(C333/12,B333,IF(C333=КАЛЬКУЛЯТОР!$C$21,$E$2,$E$2-$E$3),IF(C333=КАЛЬКУЛЯТОР!$C$21,$I$11,$I$11-SUMIF($A$12:$A$371,\"<=\"&$E$3,$H$12:$H$371)),0,0)),\"\")","v":""},"",{"$error":"#VALUE!"},null,{"$error":"#VALUE!"},{"$error":"#VALUE!"},{"$error":"#VALUE!"},{"$error":"#VALUE!"},false]
[323,323,{"$f":"IF(A334<=$E$3,КАЛЬКУЛЯТОР!$C$21,IF(AND(A334>$E$3,A334<=$E$2),$E$4,\"\"))","v":""},{"$f":"IF(A334<=$E$2,-PMT(C334/12,IF(C334=КАЛЬКУЛЯТОР!$C$21,$E$2,$E$2-$E$3),IF(C334=КАЛЬКУЛЯТОР!$C$21,$I$11,$I$11-SUMIF($A$12:$A$371,\"<=\"&$E$3,$H$12:$H$371)),0,0),\"\")","v":""},null,{"$f":"IFERROR((-IPMT(C334/12,B334,IF(C334=КАЛЬКУЛЯТОР!$C$21,$E$2,$E$2-$E$3),IF(C334=КАЛЬКУЛЯТОР!$C$21,$I$11,$I$11-SUMIF($A$12:$A$371,\"<=\"&$E$3,$H$12:$H$371)),0,0)),\"\")","v":""},{"$f":"IFERROR((-IPMT((C334-'КАЛЬКУЛЯТОР 1'!$P$1)/12,B334,IF(C334=КАЛЬКУЛЯТОР!$C$21,$E$2,$E$2-$E$3),IF(C334=КАЛЬКУЛЯТОР!$C$21,$I$11,$I$11-SUMIF($A$12:$A$371,\"<=\"&$E$3,$H$12:$H$371)),0,0)),\"\")","v":""},{"$f":"IFERROR((-PPMT(C334/12,B334,IF(C334=КАЛЬКУЛЯТОР!$C$21,$E$2,$E$2-$E$3),IF(C334=КАЛЬКУЛЯТОР!$C$21,$I$11,$I$11-SUMIF($A$12:$A$371,\"<=\"&$E$3,$H$12:$H$371)),0,0)),\"\")","v":""},"",{"$error":"#VALUE!"},null,{"$error":"#VALUE!"},{"$error":"#VALUE!"},{"$error":"#VALUE!"},{"$error":"#VALUE!"},false]
[324,324,{"$f":"IF(A335<=$E$3,КАЛЬКУЛЯТОР!$C$21,IF(AND(A335>$E$3,A335<=$E$2),$E$4,\"\"))","v":""},{"$f":"IF(A335<=$E$2,-PMT(C335/12,IF(C335=КАЛЬКУЛЯТОР!$C$21,$E$2,$E$2-$E$3),IF(C335=КАЛЬКУЛЯТОР!$C$21,$I$11,$I$11-SUMIF($A$12:$A$371,\"<=\"&$E$3,$H$12:$H$371)),0,0),\"\")","v":""},null,{"$f":"IFERROR((-IPMT(C335/12,B335,IF(C335=КАЛЬКУЛЯТОР!$C$21,$E$2,$E$2-$E$3),IF(C335=КАЛЬКУЛЯТОР!$C$21,$I$11,$I$11-SUMIF($A$12:$A$371,\"<=\"&$E$3,$H$12:$H$371)),0,0)),\"\")","v":""},{"$f":"IFERROR((-IPMT((C335-'КАЛЬКУЛЯТОР 1'!$P$1)/12,B335,IF(C335=КАЛЬКУЛЯТОР!$C$21,$E$2,$E$2-$E$3),IF(C335=КАЛЬКУЛЯТОР!$C$21,$I$11,$I$11-SUMIF($A$12:$A$371,\"<=\"&$E$3,$H$12:$H$371)),0,0)),\"\")","v":""},{"$f":"IFERROR((-PPMT(C335/12,B335,IF(C335=КАЛЬКУЛЯТОР!$C$21,$E$2,$E$2-$E$3),IF(C335=КАЛЬКУЛЯТОР!$C$21,$I$11,$I$11-SUMIF($A$12:$A$371,\"<=\"&$E$3,$H$12:$H$371)),0,0)),\"\")","v":""},"",{"$error":"#VALUE!"},null,{"$error":"#VALUE!"},{"$error":"#VALUE!"},{"$error":"#VALUE!"},{"$error":"#VALUE!"},false]
[325,325,{"$f":"IF(A336<=$E$3,КАЛЬКУЛЯТОР!$C$21,IF(AND(A336>$E$3,A336<=$E$2),$E$4,\"\"))","v":""},{"$f":"IF(A336<=$E$2,-PMT(C336/12,IF(C336=КАЛЬКУЛЯТОР!$C$21,$E$2,$E$2-$E$3),IF(C336=КАЛЬКУЛЯТОР!$C$21,$I$11,$I$11-SUMIF($A$12:$A$371,\"<=\"&$E$3,$H$12:$H$371)),0,0),\"\")","v":""},{"$f":"IF($E$2>$A335,(I335+SUM(F336:F347))*($K$4+$K$5),0)","v":{"v":0,"d":"0.00"}},{"$f":"IFERROR((-IPMT(C336/12,B336,IF(C336=КАЛЬКУЛЯТОР!$C$21,$E$2,$E$2-$E$3),IF(C336=КАЛЬКУЛЯТОР!$C$21,$I$11,$I$11-SUMIF($A$12:$A$371,\"<=\"&$E$3,$H$12:$H$371)),0,0)),\"\")","v":""},{"$f":"IFERROR((-IPMT((C336-'КАЛЬКУЛЯТОР 1'!$P$1)/12,B336,IF(C336=КАЛЬКУЛЯТОР!$C$21,$E$2,$E$2-$E$3),IF(C336=КАЛЬКУЛЯТОР!$C$21,$I$11,$I$11-SUMIF($A$12:$A$371,\"<=\"&$E$3,$H$12:$H$371)),0,0)),\"\")","v":""},{"$f":"IFERROR((-PPMT(C336/12,B336,IF(C336=КАЛЬКУЛЯТОР!$C$21,$E$2,$E$2-$E$3),IF(C336=КАЛЬКУЛЯТОР!$C$21,$I$11,$I$11-SUMIF($A$12:$A$371,\"<=\"&$E$3,$H$12:$H$371)),0,0)),\"\")","v":""},"",{"$error":"#VALUE!"},{"$f":"PV($E$5/12,A336-1,0,-E336)","v":{"v":0,"d":"0.00"}},{"$error":"#VALUE!"},{"$error":"#VALUE!"},{"$error":"#VALUE!"},{"$error":"#VALUE!"},false]
[326,326,{"$f":"IF(A337<=$E$3,КАЛЬКУЛЯТОР!$C$21,IF(AND(A337>$E$3,A337<=$E$2),$E$4,\"\"))","v":""},{"$f":"IF(A337<=$E$2,-PMT(C337/12,IF(C337=КАЛЬКУЛЯТОР!$C$21,$E$2,$E$2-$E$3),IF(C337=КАЛЬКУЛЯТОР!$C$21,$I$11,$I$11-SUMIF($A$12:$A$371,\"<=\"&$E$3,$H$12:$H$371)),0,0),\"\")","v":""},null,{"$f":"IFERROR((-IPMT(C337/12,B337,IF(C337=КАЛЬКУЛЯТОР!$C$21,$E$2,$E$2-$E$3),IF(C337=КАЛЬКУЛЯТОР!$C$21,$I$11,$I$11-SUMIF($A$12:$A$371,\"<=\"&$E$3,$H$12:$H$371)),0,0)),\"\")","v":""},{"$f":"IFERROR((-IPMT((C337-'КАЛЬКУЛЯТОР 1'!$P$1)/12,B337,IF(C337=КАЛЬКУЛЯТОР!$C$21,$E$2,$E$2-$E$3),IF(C337=КАЛЬКУЛЯТОР!$C$21,$I$11,$I$11-SUMIF($A$12:$A$371,\"<=\"&$E$3,$H$12:$H$371)),0,0)),\"\")","v":""},{"$f":"IFERROR((-PPMT(C337/12,B337,IF(C337=КАЛЬКУЛЯТОР!$C$21,$E$2,$E$2-$E$3),IF(C337=КАЛЬКУЛЯТОР!$C$21,$I$11,$I$11-SUMIF($A$12:$A$371,\"<=\"&$E$3,$H$12:$H$371)),0,0)),\"\")","v":""},"",{"$error":"#VALUE!"},null,{"$error":"#VALUE!"},{"$error":"#VALUE!"},{"$error":"#VALUE!"},{"$error":"#VALUE!"},false]
[327,327,{"$f":"IF(A338<=$E$3,КАЛЬКУЛЯТОР!$C$21,IF(AND(A338>$E$3,A338<=$E$2),$E$4,\"\"))","v":""},{"$f":"IF(A338<=$E$2,-PMT(C338/12,IF(C338=КАЛЬКУЛЯТОР!$C$21,$E$2,$E$2-$E$3),IF(C338=КАЛЬКУЛЯТОР!$C$21,$I$11,$I$11-SUMIF($A$12:$A$371,\"<=\"&$E$3,$H$12:$H$371)),0,0),\"\")","v":""},null,{"$f":"IFERROR((-IPMT(C338/12,B338,IF(C338=КАЛЬКУЛЯТОР!$C$21,$E$2,$E$2-$E$3),IF(C338=КАЛЬКУЛЯТОР!$C$21,$I$11,$I$11-SUMIF($A$12:$A$371,\"<=\"&$E$3,$H$12:$H$371)),0,0)),\"\")","v":""},{"$f":"IFERROR((-IPMT((C338-'КАЛЬКУЛЯТОР 1'!$P$1)/12,B338,IF(C338=КАЛЬКУЛЯТОР!$C$21,$E$2,$E$2-$E$3),IF(C338=КАЛЬКУЛЯТОР!$C$21,$I$11,$I$11-SUMIF($A$12:$A$371,\"<=\"&$E$3,$H$12:$H$371)),0,0)),\"\")","v":""},{"$f":"IFERROR((-PPMT(C338/12,B338,IF(C338=КАЛЬКУЛЯТОР!$C$21,$E$2,$E$2-$E$3),IF(C338=КАЛЬКУЛЯТОР!$C$21,$I$11,$I$11-SUMIF($A$12:$A$371,\"<=\"&$E$3,$H$12:$H$371)),0,0)),\"\")","v":""},"",{"$error":"#VALUE!"},null,{"$error":"#VALUE!"},{"$error":"#VALUE!"},{"$error":"#VALUE!"},{"$error":"#VALUE!"},false]
[328,328,{"$f":"IF(A339<=$E$3,КАЛЬКУЛЯТОР!$C$21,IF(AND(A339>$E$3,A339<=$E$2),$E$4,\"\"))","v":""},{"$f":"IF(A339<=$E$2,-PMT(C339/12,IF(C339=КАЛЬКУЛЯТОР!$C$21,$E$2,$E$2-$E$3),IF(C339=КАЛЬКУЛЯТОР!$C$21,$I$11,$I$11-SUMIF($A$12:$A$371,\"<=\"&$E$3,$H$12:$H$371)),0,0),\"\")","v":""},null,{"$f":"IFERROR((-IPMT(C339/12,B339,IF(C339=КАЛЬКУЛЯТОР!$C$21,$E$2,$E$2-$E$3),IF(C339=КАЛЬКУЛЯТОР!$C$21,$I$11,$I$11-SUMIF($A$12:$A$371,\"<=\"&$E$3,$H$12:$H$371)),0,0)),\"\")","v":""},{"$f":"IFERROR((-IPMT((C339-'КАЛЬКУЛЯТОР 1'!$P$1)/12,B339,IF(C339=КАЛЬКУЛЯТОР!$C$21,$E$2,$E$2-$E$3),IF(C339=КАЛЬКУЛЯТОР!$C$21,$I$11,$I$11-SUMIF($A$12:$A$371,\"<=\"&$E$3,$H$12:$H$371)),0,0)),\"\")","v":""},{"$f":"IFERROR((-PPMT(C339/12,B339,IF(C339=КАЛЬКУЛЯТОР!$C$21,$E$2,$E$2-$E$3),IF(C339=КАЛЬКУЛЯТОР!$C$21,$I$11,$I$11-SUMIF($A$12:$A$371,\"<=\"&$E$3,$H$12:$H$371)),0,0)),\"\")","v":""},"",{"$error":"#VALUE!"},null,{"$error":"#VALUE!"},{"$error":"#VALUE!"},{"$error":"#VALUE!"},{"$error":"#VALUE!"},false]
[329,329,{"$f":"IF(A340<=$E$3,КАЛЬКУЛЯТОР!$C$21,IF(AND(A340>$E$3,A340<=$E$2),$E$4,\"\"))","v":""},{"$f":"IF(A340<=$E$2,-PMT(C340/12,IF(C340=КАЛЬКУЛЯТОР!$C$21,$E$2,$E$2-$E$3),IF(C340=КАЛЬКУЛЯТОР!$C$21,$I$11,$I$11-SUMIF($A$12:$A$371,\"<=\"&$E$3,$H$12:$H$371)),0,0),\"\")","v":""},null,{"$f":"IFERROR((-IPMT(C340/12,B340,IF(C340=КАЛЬКУЛЯТОР!$C$21,$E$2,$E$2-$E$3),IF(C340=КАЛЬКУЛЯТОР!$C$21,$I$11,$I$11-SUMIF($A$12:$A$371,\"<=\"&$E$3,$H$12:$H$371)),0,0)),\"\")","v":""},{"$f":"IFERROR((-IPMT((C340-'КАЛЬКУЛЯТОР 1'!$P$1)/12,B340,IF(C340=КАЛЬКУЛЯТОР!$C$21,$E$2,$E$2-$E$3),IF(C340=КАЛЬКУЛЯТОР!$C$21,$I$11,$I$11-SUMIF($A$12:$A$371,\"<=\"&$E$3,$H$12:$H$371)),0,0)),\"\")","v":""},{"$f":"IFERROR((-PPMT(C340/12,B340,IF(C340=КАЛЬКУЛЯТОР!$C$21,$E$2,$E$2-$E$3),IF(C340=КАЛЬКУЛЯТОР!$C$21,$I$11,$I$11-SUMIF($A$12:$A$371,\"<=\"&$E$3,$H$12:$H$371)),0,0)),\"\")","v":""},"",{"$error":"#VALUE!"},null,{"$error":"#VALUE!"},{"$error":"#VALUE!"},{"$error":"#VALUE!"},{"$error":"#VALUE!"},false]
[330,330,{"$f":"IF(A341<=$E$3,КАЛЬКУЛЯТОР!$C$21,IF(AND(A341>$E$3,A341<=$E$2),$E$4,\"\"))","v":""},{"$f":"IF(A341<=$E$2,-PMT(C341/12,IF(C341=КАЛЬКУЛЯТОР!$C$21,$E$2,$E$2-$E$3),IF(C341=КАЛЬКУЛЯТОР!$C$21,$I$11,$I$11-SUMIF($A$12:$A$371,\"<=\"&$E$3,$H$12:$H$371)),0,0),\"\")","v":""},null,{"$f":"IFERROR((-IPMT(C341/12,B341,IF(C341=КАЛЬКУЛЯТОР!$C$21,$E$2,$E$2-$E$3),IF(C341=КАЛЬКУЛЯТОР!$C$21,$I$11,$I$11-SUMIF($A$12:$A$371,\"<=\"&$E$3,$H$12:$H$371)),0,0)),\"\")","v":""},{"$f":"IFERROR((-IPMT((C341-'КАЛЬКУЛЯТОР 1'!$P$1)/12,B341,IF(C341=КАЛЬКУЛЯТОР!$C$21,$E$2,$E$2-$E$3),IF(C341=КАЛЬКУЛЯТОР!$C$21,$I$11,$I$11-SUMIF($A$12:$A$371,\"<=\"&$E$3,$H$12:$H$371)),0,0)),\"\")","v":""},{"$f":"IFERROR((-PPMT(C341/12,B341,IF(C341=КАЛЬКУЛЯТОР!$C$21,$E$2,$E$2-$E$3),IF(C341=КАЛЬКУЛЯТОР!$C$21,$I$11,$I$11-SUMIF($A$12:$A$371,\"<=\"&$E$3,$H$12:$H$371)),0,0)),\"\")","v":""},"",{"$error":"#VALUE!"},null,{"$error":"#VALUE!"},{"$error":"#VALUE!"},{"$error":"#VALUE!"},{"$error":"#VALUE!"},false]
[331,331,{"$f":"IF(A342<=$E$3,КАЛЬКУЛЯТОР!$C$21,IF(AND(A342>$E$3,A342<=$E$2),$E$4,\"\"))","v":""},{"$f":"IF(A342<=$E$2,-PMT(C342/12,IF(C342=КАЛЬКУЛЯТОР!$C$21,$E$2,$E$2-$E$3),IF(C342=КАЛЬКУЛЯТОР!$C$21,$I$11,$I$11-SUMIF($A$12:$A$371,\"<=\"&$E$3,$H$12:$H$371)),0,0),\"\")","v":""},null,{"$f":"IFERROR((-IPMT(C342/12,B342,IF(C342=КАЛЬКУЛЯТОР!$C$21,$E$2,$E$2-$E$3),IF(C342=КАЛЬКУЛЯТОР!$C$21,$I$11,$I$11-SUMIF($A$12:$A$371,\"<=\"&$E$3,$H$12:$H$371)),0,0)),\"\")","v":""},{"$f":"IFERROR((-IPMT((C342-'КАЛЬКУЛЯТОР 1'!$P$1)/12,B342,IF(C342=КАЛЬКУЛЯТОР!$C$21,$E$2,$E$2-$E$3),IF(C342=КАЛЬКУЛЯТОР!$C$21,$I$11,$I$11-SUMIF($A$12:$A$371,\"<=\"&$E$3,$H$12:$H$371)),0,0)),\"\")","v":""},{"$f":"IFERROR((-PPMT(C342/12,B342,IF(C342=КАЛЬКУЛЯТОР!$C$21,$E$2,$E$2-$E$3),IF(C342=КАЛЬКУЛЯТОР!$C$21,$I$11,$I$11-SUMIF($A$12:$A$371,\"<=\"&$E$3,$H$12:$H$371)),0,0)),\"\")","v":""},"",{"$error":"#VALUE!"},null,{"$error":"#VALUE!"},{"$error":"#VALUE!"},{"$error":"#VALUE!"},{"$error":"#VALUE!"},false]
[332,332,{"$f":"IF(A343<=$E$3,КАЛЬКУЛЯТОР!$C$21,IF(AND(A343>$E$3,A343<=$E$2),$E$4,\"\"))","v":""},{"$f":"IF(A343<=$E$2,-PMT(C343/12,IF(C343=КАЛЬКУЛЯТОР!$C$21,$E$2,$E$2-$E$3),IF(C343=КАЛЬКУЛЯТОР!$C$21,$I$11,$I$11-SUMIF($A$12:$A$371,\"<=\"&$E$3,$H$12:$H$371)),0,0),\"\")","v":""},null,{"$f":"IFERROR((-IPMT(C343/12,B343,IF(C343=КАЛЬКУЛЯТОР!$C$21,$E$2,$E$2-$E$3),IF(C343=КАЛЬКУЛЯТОР!$C$21,$I$11,$I$11-SUMIF($A$12:$A$371,\"<=\"&$E$3,$H$12:$H$371)),0,0)),\"\")","v":""},{"$f":"IFERROR((-IPMT((C343-'КАЛЬКУЛЯТОР 1'!$P$1)/12,B343,IF(C343=КАЛЬКУЛЯТОР!$C$21,$E$2,$E$2-$E$3),IF(C343=КАЛЬКУЛЯТОР!$C$21,$I$11,$I$11-SUMIF($A$12:$A$371,\"<=\"&$E$3,$H$12:$H$371)),0,0)),\"\")","v":""},{"$f":"IFERROR((-PPMT(C343/12,B343,IF(C343=КАЛЬКУЛЯТОР!$C$21,$E$2,$E$2-$E$3),IF(C343=КАЛЬКУЛЯТОР!$C$21,$I$11,$I$11-SUMIF($A$12:$A$371,\"<=\"&$E$3,$H$12:$H$371)),0,0)),\"\")","v":""},"",{"$error":"#VALUE!"},null,{"$error":"#VALUE!"},{"$error":"#VALUE!"},{"$error":"#VALUE!"},{"$error":"#VALUE!"},false]
[333,333,{"$f":"IF(A344<=$E$3,КАЛЬКУЛЯТОР!$C$21,IF(AND(A344>$E$3,A344<=$E$2),$E$4,\"\"))","v":""},{"$f":"IF(A344<=$E$2,-PMT(C344/12,IF(C344=КАЛЬКУЛЯТОР!$C$21,$E$2,$E$2-$E$3),IF(C344=КАЛЬКУЛЯТОР!$C$21,$I$11,$I$11-SUMIF($A$12:$A$371,\"<=\"&$E$3,$H$12:$H$371)),0,0),\"\")","v":""},null,{"$f":"IFERROR((-IPMT(C344/12,B344,IF(C344=КАЛЬКУЛЯТОР!$C$21,$E$2,$E$2-$E$3),IF(C344=КАЛЬКУЛЯТОР!$C$21,$I$11,$I$11-SUMIF($A$12:$A$371,\"<=\"&$E$3,$H$12:$H$371)),0,0)),\"\")","v":""},{"$f":"IFERROR((-IPMT((C344-'КАЛЬКУЛЯТОР 1'!$P$1)/12,B344,IF(C344=КАЛЬКУЛЯТОР!$C$21,$E$2,$E$2-$E$3),IF(C344=КАЛЬКУЛЯТОР!$C$21,$I$11,$I$11-SUMIF($A$12:$A$371,\"<=\"&$E$3,$H$12:$H$371)),0,0)),\"\")","v":""},{"$f":"IFERROR((-PPMT(C344/12,B344,IF(C344=КАЛЬКУЛЯТОР!$C$21,$E$2,$E$2-$E$3),IF(C344=КАЛЬКУЛЯТОР!$C$21,$I$11,$I$11-SUMIF($A$12:$A$371,\"<=\"&$E$3,$H$12:$H$371)),0,0)),\"\")","v":""},"",{"$error":"#VALUE!"},null,{"$error":"#VALUE!"},{"$error":"#VALUE!"},{"$error":"#VALUE!"},{"$error":"#VALUE!"},false]
[334,334,{"$f":"IF(A345<=$E$3,КАЛЬКУЛЯТОР!$C$21,IF(AND(A345>$E$3,A345<=$E$2),$E$4,\"\"))","v":""},{"$f":"IF(A345<=$E$2,-PMT(C345/12,IF(C345=КАЛЬКУЛЯТОР!$C$21,$E$2,$E$2-$E$3),IF(C345=КАЛЬКУЛЯТОР!$C$21,$I$11,$I$11-SUMIF($A$12:$A$371,\"<=\"&$E$3,$H$12:$H$371)),0,0),\"\")","v":""},null,{"$f":"IFERROR((-IPMT(C345/12,B345,IF(C345=КАЛЬКУЛЯТОР!$C$21,$E$2,$E$2-$E$3),IF(C345=КАЛЬКУЛЯТОР!$C$21,$I$11,$I$11-SUMIF($A$12:$A$371,\"<=\"&$E$3,$H$12:$H$371)),0,0)),\"\")","v":""},{"$f":"IFERROR((-IPMT((C345-'КАЛЬКУЛЯТОР 1'!$P$1)/12,B345,IF(C345=КАЛЬКУЛЯТОР!$C$21,$E$2,$E$2-$E$3),IF(C345=КАЛЬКУЛЯТОР!$C$21,$I$11,$I$11-SUMIF($A$12:$A$371,\"<=\"&$E$3,$H$12:$H$371)),0,0)),\"\")","v":""},{"$f":"IFERROR((-PPMT(C345/12,B345,IF(C345=КАЛЬКУЛЯТОР!$C$21,$E$2,$E$2-$E$3),IF(C345=КАЛЬКУЛЯТОР!$C$21,$I$11,$I$11-SUMIF($A$12:$A$371,\"<=\"&$E$3,$H$12:$H$371)),0,0)),\"\")","v":""},"",{"$error":"#VALUE!"},null,{"$error":"#VALUE!"},{"$error":"#VALUE!"},{"$error":"#VALUE!"},{"$error":"#VALUE!"},false]
[335,335,{"$f":"IF(A346<=$E$3,КАЛЬКУЛЯТОР!$C$21,IF(AND(A346>$E$3,A346<=$E$2),$E$4,\"\"))","v":""},{"$f":"IF(A346<=$E$2,-PMT(C346/12,IF(C346=КАЛЬКУЛЯТОР!$C$21,$E$2,$E$2-$E$3),IF(C346=КАЛЬКУЛЯТОР!$C$21,$I$11,$I$11-SUMIF($A$12:$A$371,\"<=\"&$E$3,$H$12:$H$371)),0,0),\"\")","v":""},null,{"$f":"IFERROR((-IPMT(C346/12,B346,IF(C346=КАЛЬКУЛЯТОР!$C$21,$E$2,$E$2-$E$3),IF(C346=КАЛЬКУЛЯТОР!$C$21,$I$11,$I$11-SUMIF($A$12:$A$371,\"<=\"&$E$3,$H$12:$H$371)),0,0)),\"\")","v":""},{"$f":"IFERROR((-IPMT((C346-'КАЛЬКУЛЯТОР 1'!$P$1)/12,B346,IF(C346=КАЛЬКУЛЯТОР!$C$21,$E$2,$E$2-$E$3),IF(C346=КАЛЬКУЛЯТОР!$C$21,$I$11,$I$11-SUMIF($A$12:$A$371,\"<=\"&$E$3,$H$12:$H$371)),0,0)),\"\")","v":""},{"$f":"IFERROR((-PPMT(C346/12,B346,IF(C346=КАЛЬКУЛЯТОР!$C$21,$E$2,$E$2-$E$3),IF(C346=КАЛЬКУЛЯТОР!$C$21,$I$11,$I$11-SUMIF($A$12:$A$371,\"<=\"&$E$3,$H$12:$H$371)),0,0)),\"\")","v":""},"",{"$error":"#VALUE!"},null,{"$error":"#VALUE!"},{"$error":"#VALUE!"},{"$error":"#VALUE!"},{"$error":"#VALUE!"},false]
[336,336,{"$f":"IF(A347<=$E$3,КАЛЬКУЛЯТОР!$C$21,IF(AND(A347>$E$3,A347<=$E$2),$E$4,\"\"))","v":""},{"$f":"IF(A347<=$E$2,-PMT(C347/12,IF(C347=КАЛЬКУЛЯТОР!$C$21,$E$2,$E$2-$E$3),IF(C347=КАЛЬКУЛЯТОР!$C$21,$I$11,$I$11-SUMIF($A$12:$A$371,\"<=\"&$E$3,$H$12:$H$371)),0,0),\"\")","v":""},null,{"$f":"IFERROR((-IPMT(C347/12,B347,IF(C347=КАЛЬКУЛЯТОР!$C$21,$E$2,$E$2-$E$3),IF(C347=КАЛЬКУЛЯТОР!$C$21,$I$11,$I$11-SUMIF($A$12:$A$371,\"<=\"&$E$3,$H$12:$H$371)),0,0)),\"\")","v":""},{"$f":"IFERROR((-IPMT((C347-'КАЛЬКУЛЯТОР 1'!$P$1)/12,B347,IF(C347=КАЛЬКУЛЯТОР!$C$21,$E$2,$E$2-$E$3),IF(C347=КАЛЬКУЛЯТОР!$C$21,$I$11,$I$11-SUMIF($A$12:$A$371,\"<=\"&$E$3,$H$12:$H$371)),0,0)),\"\")","v":""},{"$f":"IFERROR((-PPMT(C347/12,B347,IF(C347=КАЛЬКУЛЯТОР!$C$21,$E$2,$E$2-$E$3),IF(C347=КАЛЬКУЛЯТОР!$C$21,$I$11,$I$11-SUMIF($A$12:$A$371,\"<=\"&$E$3,$H$12:$H$371)),0,0)),\"\")","v":""},"",{"$error":"#VALUE!"},null,{"$error":"#VALUE!"},{"$error":"#VALUE!"},{"$error":"#VALUE!"},{"$error":"#VALUE!"},false]
[337,337,{"$f":"IF(A348<=$E$3,КАЛЬКУЛЯТОР!$C$21,IF(AND(A348>$E$3,A348<=$E$2),$E$4,\"\"))","v":""},{"$f":"IF(A348<=$E$2,-PMT(C348/12,IF(C348=КАЛЬКУЛЯТОР!$C$21,$E$2,$E$2-$E$3),IF(C348=КАЛЬКУЛЯТОР!$C$21,$I$11,$I$11-SUMIF($A$12:$A$371,\"<=\"&$E$3,$H$12:$H$371)),0,0),\"\")","v":""},{"$f":"IF($E$2>$A347,(I347+SUM(F348:F359))*($K$4+$K$5),0)","v":{"v":0,"d":"0.00"}},{"$f":"IFERROR((-IPMT(C348/12,B348,IF(C348=КАЛЬКУЛЯТОР!$C$21,$E$2,$E$2-$E$3),IF(C348=КАЛЬКУЛЯТОР!$C$21,$I$11,$I$11-SUMIF($A$12:$A$371,\"<=\"&$E$3,$H$12:$H$371)),0,0)),\"\")","v":""},{"$f":"IFERROR((-IPMT((C348-'КАЛЬКУЛЯТОР 1'!$P$1)/12,B348,IF(C348=КАЛЬКУЛЯТОР!$C$21,$E$2,$E$2-$E$3),IF(C348=КАЛЬКУЛЯТОР!$C$21,$I$11,$I$11-SUMIF($A$12:$A$371,\"<=\"&$E$3,$H$12:$H$371)),0,0)),\"\")","v":""},{"$f":"IFERROR((-PPMT(C348/12,B348,IF(C348=КАЛЬКУЛЯТОР!$C$21,$E$2,$E$2-$E$3),IF(C348=КАЛЬКУЛЯТОР!$C$21,$I$11,$I$11-SUMIF($A$12:$A$371,\"<=\"&$E$3,$H$12:$H$371)),0,0)),\"\")","v":""},"",{"$error":"#VALUE!"},{"$f":"PV($E$5/12,A348-1,0,-E348)","v":{"v":0,"d":"0.00"}},{"$error":"#VALUE!"},{"$error":"#VALUE!"},{"$error":"#VALUE!"},{"$error":"#VALUE!"},false]
[338,338,{"$f":"IF(A349<=$E$3,КАЛЬКУЛЯТОР!$C$21,IF(AND(A349>$E$3,A349<=$E$2),$E$4,\"\"))","v":""},{"$f":"IF(A349<=$E$2,-PMT(C349/12,IF(C349=КАЛЬКУЛЯТОР!$C$21,$E$2,$E$2-$E$3),IF(C349=КАЛЬКУЛЯТОР!$C$21,$I$11,$I$11-SUMIF($A$12:$A$371,\"<=\"&$E$3,$H$12:$H$371)),0,0),\"\")","v":""},null,{"$f":"IFERROR((-IPMT(C349/12,B349,IF(C349=КАЛЬКУЛЯТОР!$C$21,$E$2,$E$2-$E$3),IF(C349=КАЛЬКУЛЯТОР!$C$21,$I$11,$I$11-SUMIF($A$12:$A$371,\"<=\"&$E$3,$H$12:$H$371)),0,0)),\"\")","v":""},{"$f":"IFERROR((-IPMT((C349-'КАЛЬКУЛЯТОР 1'!$P$1)/12,B349,IF(C349=КАЛЬКУЛЯТОР!$C$21,$E$2,$E$2-$E$3),IF(C349=КАЛЬКУЛЯТОР!$C$21,$I$11,$I$11-SUMIF($A$12:$A$371,\"<=\"&$E$3,$H$12:$H$371)),0,0)),\"\")","v":""},{"$f":"IFERROR((-PPMT(C349/12,B349,IF(C349=КАЛЬКУЛЯТОР!$C$21,$E$2,$E$2-$E$3),IF(C349=КАЛЬКУЛЯТОР!$C$21,$I$11,$I$11-SUMIF($A$12:$A$371,\"<=\"&$E$3,$H$12:$H$371)),0,0)),\"\")","v":""},"",{"$error":"#VALUE!"},null,{"$error":"#VALUE!"},{"$error":"#VALUE!"},{"$error":"#VALUE!"},{"$error":"#VALUE!"},false]
[339,339,{"$f":"IF(A350<=$E$3,КАЛЬКУЛЯТОР!$C$21,IF(AND(A350>$E$3,A350<=$E$2),$E$4,\"\"))","v":""},{"$f":"IF(A350<=$E$2,-PMT(C350/12,IF(C350=КАЛЬКУЛЯТОР!$C$21,$E$2,$E$2-$E$3),IF(C350=КАЛЬКУЛЯТОР!$C$21,$I$11,$I$11-SUMIF($A$12:$A$371,\"<=\"&$E$3,$H$12:$H$371)),0,0),\"\")","v":""},null,{"$f":"IFERROR((-IPMT(C350/12,B350,IF(C350=КАЛЬКУЛЯТОР!$C$21,$E$2,$E$2-$E$3),IF(C350=КАЛЬКУЛЯТОР!$C$21,$I$11,$I$11-SUMIF($A$12:$A$371,\"<=\"&$E$3,$H$12:$H$371)),0,0)),\"\")","v":""},{"$f":"IFERROR((-IPMT((C350-'КАЛЬКУЛЯТОР 1'!$P$1)/12,B350,IF(C350=КАЛЬКУЛЯТОР!$C$21,$E$2,$E$2-$E$3),IF(C350=КАЛЬКУЛЯТОР!$C$21,$I$11,$I$11-SUMIF($A$12:$A$371,\"<=\"&$E$3,$H$12:$H$371)),0,0)),\"\")","v":""},{"$f":"IFERROR((-PPMT(C350/12,B350,IF(C350=КАЛЬКУЛЯТОР!$C$21,$E$2,$E$2-$E$3),IF(C350=КАЛЬКУЛЯТОР!$C$21,$I$11,$I$11-SUMIF($A$12:$A$371,\"<=\"&$E$3,$H$12:$H$371)),0,0)),\"\")","v":""},"",{"$error":"#VALUE!"},null,{"$error":"#VALUE!"},{"$error":"#VALUE!"},{"$error":"#VALUE!"},{"$error":"#VALUE!"},false]
[340,340,{"$f":"IF(A351<=$E$3,КАЛЬКУЛЯТОР!$C$21,IF(AND(A351>$E$3,A351<=$E$2),$E$4,\"\"))","v":""},{"$f":"IF(A351<=$E$2,-PMT(C351/12,IF(C351=КАЛЬКУЛЯТОР!$C$21,$E$2,$E$2-$E$3),IF(C351=КАЛЬКУЛЯТОР!$C$21,$I$11,$I$11-SUMIF($A$12:$A$371,\"<=\"&$E$3,$H$12:$H$371)),0,0),\"\")","v":""},null,{"$f":"IFERROR((-IPMT(C351/12,B351,IF(C351=КАЛЬКУЛЯТОР!$C$21,$E$2,$E$2-$E$3),IF(C351=КАЛЬКУЛЯТОР!$C$21,$I$11,$I$11-SUMIF($A$12:$A$371,\"<=\"&$E$3,$H$12:$H$371)),0,0)),\"\")","v":""},{"$f":"IFERROR((-IPMT((C351-'КАЛЬКУЛЯТОР 1'!$P$1)/12,B351,IF(C351=КАЛЬКУЛЯТОР!$C$21,$E$2,$E$2-$E$3),IF(C351=КАЛЬКУЛЯТОР!$C$21,$I$11,$I$11-SUMIF($A$12:$A$371,\"<=\"&$E$3,$H$12:$H$371)),0,0)),\"\")","v":""},{"$f":"IFERROR((-PPMT(C351/12,B351,IF(C351=КАЛЬКУЛЯТОР!$C$21,$E$2,$E$2-$E$3),IF(C351=КАЛЬКУЛЯТОР!$C$21,$I$11,$I$11-SUMIF($A$12:$A$371,\"<=\"&$E$3,$H$12:$H$371)),0,0)),\"\")","v":""},"",{"$error":"#VALUE!"},null,{"$error":"#VALUE!"},{"$error":"#VALUE!"},{"$error":"#VALUE!"},{"$error":"#VALUE!"},false]
[341,341,{"$f":"IF(A352<=$E$3,КАЛЬКУЛЯТОР!$C$21,IF(AND(A352>$E$3,A352<=$E$2),$E$4,\"\"))","v":""},{"$f":"IF(A352<=$E$2,-PMT(C352/12,IF(C352=КАЛЬКУЛЯТОР!$C$21,$E$2,$E$2-$E$3),IF(C352=КАЛЬКУЛЯТОР!$C$21,$I$11,$I$11-SUMIF($A$12:$A$371,\"<=\"&$E$3,$H$12:$H$371)),0,0),\"\")","v":""},null,{"$f":"IFERROR((-IPMT(C352/12,B352,IF(C352=КАЛЬКУЛЯТОР!$C$21,$E$2,$E$2-$E$3),IF(C352=КАЛЬКУЛЯТОР!$C$21,$I$11,$I$11-SUMIF($A$12:$A$371,\"<=\"&$E$3,$H$12:$H$371)),0,0)),\"\")","v":""},{"$f":"IFERROR((-IPMT((C352-'КАЛЬКУЛЯТОР 1'!$P$1)/12,B352,IF(C352=КАЛЬКУЛЯТОР!$C$21,$E$2,$E$2-$E$3),IF(C352=КАЛЬКУЛЯТОР!$C$21,$I$11,$I$11-SUMIF($A$12:$A$371,\"<=\"&$E$3,$H$12:$H$371)),0,0)),\"\")","v":""},{"$f":"IFERROR((-PPMT(C352/12,B352,IF(C352=КАЛЬКУЛЯТОР!$C$21,$E$2,$E$2-$E$3),IF(C352=КАЛЬКУЛЯТОР!$C$21,$I$11,$I$11-SUMIF($A$12:$A$371,\"<=\"&$E$3,$H$12:$H$371)),0,0)),\"\")","v":""},"",{"$error":"#VALUE!"},null,{"$error":"#VALUE!"},{"$error":"#VALUE!"},{"$error":"#VALUE!"},{"$error":"#VALUE!"},false]
[342,342,{"$f":"IF(A353<=$E$3,КАЛЬКУЛЯТОР!$C$21,IF(AND(A353>$E$3,A353<=$E$2),$E$4,\"\"))","v":""},{"$f":"IF(A353<=$E$2,-PMT(C353/12,IF(C353=КАЛЬКУЛЯТОР!$C$21,$E$2,$E$2-$E$3),IF(C353=КАЛЬКУЛЯТОР!$C$21,$I$11,$I$11-SUMIF($A$12:$A$371,\"<=\"&$E$3,$H$12:$H$371)),0,0),\"\")","v":""},null,{"$f":"IFERROR((-IPMT(C353/12,B353,IF(C353=КАЛЬКУЛЯТОР!$C$21,$E$2,$E$2-$E$3),IF(C353=КАЛЬКУЛЯТОР!$C$21,$I$11,$I$11-SUMIF($A$12:$A$371,\"<=\"&$E$3,$H$12:$H$371)),0,0)),\"\")","v":""},{"$f":"IFERROR((-IPMT((C353-'КАЛЬКУЛЯТОР 1'!$P$1)/12,B353,IF(C353=КАЛЬКУЛЯТОР!$C$21,$E$2,$E$2-$E$3),IF(C353=КАЛЬКУЛЯТОР!$C$21,$I$11,$I$11-SUMIF($A$12:$A$371,\"<=\"&$E$3,$H$12:$H$371)),0,0)),\"\")","v":""},{"$f":"IFERROR((-PPMT(C353/12,B353,IF(C353=КАЛЬКУЛЯТОР!$C$21,$E$2,$E$2-$E$3),IF(C353=КАЛЬКУЛЯТОР!$C$21,$I$11,$I$11-SUMIF($A$12:$A$371,\"<=\"&$E$3,$H$12:$H$371)),0,0)),\"\")","v":""},"",{"$error":"#VALUE!"},null,{"$error":"#VALUE!"},{"$error":"#VALUE!"},{"$error":"#VALUE!"},{"$error":"#VALUE!"},false]
[343,343,{"$f":"IF(A354<=$E$3,КАЛЬКУЛЯТОР!$C$21,IF(AND(A354>$E$3,A354<=$E$2),$E$4,\"\"))","v":""},{"$f":"IF(A354<=$E$2,-PMT(C354/12,IF(C354=КАЛЬКУЛЯТОР!$C$21,$E$2,$E$2-$E$3),IF(C354=КАЛЬКУЛЯТОР!$C$21,$I$11,$I$11-SUMIF($A$12:$A$371,\"<=\"&$E$3,$H$12:$H$371)),0,0),\"\")","v":""},null,{"$f":"IFERROR((-IPMT(C354/12,B354,IF(C354=КАЛЬКУЛЯТОР!$C$21,$E$2,$E$2-$E$3),IF(C354=КАЛЬКУЛЯТОР!$C$21,$I$11,$I$11-SUMIF($A$12:$A$371,\"<=\"&$E$3,$H$12:$H$371)),0,0)),\"\")","v":""},{"$f":"IFERROR((-IPMT((C354-'КАЛЬКУЛЯТОР 1'!$P$1)/12,B354,IF(C354=КАЛЬКУЛЯТОР!$C$21,$E$2,$E$2-$E$3),IF(C354=КАЛЬКУЛЯТОР!$C$21,$I$11,$I$11-SUMIF($A$12:$A$371,\"<=\"&$E$3,$H$12:$H$371)),0,0)),\"\")","v":""},{"$f":"IFERROR((-PPMT(C354/12,B354,IF(C354=КАЛЬКУЛЯТОР!$C$21,$E$2,$E$2-$E$3),IF(C354=КАЛЬКУЛЯТОР!$C$21,$I$11,$I$11-SUMIF($A$12:$A$371,\"<=\"&$E$3,$H$12:$H$371)),0,0)),\"\")","v":""},"",{"$error":"#VALUE!"},null,{"$error":"#VALUE!"},{"$error":"#VALUE!"},{"$error":"#VALUE!"},{"$error":"#VALUE!"},false]
[344,344,{"$f":"IF(A355<=$E$3,КАЛЬКУЛЯТОР!$C$21,IF(AND(A355>$E$3,A355<=$E$2),$E$4,\"\"))","v":""},{"$f":"IF(A355<=$E$2,-PMT(C355/12,IF(C355=КАЛЬКУЛЯТОР!$C$21,$E$2,$E$2-$E$3),IF(C355=КАЛЬКУЛЯТОР!$C$21,$I$11,$I$11-SUMIF($A$12:$A$371,\"<=\"&$E$3,$H$12:$H$371)),0,0),\"\")","v":""},null,{"$f":"IFERROR((-IPMT(C355/12,B355,IF(C355=КАЛЬКУЛЯТОР!$C$21,$E$2,$E$2-$E$3),IF(C355=КАЛЬКУЛЯТОР!$C$21,$I$11,$I$11-SUMIF($A$12:$A$371,\"<=\"&$E$3,$H$12:$H$371)),0,0)),\"\")","v":""},{"$f":"IFERROR((-IPMT((C355-'КАЛЬКУЛЯТОР 1'!$P$1)/12,B355,IF(C355=КАЛЬКУЛЯТОР!$C$21,$E$2,$E$2-$E$3),IF(C355=КАЛЬКУЛЯТОР!$C$21,$I$11,$I$11-SUMIF($A$12:$A$371,\"<=\"&$E$3,$H$12:$H$371)),0,0)),\"\")","v":""},{"$f":"IFERROR((-PPMT(C355/12,B355,IF(C355=КАЛЬКУЛЯТОР!$C$21,$E$2,$E$2-$E$3),IF(C355=КАЛЬКУЛЯТОР!$C$21,$I$11,$I$11-SUMIF($A$12:$A$371,\"<=\"&$E$3,$H$12:$H$371)),0,0)),\"\")","v":""},"",{"$error":"#VALUE!"},null,{"$error":"#VALUE!"},{"$error":"#VALUE!"},{"$error":"#VALUE!"},{"$error":"#VALUE!"},false]
[345,345,{"$f":"IF(A356<=$E$3,КАЛЬКУЛЯТОР!$C$21,IF(AND(A356>$E$3,A356<=$E$2),$E$4,\"\"))","v":""},{"$f":"IF(A356<=$E$2,-PMT(C356/12,IF(C356=КАЛЬКУЛЯТОР!$C$21,$E$2,$E$2-$E$3),IF(C356=КАЛЬКУЛЯТОР!$C$21,$I$11,$I$11-SUMIF($A$12:$A$371,\"<=\"&$E$3,$H$12:$H$371)),0,0),\"\")","v":""},null,{"$f":"IFERROR((-IPMT(C356/12,B356,IF(C356=КАЛЬКУЛЯТОР!$C$21,$E$2,$E$2-$E$3),IF(C356=КАЛЬКУЛЯТОР!$C$21,$I$11,$I$11-SUMIF($A$12:$A$371,\"<=\"&$E$3,$H$12:$H$371)),0,0)),\"\")","v":""},{"$f":"IFERROR((-IPMT((C356-'КАЛЬКУЛЯТОР 1'!$P$1)/12,B356,IF(C356=КАЛЬКУЛЯТОР!$C$21,$E$2,$E$2-$E$3),IF(C356=КАЛЬКУЛЯТОР!$C$21,$I$11,$I$11-SUMIF($A$12:$A$371,\"<=\"&$E$3,$H$12:$H$371)),0,0)),\"\")","v":""},{"$f":"IFERROR((-PPMT(C356/12,B356,IF(C356=КАЛЬКУЛЯТОР!$C$21,$E$2,$E$2-$E$3),IF(C356=КАЛЬКУЛЯТОР!$C$21,$I$11,$I$11-SUMIF($A$12:$A$371,\"<=\"&$E$3,$H$12:$H$371)),0,0)),\"\")","v":""},"",{"$error":"#VALUE!"},null,{"$error":"#VALUE!"},{"$error":"#VALUE!"},{"$error":"#VALUE!"},{"$error":"#VALUE!"},false]
[346,346,{"$f":"IF(A357<=$E$3,КАЛЬКУЛЯТОР!$C$21,IF(AND(A357>$E$3,A357<=$E$2),$E$4,\"\"))","v":""},{"$f":"IF(A357<=$E$2,-PMT(C357/12,IF(C357=КАЛЬКУЛЯТОР!$C$21,$E$2,$E$2-$E$3),IF(C357=КАЛЬКУЛЯТОР!$C$21,$I$11,$I$11-SUMIF($A$12:$A$371,\"<=\"&$E$3,$H$12:$H$371)),0,0),\"\")","v":""},null,{"$f":"IFERROR((-IPMT(C357/12,B357,IF(C357=КАЛЬКУЛЯТОР!$C$21,$E$2,$E$2-$E$3),IF(C357=КАЛЬКУЛЯТОР!$C$21,$I$11,$I$11-SUMIF($A$12:$A$371,\"<=\"&$E$3,$H$12:$H$371)),0,0)),\"\")","v":""},{"$f":"IFERROR((-IPMT((C357-'КАЛЬКУЛЯТОР 1'!$P$1)/12,B357,IF(C357=КАЛЬКУЛЯТОР!$C$21,$E$2,$E$2-$E$3),IF(C357=КАЛЬКУЛЯТОР!$C$21,$I$11,$I$11-SUMIF($A$12:$A$371,\"<=\"&$E$3,$H$12:$H$371)),0,0)),\"\")","v":""},{"$f":"IFERROR((-PPMT(C357/12,B357,IF(C357=КАЛЬКУЛЯТОР!$C$21,$E$2,$E$2-$E$3),IF(C357=КАЛЬКУЛЯТОР!$C$21,$I$11,$I$11-SUMIF($A$12:$A$371,\"<=\"&$E$3,$H$12:$H$371)),0,0)),\"\")","v":""},"",{"$error":"#VALUE!"},null,{"$error":"#VALUE!"},{"$error":"#VALUE!"},{"$error":"#VALUE!"},{"$error":"#VALUE!"},false]
[347,347,{"$f":"IF(A358<=$E$3,КАЛЬКУЛЯТОР!$C$21,IF(AND(A358>$E$3,A358<=$E$2),$E$4,\"\"))","v":""},{"$f":"IF(A358<=$E$2,-PMT(C358/12,IF(C358=КАЛЬКУЛЯТОР!$C$21,$E$2,$E$2-$E$3),IF(C358=КАЛЬКУЛЯТОР!$C$21,$I$11,$I$11-SUMIF($A$12:$A$371,\"<=\"&$E$3,$H$12:$H$371)),0,0),\"\")","v":""},null,{"$f":"IFERROR((-IPMT(C358/12,B358,IF(C358=КАЛЬКУЛЯТОР!$C$21,$E$2,$E$2-$E$3),IF(C358=КАЛЬКУЛЯТОР!$C$21,$I$11,$I$11-SUMIF($A$12:$A$371,\"<=\"&$E$3,$H$12:$H$371)),0,0)),\"\")","v":""},{"$f":"IFERROR((-IPMT((C358-'КАЛЬКУЛЯТОР 1'!$P$1)/12,B358,IF(C358=КАЛЬКУЛЯТОР!$C$21,$E$2,$E$2-$E$3),IF(C358=КАЛЬКУЛЯТОР!$C$21,$I$11,$I$11-SUMIF($A$12:$A$371,\"<=\"&$E$3,$H$12:$H$371)),0,0)),\"\")","v":""},{"$f":"IFERROR((-PPMT(C358/12,B358,IF(C358=КАЛЬКУЛЯТОР!$C$21,$E$2,$E$2-$E$3),IF(C358=КАЛЬКУЛЯТОР!$C$21,$I$11,$I$11-SUMIF($A$12:$A$371,\"<=\"&$E$3,$H$12:$H$371)),0,0)),\"\")","v":""},"",{"$error":"#VALUE!"},null,{"$error":"#VALUE!"},{"$error":"#VALUE!"},{"$error":"#VALUE!"},{"$error":"#VALUE!"},false]
[348,348,{"$f":"IF(A359<=$E$3,КАЛЬКУЛЯТОР!$C$21,IF(AND(A359>$E$3,A359<=$E$2),$E$4,\"\"))","v":""},{"$f":"IF(A359<=$E$2,-PMT(C359/12,IF(C359=КАЛЬКУЛЯТОР!$C$21,$E$2,$E$2-$E$3),IF(C359=КАЛЬКУЛЯТОР!$C$21,$I$11,$I$11-SUMIF($A$12:$A$371,\"<=\"&$E$3,$H$12:$H$371)),0,0),\"\")","v":""},null,{"$f":"IFERROR((-IPMT(C359/12,B359,IF(C359=КАЛЬКУЛЯТОР!$C$21,$E$2,$E$2-$E$3),IF(C359=КАЛЬКУЛЯТОР!$C$21,$I$11,$I$11-SUMIF($A$12:$A$371,\"<=\"&$E$3,$H$12:$H$371)),0,0)),\"\")","v":""},{"$f":"IFERROR((-IPMT((C359-'КАЛЬКУЛЯТОР 1'!$P$1)/12,B359,IF(C359=КАЛЬКУЛЯТОР!$C$21,$E$2,$E$2-$E$3),IF(C359=КАЛЬКУЛЯТОР!$C$21,$I$11,$I$11-SUMIF($A$12:$A$371,\"<=\"&$E$3,$H$12:$H$371)),0,0)),\"\")","v":""},{"$f":"IFERROR((-PPMT(C359/12,B359,IF(C359=КАЛЬКУЛЯТОР!$C$21,$E$2,$E$2-$E$3),IF(C359=КАЛЬКУЛЯТОР!$C$21,$I$11,$I$11-SUMIF($A$12:$A$371,\"<=\"&$E$3,$H$12:$H$371)),0,0)),\"\")","v":""},"",{"$error":"#VALUE!"},null,{"$error":"#VALUE!"},{"$error":"#VALUE!"},{"$error":"#VALUE!"},{"$error":"#VALUE!"},false]
[349,349,{"$f":"IF(A360<=$E$3,КАЛЬКУЛЯТОР!$C$21,IF(AND(A360>$E$3,A360<=$E$2),$E$4,\"\"))","v":""},{"$f":"IF(A360<=$E$2,-PMT(C360/12,IF(C360=КАЛЬКУЛЯТОР!$C$21,$E$2,$E$2-$E$3),IF(C360=КАЛЬКУЛЯТОР!$C$21,$I$11,$I$11-SUMIF($A$12:$A$371,\"<=\"&$E$3,$H$12:$H$371)),0,0),\"\")","v":""},{"$f":"IF($E$2>$A359,(I359+SUM(F360:F371))*($K$4+$K$5),0)","v":{"v":0,"d":"0.00"}},{"$f":"IFERROR((-IPMT(C360/12,B360,IF(C360=КАЛЬКУЛЯТОР!$C$21,$E$2,$E$2-$E$3),IF(C360=КАЛЬКУЛЯТОР!$C$21,$I$11,$I$11-SUMIF($A$12:$A$371,\"<=\"&$E$3,$H$12:$H$371)),0,0)),\"\")","v":""},{"$f":"IFERROR((-IPMT((C360-'КАЛЬКУЛЯТОР 1'!$P$1)/12,B360,IF(C360=КАЛЬКУЛЯТОР!$C$21,$E$2,$E$2-$E$3),IF(C360=КАЛЬКУЛЯТОР!$C$21,$I$11,$I$11-SUMIF($A$12:$A$371,\"<=\"&$E$3,$H$12:$H$371)),0,0)),\"\")","v":""},{"$f":"IFERROR((-PPMT(C360/12,B360,IF(C360=КАЛЬКУЛЯТОР!$C$21,$E$2,$E$2-$E$3),IF(C360=КАЛЬКУЛЯТОР!$C$21,$I$11,$I$11-SUMIF($A$12:$A$371,\"<=\"&$E$3,$H$12:$H$371)),0,0)),\"\")","v":""},"",{"$error":"#VALUE!"},{"$f":"PV($E$5/12,A360-1,0,-E360)","v":{"v":0,"d":"0.00"}},{"$error":"#VALUE!"},{"$error":"#VALUE!"},{"$error":"#VALUE!"},{"$error":"#VALUE!"},false]
[350,350,{"$f":"IF(A361<=$E$3,КАЛЬКУЛЯТОР!$C$21,IF(AND(A361>$E$3,A361<=$E$2),$E$4,\"\"))","v":""},{"$f":"IF(A361<=$E$2,-PMT(C361/12,IF(C361=КАЛЬКУЛЯТОР!$C$21,$E$2,$E$2-$E$3),IF(C361=КАЛЬКУЛЯТОР!$C$21,$I$11,$I$11-SUMIF($A$12:$A$371,\"<=\"&$E$3,$H$12:$H$371)),0,0),\"\")","v":""},null,{"$f":"IFERROR((-IPMT(C361/12,B361,IF(C361=КАЛЬКУЛЯТОР!$C$21,$E$2,$E$2-$E$3),IF(C361=КАЛЬКУЛЯТОР!$C$21,$I$11,$I$11-SUMIF($A$12:$A$371,\"<=\"&$E$3,$H$12:$H$371)),0,0)),\"\")","v":""},{"$f":"IFERROR((-IPMT((C361-'КАЛЬКУЛЯТОР 1'!$P$1)/12,B361,IF(C361=КАЛЬКУЛЯТОР!$C$21,$E$2,$E$2-$E$3),IF(C361=КАЛЬКУЛЯТОР!$C$21,$I$11,$I$11-SUMIF($A$12:$A$371,\"<=\"&$E$3,$H$12:$H$371)),0,0)),\"\")","v":""},{"$f":"IFERROR((-PPMT(C361/12,B361,IF(C361=КАЛЬКУЛЯТОР!$C$21,$E$2,$E$2-$E$3),IF(C361=КАЛЬКУЛЯТОР!$C$21,$I$11,$I$11-SUMIF($A$12:$A$371,\"<=\"&$E$3,$H$12:$H$371)),0,0)),\"\")","v":""},"",{"$error":"#VALUE!"},null,{"$error":"#VALUE!"},{"$error":"#VALUE!"},{"$error":"#VALUE!"},{"$error":"#VALUE!"},false]
[351,351,{"$f":"IF(A362<=$E$3,КАЛЬКУЛЯТОР!$C$21,IF(AND(A362>$E$3,A362<=$E$2),$E$4,\"\"))","v":""},{"$f":"IF(A362<=$E$2,-PMT(C362/12,IF(C362=КАЛЬКУЛЯТОР!$C$21,$E$2,$E$2-$E$3),IF(C362=КАЛЬКУЛЯТОР!$C$21,$I$11,$I$11-SUMIF($A$12:$A$371,\"<=\"&$E$3,$H$12:$H$371)),0,0),\"\")","v":""},null,{"$f":"IFERROR((-IPMT(C362/12,B362,IF(C362=КАЛЬКУЛЯТОР!$C$21,$E$2,$E$2-$E$3),IF(C362=КАЛЬКУЛЯТОР!$C$21,$I$11,$I$11-SUMIF($A$12:$A$371,\"<=\"&$E$3,$H$12:$H$371)),0,0)),\"\")","v":""},{"$f":"IFERROR((-IPMT((C362-'КАЛЬКУЛЯТОР 1'!$P$1)/12,B362,IF(C362=КАЛЬКУЛЯТОР!$C$21,$E$2,$E$2-$E$3),IF(C362=КАЛЬКУЛЯТОР!$C$21,$I$11,$I$11-SUMIF($A$12:$A$371,\"<=\"&$E$3,$H$12:$H$371)),0,0)),\"\")","v":""},{"$f":"IFERROR((-PPMT(C362/12,B362,IF(C362=КАЛЬКУЛЯТОР!$C$21,$E$2,$E$2-$E$3),IF(C362=КАЛЬКУЛЯТОР!$C$21,$I$11,$I$11-SUMIF($A$12:$A$371,\"<=\"&$E$3,$H$12:$H$371)),0,0)),\"\")","v":""},"",{"$error":"#VALUE!"},null,{"$error":"#VALUE!"},{"$error":"#VALUE!"},{"$error":"#VALUE!"},{"$error":"#VALUE!"},false]
[352,352,{"$f":"IF(A363<=$E$3,КАЛЬКУЛЯТОР!$C$21,IF(AND(A363>$E$3,A363<=$E$2),$E$4,\"\"))","v":""},{"$f":"IF(A363<=$E$2,-PMT(C363/12,IF(C363=КАЛЬКУЛЯТОР!$C$21,$E$2,$E$2-$E$3),IF(C363=КАЛЬКУЛЯТОР!$C$21,$I$11,$I$11-SUMIF($A$12:$A$371,\"<=\"&$E$3,$H$12:$H$371)),0,0),\"\")","v":""},null,{"$f":"IFERROR((-IPMT(C363/12,B363,IF(C363=КАЛЬКУЛЯТОР!$C$21,$E$2,$E$2-$E$3),IF(C363=КАЛЬКУЛЯТОР!$C$21,$I$11,$I$11-SUMIF($A$12:$A$371,\"<=\"&$E$3,$H$12:$H$371)),0,0)),\"\")","v":""},{"$f":"IFERROR((-IPMT((C363-'КАЛЬКУЛЯТОР 1'!$P$1)/12,B363,IF(C363=КАЛЬКУЛЯТОР!$C$21,$E$2,$E$2-$E$3),IF(C363=КАЛЬКУЛЯТОР!$C$21,$I$11,$I$11-SUMIF($A$12:$A$371,\"<=\"&$E$3,$H$12:$H$371)),0,0)),\"\")","v":""},{"$f":"IFERROR((-PPMT(C363/12,B363,IF(C363=КАЛЬКУЛЯТОР!$C$21,$E$2,$E$2-$E$3),IF(C363=КАЛЬКУЛЯТОР!$C$21,$I$11,$I$11-SUMIF($A$12:$A$371,\"<=\"&$E$3,$H$12:$H$371)),0,0)),\"\")","v":""},"",{"$error":"#VALUE!"},null,{"$error":"#VALUE!"},{"$error":"#VALUE!"},{"$error":"#VALUE!"},{"$error":"#VALUE!"},false]
[353,353,{"$f":"IF(A364<=$E$3,КАЛЬКУЛЯТОР!$C$21,IF(AND(A364>$E$3,A364<=$E$2),$E$4,\"\"))","v":""},{"$f":"IF(A364<=$E$2,-PMT(C364/12,IF(C364=КАЛЬКУЛЯТОР!$C$21,$E$2,$E$2-$E$3),IF(C364=КАЛЬКУЛЯТОР!$C$21,$I$11,$I$11-SUMIF($A$12:$A$371,\"<=\"&$E$3,$H$12:$H$371)),0,0),\"\")","v":""},null,{"$f":"IFERROR((-IPMT(C364/12,B364,IF(C364=КАЛЬКУЛЯТОР!$C$21,$E$2,$E$2-$E$3),IF(C364=КАЛЬКУЛЯТОР!$C$21,$I$11,$I$11-SUMIF($A$12:$A$371,\"<=\"&$E$3,$H$12:$H$371)),0,0)),\"\")","v":""},{"$f":"IFERROR((-IPMT((C364-'КАЛЬКУЛЯТОР 1'!$P$1)/12,B364,IF(C364=КАЛЬКУЛЯТОР!$C$21,$E$2,$E$2-$E$3),IF(C364=КАЛЬКУЛЯТОР!$C$21,$I$11,$I$11-SUMIF($A$12:$A$371,\"<=\"&$E$3,$H$12:$H$371)),0,0)),\"\")","v":""},{"$f":"IFERROR((-PPMT(C364/12,B364,IF(C364=КАЛЬКУЛЯТОР!$C$21,$E$2,$E$2-$E$3),IF(C364=КАЛЬКУЛЯТОР!$C$21,$I$11,$I$11-SUMIF($A$12:$A$371,\"<=\"&$E$3,$H$12:$H$371)),0,0)),\"\")","v":""},"",{"$error":"#VALUE!"},null,{"$error":"#VALUE!"},{"$error":"#VALUE!"},{"$error":"#VALUE!"},{"$error":"#VALUE!"},false]
[354,354,{"$f":"IF(A365<=$E$3,КАЛЬКУЛЯТОР!$C$21,IF(AND(A365>$E$3,A365<=$E$2),$E$4,\"\"))","v":""},{"$f":"IF(A365<=$E$2,-PMT(C365/12,IF(C365=КАЛЬКУЛЯТОР!$C$21,$E$2,$E$2-$E$3),IF(C365=КАЛЬКУЛЯТОР!$C$21,$I$11,$I$11-SUMIF($A$12:$A$371,\"<=\"&$E$3,$H$12:$H$371)),0,0),\"\")","v":""},null,{"$f":"IFERROR((-IPMT(C365/12,B365,IF(C365=КАЛЬКУЛЯТОР!$C$21,$E$2,$E$2-$E$3),IF(C365=КАЛЬКУЛЯТОР!$C$21,$I$11,$I$11-SUMIF($A$12:$A$371,\"<=\"&$E$3,$H$12:$H$371)),0,0)),\"\")","v":""},{"$f":"IFERROR((-IPMT((C365-'КАЛЬКУЛЯТОР 1'!$P$1)/12,B365,IF(C365=КАЛЬКУЛЯТОР!$C$21,$E$2,$E$2-$E$3),IF(C365=КАЛЬКУЛЯТОР!$C$21,$I$11,$I$11-SUMIF($A$12:$A$371,\"<=\"&$E$3,$H$12:$H$371)),0,0)),\"\")","v":""},{"$f":"IFERROR((-PPMT(C365/12,B365,IF(C365=КАЛЬКУЛЯТОР!$C$21,$E$2,$E$2-$E$3),IF(C365=КАЛЬКУЛЯТОР!$C$21,$I$11,$I$11-SUMIF($A$12:$A$371,\"<=\"&$E$3,$H$12:$H$371)),0,0)),\"\")","v":""},"",{"$error":"#VALUE!"},null,{"$error":"#VALUE!"},{"$error":"#VALUE!"},{"$error":"#VALUE!"},{"$error":"#VALUE!"},false]
[355,355,{"$f":"IF(A366<=$E$3,КАЛЬКУЛЯТОР!$C$21,IF(AND(A366>$E$3,A366<=$E$2),$E$4,\"\"))","v":""},{"$f":"IF(A366<=$E$2,-PMT(C366/12,IF(C366=КАЛЬКУЛЯТОР!$C$21,$E$2,$E$2-$E$3),IF(C366=КАЛЬКУЛЯТОР!$C$21,$I$11,$I$11-SUMIF($A$12:$A$371,\"<=\"&$E$3,$H$12:$H$371)),0,0),\"\")","v":""},null,{"$f":"IFERROR((-IPMT(C366/12,B366,IF(C366=КАЛЬКУЛЯТОР!$C$21,$E$2,$E$2-$E$3),IF(C366=КАЛЬКУЛЯТОР!$C$21,$I$11,$I$11-SUMIF($A$12:$A$371,\"<=\"&$E$3,$H$12:$H$371)),0,0)),\"\")","v":""},{"$f":"IFERROR((-IPMT((C366-'КАЛЬКУЛЯТОР 1'!$P$1)/12,B366,IF(C366=КАЛЬКУЛЯТОР!$C$21,$E$2,$E$2-$E$3),IF(C366=КАЛЬКУЛЯТОР!$C$21,$I$11,$I$11-SUMIF($A$12:$A$371,\"<=\"&$E$3,$H$12:$H$371)),0,0)),\"\")","v":""},{"$f":"IFERROR((-PPMT(C366/12,B366,IF(C366=КАЛЬКУЛЯТОР!$C$21,$E$2,$E$2-$E$3),IF(C366=КАЛЬКУЛЯТОР!$C$21,$I$11,$I$11-SUMIF($A$12:$A$371,\"<=\"&$E$3,$H$12:$H$371)),0,0)),\"\")","v":""},"",{"$error":"#VALUE!"},null,{"$error":"#VALUE!"},{"$error":"#VALUE!"},{"$error":"#VALUE!"},{"$error":"#VALUE!"},false]
[356,356,{"$f":"IF(A367<=$E$3,КАЛЬКУЛЯТОР!$C$21,IF(AND(A367>$E$3,A367<=$E$2),$E$4,\"\"))","v":""},{"$f":"IF(A367<=$E$2,-PMT(C367/12,IF(C367=КАЛЬКУЛЯТОР!$C$21,$E$2,$E$2-$E$3),IF(C367=КАЛЬКУЛЯТОР!$C$21,$I$11,$I$11-SUMIF($A$12:$A$371,\"<=\"&$E$3,$H$12:$H$371)),0,0),\"\")","v":""},null,{"$f":"IFERROR((-IPMT(C367/12,B367,IF(C367=КАЛЬКУЛЯТОР!$C$21,$E$2,$E$2-$E$3),IF(C367=КАЛЬКУЛЯТОР!$C$21,$I$11,$I$11-SUMIF($A$12:$A$371,\"<=\"&$E$3,$H$12:$H$371)),0,0)),\"\")","v":""},{"$f":"IFERROR((-IPMT((C367-'КАЛЬКУЛЯТОР 1'!$P$1)/12,B367,IF(C367=КАЛЬКУЛЯТОР!$C$21,$E$2,$E$2-$E$3),IF(C367=КАЛЬКУЛЯТОР!$C$21,$I$11,$I$11-SUMIF($A$12:$A$371,\"<=\"&$E$3,$H$12:$H$371)),0,0)),\"\")","v":""},{"$f":"IFERROR((-PPMT(C367/12,B367,IF(C367=КАЛЬКУЛЯТОР!$C$21,$E$2,$E$2-$E$3),IF(C367=КАЛЬКУЛЯТОР!$C$21,$I$11,$I$11-SUMIF($A$12:$A$371,\"<=\"&$E$3,$H$12:$H$371)),0,0)),\"\")","v":""},"",{"$error":"#VALUE!"},null,{"$error":"#VALUE!"},{"$error":"#VALUE!"},{"$error":"#VALUE!"},{"$error":"#VALUE!"},false]
[357,357,{"$f":"IF(A368<=$E$3,КАЛЬКУЛЯТОР!$C$21,IF(AND(A368>$E$3,A368<=$E$2),$E$4,\"\"))","v":""},{"$f":"IF(A368<=$E$2,-PMT(C368/12,IF(C368=КАЛЬКУЛЯТОР!$C$21,$E$2,$E$2-$E$3),IF(C368=КАЛЬКУЛЯТОР!$C$21,$I$11,$I$11-SUMIF($A$12:$A$371,\"<=\"&$E$3,$H$12:$H$371)),0,0),\"\")","v":""},null,{"$f":"IFERROR((-IPMT(C368/12,B368,IF(C368=КАЛЬКУЛЯТОР!$C$21,$E$2,$E$2-$E$3),IF(C368=КАЛЬКУЛЯТОР!$C$21,$I$11,$I$11-SUMIF($A$12:$A$371,\"<=\"&$E$3,$H$12:$H$371)),0,0)),\"\")","v":""},{"$f":"IFERROR((-IPMT((C368-'КАЛЬКУЛЯТОР 1'!$P$1)/12,B368,IF(C368=КАЛЬКУЛЯТОР!$C$21,$E$2,$E$2-$E$3),IF(C368=КАЛЬКУЛЯТОР!$C$21,$I$11,$I$11-SUMIF($A$12:$A$371,\"<=\"&$E$3,$H$12:$H$371)),0,0)),\"\")","v":""},{"$f":"IFERROR((-PPMT(C368/12,B368,IF(C368=КАЛЬКУЛЯТОР!$C$21,$E$2,$E$2-$E$3),IF(C368=КАЛЬКУЛЯТОР!$C$21,$I$11,$I$11-SUMIF($A$12:$A$371,\"<=\"&$E$3,$H$12:$H$371)),0,0)),\"\")","v":""},"",{"$error":"#VALUE!"},null,{"$error":"#VALUE!"},{"$error":"#VALUE!"},{"$error":"#VALUE!"},{"$error":"#VALUE!"},false]
[358,358,{"$f":"IF(A369<=$E$3,КАЛЬКУЛЯТОР!$C$21,IF(AND(A369>$E$3,A369<=$E$2),$E$4,\"\"))","v":""},{"$f":"IF(A369<=$E$2,-PMT(C369/12,IF(C369=КАЛЬКУЛЯТОР!$C$21,$E$2,$E$2-$E$3),IF(C369=КАЛЬКУЛЯТОР!$C$21,$I$11,$I$11-SUMIF($A$12:$A$371,\"<=\"&$E$3,$H$12:$H$371)),0,0),\"\")","v":""},null,{"$f":"IFERROR((-IPMT(C369/12,B369,IF(C369=КАЛЬКУЛЯТОР!$C$21,$E$2,$E$2-$E$3),IF(C369=КАЛЬКУЛЯТОР!$C$21,$I$11,$I$11-SUMIF($A$12:$A$371,\"<=\"&$E$3,$H$12:$H$371)),0,0)),\"\")","v":""},{"$f":"IFERROR((-IPMT((C369-'КАЛЬКУЛЯТОР 1'!$P$1)/12,B369,IF(C369=КАЛЬКУЛЯТОР!$C$21,$E$2,$E$2-$E$3),IF(C369=КАЛЬКУЛЯТОР!$C$21,$I$11,$I$11-SUMIF($A$12:$A$371,\"<=\"&$E$3,$H$12:$H$371)),0,0)),\"\")","v":""},{"$f":"IFERROR((-PPMT(C369/12,B369,IF(C369=КАЛЬКУЛЯТОР!$C$21,$E$2,$E$2-$E$3),IF(C369=КАЛЬКУЛЯТОР!$C$21,$I$11,$I$11-SUMIF($A$12:$A$371,\"<=\"&$E$3,$H$12:$H$371)),0,0)),\"\")","v":""},"",{"$error":"#VALUE!"},null,{"$error":"#VALUE!"},{"$error":"#VALUE!"},{"$error":"#VALUE!"},{"$error":"#VALUE!"},false]
[359,359,{"$f":"IF(A370<=$E$3,КАЛЬКУЛЯТОР!$C$21,IF(AND(A370>$E$3,A370<=$E$2),$E$4,\"\"))","v":""},{"$f":"IF(A370<=$E$2,-PMT(C370/12,IF(C370=КАЛЬКУЛЯТОР!$C$21,$E$2,$E$2-$E$3),IF(C370=КАЛЬКУЛЯТОР!$C$21,$I$11,$I$11-SUMIF($A$12:$A$371,\"<=\"&$E$3,$H$12:$H$371)),0,0),\"\")","v":""},null,{"$f":"IFERROR((-IPMT(C370/12,B370,IF(C370=КАЛЬКУЛЯТОР!$C$21,$E$2,$E$2-$E$3),IF(C370=КАЛЬКУЛЯТОР!$C$21,$I$11,$I$11-SUMIF($A$12:$A$371,\"<=\"&$E$3,$H$12:$H$371)),0,0)),\"\")","v":""},{"$f":"IFERROR((-IPMT((C370-'КАЛЬКУЛЯТОР 1'!$P$1)/12,B370,IF(C370=КАЛЬКУЛЯТОР!$C$21,$E$2,$E$2-$E$3),IF(C370=КАЛЬКУЛЯТОР!$C$21,$I$11,$I$11-SUMIF($A$12:$A$371,\"<=\"&$E$3,$H$12:$H$371)),0,0)),\"\")","v":""},{"$f":"IFERROR((-PPMT(C370/12,B370,IF(C370=КАЛЬКУЛЯТОР!$C$21,$E$2,$E$2-$E$3),IF(C370=КАЛЬКУЛЯТОР!$C$21,$I$11,$I$11-SUMIF($A$12:$A$371,\"<=\"&$E$3,$H$12:$H$371)),0,0)),\"\")","v":""},"",{"$error":"#VALUE!"},null,{"$error":"#VALUE!"},{"$error":"#VALUE!"},{"$error":"#VALUE!"},{"$error":"#VALUE!"},false]
[360,360,{"$f":"IF(A371<=$E$3,КАЛЬКУЛЯТОР!$C$21,IF(AND(A371>$E$3,A371<=$E$2),$E$4,\"\"))","v":""},{"$f":"IF(A371<=$E$2,-PMT(C371/12,IF(C371=КАЛЬКУЛЯТОР!$C$21,$E$2,$E$2-$E$3),IF(C371=КАЛЬКУЛЯТОР!$C$21,$I$11,$I$11-SUMIF($A$12:$A$371,\"<=\"&$E$3,$H$12:$H$371)),0,0),\"\")","v":""},null,{"$f":"IFERROR((-IPMT(C371/12,B371,IF(C371=КАЛЬКУЛЯТОР!$C$21,$E$2,$E$2-$E$3),IF(C371=КАЛЬКУЛЯТОР!$C$21,$I$11,$I$11-SUMIF($A$12:$A$371,\"<=\"&$E$3,$H$12:$H$371)),0,0)),\"\")","v":""},{"$f":"IFERROR((-IPMT((C371-'КАЛЬКУЛЯТОР 1'!$P$1)/12,B371,IF(C371=КАЛЬКУЛЯТОР!$C$21,$E$2,$E$2-$E$3),IF(C371=КАЛЬКУЛЯТОР!$C$21,$I$11,$I$11-SUMIF($A$12:$A$371,\"<=\"&$E$3,$H$12:$H$371)),0,0)),\"\")","v":""},{"$f":"IFERROR((-PPMT(C371/12,B371,IF(C371=КАЛЬКУЛЯТОР!$C$21,$E$2,$E$2-$E$3),IF(C371=КАЛЬКУЛЯТОР!$C$21,$I$11,$I$11-SUMIF($A$12:$A$371,\"<=\"&$E$3,$H$12:$H$371)),0,0)),\"\")","v":""},"",{"$error":"#VALUE!"},null,{"$error":"#VALUE!"},{"$error":"#VALUE!"},{"$error":"#VALUE!"},{"$error":"#VALUE!"},false]

{"sheet":"ИПОТЕКА С ГП ДЛЯ СЕМЕЙ","index":8,"n_rows":15,"n_cols":5,"rows_kept":15,"hidden":true,"merged":[[0,0,0,3],[1,0,1,3],[2,0,3,0],[2,1,3,1],[2,2,2,3],[4,2,5,2],[6,0,6,3]]}
["«Ипотека с государственной поддержкой» для семей с детьми"]
["Размер процентной ставки, % годовых 2:"]
["Сумма кредитования:","Со дня, следующего за днем выдачи кредита и до 20-го дня пользования кредитом (включительно): ","С 21 дня пользования кредитом:"]
[null,null,"До государственной регистрации залога недвижимого имущества / имущественных прав (требований) по договору участия в долевом строительстве в пользу АО БАНК «СНГБ»:","После государственной регистрации недвижимого имущества / имущественных прав (требований) по договору участия в долевом строительстве в пользу АО БАНК «СНГБ»:"]
["до 6 млн. руб. / 12 млн. руб. (вкл.)",{"v":0.06,"d":"6.00%"},"Ключевая ставка Банка России, установленная на дату заключения кредитного договора, увеличенная на 2 п.п.",{"v":0.06,"d":"6.00%"}]
["свыше 7 млн. руб. / 15 млн. руб. 2","11,00% – 18,00%",null,{"$f":"B6","v":"11,00% – 18,00%"}]
["1 Размер процентной ставки снижается на:\n‒ 0,2% годовых – для зарплатных Клиентов (не применяется для Клиентов, доход которых оценивается от осуществления предпринимательской деятельности).\n2 Указанный размер процентной ставки является комбинированной процентной ставкой и определяется в зависимости от размера суммы кредита, превышающей 7 млн. руб. / 15 млн. руб.  \n* Размер полной стоимости кредита может отличаться в зависимости от понижающих и повышающих размер процентной ставки критериев (выбранных Клиентом сервисов и наработанных скидок, срока и суммы кредита и т.п.), вида и суммы дополнительных платежей по договору.\n",{"$nulls":3},{"v":2E-3,"d":"0.20%"}]
[]
["С 28.10.2024:"]
["Ключевая ставка ЦБ","Надбавка","Субсидия Банку","ИТОГО БАНКУ: "]
[{"$f":"КАЛЬКУЛЯТОР!$I$4","v":{"v":0.21,"d":"21.0%"}},{"v":0.02,"d":"2.0%"},{"$f":"IF(B12<B15,A11+B11-B15,A11+B11-B12)","v":{"v":0.16999999999999998,"d":"17.0%"}},{"$f":"B12+C11","v":{"v":0.22999999999999998,"d":"23.0%"}}]
["Ставка по договору",{"v":0.06,"d":"6.0%"}]
[]
["Справочно:"]
["Ставка, подлежащая субсидированию:",{"v":0.06,"d":"6.0%"}]

{"sheet":"РПС","index":9,"n_rows":4,"n_cols":2,"rows_kept":4,"hidden":true}
["Значения показателя рыночной процентной ставки (РПС) для целей расчета резервов по ипотечным ссудам в рамках Положения Банка России № 590-П"]
[]
["Дата","РПС, % годовых"]
["2024-10-01",{"v":0.1551,"d":"15.51%"}]